{"text_format":"1","workbook":"xlsx","n_sheets":7,"sheets":["■メイン","送り状テンプレート","宛名ラベルテンプレート","作者紹介","_dat","学校種","_tmp2"],"not_rendered":{"charts":0,"images":2,"macros":1,"external_links":0,"defined_names":12,"comments":1,"pivot_tables":0},"unopened":[],"bounds":{"document_bytes":16777216,"sheet_cells":100000,"rows_first":2000,"rows_last":500,"rows_between":2000,"halvings":0,"cell_chars":16384,"cell_head_chars":4096},"cells_cut":0,"cells_raw":0,"read":"whole","date_system":"1900"}

{"sheet":"■メイン","index":0,"n_rows":26,"n_cols":14,"rows_kept":26,"cut":false,"hidden":false,"merged":[]}
[]
[null,"■宛名印刷プログラム　(元データ) 文部科学省 学校コード 令和3年5月1日確定版"]
[null,null,"https://www.mext.go.jp/b_menu/toukei/mext_01087.html"]
[null,null,"学校種:","大学"]
[null,null,"都道府県:"]
[null,null,"所在地(部分一致):"]
[null,null,"学校名(部分一致):","名古屋"," and"]
[null,null,null,null,null,null,null,null,null,null,null,null,"印刷開始位置→",1]
[]
[null,"No.","ﾁｪｯｸ","学校名","郵便番号","所在地"]
[null,1,null,"名古屋大学","464-8601","名古屋市千種区不老町"]
[null,2,null,"名古屋工業大学","466-8555","名古屋市昭和区御器所町"]
[null,3,null,"名古屋市立大学","467-8601","名古屋市瑞穂区瑞穂町字川澄１"]
[null,4,null,"名古屋産業大学","488-0076","尾張旭市新居町山の田３２５５番地の５"]
[null,5,null,"名古屋文理大学","492-8520","稲沢市稲沢町前田３６５番地"]
[null,6,null,"名古屋学院大学","456-8612","名古屋市熱田区熱田西町１－２５"]
[null,7,null,"名古屋商科大学","470-0111","日進市米野木町三ヶ峯４の４"]
[null,8,null,"名古屋女子大学","467-8610","名古屋市瑞穂区汐路町３－４０"]
[null,9,null,"名古屋音楽大学","453-0841","名古屋市中村区稲葉地町７－１"]
[null,10,null,"名古屋外国語大学","470-0197","日進市岩崎町竹ノ山５７"]
[null,11,null,"名古屋造形大学","485-0802","小牧市大字大草字年上坂６００４"]
[null,12,null,"名古屋芸術大学","481-0006","北名古屋市熊之庄古井２８１"]
[null,13,null,"名古屋経済大学","484-8504","犬山市字内久保６１ー１"]
[null,14,null,"名古屋学芸大学","470-0196 ","日進市岩崎町竹ノ山５７番地"]
[null,15,null,"名古屋柳城女子大学 ","466-0034","名古屋市昭和区明月町2-54 "]
[null,16,null,"名古屋国際工科専門職大学","450-0002","名古屋市中村区名駅４－２７－１"]

{"sheet":"送り状テンプレート","index":1,"n_rows":25,"n_cols":10,"rows_kept":25,"cut":false,"hidden":false,"merged":[]}
[null,null,null,null,null,null,null,null,null,{"$f":"TODAY()","v":"2022-10-11"}]
[null,"〒%%郵便番号%%"]
[null,"%%所在地%%"]
[null,"%%学校名%%   ○○ ご担当者様"]
[]
[null,null,null,null,"書類送付のご案内"]
[]
[]
[]
[]
[]
[]
[]
[]
[]
[]
[]
[]
[]
[]
[]
[]
[]
[]
[null,null,null,null,null,null,null,"差出人：","〇〇"]

{"sheet":"宛名ラベルテンプレート","index":2,"n_rows":39,"n_cols":6,"rows_kept":39,"cut":false,"hidden":false,"merged":[]}
["%%郵便番号_1%%","%%郵便番号_2%%","%%郵便番号_3%%",null,null,"↓宛先をここにセット"]
["%%所在地_1%%","%%所在地_2%%","%%所在地_3%%",null,null,"  〇〇 ご担当者様"]
["%%学校名_1%%","%%学校名_2%%","%%学校名_3%%"]
[{"$f":"IF($A$2=\"\",\"\",$F$2)","v":"  〇〇 ご担当者様"},{"$f":"IF($B$2=\"\",\"\",$F$2)","v":"  〇〇 ご担当者様"},{"$f":"IF($C$2=\"\",\"\",$F$2)","v":"  〇〇 ご担当者様"}]
[]
["%%郵便番号_4%%","%%郵便番号_5%%","%%郵便番号_6%%"]
["%%所在地_4%%","%%所在地_5%%","%%所在地_6%%"]
["%%学校名_4%%","%%学校名_5%%","%%学校名_6%%"]
[{"$f":"IF($A$7=\"\",\"\",$F$2)","v":"  〇〇 ご担当者様"},{"$f":"IF($B$7=\"\",\"\",$F$2)","v":"  〇〇 ご担当者様"},{"$f":"IF($C$7=\"\",\"\",$F$2)","v":"  〇〇 ご担当者様"}]
[]
["%%郵便番号_7%%","%%郵便番号_8%%","%%郵便番号_9%%"]
["%%所在地_7%%","%%所在地_8%%","%%所在地_9%%"]
["%%学校名_7%%","%%学校名_8%%","%%学校名_9%%"]
[{"$f":"IF($A$12=\"\",\"\",$F$2)","v":"  〇〇 ご担当者様"},{"$f":"IF($B$12=\"\",\"\",$F$2)","v":"  〇〇 ご担当者様"},{"$f":"IF($C$12=\"\",\"\",$F$2)","v":"  〇〇 ご担当者様"}]
[]
["%%郵便番号_10%%","%%郵便番号_11%%","%%郵便番号_12%%"]
["%%所在地_10%%","%%所在地_11%%","%%所在地_12%%"]
["%%学校名_10%%","%%学校名_11%%","%%学校名_12%%"]
[{"$f":"IF($A$17=\"\",\"\",$F$2)","v":"  〇〇 ご担当者様"},{"$f":"IF($B$17=\"\",\"\",$F$2)","v":"  〇〇 ご担当者様"},{"$f":"IF($C$17=\"\",\"\",$F$2)","v":"  〇〇 ご担当者様"}]
[]
["%%郵便番号_13%%","%%郵便番号_14%%","%%郵便番号_15%%"]
["%%所在地_13%%","%%所在地_14%%","%%所在地_15%%"]
["%%学校名_13%%","%%学校名_14%%","%%学校名_15%%"]
[{"$f":"IF($A$22=\"\",\"\",$F$2)","v":"  〇〇 ご担当者様"},{"$f":"IF($B$22=\"\",\"\",$F$2)","v":"  〇〇 ご担当者様"},{"$f":"IF($C$22=\"\",\"\",$F$2)","v":"  〇〇 ご担当者様"}]
[]
["%%郵便番号_16%%","%%郵便番号_17%%","%%郵便番号_18%%"]
["%%所在地_16%%","%%所在地_17%%","%%所在地_18%%"]
["%%学校名_16%%","%%学校名_17%%","%%学校名_18%%"]
[{"$f":"IF($A$27=\"\",\"\",$F$2)","v":"  〇〇 ご担当者様"},{"$f":"IF($B$27=\"\",\"\",$F$2)","v":"  〇〇 ご担当者様"},{"$f":"IF($C$27=\"\",\"\",$F$2)","v":"  〇〇 ご担当者様"}]
[]
["%%郵便番号_19%%","%%郵便番号_20%%","%%郵便番号_21%%"]
["%%所在地_19%%","%%所在地_20%%","%%所在地_21%%"]
["%%学校名_19%%","%%学校名_20%%","%%学校名_21%%"]
[{"$f":"IF($A$32=\"\",\"\",$F$2)","v":"  〇〇 ご担当者様"},{"$f":"IF($B$32=\"\",\"\",$F$2)","v":"  〇〇 ご担当者様"},{"$f":"IF($C$32=\"\",\"\",$F$2)","v":"  〇〇 ご担当者様"}]
[]
["%%郵便番号_22%%","%%郵便番号_23%%","%%郵便番号_24%%"]
["%%所在地_22%%","%%所在地_23%%","%%所在地_24%%"]
["%%学校名_22%%","%%学校名_23%%","%%学校名_24%%"]
[{"$f":"IF($A$37=\"\",\"\",$F$2)","v":"  〇〇 ご担当者様"},{"$f":"IF($B$37=\"\",\"\",$F$2)","v":"  〇〇 ご担当者様"},{"$f":"IF($C$37=\"\",\"\",$F$2)","v":"  〇〇 ご担当者様"}]

{"sheet":"作者紹介","index":3,"n_rows":3,"n_cols":6,"rows_kept":3,"cut":false,"hidden":false,"merged":[]}
[]
[null,null,null,"ツイッターアカウント：","@excelive","https://twitter.com/excelive"]
[null,null,null,"企業HP：","株式会社TKアジャイル","https://www.tk-agile.co.jp"]

{"sheet":"_dat","index":4,"n_rows":57552,"n_cols":14,"rows_kept":4500,"cut":true,"hidden":true,"merged":[],"bounds":{"rows_first":2000,"rows_last":500,"rows_between":2000,"halvings":0}}
["学校種名称","都道府県","学校コード","学校種","都道府県番号","設置区分","本分校","学校名","学校所在地","郵便番号","属性情報設定年月日","属性情報廃止年月日","旧学校調査番号","移行後の学校コード"]
[{"$f":"INDEX(学校種!B:B,MATCH(D2,学校種!A:A,0))","v":"幼稚園(幼稚園型認定こども園を含む)"},{"$f":"INDEX(_tmp2!B:B,MATCH(E2,_tmp2!A:A,0))","v":"北海道"},"A101110000012","A1","01","1","1","北海道教育大学附属函館幼稚園","函館市美原３丁目４８番６号","0410806","2020-12-22","","016501",""]
[{"$f":"INDEX(学校種!B:B,MATCH(D3,学校種!A:A,0))","v":"幼稚園(幼稚園型認定こども園を含む)"},{"$f":"INDEX(_tmp2!B:B,MATCH(E3,_tmp2!A:A,0))","v":"北海道"},"A101110000021","A1","01","1","1","北海道教育大学附属旭川幼稚園","旭川市春光５条２丁目１番１号","0700875","2020-12-22","","016502",""]
[{"$f":"INDEX(学校種!B:B,MATCH(D4,学校種!A:A,0))","v":"幼稚園(幼稚園型認定こども園を含む)"},{"$f":"INDEX(_tmp2!B:B,MATCH(E4,_tmp2!A:A,0))","v":"北海道"},"A101210000010","A1","01","2","1","札幌市立手稲中央幼稚園","札幌市手稲区手稲本町２条５丁目１３番１号","0060022","2020-12-22","","016511",""]
[{"$f":"INDEX(学校種!B:B,MATCH(D5,学校種!A:A,0))","v":"幼稚園(幼稚園型認定こども園を含む)"},{"$f":"INDEX(_tmp2!B:B,MATCH(E5,_tmp2!A:A,0))","v":"北海道"},"A101210110017","A1","01","2","1","札幌市立中央幼稚園","札幌市中央区北２条西１１丁目","0600002","2020-12-22","","017527",""]
[{"$f":"INDEX(学校種!B:B,MATCH(D6,学校種!A:A,0))","v":"幼稚園(幼稚園型認定こども園を含む)"},{"$f":"INDEX(_tmp2!B:B,MATCH(E6,_tmp2!A:A,0))","v":"北海道"},"A101210220014","A1","01","2","1","札幌市立白楊幼稚園","札幌市北区北２４条西７丁目１番１０号","0010024","2020-12-22","","016608",""]
[{"$f":"INDEX(学校種!B:B,MATCH(D7,学校種!A:A,0))","v":"幼稚園(幼稚園型認定こども園を含む)"},{"$f":"INDEX(_tmp2!B:B,MATCH(E7,_tmp2!A:A,0))","v":"北海道"},"A101210330020","A1","01","2","1","札幌市立ひがしなえぼ幼稚園","札幌市東区東苗穂４条２丁目１－３５","0070804","2020-12-22","","017595",""]
[{"$f":"INDEX(学校種!B:B,MATCH(D8,学校種!A:A,0))","v":"幼稚園(幼稚園型認定こども園を含む)"},{"$f":"INDEX(_tmp2!B:B,MATCH(E8,_tmp2!A:A,0))","v":"北海道"},"A101210440027","A1","01","2","1","札幌市立きくすいもとまち幼稚園","札幌市白石区菊水元町６条１丁目５番１号","0030826","2020-12-22","","017628",""]
[{"$f":"INDEX(学校種!B:B,MATCH(D9,学校種!A:A,0))","v":"幼稚園(幼稚園型認定こども園を含む)"},{"$f":"INDEX(_tmp2!B:B,MATCH(E9,_tmp2!A:A,0))","v":"北海道"},"A101210550103","A1","01","2","1","札幌市立かっこう幼稚園","札幌市豊平区月寒東３条７丁目７－２","0620053","2020-12-22","","016611",""]
[{"$f":"INDEX(学校種!B:B,MATCH(D10,学校種!A:A,0))","v":"幼稚園(幼稚園型認定こども園を含む)"},{"$f":"INDEX(_tmp2!B:B,MATCH(E10,_tmp2!A:A,0))","v":"北海道"},"A101210660011","A1","01","2","1","札幌市立もいわ幼稚園","札幌市南区川沿１８条２丁目１番１３号","0050818","2020-12-22","","016613",""]
[{"$f":"INDEX(学校種!B:B,MATCH(D11,学校種!A:A,0))","v":"幼稚園(幼稚園型認定こども園を含む)"},{"$f":"INDEX(_tmp2!B:B,MATCH(E11,_tmp2!A:A,0))","v":"北海道"},"A101210770027","A1","01","2","1","札幌市立はまなす幼稚園","札幌市西区発寒６条１２丁目４－１０","0630826","2020-12-22","","017629",""]
[{"$f":"INDEX(学校種!B:B,MATCH(D12,学校種!A:A,0))","v":"幼稚園(幼稚園型認定こども園を含む)"},{"$f":"INDEX(_tmp2!B:B,MATCH(E12,_tmp2!A:A,0))","v":"北海道"},"A101210845028","A1","01","2","1","札幌市立あつべつきた幼稚園","札幌市厚別区厚別北３条３丁目１５番３号","0040073","2020-12-22","","017620",""]
[{"$f":"INDEX(学校種!B:B,MATCH(D13,学校種!A:A,0))","v":"幼稚園(幼稚園型認定こども園を含む)"},{"$f":"INDEX(_tmp2!B:B,MATCH(E13,_tmp2!A:A,0))","v":"北海道"},"A101220200017","A1","01","2","1","函館市立戸井幼稚園","函館市小安町５２３番地７","0410251","2020-12-22","","017559",""]
[{"$f":"INDEX(学校種!B:B,MATCH(D14,学校種!A:A,0))","v":"幼稚園(幼稚園型認定こども園を含む)"},{"$f":"INDEX(_tmp2!B:B,MATCH(E14,_tmp2!A:A,0))","v":"北海道"},"A101220600193","A1","01","2","1","釧路市立阿寒幼稚園","釧路市阿寒町富士見２丁目１０番１号","0850214","2020-12-22","","017372",""]
[{"$f":"INDEX(学校種!B:B,MATCH(D15,学校種!A:A,0))","v":"幼稚園(幼稚園型認定こども園を含む)"},{"$f":"INDEX(_tmp2!B:B,MATCH(E15,_tmp2!A:A,0))","v":"北海道"},"A101220600200","A1","01","2","1","釧路市立マリモ幼稚園","釧路市阿寒町阿寒湖温泉５－５－７","0850467","2020-12-22","","017373",""]
[{"$f":"INDEX(学校種!B:B,MATCH(D16,学校種!A:A,0))","v":"幼稚園(幼稚園型認定こども園を含む)"},{"$f":"INDEX(_tmp2!B:B,MATCH(E16,_tmp2!A:A,0))","v":"北海道"},"A101220900010","A1","01","2","9","夕張市立ユーパロ幼稚園","夕張市南清水沢４丁目７０番地２","0680536","2020-12-22","2021-05-27","017643","A201320900017"]
[{"$f":"INDEX(学校種!B:B,MATCH(D17,学校種!A:A,0))","v":"幼稚園(幼稚園型認定こども園を含む)"},{"$f":"INDEX(_tmp2!B:B,MATCH(E17,_tmp2!A:A,0))","v":"北海道"},"A101221800019","A1","01","2","1","赤平市立赤平幼稚園","赤平市幌岡町１１３番地","0791102","2020-12-22","","017613",""]
[{"$f":"INDEX(学校種!B:B,MATCH(D18,学校種!A:A,0))","v":"幼稚園(幼稚園型認定こども園を含む)"},{"$f":"INDEX(_tmp2!B:B,MATCH(E18,_tmp2!A:A,0))","v":"北海道"},"A101233300019","A1","01","2","1","知内町立知内幼稚園","上磯郡知内町字重内２６","0491103","2020-12-22","","017137",""]
[{"$f":"INDEX(学校種!B:B,MATCH(D19,学校種!A:A,0))","v":"幼稚園(幼稚園型認定こども園を含む)"},{"$f":"INDEX(_tmp2!B:B,MATCH(E19,_tmp2!A:A,0))","v":"北海道"},"A101234300017","A1","01","2","1","鹿部町立しかべ幼稚園","茅部郡鹿部町宮浜３１１","0411403","2020-12-22","","017128",""]
[{"$f":"INDEX(学校種!B:B,MATCH(D20,学校種!A:A,0))","v":"幼稚園(幼稚園型認定こども園を含む)"},{"$f":"INDEX(_tmp2!B:B,MATCH(E20,_tmp2!A:A,0))","v":"北海道"},"A101234500015","A1","01","2","1","森町立さわら幼稚園","茅部郡森町砂原１丁目２７－２","0492222","2020-12-22","","017132",""]
[{"$f":"INDEX(学校種!B:B,MATCH(D21,学校種!A:A,0))","v":"幼稚園(幼稚園型認定こども園を含む)"},{"$f":"INDEX(_tmp2!B:B,MATCH(E21,_tmp2!A:A,0))","v":"北海道"},"A101234500024","A1","01","2","1","森町立森幼稚園","茅部郡森町字上台町１４８－３","0492311","2020-12-22","","017542",""]
[{"$f":"INDEX(学校種!B:B,MATCH(D22,学校種!A:A,0))","v":"幼稚園(幼稚園型認定こども園を含む)"},{"$f":"INDEX(_tmp2!B:B,MATCH(E22,_tmp2!A:A,0))","v":"北海道"},"A101236700018","A1","01","2","1","奥尻町立奥尻幼稚園","奥尻郡奥尻町字奥尻４２８－２","0431401","2020-12-22","","017148",""]
[{"$f":"INDEX(学校種!B:B,MATCH(D23,学校種!A:A,0))","v":"幼稚園(幼稚園型認定こども園を含む)"},{"$f":"INDEX(_tmp2!B:B,MATCH(E23,_tmp2!A:A,0))","v":"北海道"},"A101236700027","A1","01","2","1","奥尻町立青苗幼稚園","奥尻郡奥尻町字青苗３５１","0431521","2020-12-22","","017621",""]
[{"$f":"INDEX(学校種!B:B,MATCH(D24,学校種!A:A,0))","v":"幼稚園(幼稚園型認定こども園を含む)"},{"$f":"INDEX(_tmp2!B:B,MATCH(E24,_tmp2!A:A,0))","v":"北海道"},"A101239500014","A1","01","2","1","ニセコ町立ニセコ幼児センター","虻田郡ニセコ町字富士見１７","0481501","2020-12-22","","017605",""]
[{"$f":"INDEX(学校種!B:B,MATCH(D25,学校種!A:A,0))","v":"幼稚園(幼稚園型認定こども園を含む)"},{"$f":"INDEX(_tmp2!B:B,MATCH(E25,_tmp2!A:A,0))","v":"北海道"},"A101240100016","A1","01","2","1","共和町立南幼稚園","岩内郡共和町前田１１番地の1５","0482201","2020-12-22","","017171",""]
[{"$f":"INDEX(学校種!B:B,MATCH(D26,学校種!A:A,0))","v":"幼稚園(幼稚園型認定こども園を含む)"},{"$f":"INDEX(_tmp2!B:B,MATCH(E26,_tmp2!A:A,0))","v":"北海道"},"A101240100025","A1","01","2","1","共和町立北幼稚園","岩内郡共和町梨野舞納３３０番地の１","0450031","2020-12-22","","017612",""]
[{"$f":"INDEX(学校種!B:B,MATCH(D27,学校種!A:A,0))","v":"幼稚園(幼稚園型認定こども園を含む)"},{"$f":"INDEX(_tmp2!B:B,MATCH(E27,_tmp2!A:A,0))","v":"北海道"},"A101245300013","A1","01","2","1","東神楽町立東神楽幼稚園","上川郡東神楽町南２条東１丁目５番１号","0711504","2020-12-22","","017249",""]
[{"$f":"INDEX(学校種!B:B,MATCH(D28,学校種!A:A,0))","v":"幼稚園(幼稚園型認定こども園を含む)"},{"$f":"INDEX(_tmp2!B:B,MATCH(E28,_tmp2!A:A,0))","v":"北海道"},"A101245400012","A1","01","2","1","当麻町立当麻幼稚園","上川郡当麻町４条西３丁目３番１号","0781304","2020-12-22","","017459",""]
[{"$f":"INDEX(学校種!B:B,MATCH(D29,学校種!A:A,0))","v":"幼稚園(幼稚園型認定こども園を含む)"},{"$f":"INDEX(_tmp2!B:B,MATCH(E29,_tmp2!A:A,0))","v":"北海道"},"A101245600010","A1","01","2","1","愛別町立愛別幼稚園","上川郡愛別町字北町２５０番地２８","0781404","2020-12-22","","017645",""]
[{"$f":"INDEX(学校種!B:B,MATCH(D30,学校種!A:A,0))","v":"幼稚園(幼稚園型認定こども園を含む)"},{"$f":"INDEX(_tmp2!B:B,MATCH(E30,_tmp2!A:A,0))","v":"北海道"},"A101245800018","A1","01","2","1","東川町立東川幼稚園","上川郡東川町西４号北８番地","0711404","2020-12-22","","017234",""]
[{"$f":"INDEX(学校種!B:B,MATCH(D31,学校種!A:A,0))","v":"幼稚園(幼稚園型認定こども園を含む)"},{"$f":"INDEX(_tmp2!B:B,MATCH(E31,_tmp2!A:A,0))","v":"北海道"},"A101247000012","A1","01","2","1","音威子府村立音威子府幼稚園","中川郡音威子府村字音威子府４５９の１","0982501","2020-12-22","","017456",""]
[{"$f":"INDEX(学校種!B:B,MATCH(D32,学校種!A:A,0))","v":"幼稚園(幼稚園型認定こども園を含む)"},{"$f":"INDEX(_tmp2!B:B,MATCH(E32,_tmp2!A:A,0))","v":"北海道"},"A101248200018","A1","01","2","1","小平町立小平幼稚園","留萌郡小平町字小平町３７２の１","0783301","2020-12-22","","017444",""]
[{"$f":"INDEX(学校種!B:B,MATCH(D33,学校種!A:A,0))","v":"幼稚園(幼稚園型認定こども園を含む)"},{"$f":"INDEX(_tmp2!B:B,MATCH(E33,_tmp2!A:A,0))","v":"北海道"},"A101248200027","A1","01","2","1","小平町立鬼鹿幼稚園","留萌郡小平町字鬼鹿港町２８３","0783441","2020-12-22","","017443",""]
[{"$f":"INDEX(学校種!B:B,MATCH(D34,学校種!A:A,0))","v":"幼稚園(幼稚園型認定こども園を含む)"},{"$f":"INDEX(_tmp2!B:B,MATCH(E34,_tmp2!A:A,0))","v":"北海道"},"A101256400019","A1","01","2","9","大空町立女満別幼稚園","網走郡大空町女満別西４条３丁目３番３１号","0992324","2020-12-22","2021-05-27","017388","A201356400016"]
[{"$f":"INDEX(学校種!B:B,MATCH(D35,学校種!A:A,0))","v":"幼稚園(幼稚園型認定こども園を含む)"},{"$f":"INDEX(_tmp2!B:B,MATCH(E35,_tmp2!A:A,0))","v":"北海道"},"A101256400028","A1","01","2","1","大空町立東藻琴幼稚園","網走郡大空町東藻琴８１番地","0993212","2020-12-22","","017418",""]
[{"$f":"INDEX(学校種!B:B,MATCH(D36,学校種!A:A,0))","v":"幼稚園(幼稚園型認定こども園を含む)"},{"$f":"INDEX(_tmp2!B:B,MATCH(E36,_tmp2!A:A,0))","v":"北海道"},"A101263500014","A1","01","2","1","新得町立新得幼稚園","上川郡新得町元町９８","0810007","2020-12-22","","017350",""]
[{"$f":"INDEX(学校種!B:B,MATCH(D37,学校種!A:A,0))","v":"幼稚園(幼稚園型認定こども園を含む)"},{"$f":"INDEX(_tmp2!B:B,MATCH(E37,_tmp2!A:A,0))","v":"北海道"},"A101263600013","A1","01","2","1","清水町立清水幼稚園","上川郡清水町字清水４７８番地","0890103","2020-12-22","","017355",""]
[{"$f":"INDEX(学校種!B:B,MATCH(D38,学校種!A:A,0))","v":"幼稚園(幼稚園型認定こども園を含む)"},{"$f":"INDEX(_tmp2!B:B,MATCH(E38,_tmp2!A:A,0))","v":"北海道"},"A101263900010","A1","01","2","1","更別村立更別幼稚園","河西郡更別村字更別南１線９７番地１","0891532","2020-12-22","","017360",""]
[{"$f":"INDEX(学校種!B:B,MATCH(D39,学校種!A:A,0))","v":"幼稚園(幼稚園型認定こども園を含む)"},{"$f":"INDEX(_tmp2!B:B,MATCH(E39,_tmp2!A:A,0))","v":"北海道"},"A101263900029","A1","01","2","1","認定こども園上更別幼稚園","河西郡更別村字上更別南１３線１０５番地の１","0891583","2020-12-22","","017361",""]
[{"$f":"INDEX(学校種!B:B,MATCH(D40,学校種!A:A,0))","v":"幼稚園(幼稚園型認定こども園を含む)"},{"$f":"INDEX(_tmp2!B:B,MATCH(E40,_tmp2!A:A,0))","v":"北海道"},"A101264300023","A1","01","2","1","幕別町立わかば幼稚園","中川郡幕別町錦町９８番地","0890604","2020-12-22","","017497",""]
[{"$f":"INDEX(学校種!B:B,MATCH(D41,学校種!A:A,0))","v":"幼稚園(幼稚園型認定こども園を含む)"},{"$f":"INDEX(_tmp2!B:B,MATCH(E41,_tmp2!A:A,0))","v":"北海道"},"A101264900018","A1","01","2","9","浦幌町立浦幌幼稚園","十勝郡浦幌町字住吉町３３番地の１","0895606","2020-12-22","2021-05-27","017655",""]
[{"$f":"INDEX(学校種!B:B,MATCH(D42,学校種!A:A,0))","v":"幼稚園(幼稚園型認定こども園を含む)"},{"$f":"INDEX(_tmp2!B:B,MATCH(E42,_tmp2!A:A,0))","v":"北海道"},"A101266400018","A1","01","2","1","標茶町立標茶幼稚園","川上郡標茶町桜５丁目１番地","0882303","2020-12-22","","017377",""]
[{"$f":"INDEX(学校種!B:B,MATCH(D43,学校種!A:A,0))","v":"幼稚園(幼稚園型認定こども園を含む)"},{"$f":"INDEX(_tmp2!B:B,MATCH(E43,_tmp2!A:A,0))","v":"北海道"},"A101269100024","A1","01","2","1","認定こども園中西別幼稚園","野付郡別海町中西別１６０－１４","0860345","2020-12-22","","017392",""]
[{"$f":"INDEX(学校種!B:B,MATCH(D44,学校種!A:A,0))","v":"幼稚園(幼稚園型認定こども園を含む)"},{"$f":"INDEX(_tmp2!B:B,MATCH(E44,_tmp2!A:A,0))","v":"北海道"},"A101269100033","A1","01","2","1","認定こども園上西春別幼稚園","野付郡別海町西春別駅前西町１－８","0882564","2020-12-22","","017393",""]
[{"$f":"INDEX(学校種!B:B,MATCH(D45,学校種!A:A,0))","v":"幼稚園(幼稚園型認定こども園を含む)"},{"$f":"INDEX(_tmp2!B:B,MATCH(E45,_tmp2!A:A,0))","v":"北海道"},"A101269100042","A1","01","2","1","認定こども園野付幼稚園","野付郡別海町尾岱沼潮見町２１３","0861644","2020-12-22","","017394",""]
[{"$f":"INDEX(学校種!B:B,MATCH(D46,学校種!A:A,0))","v":"幼稚園(幼稚園型認定こども園を含む)"},{"$f":"INDEX(_tmp2!B:B,MATCH(E46,_tmp2!A:A,0))","v":"北海道"},"A101269200041","A1","01","2","1","中標津町立計根別幼稚園","標津郡中標津町計根別北２条西２丁目１番地１","0882682","2020-12-22","","017543",""]
[{"$f":"INDEX(学校種!B:B,MATCH(D47,学校種!A:A,0))","v":"幼稚園(幼稚園型認定こども園を含む)"},{"$f":"INDEX(_tmp2!B:B,MATCH(E47,_tmp2!A:A,0))","v":"北海道"},"A101269400012","A1","01","2","1","羅臼町立羅臼幼稚園","目梨郡羅臼町緑町３０１番地","0861821","2020-12-22","","017659",""]
[{"$f":"INDEX(学校種!B:B,MATCH(D48,学校種!A:A,0))","v":"幼稚園(幼稚園型認定こども園を含む)"},{"$f":"INDEX(_tmp2!B:B,MATCH(E48,_tmp2!A:A,0))","v":"北海道"},"A101269400021","A1","01","2","1","羅臼町立春松幼稚園","目梨郡羅臼町八木浜町１９０番地","0851841","2020-12-22","","017660",""]
[{"$f":"INDEX(学校種!B:B,MATCH(D49,学校種!A:A,0))","v":"幼稚園(幼稚園型認定こども園を含む)"},{"$f":"INDEX(_tmp2!B:B,MATCH(E49,_tmp2!A:A,0))","v":"北海道"},"A101310000027","A1","01","3","1","札幌ルンビニー幼稚園","札幌市西区二十四軒４条２丁目６－１７","0630804","2020-12-22","","016512",""]
[{"$f":"INDEX(学校種!B:B,MATCH(D50,学校種!A:A,0))","v":"幼稚園(幼稚園型認定こども園を含む)"},{"$f":"INDEX(_tmp2!B:B,MATCH(E50,_tmp2!A:A,0))","v":"北海道"},"A101310100017","A1","01","3","1","札幌大谷第二幼稚園","札幌市中央区大通西２１丁目３－１８","0640820","2020-12-22","","016523",""]
[{"$f":"INDEX(学校種!B:B,MATCH(D51,学校種!A:A,0))","v":"幼稚園(幼稚園型認定こども園を含む)"},{"$f":"INDEX(_tmp2!B:B,MATCH(E51,_tmp2!A:A,0))","v":"北海道"},"A101310100026","A1","01","3","1","桑園幼稚園","札幌市中央区北７条西１３丁目２番地","0600007","2020-12-22","","016528",""]
[{"$f":"INDEX(学校種!B:B,MATCH(D52,学校種!A:A,0))","v":"幼稚園(幼稚園型認定こども園を含む)"},{"$f":"INDEX(_tmp2!B:B,MATCH(E52,_tmp2!A:A,0))","v":"北海道"},"A101310100035","A1","01","3","1","大通幼稚園","札幌市中央区大通西１６丁目３番地","0600042","2020-12-22","","016543",""]
[{"$f":"INDEX(学校種!B:B,MATCH(D53,学校種!A:A,0))","v":"幼稚園(幼稚園型認定こども園を含む)"},{"$f":"INDEX(_tmp2!B:B,MATCH(E53,_tmp2!A:A,0))","v":"北海道"},"A101310100044","A1","01","3","1","ひかり幼稚園","札幌市中央区南２１条西１４丁目３－１０","0640921","2020-12-22","","016544",""]
[{"$f":"INDEX(学校種!B:B,MATCH(D54,学校種!A:A,0))","v":"幼稚園(幼稚園型認定こども園を含む)"},{"$f":"INDEX(_tmp2!B:B,MATCH(E54,_tmp2!A:A,0))","v":"北海道"},"A101310100053","A1","01","3","1","めばえ幼稚園","札幌市中央区南１２条西１２丁目２番２７号","0640912","2020-12-22","","016545",""]
[{"$f":"INDEX(学校種!B:B,MATCH(D55,学校種!A:A,0))","v":"幼稚園(幼稚園型認定こども園を含む)"},{"$f":"INDEX(_tmp2!B:B,MATCH(E55,_tmp2!A:A,0))","v":"北海道"},"A101310100062","A1","01","3","1","こひつじ幼稚園","札幌市中央区南１６条西１２丁目１番５号","0640916","2020-12-22","","016553",""]
[{"$f":"INDEX(学校種!B:B,MATCH(D56,学校種!A:A,0))","v":"幼稚園(幼稚園型認定こども園を含む)"},{"$f":"INDEX(_tmp2!B:B,MATCH(E56,_tmp2!A:A,0))","v":"北海道"},"A101310100071","A1","01","3","1","さゆり幼稚園","札幌市中央区北４条西２３丁目２番８号","0640824","2020-12-22","","016554",""]
[{"$f":"INDEX(学校種!B:B,MATCH(D57,学校種!A:A,0))","v":"幼稚園(幼稚園型認定こども園を含む)"},{"$f":"INDEX(_tmp2!B:B,MATCH(E57,_tmp2!A:A,0))","v":"北海道"},"A101310100080","A1","01","3","1","札幌ルーテル幼稚園","札幌市中央区南９条西２１丁目２－２０","0640809","2020-12-22","","016560",""]
[{"$f":"INDEX(学校種!B:B,MATCH(D58,学校種!A:A,0))","v":"幼稚園(幼稚園型認定こども園を含む)"},{"$f":"INDEX(_tmp2!B:B,MATCH(E58,_tmp2!A:A,0))","v":"北海道"},"A101310100099","A1","01","3","1","札幌円山幼稚園","札幌市中央区北２条西２３丁目１－１０","0620822","2020-12-22","","016566",""]
[{"$f":"INDEX(学校種!B:B,MATCH(D59,学校種!A:A,0))","v":"幼稚園(幼稚園型認定こども園を含む)"},{"$f":"INDEX(_tmp2!B:B,MATCH(E59,_tmp2!A:A,0))","v":"北海道"},"A101310100106","A1","01","3","1","宮の森幼稚園","札幌市中央区宮の森９０４番地７","0640958","2020-12-22","","016568",""]
[{"$f":"INDEX(学校種!B:B,MATCH(D60,学校種!A:A,0))","v":"幼稚園(幼稚園型認定こども園を含む)"},{"$f":"INDEX(_tmp2!B:B,MATCH(E60,_tmp2!A:A,0))","v":"北海道"},"A101310100115","A1","01","3","1","札幌いづみ幼稚園","札幌市中央区南１７条西９丁目１－３５","0640917","2020-12-22","","016572",""]
[{"$f":"INDEX(学校種!B:B,MATCH(D61,学校種!A:A,0))","v":"幼稚園(幼稚園型認定こども園を含む)"},{"$f":"INDEX(_tmp2!B:B,MATCH(E61,_tmp2!A:A,0))","v":"北海道"},"A101310100124","A1","01","3","1","認定こども園つぼみ幼稚園","札幌市中央区南７条西２５丁目１－５","0640807","2020-12-22","","016599",""]
[{"$f":"INDEX(学校種!B:B,MATCH(D62,学校種!A:A,0))","v":"幼稚園(幼稚園型認定こども園を含む)"},{"$f":"INDEX(_tmp2!B:B,MATCH(E62,_tmp2!A:A,0))","v":"北海道"},"A101310100133","A1","01","3","1","ばんけい幼稚園","札幌市中央区盤渓４１５番地１３","0640945","2020-12-22","","017568",""]
[{"$f":"INDEX(学校種!B:B,MATCH(D63,学校種!A:A,0))","v":"幼稚園(幼稚園型認定こども園を含む)"},{"$f":"INDEX(_tmp2!B:B,MATCH(E63,_tmp2!A:A,0))","v":"北海道"},"A101310200016","A1","01","3","1","認定こども園新琴似幼稚園","札幌市北区新琴似８条３丁目１番２０号","0010908","2020-12-22","","016516",""]
[{"$f":"INDEX(学校種!B:B,MATCH(D64,学校種!A:A,0))","v":"幼稚園(幼稚園型認定こども園を含む)"},{"$f":"INDEX(_tmp2!B:B,MATCH(E64,_tmp2!A:A,0))","v":"北海道"},"A101310200025","A1","01","3","1","札幌北幼稚園","札幌市北区北３３条西１１丁目３番１０号","0010033","2020-12-22","","016517",""]
[{"$f":"INDEX(学校種!B:B,MATCH(D65,学校種!A:A,0))","v":"幼稚園(幼稚園型認定こども園を含む)"},{"$f":"INDEX(_tmp2!B:B,MATCH(E65,_tmp2!A:A,0))","v":"北海道"},"A101310200034","A1","01","3","1","新琴似育英幼稚園","札幌市北区新琴似７条１３丁目１－２８","0010907","2020-12-22","","016530",""]
[{"$f":"INDEX(学校種!B:B,MATCH(D66,学校種!A:A,0))","v":"幼稚園(幼稚園型認定こども園を含む)"},{"$f":"INDEX(_tmp2!B:B,MATCH(E66,_tmp2!A:A,0))","v":"北海道"},"A101310200043","A1","01","3","1","藤幼稚園","札幌市北区北１６条西３丁目２－１","0010016","2020-12-22","","016537",""]
[{"$f":"INDEX(学校種!B:B,MATCH(D67,学校種!A:A,0))","v":"幼稚園(幼稚園型認定こども園を含む)"},{"$f":"INDEX(_tmp2!B:B,MATCH(E67,_tmp2!A:A,0))","v":"北海道"},"A101310200052","A1","01","3","1","麻生明星幼稚園","札幌市北区麻生町４丁目１１番１４号","0010045","2020-12-22","","016550",""]
[{"$f":"INDEX(学校種!B:B,MATCH(D68,学校種!A:A,0))","v":"幼稚園(幼稚園型認定こども園を含む)"},{"$f":"INDEX(_tmp2!B:B,MATCH(E68,_tmp2!A:A,0))","v":"北海道"},"A101310200061","A1","01","3","1","新川幼稚園","札幌市北区新川２条４丁目８番４３号","0010922","2020-12-22","","016582",""]
[{"$f":"INDEX(学校種!B:B,MATCH(D69,学校種!A:A,0))","v":"幼稚園(幼稚園型認定こども園を含む)"},{"$f":"INDEX(_tmp2!B:B,MATCH(E69,_tmp2!A:A,0))","v":"北海道"},"A101310200070","A1","01","3","1","篠路光真幼稚園","札幌市北区篠路町上篠路２５２番地","0028052","2020-12-22","","016590",""]
[{"$f":"INDEX(学校種!B:B,MATCH(D70,学校種!A:A,0))","v":"幼稚園(幼稚園型認定こども園を含む)"},{"$f":"INDEX(_tmp2!B:B,MATCH(E70,_tmp2!A:A,0))","v":"北海道"},"A101310200089","A1","01","3","1","認定こども園つよし幼稚園","札幌市北区屯田３条３丁目６番１０号","0020853","2020-12-22","","016596",""]
[{"$f":"INDEX(学校種!B:B,MATCH(D71,学校種!A:A,0))","v":"幼稚園(幼稚園型認定こども園を含む)"},{"$f":"INDEX(_tmp2!B:B,MATCH(E71,_tmp2!A:A,0))","v":"北海道"},"A101310200098","A1","01","3","9","ＣｉｎｑＰｅｒｌｅｓ幼稚園","札幌市北区篠路７条６丁目３－８","0028027","2020-12-22","2021-05-27","016607","A201310200131"]
[{"$f":"INDEX(学校種!B:B,MATCH(D72,学校種!A:A,0))","v":"幼稚園(幼稚園型認定こども園を含む)"},{"$f":"INDEX(_tmp2!B:B,MATCH(E72,_tmp2!A:A,0))","v":"北海道"},"A101310200105","A1","01","3","1","そうせい幼稚園","札幌市北区新川４条１３丁目２番４１号","0010924","2020-12-22","","017531",""]
[{"$f":"INDEX(学校種!B:B,MATCH(D73,学校種!A:A,0))","v":"幼稚園(幼稚園型認定こども園を含む)"},{"$f":"INDEX(_tmp2!B:B,MATCH(E73,_tmp2!A:A,0))","v":"北海道"},"A101310200114","A1","01","3","1","札幌三育幼稚園","札幌市北区北３５条西２丁目１－１５","0010035","2020-12-22","","017587",""]
[{"$f":"INDEX(学校種!B:B,MATCH(D74,学校種!A:A,0))","v":"幼稚園(幼稚園型認定こども園を含む)"},{"$f":"INDEX(_tmp2!B:B,MATCH(E74,_tmp2!A:A,0))","v":"北海道"},"A101310200123","A1","01","3","1","百合が原幼稚園","札幌市北区百合が原１１丁目１８５番地６","0028081","2020-12-22","","017601",""]
[{"$f":"INDEX(学校種!B:B,MATCH(D75,学校種!A:A,0))","v":"幼稚園(幼稚園型認定こども園を含む)"},{"$f":"INDEX(_tmp2!B:B,MATCH(E75,_tmp2!A:A,0))","v":"北海道"},"A101310200132","A1","01","3","1","茨戸メリー幼稚園","札幌市北区東茨戸３７番３","0028043","2020-12-22","","017638",""]
[{"$f":"INDEX(学校種!B:B,MATCH(D76,学校種!A:A,0))","v":"幼稚園(幼稚園型認定こども園を含む)"},{"$f":"INDEX(_tmp2!B:B,MATCH(E76,_tmp2!A:A,0))","v":"北海道"},"A101310300015","A1","01","3","1","札幌大谷大学附属幼稚園","札幌市東区北１６条東８丁目２－１","0650016","2020-12-22","","016527",""]
[{"$f":"INDEX(学校種!B:B,MATCH(D77,学校種!A:A,0))","v":"幼稚園(幼稚園型認定こども園を含む)"},{"$f":"INDEX(_tmp2!B:B,MATCH(E77,_tmp2!A:A,0))","v":"北海道"},"A101310300024","A1","01","3","1","札幌幼稚園","札幌市東区北２４条東１８丁目４番３７号","0650024","2020-12-22","","016534",""]
[{"$f":"INDEX(学校種!B:B,MATCH(D78,学校種!A:A,0))","v":"幼稚園(幼稚園型認定こども園を含む)"},{"$f":"INDEX(_tmp2!B:B,MATCH(E78,_tmp2!A:A,0))","v":"北海道"},"A101310300033","A1","01","3","1","天使幼稚園","札幌市東区北１１条東２丁目","0650011","2020-12-22","","016542",""]
[{"$f":"INDEX(学校種!B:B,MATCH(D79,学校種!A:A,0))","v":"幼稚園(幼稚園型認定こども園を含む)"},{"$f":"INDEX(_tmp2!B:B,MATCH(E79,_tmp2!A:A,0))","v":"北海道"},"A101310300042","A1","01","3","1","聖ミカエル幼稚園","札幌市東区北１９条東３丁目４－５","0650019","2020-12-22","","016549",""]
[{"$f":"INDEX(学校種!B:B,MATCH(D80,学校種!A:A,0))","v":"幼稚園(幼稚園型認定こども園を含む)"},{"$f":"INDEX(_tmp2!B:B,MATCH(E80,_tmp2!A:A,0))","v":"北海道"},"A101310300051","A1","01","3","1","北栄幼稚園","札幌市東区北３１条東９丁目１番６号","0650031","2020-12-22","","016576",""]
[{"$f":"INDEX(学校種!B:B,MATCH(D81,学校種!A:A,0))","v":"幼稚園(幼稚園型認定こども園を含む)"},{"$f":"INDEX(_tmp2!B:B,MATCH(E81,_tmp2!A:A,0))","v":"北海道"},"A101310300060","A1","01","3","1","あゆみ幼稚園","札幌市東区伏古７条５丁目５番５号","0070867","2020-12-22","","016612",""]
[{"$f":"INDEX(学校種!B:B,MATCH(D82,学校種!A:A,0))","v":"幼稚園(幼稚園型認定こども園を含む)"},{"$f":"INDEX(_tmp2!B:B,MATCH(E82,_tmp2!A:A,0))","v":"北海道"},"A101310300079","A1","01","3","1","札幌あかしや幼稚園","札幌市東区北４４条東１２丁目２番１号","0070844","2020-12-22","","017526",""]
[{"$f":"INDEX(学校種!B:B,MATCH(D83,学校種!A:A,0))","v":"幼稚園(幼稚園型認定こども園を含む)"},{"$f":"INDEX(_tmp2!B:B,MATCH(E83,_tmp2!A:A,0))","v":"北海道"},"A101310300088","A1","01","3","1","あゆみ第二幼稚園","札幌市東区伏古９条３丁目２番１９号","0070869","2020-12-22","","017533",""]
[{"$f":"INDEX(学校種!B:B,MATCH(D84,学校種!A:A,0))","v":"幼稚園(幼稚園型認定こども園を含む)"},{"$f":"INDEX(_tmp2!B:B,MATCH(E84,_tmp2!A:A,0))","v":"北海道"},"A101310400014","A1","01","3","1","白石幼稚園","札幌市白石区平和通１丁目南６番１６号","0030028","2020-12-22","","016513",""]
[{"$f":"INDEX(学校種!B:B,MATCH(D85,学校種!A:A,0))","v":"幼稚園(幼稚園型認定こども園を含む)"},{"$f":"INDEX(_tmp2!B:B,MATCH(E85,_tmp2!A:A,0))","v":"北海道"},"A101310400023","A1","01","3","9","北郷札幌幼稚園","札幌市白石区北郷４条５丁目６－１２","0030834","2020-12-22","2021-05-27","016538","A201310400139"]
[{"$f":"INDEX(学校種!B:B,MATCH(D86,学校種!A:A,0))","v":"幼稚園(幼稚園型認定こども園を含む)"},{"$f":"INDEX(_tmp2!B:B,MATCH(E86,_tmp2!A:A,0))","v":"北海道"},"A101310400032","A1","01","3","1","南郷札幌幼稚園","札幌市白石区栄通９丁目４－１４","0030021","2020-12-22","","016569",""]
[{"$f":"INDEX(学校種!B:B,MATCH(D87,学校種!A:A,0))","v":"幼稚園(幼稚園型認定こども園を含む)"},{"$f":"INDEX(_tmp2!B:B,MATCH(E87,_tmp2!A:A,0))","v":"北海道"},"A101310400041","A1","01","3","1","本郷幼稚園","札幌市白石区本郷通６丁目南４－１７","0030024","2020-12-22","","016573",""]
[{"$f":"INDEX(学校種!B:B,MATCH(D88,学校種!A:A,0))","v":"幼稚園(幼稚園型認定こども園を含む)"},{"$f":"INDEX(_tmp2!B:B,MATCH(E88,_tmp2!A:A,0))","v":"北海道"},"A101310400050","A1","01","3","1","あさひ幼稚園","札幌市白石区平和通１０丁目北７－５６","0030029","2020-12-22","","016585",""]
[{"$f":"INDEX(学校種!B:B,MATCH(D89,学校種!A:A,0))","v":"幼稚園(幼稚園型認定こども園を含む)"},{"$f":"INDEX(_tmp2!B:B,MATCH(E89,_tmp2!A:A,0))","v":"北海道"},"A101310400069","A1","01","3","1","札幌白樺幼稚園","札幌市白石区南郷通１８丁目北5-5","0030023","2020-12-22","","016589",""]
[{"$f":"INDEX(学校種!B:B,MATCH(D90,学校種!A:A,0))","v":"幼稚園(幼稚園型認定こども園を含む)"},{"$f":"INDEX(_tmp2!B:B,MATCH(E90,_tmp2!A:A,0))","v":"北海道"},"A101310500013","A1","01","3","1","札幌若葉幼稚園","札幌市豊平区月寒東２条１８丁目９番１１号","0620052","2020-12-22","","016520",""]
[{"$f":"INDEX(学校種!B:B,MATCH(D91,学校種!A:A,0))","v":"幼稚園(幼稚園型認定こども園を含む)"},{"$f":"INDEX(_tmp2!B:B,MATCH(E91,_tmp2!A:A,0))","v":"北海道"},"A101310500022","A1","01","3","1","札幌ゆたか幼稚園","札幌市豊平区豊平１条４丁目２番１９号","0620901","2020-12-22","","016524",""]
[{"$f":"INDEX(学校種!B:B,MATCH(D92,学校種!A:A,0))","v":"幼稚園(幼稚園型認定こども園を含む)"},{"$f":"INDEX(_tmp2!B:B,MATCH(E92,_tmp2!A:A,0))","v":"北海道"},"A101310500031","A1","01","3","1","札幌第一幼稚園","札幌市豊平区旭町７丁目３の７","0620911","2020-12-22","","016541",""]
[{"$f":"INDEX(学校種!B:B,MATCH(D93,学校種!A:A,0))","v":"幼稚園(幼稚園型認定こども園を含む)"},{"$f":"INDEX(_tmp2!B:B,MATCH(E93,_tmp2!A:A,0))","v":"北海道"},"A101310500040","A1","01","3","1","黎明幼稚園","札幌市豊平区月寒東１条２丁目１０番９号","0620051","2020-12-22","","016556",""]
[{"$f":"INDEX(学校種!B:B,MATCH(D94,学校種!A:A,0))","v":"幼稚園(幼稚園型認定こども園を含む)"},{"$f":"INDEX(_tmp2!B:B,MATCH(E94,_tmp2!A:A,0))","v":"北海道"},"A101310500059","A1","01","3","1","美晴幼稚園","札幌市豊平区月寒西２条７丁目２－１６","0620022","2020-12-22","","016567",""]
[{"$f":"INDEX(学校種!B:B,MATCH(D95,学校種!A:A,0))","v":"幼稚園(幼稚園型認定こども園を含む)"},{"$f":"INDEX(_tmp2!B:B,MATCH(E95,_tmp2!A:A,0))","v":"北海道"},"A101310500068","A1","01","3","1","認定こども園なかのしま幼稚園","札幌市豊平区中の島２条２丁目５－２０","0620922","2020-12-22","","016583",""]
[{"$f":"INDEX(学校種!B:B,MATCH(D96,学校種!A:A,0))","v":"幼稚園(幼稚園型認定こども園を含む)"},{"$f":"INDEX(_tmp2!B:B,MATCH(E96,_tmp2!A:A,0))","v":"北海道"},"A101310500077","A1","01","3","1","幌南学園幼稚園","札幌市豊平区月寒西１条３丁目１－１６","0620021","2020-12-22","","016584",""]
[{"$f":"INDEX(学校種!B:B,MATCH(D97,学校種!A:A,0))","v":"幼稚園(幼稚園型認定こども園を含む)"},{"$f":"INDEX(_tmp2!B:B,MATCH(E97,_tmp2!A:A,0))","v":"北海道"},"A101310500086","A1","01","3","1","西岡ふたば幼稚園","札幌市豊平区西岡４条１０丁目８番１号","0620034","2020-12-22","","016597",""]
[{"$f":"INDEX(学校種!B:B,MATCH(D98,学校種!A:A,0))","v":"幼稚園(幼稚園型認定こども園を含む)"},{"$f":"INDEX(_tmp2!B:B,MATCH(E98,_tmp2!A:A,0))","v":"北海道"},"A101310500095","A1","01","3","1","札幌白ゆり幼稚園","札幌市豊平区平岸５条９丁目２番９号","0620935","2020-12-22","","016603",""]
[{"$f":"INDEX(学校種!B:B,MATCH(D99,学校種!A:A,0))","v":"幼稚園(幼稚園型認定こども園を含む)"},{"$f":"INDEX(_tmp2!B:B,MATCH(E99,_tmp2!A:A,0))","v":"北海道"},"A101310500102","A1","01","3","1","札幌くりのみ幼稚園","札幌市豊平区月寒西５条８丁目１番２０号","0620025","2020-12-22","","016615",""]
[{"$f":"INDEX(学校種!B:B,MATCH(D100,学校種!A:A,0))","v":"幼稚園(幼稚園型認定こども園を含む)"},{"$f":"INDEX(_tmp2!B:B,MATCH(E100,_tmp2!A:A,0))","v":"北海道"},"A101310500111","A1","01","3","1","札幌創価幼稚園","札幌市豊平区福住２条３丁目１０番１号","0620042","2020-12-22","","017521",""]
[{"$f":"INDEX(学校種!B:B,MATCH(D101,学校種!A:A,0))","v":"幼稚園(幼稚園型認定こども園を含む)"},{"$f":"INDEX(_tmp2!B:B,MATCH(E101,_tmp2!A:A,0))","v":"北海道"},"A101310500120","A1","01","3","1","ふくずみ幼稚園","札幌市豊平区福住２条６丁目６番１２号","0620042","2020-12-22","","017566",""]
[{"$f":"INDEX(学校種!B:B,MATCH(D102,学校種!A:A,0))","v":"幼稚園(幼稚園型認定こども園を含む)"},{"$f":"INDEX(_tmp2!B:B,MATCH(E102,_tmp2!A:A,0))","v":"北海道"},"A101310500139","A1","01","3","1","つきさむ幼稚園","札幌市豊平区月寒東２条１１丁目１６４－１３","0620052","2020-12-22","","017608",""]
[{"$f":"INDEX(学校種!B:B,MATCH(D103,学校種!A:A,0))","v":"幼稚園(幼稚園型認定こども園を含む)"},{"$f":"INDEX(_tmp2!B:B,MATCH(E103,_tmp2!A:A,0))","v":"北海道"},"A101310600012","A1","01","3","1","札幌わかくさ幼稚園","札幌市南区南３４条西１０丁目３－１３","0050034","2020-12-22","","016514",""]
[{"$f":"INDEX(学校種!B:B,MATCH(D104,学校種!A:A,0))","v":"幼稚園(幼稚園型認定こども園を含む)"},{"$f":"INDEX(_tmp2!B:B,MATCH(E104,_tmp2!A:A,0))","v":"北海道"},"A101310600021","A1","01","3","1","澄川幼稚園","札幌市南区澄川３条３丁目３番１１号","0050003","2020-12-22","","016526",""]
[{"$f":"INDEX(学校種!B:B,MATCH(D105,学校種!A:A,0))","v":"幼稚園(幼稚園型認定こども園を含む)"},{"$f":"INDEX(_tmp2!B:B,MATCH(E105,_tmp2!A:A,0))","v":"北海道"},"A101310600030","A1","01","3","1","真駒内幼稚園","札幌市南区真駒内曙町３丁目４－１","0050018","2020-12-22","","016540",""]
[{"$f":"INDEX(学校種!B:B,MATCH(D106,学校種!A:A,0))","v":"幼稚園(幼稚園型認定こども園を含む)"},{"$f":"INDEX(_tmp2!B:B,MATCH(E106,_tmp2!A:A,0))","v":"北海道"},"A101310600049","A1","01","3","1","真駒内聖母幼稚園","札幌市南区真駒内上町４丁目８番２号","0050012","2020-12-22","","016546",""]
[{"$f":"INDEX(学校種!B:B,MATCH(D107,学校種!A:A,0))","v":"幼稚園(幼稚園型認定こども園を含む)"},{"$f":"INDEX(_tmp2!B:B,MATCH(E107,_tmp2!A:A,0))","v":"北海道"},"A101310600058","A1","01","3","1","まこまない明星幼稚園","札幌市南区真駒内泉町２丁目１－６","0050015","2020-12-22","","016548",""]
[{"$f":"INDEX(学校種!B:B,MATCH(D108,学校種!A:A,0))","v":"幼稚園(幼稚園型認定こども園を含む)"},{"$f":"INDEX(_tmp2!B:B,MATCH(E108,_tmp2!A:A,0))","v":"北海道"},"A101310600067","A1","01","3","1","もなみ幼稚園","札幌市南区川沿９条２丁目１番１８号","0050809","2020-12-22","","016562",""]
[{"$f":"INDEX(学校種!B:B,MATCH(D109,学校種!A:A,0))","v":"幼稚園(幼稚園型認定こども園を含む)"},{"$f":"INDEX(_tmp2!B:B,MATCH(E109,_tmp2!A:A,0))","v":"北海道"},"A101310600076","A1","01","3","9","北海道文教大学附属幼稚園","札幌市南区石山５３１番地","0050849","2020-12-22","2021-05-27","016595","A201323100055"]
[{"$f":"INDEX(学校種!B:B,MATCH(D110,学校種!A:A,0))","v":"幼稚園(幼稚園型認定こども園を含む)"},{"$f":"INDEX(_tmp2!B:B,MATCH(E110,_tmp2!A:A,0))","v":"北海道"},"A101310600085","A1","01","3","1","森の幼稚園","札幌市南区石山１１３２－１","0050849","2020-12-22","","017528",""]
[{"$f":"INDEX(学校種!B:B,MATCH(D111,学校種!A:A,0))","v":"幼稚園(幼稚園型認定こども園を含む)"},{"$f":"INDEX(_tmp2!B:B,MATCH(E111,_tmp2!A:A,0))","v":"北海道"},"A101310600094","A1","01","3","1","第２もなみ幼稚園","札幌市南区川沿２条３丁目８番２５号","0050802","2020-12-22","","017534",""]
[{"$f":"INDEX(学校種!B:B,MATCH(D112,学校種!A:A,0))","v":"幼稚園(幼稚園型認定こども園を含む)"},{"$f":"INDEX(_tmp2!B:B,MATCH(E112,_tmp2!A:A,0))","v":"北海道"},"A101310600101","A1","01","3","1","札幌梅香幼稚園","札幌市南区藤野２条７丁目１４番１号","0612282","2020-12-22","","017545",""]
[{"$f":"INDEX(学校種!B:B,MATCH(D113,学校種!A:A,0))","v":"幼稚園(幼稚園型認定こども園を含む)"},{"$f":"INDEX(_tmp2!B:B,MATCH(E113,_tmp2!A:A,0))","v":"北海道"},"A101310600110","A1","01","3","1","札幌トモエ幼稚園","札幌市南区北の沢１９６３番地","0050832","2020-12-22","","017615",""]
[{"$f":"INDEX(学校種!B:B,MATCH(D114,学校種!A:A,0))","v":"幼稚園(幼稚園型認定こども園を含む)"},{"$f":"INDEX(_tmp2!B:B,MATCH(E114,_tmp2!A:A,0))","v":"北海道"},"A101310600129","A1","01","3","9","ときわみなみの幼稚園","札幌市南区真駒内３８０番１８","0050861","2020-12-22","2021-05-27","017631","A201310600048"]
[{"$f":"INDEX(学校種!B:B,MATCH(D115,学校種!A:A,0))","v":"幼稚園(幼稚園型認定こども園を含む)"},{"$f":"INDEX(_tmp2!B:B,MATCH(E115,_tmp2!A:A,0))","v":"北海道"},"A101310600138","A1","01","3","1","藤ヶ丘幼稚園","札幌市南区藤野４条５丁目２０番１号","0612284","2020-12-22","","017639",""]
[{"$f":"INDEX(学校種!B:B,MATCH(D116,学校種!A:A,0))","v":"幼稚園(幼稚園型認定こども園を含む)"},{"$f":"INDEX(_tmp2!B:B,MATCH(E116,_tmp2!A:A,0))","v":"北海道"},"A101310600147","A1","01","3","1","札幌みすまい幼稚園","札幌市南区簾舞２条４丁目３番１５号","0612262","2020-12-22","","017654",""]
[{"$f":"INDEX(学校種!B:B,MATCH(D117,学校種!A:A,0))","v":"幼稚園(幼稚園型認定こども園を含む)"},{"$f":"INDEX(_tmp2!B:B,MATCH(E117,_tmp2!A:A,0))","v":"北海道"},"A101310700020","A1","01","3","1","琴似中央幼稚園","札幌市西区八軒９条西２丁目４－１","0630849","2020-12-22","","016515",""]
[{"$f":"INDEX(学校種!B:B,MATCH(D118,学校種!A:A,0))","v":"幼稚園(幼稚園型認定こども園を含む)"},{"$f":"INDEX(_tmp2!B:B,MATCH(E118,_tmp2!A:A,0))","v":"北海道"},"A101310700039","A1","01","3","1","あづま幼稚園","札幌市西区発寒１６条４丁目３番７０号","0630836","2020-12-22","","016519",""]
[{"$f":"INDEX(学校種!B:B,MATCH(D119,学校種!A:A,0))","v":"幼稚園(幼稚園型認定こども園を含む)"},{"$f":"INDEX(_tmp2!B:B,MATCH(E119,_tmp2!A:A,0))","v":"北海道"},"A101310700048","A1","01","3","1","インターナショナル山の手幼稚園","札幌市西区山の手２条３丁目１番１５号","0630002","2020-12-22","","016525",""]
[{"$f":"INDEX(学校種!B:B,MATCH(D120,学校種!A:A,0))","v":"幼稚園(幼稚園型認定こども園を含む)"},{"$f":"INDEX(_tmp2!B:B,MATCH(E120,_tmp2!A:A,0))","v":"北海道"},"A101310700057","A1","01","3","1","さくらの森幼稚園","札幌市西区琴似３条６丁目1番２６号","0630813","2020-12-22","","016533",""]
[{"$f":"INDEX(学校種!B:B,MATCH(D121,学校種!A:A,0))","v":"幼稚園(幼稚園型認定こども園を含む)"},{"$f":"INDEX(_tmp2!B:B,MATCH(E121,_tmp2!A:A,0))","v":"北海道"},"A101310700066","A1","01","3","1","琴似教会幼稚園","札幌市西区八軒２条西１丁目３－１","0630842","2020-12-22","","016547",""]
[{"$f":"INDEX(学校種!B:B,MATCH(D122,学校種!A:A,0))","v":"幼稚園(幼稚園型認定こども園を含む)"},{"$f":"INDEX(_tmp2!B:B,MATCH(E122,_tmp2!A:A,0))","v":"北海道"},"A101310700075","A1","01","3","1","西野札幌幼稚園","札幌市西区西野３条２丁目３－１","0630033","2020-12-22","","016574",""]
[{"$f":"INDEX(学校種!B:B,MATCH(D123,学校種!A:A,0))","v":"幼稚園(幼稚園型認定こども園を含む)"},{"$f":"INDEX(_tmp2!B:B,MATCH(E123,_tmp2!A:A,0))","v":"北海道"},"A101310700084","A1","01","3","1","幸明幼稚園","札幌市西区八軒６条西７丁目２－３０","0630846","2020-12-22","","016581",""]
[{"$f":"INDEX(学校種!B:B,MATCH(D124,学校種!A:A,0))","v":"幼稚園(幼稚園型認定こども園を含む)"},{"$f":"INDEX(_tmp2!B:B,MATCH(E124,_tmp2!A:A,0))","v":"北海道"},"A101310700093","A1","01","3","1","西野桜幼稚園","札幌市西区西野４条６丁目１１番１５号","0630034","2020-12-22","","016586",""]
[{"$f":"INDEX(学校種!B:B,MATCH(D125,学校種!A:A,0))","v":"幼稚園(幼稚園型認定こども園を含む)"},{"$f":"INDEX(_tmp2!B:B,MATCH(E125,_tmp2!A:A,0))","v":"北海道"},"A101310700100","A1","01","3","1","西野第２桜幼稚園","札幌市西区西町北１８丁目４番１５号","0630061","2020-12-22","","016598",""]
[{"$f":"INDEX(学校種!B:B,MATCH(D126,学校種!A:A,0))","v":"幼稚園(幼稚園型認定こども園を含む)"},{"$f":"INDEX(_tmp2!B:B,MATCH(E126,_tmp2!A:A,0))","v":"北海道"},"A101310700119","A1","01","3","1","平和幼稚園","札幌市西区平和３条８丁目１番１号","0630023","2020-12-22","","017523",""]
[{"$f":"INDEX(学校種!B:B,MATCH(D127,学校種!A:A,0))","v":"幼稚園(幼稚園型認定こども園を含む)"},{"$f":"INDEX(_tmp2!B:B,MATCH(E127,_tmp2!A:A,0))","v":"北海道"},"A101310700128","A1","01","3","1","宮ノ丘幼稚園","札幌市西区宮の沢４９０番地１１","0630059","2020-12-22","","017609",""]
[{"$f":"INDEX(学校種!B:B,MATCH(D128,学校種!A:A,0))","v":"幼稚園(幼稚園型認定こども園を含む)"},{"$f":"INDEX(_tmp2!B:B,MATCH(E128,_tmp2!A:A,0))","v":"北海道"},"A101310800010","A1","01","3","1","北光幼稚園","札幌市厚別区青葉町７丁目１－３２","0040021","2020-12-22","","016552",""]
[{"$f":"INDEX(学校種!B:B,MATCH(D129,学校種!A:A,0))","v":"幼稚園(幼稚園型認定こども園を含む)"},{"$f":"INDEX(_tmp2!B:B,MATCH(E129,_tmp2!A:A,0))","v":"北海道"},"A101310800029","A1","01","3","1","厚別幼稚園","札幌市厚別区厚別中央３条３丁目５－６","0040053","2020-12-22","","016594",""]
[{"$f":"INDEX(学校種!B:B,MATCH(D130,学校種!A:A,0))","v":"幼稚園(幼稚園型認定こども園を含む)"},{"$f":"INDEX(_tmp2!B:B,MATCH(E130,_tmp2!A:A,0))","v":"北海道"},"A101310800038","A1","01","3","1","認定こども園もみじ台幼稚園","札幌市厚別区もみじ台北５丁目６ー１","0040014","2020-12-22","","016605",""]
[{"$f":"INDEX(学校種!B:B,MATCH(D131,学校種!A:A,0))","v":"幼稚園(幼稚園型認定こども園を含む)"},{"$f":"INDEX(_tmp2!B:B,MATCH(E131,_tmp2!A:A,0))","v":"北海道"},"A101310800047","A1","01","3","1","札幌みづほ幼稚園","札幌市厚別区もみじ台東２丁目５番","0040011","2020-12-22","","016610",""]
[{"$f":"INDEX(学校種!B:B,MATCH(D132,学校種!A:A,0))","v":"幼稚園(幼稚園型認定こども園を含む)"},{"$f":"INDEX(_tmp2!B:B,MATCH(E132,_tmp2!A:A,0))","v":"北海道"},"A101310800056","A1","01","3","1","虹の森カトリック幼稚園","札幌市厚別区厚別東３条４丁目３番１０号","0040003","2020-12-22","","017535",""]
[{"$f":"INDEX(学校種!B:B,MATCH(D133,学校種!A:A,0))","v":"幼稚園(幼稚園型認定こども園を含む)"},{"$f":"INDEX(_tmp2!B:B,MATCH(E133,_tmp2!A:A,0))","v":"北海道"},"A101310800065","A1","01","3","9","第２あつべつ幼稚園","札幌市厚別区厚別西３条４丁目１－５","0040063","2020-12-22","2021-05-27","017572","A201310800073"]
[{"$f":"INDEX(学校種!B:B,MATCH(D134,学校種!A:A,0))","v":"幼稚園(幼稚園型認定こども園を含む)"},{"$f":"INDEX(_tmp2!B:B,MATCH(E134,_tmp2!A:A,0))","v":"北海道"},"A101310800074","A1","01","3","1","認定こども園札幌あおば幼稚園","札幌市厚別区厚別北３条５丁目１１－６","0040073","2020-12-22","","017632",""]
[{"$f":"INDEX(学校種!B:B,MATCH(D135,学校種!A:A,0))","v":"幼稚園(幼稚園型認定こども園を含む)"},{"$f":"INDEX(_tmp2!B:B,MATCH(E135,_tmp2!A:A,0))","v":"北海道"},"A101310900019","A1","01","3","1","さわらび幼稚園","札幌市手稲区曙５条２丁目７－１０","0060835","2020-12-22","","016600",""]
[{"$f":"INDEX(学校種!B:B,MATCH(D136,学校種!A:A,0))","v":"幼稚園(幼稚園型認定こども園を含む)"},{"$f":"INDEX(_tmp2!B:B,MATCH(E136,_tmp2!A:A,0))","v":"北海道"},"A101310900028","A1","01","3","1","いなほガーデン星の子幼稚園","札幌市手稲区稲穂２条５丁目１０－１","0060032","2020-12-22","","016614",""]
[{"$f":"INDEX(学校種!B:B,MATCH(D137,学校種!A:A,0))","v":"幼稚園(幼稚園型認定こども園を含む)"},{"$f":"INDEX(_tmp2!B:B,MATCH(E137,_tmp2!A:A,0))","v":"北海道"},"A101310900037","A1","01","3","1","富丘つくし幼稚園","札幌市手稲区富丘２条４丁目７番６号","0060012","2020-12-22","","017544",""]
[{"$f":"INDEX(学校種!B:B,MATCH(D138,学校種!A:A,0))","v":"幼稚園(幼稚園型認定こども園を含む)"},{"$f":"INDEX(_tmp2!B:B,MATCH(E138,_tmp2!A:A,0))","v":"北海道"},"A101310900046","A1","01","3","1","おおぞら幼稚園","札幌市手稲区前田８条１０丁目６番３５号","0060818","2020-12-22","","017586",""]
[{"$f":"INDEX(学校種!B:B,MATCH(D139,学校種!A:A,0))","v":"幼稚園(幼稚園型認定こども園を含む)"},{"$f":"INDEX(_tmp2!B:B,MATCH(E139,_tmp2!A:A,0))","v":"北海道"},"A101310900055","A1","01","3","1","前田幼稚園","札幌市手稲区手稲前田５５５－３","0060829","2020-12-22","","017626",""]
[{"$f":"INDEX(学校種!B:B,MATCH(D140,学校種!A:A,0))","v":"幼稚園(幼稚園型認定こども園を含む)"},{"$f":"INDEX(_tmp2!B:B,MATCH(E140,_tmp2!A:A,0))","v":"北海道"},"A101311000016","A1","01","3","1","清田幼稚園","札幌市清田区清田１条２丁目３番４３号","0040841","2020-12-22","","016588",""]
[{"$f":"INDEX(学校種!B:B,MATCH(D141,学校種!A:A,0))","v":"幼稚園(幼稚園型認定こども園を含む)"},{"$f":"INDEX(_tmp2!B:B,MATCH(E141,_tmp2!A:A,0))","v":"北海道"},"A101311000025","A1","01","3","1","札幌きたの幼稚園","札幌市清田区北野６条５丁目３番１２号","0040866","2020-12-22","","016604",""]
[{"$f":"INDEX(学校種!B:B,MATCH(D142,学校種!A:A,0))","v":"幼稚園(幼稚園型認定こども園を含む)"},{"$f":"INDEX(_tmp2!B:B,MATCH(E142,_tmp2!A:A,0))","v":"北海道"},"A101311000034","A1","01","3","1","光の泉幼稚園","札幌市清田区清田６条３丁目４番２５","0040846","2020-12-22","","017537",""]
[{"$f":"INDEX(学校種!B:B,MATCH(D143,学校種!A:A,0))","v":"幼稚園(幼稚園型認定こども園を含む)"},{"$f":"INDEX(_tmp2!B:B,MATCH(E143,_tmp2!A:A,0))","v":"北海道"},"A101311000043","A1","01","3","1","里塚幼稚園","札幌市清田区里塚２条６丁目１番８号","0040802","2020-12-22","","017597",""]
[{"$f":"INDEX(学校種!B:B,MATCH(D144,学校種!A:A,0))","v":"幼稚園(幼稚園型認定こども園を含む)"},{"$f":"INDEX(_tmp2!B:B,MATCH(E144,_tmp2!A:A,0))","v":"北海道"},"A101311000052","A1","01","3","9","札幌国際大学附属幼稚園","札幌市清田区美しが丘３条１丁目２－１","0040813","2020-12-22","2021-05-27","017616","A201311000060"]
[{"$f":"INDEX(学校種!B:B,MATCH(D145,学校種!A:A,0))","v":"幼稚園(幼稚園型認定こども園を含む)"},{"$f":"INDEX(_tmp2!B:B,MATCH(E145,_tmp2!A:A,0))","v":"北海道"},"A101311000061","A1","01","3","1","平ヶ岡幼稚園","札幌市清田区平岡６条１丁目５番３０号","0040876","2020-12-22","","017623",""]
[{"$f":"INDEX(学校種!B:B,MATCH(D146,学校種!A:A,0))","v":"幼稚園(幼稚園型認定こども園を含む)"},{"$f":"INDEX(_tmp2!B:B,MATCH(E146,_tmp2!A:A,0))","v":"北海道"},"A101311000070","A1","01","3","9","つみき幼稚園","札幌市清田区里塚１条１丁目１４番８号","0040801","2020-12-22","2021-05-27","017625","A201311000079"]
[{"$f":"INDEX(学校種!B:B,MATCH(D147,学校種!A:A,0))","v":"幼稚園(幼稚園型認定こども園を含む)"},{"$f":"INDEX(_tmp2!B:B,MATCH(E147,_tmp2!A:A,0))","v":"北海道"},"A101311000089","A1","01","3","1","美しが丘幼稚園","札幌市清田区美しが丘５条５丁目８番２０号","0040815","2020-12-22","","017642",""]
[{"$f":"INDEX(学校種!B:B,MATCH(D148,学校種!A:A,0))","v":"幼稚園(幼稚園型認定こども園を含む)"},{"$f":"INDEX(_tmp2!B:B,MATCH(E148,_tmp2!A:A,0))","v":"北海道"},"A101320200024","A1","01","3","1","認定こども園函館藤幼稚園","函館市宮前町２６－６","0400073","2020-12-22","","016618",""]
[{"$f":"INDEX(学校種!B:B,MATCH(D149,学校種!A:A,0))","v":"幼稚園(幼稚園型認定こども園を含む)"},{"$f":"INDEX(_tmp2!B:B,MATCH(E149,_tmp2!A:A,0))","v":"北海道"},"A101320200033","A1","01","3","1","函館短期大学付属幼稚園","函館市柏木町７番２６号","0420942","2020-12-22","","016621",""]
[{"$f":"INDEX(学校種!B:B,MATCH(D150,学校種!A:A,0))","v":"幼稚園(幼稚園型認定こども園を含む)"},{"$f":"INDEX(_tmp2!B:B,MATCH(E150,_tmp2!A:A,0))","v":"北海道"},"A101320200042","A1","01","3","1","遺愛幼稚園","函館市元町４－１","0400054","2020-12-22","","016623",""]
[{"$f":"INDEX(学校種!B:B,MATCH(D151,学校種!A:A,0))","v":"幼稚園(幼稚園型認定こども園を含む)"},{"$f":"INDEX(_tmp2!B:B,MATCH(E151,_tmp2!A:A,0))","v":"北海道"},"A101320200051","A1","01","3","1","認定こども園 函館ちとせ幼稚園","函館市松陰町９番７号","0400003","2020-12-22","","016631",""]
[{"$f":"INDEX(学校種!B:B,MATCH(D152,学校種!A:A,0))","v":"幼稚園(幼稚園型認定こども園を含む)"},{"$f":"INDEX(_tmp2!B:B,MATCH(E152,_tmp2!A:A,0))","v":"北海道"},"A101320200060","A1","01","3","1","認定こども園綜合施設函館若葉幼稚園","函館市田家町９番３０号","0400081","2020-12-22","","016633",""]
[{"$f":"INDEX(学校種!B:B,MATCH(D153,学校種!A:A,0))","v":"幼稚園(幼稚園型認定こども園を含む)"},{"$f":"INDEX(_tmp2!B:B,MATCH(E153,_tmp2!A:A,0))","v":"北海道"},"A101320200088","A1","01","3","1","函館めぐみ幼稚園","函館市桔梗町４３３－４３","0410801","2020-12-22","","016638",""]
[{"$f":"INDEX(学校種!B:B,MATCH(D154,学校種!A:A,0))","v":"幼稚園(幼稚園型認定こども園を含む)"},{"$f":"INDEX(_tmp2!B:B,MATCH(E154,_tmp2!A:A,0))","v":"北海道"},"A101320200097","A1","01","3","9","認定こども園太陽の子幼稚園","函館市富岡町１丁目４２番１２号","0410811","2020-12-22","2021-05-27","017121","A201320200247"]
[{"$f":"INDEX(学校種!B:B,MATCH(D155,学校種!A:A,0))","v":"幼稚園(幼稚園型認定こども園を含む)"},{"$f":"INDEX(_tmp2!B:B,MATCH(E155,_tmp2!A:A,0))","v":"北海道"},"A101320200104","A1","01","3","1","函館白百合学園幼稚園","函館市山の手２－６－３","0410836","2020-12-22","","017122",""]
[{"$f":"INDEX(学校種!B:B,MATCH(D156,学校種!A:A,0))","v":"幼稚園(幼稚園型認定こども園を含む)"},{"$f":"INDEX(_tmp2!B:B,MATCH(E156,_tmp2!A:A,0))","v":"北海道"},"A101320200113","A1","01","3","1","亀田ゆたか幼稚園","函館市美原１丁目２８－１０","0410806","2020-12-22","","017124",""]
[{"$f":"INDEX(学校種!B:B,MATCH(D157,学校種!A:A,0))","v":"幼稚園(幼稚園型認定こども園を含む)"},{"$f":"INDEX(_tmp2!B:B,MATCH(E157,_tmp2!A:A,0))","v":"北海道"},"A101320200122","A1","01","3",1,"認定こども園高丘幼稚園","函館市高丘町２７番地３３号","0420955","2020-12-22","","017546",""]
[{"$f":"INDEX(学校種!B:B,MATCH(D158,学校種!A:A,0))","v":"幼稚園(幼稚園型認定こども園を含む)"},{"$f":"INDEX(_tmp2!B:B,MATCH(E158,_tmp2!A:A,0))","v":"北海道"},"A101320200131","A1","01","3","1","遺愛旭岡幼稚園","函館市西旭岡町２丁目６－１","0420915","2020-12-22","","017583",""]
[{"$f":"INDEX(学校種!B:B,MATCH(D159,学校種!A:A,0))","v":"幼稚園(幼稚園型認定こども園を含む)"},{"$f":"INDEX(_tmp2!B:B,MATCH(E159,_tmp2!A:A,0))","v":"北海道"},"A101320300014","A1","01","3","1","小樽藤幼稚園","小樽市富岡１丁目２１－１２","0470033","2020-12-22","","016656",""]
[{"$f":"INDEX(学校種!B:B,MATCH(D160,学校種!A:A,0))","v":"幼稚園(幼稚園型認定こども園を含む)"},{"$f":"INDEX(_tmp2!B:B,MATCH(E160,_tmp2!A:A,0))","v":"北海道"},"A101320300023","A1","01","3","1","まや幼稚園","小樽市緑１丁目２３－８","0470034","2020-12-22","","016658",""]
[{"$f":"INDEX(学校種!B:B,MATCH(D161,学校種!A:A,0))","v":"幼稚園(幼稚園型認定こども園を含む)"},{"$f":"INDEX(_tmp2!B:B,MATCH(E161,_tmp2!A:A,0))","v":"北海道"},"A101320300032","A1","01","3","1","長橋幼稚園","小樽市長橋３丁目１３番９号","0470036","2020-12-22","","016659",""]
[{"$f":"INDEX(学校種!B:B,MATCH(D162,学校種!A:A,0))","v":"幼稚園(幼稚園型認定こども園を含む)"},{"$f":"INDEX(_tmp2!B:B,MATCH(E162,_tmp2!A:A,0))","v":"北海道"},"A101320300041","A1","01","3","1","小樽幼稚園","小樽市若松１丁目４番１７号","0470017","2020-12-22","","016660",""]
[{"$f":"INDEX(学校種!B:B,MATCH(D163,学校種!A:A,0))","v":"幼稚園(幼稚園型認定こども園を含む)"},{"$f":"INDEX(_tmp2!B:B,MATCH(E163,_tmp2!A:A,0))","v":"北海道"},"A101320300050","A1","01","3","1","小樽高田幼稚園","小樽市住ノ江２丁目３番１１号","0470014","2020-12-22","","016661",""]
[{"$f":"INDEX(学校種!B:B,MATCH(D164,学校種!A:A,0))","v":"幼稚園(幼稚園型認定こども園を含む)"},{"$f":"INDEX(_tmp2!B:B,MATCH(E164,_tmp2!A:A,0))","v":"北海道"},"A101320300069","A1","01","3","1","ロース幼稚園","小樽市富岡１－８－２","0470033","2020-12-22","","016663",""]
[{"$f":"INDEX(学校種!B:B,MATCH(D165,学校種!A:A,0))","v":"幼稚園(幼稚園型認定こども園を含む)"},{"$f":"INDEX(_tmp2!B:B,MATCH(E165,_tmp2!A:A,0))","v":"北海道"},"A101320300078","A1","01","3","1","認定こども園　さくら幼稚園","小樽市桜１丁目５番１号","0470156","2020-12-22","","016666",""]
[{"$f":"INDEX(学校種!B:B,MATCH(D166,学校種!A:A,0))","v":"幼稚園(幼稚園型認定こども園を含む)"},{"$f":"INDEX(_tmp2!B:B,MATCH(E166,_tmp2!A:A,0))","v":"北海道"},"A101320300087","A1","01","3","1","小樽中央幼稚園","小樽市富岡１丁目４－１３","0470033","2020-12-22","","016668",""]
[{"$f":"INDEX(学校種!B:B,MATCH(D167,学校種!A:A,0))","v":"幼稚園(幼稚園型認定こども園を含む)"},{"$f":"INDEX(_tmp2!B:B,MATCH(E167,_tmp2!A:A,0))","v":"北海道"},"A101320300096","A1","01","3","1","朝里幼稚園","小樽市新光１丁目３番１０号","0470152","2020-12-22","","016669",""]
[{"$f":"INDEX(学校種!B:B,MATCH(D168,学校種!A:A,0))","v":"幼稚園(幼稚園型認定こども園を含む)"},{"$f":"INDEX(_tmp2!B:B,MATCH(E168,_tmp2!A:A,0))","v":"北海道"},"A101320300103","A1","01","3","1","認定こども園手宮幼稚園","小樽市町梅ヶ枝町１１番１２号","0470044","2020-12-22","","016671",""]
[{"$f":"INDEX(学校種!B:B,MATCH(D169,学校種!A:A,0))","v":"幼稚園(幼稚園型認定こども園を含む)"},{"$f":"INDEX(_tmp2!B:B,MATCH(E169,_tmp2!A:A,0))","v":"北海道"},"A101320300112","A1","01","3","1","認定こども園小樽オリーブ幼稚園","小樽市松ヶ枝１丁目９番５号","0470022","2020-12-22","","016672",""]
[{"$f":"INDEX(学校種!B:B,MATCH(D170,学校種!A:A,0))","v":"幼稚園(幼稚園型認定こども園を含む)"},{"$f":"INDEX(_tmp2!B:B,MATCH(E170,_tmp2!A:A,0))","v":"北海道"},"A101320300121","A1","01","3","1","認定こども園小樽杉の子幼稚園","小樽市幸４丁目２５番１４号","0470037","2020-12-22","","016674",""]
[{"$f":"INDEX(学校種!B:B,MATCH(D171,学校種!A:A,0))","v":"幼稚園(幼稚園型認定こども園を含む)"},{"$f":"INDEX(_tmp2!B:B,MATCH(E171,_tmp2!A:A,0))","v":"北海道"},"A101320300130","A1","01","3","9","塩谷大谷幼稚園","小樽市塩谷１丁目１９番２０号","0482672","2020-12-22","2021-05-27","016676",""]
[{"$f":"INDEX(学校種!B:B,MATCH(D172,学校種!A:A,0))","v":"幼稚園(幼稚園型認定こども園を含む)"},{"$f":"INDEX(_tmp2!B:B,MATCH(E172,_tmp2!A:A,0))","v":"北海道"},"A101320400013","A1","01","3","1","旭川藤幼稚園","旭川市花咲町６丁目","0700901","2020-12-22","","016693",""]
[{"$f":"INDEX(学校種!B:B,MATCH(D173,学校種!A:A,0))","v":"幼稚園(幼稚園型認定こども園を含む)"},{"$f":"INDEX(_tmp2!B:B,MATCH(E173,_tmp2!A:A,0))","v":"北海道"},"A101320400022","A1","01","3","1","認定こども園ひまわり幼稚園","旭川市６条通２５丁目","0788216","2020-12-22","","016696",""]
[{"$f":"INDEX(学校種!B:B,MATCH(D174,学校種!A:A,0))","v":"幼稚園(幼稚園型認定こども園を含む)"},{"$f":"INDEX(_tmp2!B:B,MATCH(E174,_tmp2!A:A,0))","v":"北海道"},"A101320400031","A1","01","3","1","みどり幼稚園","旭川市金星町１丁目３番５号","0700029","2020-12-22","","016699",""]
[{"$f":"INDEX(学校種!B:B,MATCH(D175,学校種!A:A,0))","v":"幼稚園(幼稚園型認定こども園を含む)"},{"$f":"INDEX(_tmp2!B:B,MATCH(E175,_tmp2!A:A,0))","v":"北海道"},"A101320400040","A1","01","3","1","旭川みその幼稚園","旭川市大町１条５丁目","0700841","2020-12-22","","016700",""]
[{"$f":"INDEX(学校種!B:B,MATCH(D176,学校種!A:A,0))","v":"幼稚園(幼稚園型認定こども園を含む)"},{"$f":"INDEX(_tmp2!B:B,MATCH(E176,_tmp2!A:A,0))","v":"北海道"},"A101320400059","A1","01","3","1","やまと幼稚園","旭川市東光９条１丁目５－１５","0788349","2020-12-22","","016702",""]
[{"$f":"INDEX(学校種!B:B,MATCH(D177,学校種!A:A,0))","v":"幼稚園(幼稚園型認定こども園を含む)"},{"$f":"INDEX(_tmp2!B:B,MATCH(E177,_tmp2!A:A,0))","v":"北海道"},"A101320400068","A1","01","3","1","旭川天使幼稚園","旭川市大町１条１０丁目","0700841","2020-12-22","","016704",""]
[{"$f":"INDEX(学校種!B:B,MATCH(D178,学校種!A:A,0))","v":"幼稚園(幼稚園型認定こども園を含む)"},{"$f":"INDEX(_tmp2!B:B,MATCH(E178,_tmp2!A:A,0))","v":"北海道"},"A101320400077","A1","01","3","1","旭川聖母幼稚園","旭川市６条通２２丁目４番地の４６","0788216","2020-12-22","","016705",""]
[{"$f":"INDEX(学校種!B:B,MATCH(D179,学校種!A:A,0))","v":"幼稚園(幼稚園型認定こども園を含む)"},{"$f":"INDEX(_tmp2!B:B,MATCH(E179,_tmp2!A:A,0))","v":"北海道"},"A101320400086","A1","01","3","1","旭川別院附属大谷さくら幼稚園","旭川市宮下通２丁目１４６３番地","0700030","2020-12-22","","016706",""]
[{"$f":"INDEX(学校種!B:B,MATCH(D180,学校種!A:A,0))","v":"幼稚園(幼稚園型認定こども園を含む)"},{"$f":"INDEX(_tmp2!B:B,MATCH(E180,_tmp2!A:A,0))","v":"北海道"},"A101320400095","A1","01","3","1","きくし幼稚園","旭川市豊岡５条４丁目４－１４","0788235","2020-12-22","","016707",""]
[{"$f":"INDEX(学校種!B:B,MATCH(D181,学校種!A:A,0))","v":"幼稚園(幼稚園型認定こども園を含む)"},{"$f":"INDEX(_tmp2!B:B,MATCH(E181,_tmp2!A:A,0))","v":"北海道"},"A101320400102","A1","01","3","1","旭川白百合幼稚園","旭川市神楽６条１丁目１番２号","0708006","2020-12-22","","016709",""]
[{"$f":"INDEX(学校種!B:B,MATCH(D182,学校種!A:A,0))","v":"幼稚園(幼稚園型認定こども園を含む)"},{"$f":"INDEX(_tmp2!B:B,MATCH(E182,_tmp2!A:A,0))","v":"北海道"},"A101320400111","A1","01","3","1","さくらおか幼稚園","旭川市旭町１条１６丁目２９８５番地８７","0780831","2020-12-22","","016710",""]
[{"$f":"INDEX(学校種!B:B,MATCH(D183,学校種!A:A,0))","v":"幼稚園(幼稚園型認定こども園を含む)"},{"$f":"INDEX(_tmp2!B:B,MATCH(E183,_tmp2!A:A,0))","v":"北海道"},"A101320400120","A1","01","3","1","旭川幼稚園","旭川市東旭川町下兵村４２４","0788208","2020-12-22","","016711",""]
[{"$f":"INDEX(学校種!B:B,MATCH(D184,学校種!A:A,0))","v":"幼稚園(幼稚園型認定こども園を含む)"},{"$f":"INDEX(_tmp2!B:B,MATCH(E184,_tmp2!A:A,0))","v":"北海道"},"A101320400139","A1","01","3","9","大谷ひかり幼稚園","旭川市４条２５丁目４４７－１","0788214","2020-12-22","2021-05-27","016712",""]
[{"$f":"INDEX(学校種!B:B,MATCH(D185,学校種!A:A,0))","v":"幼稚園(幼稚園型認定こども園を含む)"},{"$f":"INDEX(_tmp2!B:B,MATCH(E185,_tmp2!A:A,0))","v":"北海道"},"A101320400148","A1","01","3","1","旭川大学附属幼稚園","旭川市永山５条２３丁目１－１","0798415","2020-12-22","","016713",""]
[{"$f":"INDEX(学校種!B:B,MATCH(D186,学校種!A:A,0))","v":"幼稚園(幼稚園型認定こども園を含む)"},{"$f":"INDEX(_tmp2!B:B,MATCH(E186,_tmp2!A:A,0))","v":"北海道"},"A101320400157","A1","01","3","1","めいほう幼稚園","旭川市春光６条６丁目４番３３号","0700876","2020-12-22","","016714",""]
[{"$f":"INDEX(学校種!B:B,MATCH(D187,学校種!A:A,0))","v":"幼稚園(幼稚園型認定こども園を含む)"},{"$f":"INDEX(_tmp2!B:B,MATCH(E187,_tmp2!A:A,0))","v":"北海道"},"A101320400166","A1","01","3","1","めばえ幼稚園","旭川市神居８条１２丁目７１番地","0708018","2020-12-22","","016715",""]
[{"$f":"INDEX(学校種!B:B,MATCH(D188,学校種!A:A,0))","v":"幼稚園(幼稚園型認定こども園を含む)"},{"$f":"INDEX(_tmp2!B:B,MATCH(E188,_tmp2!A:A,0))","v":"北海道"},"A101320400175","A1","01","3","1","あすなろ幼稚園","旭川市末広３条３丁目２番１２号","0708133","2020-12-22","","016716",""]
[{"$f":"INDEX(学校種!B:B,MATCH(D189,学校種!A:A,0))","v":"幼稚園(幼稚園型認定こども園を含む)"},{"$f":"INDEX(_tmp2!B:B,MATCH(E189,_tmp2!A:A,0))","v":"北海道"},"A101320400184","A1","01","3","1","旭川ふたば幼稚園","旭川市豊岡６条７丁目４－３３","0788236","2020-12-22","","016718",""]
[{"$f":"INDEX(学校種!B:B,MATCH(D190,学校種!A:A,0))","v":"幼稚園(幼稚園型認定こども園を含む)"},{"$f":"INDEX(_tmp2!B:B,MATCH(E190,_tmp2!A:A,0))","v":"北海道"},"A101320400193","A1","01","3","1","ユリアナ幼稚園","旭川市神居６条１９丁目４４番地の７５","0708016","2020-12-22","","016719",""]
[{"$f":"INDEX(学校種!B:B,MATCH(D191,学校種!A:A,0))","v":"幼稚園(幼稚園型認定こども園を含む)"},{"$f":"INDEX(_tmp2!B:B,MATCH(E191,_tmp2!A:A,0))","v":"北海道"},"A101320400200","A1","01","3","1","旭川あゆみ幼稚園","旭川市旭神町２２－６５","0788308","2020-12-22","","016721",""]
[{"$f":"INDEX(学校種!B:B,MATCH(D192,学校種!A:A,0))","v":"幼稚園(幼稚園型認定こども園を含む)"},{"$f":"INDEX(_tmp2!B:B,MATCH(E192,_tmp2!A:A,0))","v":"北海道"},"A101320400219","A1","01","3","1","たいせつ幼稚園","旭川市末広８条２丁目５３９２番地の２","0718183","2020-12-22","","016722",""]
[{"$f":"INDEX(学校種!B:B,MATCH(D193,学校種!A:A,0))","v":"幼稚園(幼稚園型認定こども園を含む)"},{"$f":"INDEX(_tmp2!B:B,MATCH(E193,_tmp2!A:A,0))","v":"北海道"},"A101320400228","A1","01","3","1","つくし幼稚園","旭川市東鷹栖２線１１号８４５","0718152","2020-12-22","","016723",""]
[{"$f":"INDEX(学校種!B:B,MATCH(D194,学校種!A:A,0))","v":"幼稚園(幼稚園型認定こども園を含む)"},{"$f":"INDEX(_tmp2!B:B,MATCH(E194,_tmp2!A:A,0))","v":"北海道"},"A101320400237","A1","01","3","1","わかば幼稚園","旭川市緑が丘２条２丁目","0788302","2020-12-22","","016725",""]
[{"$f":"INDEX(学校種!B:B,MATCH(D195,学校種!A:A,0))","v":"幼稚園(幼稚園型認定こども園を含む)"},{"$f":"INDEX(_tmp2!B:B,MATCH(E195,_tmp2!A:A,0))","v":"北海道"},"A101320400246","A1","01","3","1","くりの木幼稚園","旭川市永山町４丁目１４２番地２７","0798431","2020-12-22","","016727",""]
[{"$f":"INDEX(学校種!B:B,MATCH(D196,学校種!A:A,0))","v":"幼稚園(幼稚園型認定こども園を含む)"},{"$f":"INDEX(_tmp2!B:B,MATCH(E196,_tmp2!A:A,0))","v":"北海道"},"A101320400255","A1","01","3","1","旭川こばと幼稚園","旭川市忠和３条８丁目１－８","0708043","2020-12-22","","017574",""]
[{"$f":"INDEX(学校種!B:B,MATCH(D197,学校種!A:A,0))","v":"幼稚園(幼稚園型認定こども園を含む)"},{"$f":"INDEX(_tmp2!B:B,MATCH(E197,_tmp2!A:A,0))","v":"北海道"},"A101320400264","A1","01","3","1","旭川東光幼稚園","旭川市東光１８条６丁目３番２１号","0788358","2020-12-22","","017598",""]
[{"$f":"INDEX(学校種!B:B,MATCH(D198,学校種!A:A,0))","v":"幼稚園(幼稚園型認定こども園を含む)"},{"$f":"INDEX(_tmp2!B:B,MATCH(E198,_tmp2!A:A,0))","v":"北海道"},"A101320500012","A1","01","3","1","すみれ文化幼稚園","室蘭市母恋南町２丁目１１番９号","0510003","2020-12-22","","016729",""]
[{"$f":"INDEX(学校種!B:B,MATCH(D199,学校種!A:A,0))","v":"幼稚園(幼稚園型認定こども園を含む)"},{"$f":"INDEX(_tmp2!B:B,MATCH(E199,_tmp2!A:A,0))","v":"北海道"},"A101320500021","A1","01","3","1","室蘭幼稚園","室蘭市御前水町２丁目８番１９号","0510002","2020-12-22","","016733",""]
[{"$f":"INDEX(学校種!B:B,MATCH(D200,学校種!A:A,0))","v":"幼稚園(幼稚園型認定こども園を含む)"},{"$f":"INDEX(_tmp2!B:B,MATCH(E200,_tmp2!A:A,0))","v":"北海道"},"A101320500030","A1","01","3","1","桜ケ丘幼稚園","室蘭市港北町２丁目２６番地３０号","0500063","2020-12-22","","016737",""]
[{"$f":"INDEX(学校種!B:B,MATCH(D201,学校種!A:A,0))","v":"幼稚園(幼稚園型認定こども園を含む)"},{"$f":"INDEX(_tmp2!B:B,MATCH(E201,_tmp2!A:A,0))","v":"北海道"},"A101320500049","A1","01","3","1","ベネディクト幼稚園","室蘭市高砂町３丁目７番７号","0500072","2020-12-22","","016739",""]
[{"$f":"INDEX(学校種!B:B,MATCH(D202,学校種!A:A,0))","v":"幼稚園(幼稚園型認定こども園を含む)"},{"$f":"INDEX(_tmp2!B:B,MATCH(E202,_tmp2!A:A,0))","v":"北海道"},"A101320500058","A1","01","3","1","室蘭中島幼稚園","室蘭市中島本町１丁目８番５号","0500075","2020-12-22","","016740",""]
[{"$f":"INDEX(学校種!B:B,MATCH(D203,学校種!A:A,0))","v":"幼稚園(幼稚園型認定こども園を含む)"},{"$f":"INDEX(_tmp2!B:B,MATCH(E203,_tmp2!A:A,0))","v":"北海道"},"A101320500067","A1","01","3","1","文化学園大学附属幼稚園","室蘭市高砂町３丁目１１番５０号","0500072","2020-12-22","","016743",""]
[{"$f":"INDEX(学校種!B:B,MATCH(D204,学校種!A:A,0))","v":"幼稚園(幼稚園型認定こども園を含む)"},{"$f":"INDEX(_tmp2!B:B,MATCH(E204,_tmp2!A:A,0))","v":"北海道"},"A101320500076","A1","01","3","1","ピノキオ幼稚園","室蘭市白鳥台２丁目４番２号","0500054","2020-12-22","","016744",""]
[{"$f":"INDEX(学校種!B:B,MATCH(D205,学校種!A:A,0))","v":"幼稚園(幼稚園型認定こども園を含む)"},{"$f":"INDEX(_tmp2!B:B,MATCH(E205,_tmp2!A:A,0))","v":"北海道"},"A101320500085","A1","01","3","9","清泉幼稚園","室蘭市祝津町３丁目１０番７号","0510036","2020-12-22","2021-05-27","016745","A201320500020"]
[{"$f":"INDEX(学校種!B:B,MATCH(D206,学校種!A:A,0))","v":"幼稚園(幼稚園型認定こども園を含む)"},{"$f":"INDEX(_tmp2!B:B,MATCH(E206,_tmp2!A:A,0))","v":"北海道"},"A101320500094","A1","01","3","1","室蘭美園幼稚園","室蘭市東町１丁目２０番２３号","0500083","2020-12-22","","016746",""]
[{"$f":"INDEX(学校種!B:B,MATCH(D207,学校種!A:A,0))","v":"幼稚園(幼稚園型認定こども園を含む)"},{"$f":"INDEX(_tmp2!B:B,MATCH(E207,_tmp2!A:A,0))","v":"北海道"},"A101320500101","A1","01","3","1","八丁平美園幼稚園","室蘭市八丁平５丁目４７番１号","0500061","2020-12-22","","017651",""]
[{"$f":"INDEX(学校種!B:B,MATCH(D208,学校種!A:A,0))","v":"幼稚園(幼稚園型認定こども園を含む)"},{"$f":"INDEX(_tmp2!B:B,MATCH(E208,_tmp2!A:A,0))","v":"北海道"},"A101320600011","A1","01","3","1","釧路短期大学附属幼稚園","釧路市緑ケ岡１－１０－４２","0850814","2020-12-22","","016759",""]
[{"$f":"INDEX(学校種!B:B,MATCH(D209,学校種!A:A,0))","v":"幼稚園(幼稚園型認定こども園を含む)"},{"$f":"INDEX(_tmp2!B:B,MATCH(E209,_tmp2!A:A,0))","v":"北海道"},"A101320600020","A1","01","3","1","望洋幼稚園","釧路市興津２丁目２１番３号","0850811","2020-12-22","","016760",""]
[{"$f":"INDEX(学校種!B:B,MATCH(D210,学校種!A:A,0))","v":"幼稚園(幼稚園型認定こども園を含む)"},{"$f":"INDEX(_tmp2!B:B,MATCH(E210,_tmp2!A:A,0))","v":"北海道"},"A101320600039","A1","01","3","1","仏教釧路幼稚園","釧路市富士見２丁目２番５号","0850832","2020-12-22","","016761",""]
[{"$f":"INDEX(学校種!B:B,MATCH(D211,学校種!A:A,0))","v":"幼稚園(幼稚園型認定こども園を含む)"},{"$f":"INDEX(_tmp2!B:B,MATCH(E211,_tmp2!A:A,0))","v":"北海道"},"A101320600048","A1","01","3","1","認定こども園釧路カトリック幼稚園","釧路市黒金町１２丁目１０","0850018","2020-12-22","","016762",""]
[{"$f":"INDEX(学校種!B:B,MATCH(D212,学校種!A:A,0))","v":"幼稚園(幼稚園型認定こども園を含む)"},{"$f":"INDEX(_tmp2!B:B,MATCH(E212,_tmp2!A:A,0))","v":"北海道"},"A101320600057","A1","01","3","1","釧路聖母幼稚園","釧路市新川町１６丁目１９","0850047","2020-12-22","","016763",""]
[{"$f":"INDEX(学校種!B:B,MATCH(D213,学校種!A:A,0))","v":"幼稚園(幼稚園型認定こども園を含む)"},{"$f":"INDEX(_tmp2!B:B,MATCH(E213,_tmp2!A:A,0))","v":"北海道"},"A101320600066","A1","01","3","1","釧路ひまわり幼稚園","釧路市鳥取大通２丁目４番","0840906","2020-12-22","","016766",""]
[{"$f":"INDEX(学校種!B:B,MATCH(D214,学校種!A:A,0))","v":"幼稚園(幼稚園型認定こども園を含む)"},{"$f":"INDEX(_tmp2!B:B,MATCH(E214,_tmp2!A:A,0))","v":"北海道"},"A101320600075","A1","01","3","1","認定こども園釧路白樺幼稚園","釧路市白樺台３丁目５番３７号","0850804","2020-12-22","","016768",""]
[{"$f":"INDEX(学校種!B:B,MATCH(D215,学校種!A:A,0))","v":"幼稚園(幼稚園型認定こども園を含む)"},{"$f":"INDEX(_tmp2!B:B,MATCH(E215,_tmp2!A:A,0))","v":"北海道"},"A101320600084","A1","01","3","1","認定こども園釧路桜幼稚園","釧路市桜ケ岡５丁目１番２４号","0850805","2020-12-22","","016770",""]
[{"$f":"INDEX(学校種!B:B,MATCH(D216,学校種!A:A,0))","v":"幼稚園(幼稚園型認定こども園を含む)"},{"$f":"INDEX(_tmp2!B:B,MATCH(E216,_tmp2!A:A,0))","v":"北海道"},"A101320600093","A1","01","3","1","認定こども園かすみ幼稚園","釧路市白金町２４番地６","0850034","2020-12-22","","016771",""]
[{"$f":"INDEX(学校種!B:B,MATCH(D217,学校種!A:A,0))","v":"幼稚園(幼稚園型認定こども園を含む)"},{"$f":"INDEX(_tmp2!B:B,MATCH(E217,_tmp2!A:A,0))","v":"北海道"},"A101320600100","A1","01","3","1","ひぶな幼稚園","釧路市柏木町１１－１","0850824","2020-12-22","","016774",""]
[{"$f":"INDEX(学校種!B:B,MATCH(D218,学校種!A:A,0))","v":"幼稚園(幼稚園型認定こども園を含む)"},{"$f":"INDEX(_tmp2!B:B,MATCH(E218,_tmp2!A:A,0))","v":"北海道"},"A101320600119","A1","01","3","1","グリー幼稚園","釧路市川端町３の１","0850044","2020-12-22","","016775",""]
[{"$f":"INDEX(学校種!B:B,MATCH(D219,学校種!A:A,0))","v":"幼稚園(幼稚園型認定こども園を含む)"},{"$f":"INDEX(_tmp2!B:B,MATCH(E219,_tmp2!A:A,0))","v":"北海道"},"A101320600128","A1","01","3","1","第二豊川幼稚園","釧路市豊川８－１９","0850053","2020-12-22","","016778",""]
[{"$f":"INDEX(学校種!B:B,MATCH(D220,学校種!A:A,0))","v":"幼稚園(幼稚園型認定こども園を含む)"},{"$f":"INDEX(_tmp2!B:B,MATCH(E220,_tmp2!A:A,0))","v":"北海道"},"A101320600137","A1","01","3","1","湖畔幼稚園","釧路市武佐２－３５－５","0850806","2020-12-22","","016779",""]
[{"$f":"INDEX(学校種!B:B,MATCH(D221,学校種!A:A,0))","v":"幼稚園(幼稚園型認定こども園を含む)"},{"$f":"INDEX(_tmp2!B:B,MATCH(E221,_tmp2!A:A,0))","v":"北海道"},"A101320600146","A1","01","3","1","認定子ども園釧路ひばり幼稚園","釧路市緑ヶ岡５丁目２０番１５号","0850814","2020-12-22","","016780",""]
[{"$f":"INDEX(学校種!B:B,MATCH(D222,学校種!A:A,0))","v":"幼稚園(幼稚園型認定こども園を含む)"},{"$f":"INDEX(_tmp2!B:B,MATCH(E222,_tmp2!A:A,0))","v":"北海道"},"A101320600155","A1","01","3","1","愛国フレンドようちえん","釧路市芦野５－６－５","0850061","2020-12-22","","016782",""]
[{"$f":"INDEX(学校種!B:B,MATCH(D223,学校種!A:A,0))","v":"幼稚園(幼稚園型認定こども園を含む)"},{"$f":"INDEX(_tmp2!B:B,MATCH(E223,_tmp2!A:A,0))","v":"北海道"},"A101320600164","A1","01","3","1","貝塚幼稚園","釧路市貝塚２丁目１９番３号","0850816","2020-12-22","","016783",""]
[{"$f":"INDEX(学校種!B:B,MATCH(D224,学校種!A:A,0))","v":"幼稚園(幼稚園型認定こども園を含む)"},{"$f":"INDEX(_tmp2!B:B,MATCH(E224,_tmp2!A:A,0))","v":"北海道"},"A101320600173","A1","01","3","1","認定こども園釧路あおば幼稚園","釧路市鶴野東１丁目８－１","0840923","2020-12-22","","016784",""]
[{"$f":"INDEX(学校種!B:B,MATCH(D225,学校種!A:A,0))","v":"幼稚園(幼稚園型認定こども園を含む)"},{"$f":"INDEX(_tmp2!B:B,MATCH(E225,_tmp2!A:A,0))","v":"北海道"},"A101320600182","A1","01","3","1","釧路豊川幼稚園","釧路市愛国西１丁目１８－３","0850057","2020-12-22","","016785",""]
[{"$f":"INDEX(学校種!B:B,MATCH(D226,学校種!A:A,0))","v":"幼稚園(幼稚園型認定こども園を含む)"},{"$f":"INDEX(_tmp2!B:B,MATCH(E226,_tmp2!A:A,0))","v":"北海道"},"A101320600217","A1","01","3","1","昭和スポーツ幼稚園","釧路市北園４１－４１５８","0840908","2020-12-22","","017552",""]
[{"$f":"INDEX(学校種!B:B,MATCH(D227,学校種!A:A,0))","v":"幼稚園(幼稚園型認定こども園を含む)"},{"$f":"INDEX(_tmp2!B:B,MATCH(E227,_tmp2!A:A,0))","v":"北海道"},"A101320600226","A1","01","3","1","わかばフレンドようちえん","釧路市昭和中央２－７－１３","0840910","2020-12-22","","017558",""]
[{"$f":"INDEX(学校種!B:B,MATCH(D228,学校種!A:A,0))","v":"幼稚園(幼稚園型認定こども園を含む)"},{"$f":"INDEX(_tmp2!B:B,MATCH(E228,_tmp2!A:A,0))","v":"北海道"},"A101320600235","A1","01","3","1","みはらフレンドようちえん","釧路市美原４－５－１","0850065","2020-12-22","","017584",""]
[{"$f":"INDEX(学校種!B:B,MATCH(D229,学校種!A:A,0))","v":"幼稚園(幼稚園型認定こども園を含む)"},{"$f":"INDEX(_tmp2!B:B,MATCH(E229,_tmp2!A:A,0))","v":"北海道"},"A101320600244","A1","01","3","1","美原つくし幼稚園","釧路市美原１丁目５０番８号","0850065","2020-12-22","","017599",""]
[{"$f":"INDEX(学校種!B:B,MATCH(D230,学校種!A:A,0))","v":"幼稚園(幼稚園型認定こども園を含む)"},{"$f":"INDEX(_tmp2!B:B,MATCH(E230,_tmp2!A:A,0))","v":"北海道"},"A101320700010","A1","01","3","1","つくし幼稚園","帯広市西１６条南２８丁目３番地１","0800026","2020-12-22","","016800",""]
[{"$f":"INDEX(学校種!B:B,MATCH(D231,学校種!A:A,0))","v":"幼稚園(幼稚園型認定こども園を含む)"},{"$f":"INDEX(_tmp2!B:B,MATCH(E231,_tmp2!A:A,0))","v":"北海道"},"A101320700029","A1","01","3","1","帯広藤幼稚園","帯広市東４条南１４丁目１番地","0800804","2020-12-22","","016802",""]
[{"$f":"INDEX(学校種!B:B,MATCH(D232,学校種!A:A,0))","v":"幼稚園(幼稚園型認定こども園を含む)"},{"$f":"INDEX(_tmp2!B:B,MATCH(E232,_tmp2!A:A,0))","v":"北海道"},"A101320700038","A1","01","3","1","帯広東幼稚園","帯広市東１２条南６丁目２番地","0800812","2020-12-22","","016804",""]
[{"$f":"INDEX(学校種!B:B,MATCH(D233,学校種!A:A,0))","v":"幼稚園(幼稚園型認定こども園を含む)"},{"$f":"INDEX(_tmp2!B:B,MATCH(E233,_tmp2!A:A,0))","v":"北海道"},"A101320700047","A1","01","3","1","柏林台カトリック幼稚園","帯広市柏林台中町１丁目６","0800057","2020-12-22","","016805",""]
[{"$f":"INDEX(学校種!B:B,MATCH(D234,学校種!A:A,0))","v":"幼稚園(幼稚園型認定こども園を含む)"},{"$f":"INDEX(_tmp2!B:B,MATCH(E234,_tmp2!A:A,0))","v":"北海道"},"A101320700056","A1","01","3","1","帯広聖公会幼稚園","帯広市西８条南１２丁目３番地","0800018","2020-12-22","","016806",""]
[{"$f":"INDEX(学校種!B:B,MATCH(D235,学校種!A:A,0))","v":"幼稚園(幼稚園型認定こども園を含む)"},{"$f":"INDEX(_tmp2!B:B,MATCH(E235,_tmp2!A:A,0))","v":"北海道"},"A101320700065","A1","01","3","1","認定こども園帯広ひまわり幼稚園","帯広市西１２条南３０丁目１番地２","0800022","2020-12-22","","016809",""]
[{"$f":"INDEX(学校種!B:B,MATCH(D236,学校種!A:A,0))","v":"幼稚園(幼稚園型認定こども園を含む)"},{"$f":"INDEX(_tmp2!B:B,MATCH(E236,_tmp2!A:A,0))","v":"北海道"},"A101320700074","A1","01","3","1","第一いずみ幼稚園","帯広市東１０条南１３丁目１番地","0800810","2020-12-22","","016810",""]
[{"$f":"INDEX(学校種!B:B,MATCH(D237,学校種!A:A,0))","v":"幼稚園(幼稚園型認定こども園を含む)"},{"$f":"INDEX(_tmp2!B:B,MATCH(E237,_tmp2!A:A,0))","v":"北海道"},"A101320700083","A1","01","3","1","認定こども園帯広の森幼稚園","帯広市南町南８線４６－９","0800856","2020-12-22","","016811",""]
[{"$f":"INDEX(学校種!B:B,MATCH(D238,学校種!A:A,0))","v":"幼稚園(幼稚園型認定こども園を含む)"},{"$f":"INDEX(_tmp2!B:B,MATCH(E238,_tmp2!A:A,0))","v":"北海道"},"A101320700092","A1","01","3","1","帯西幼稚園","帯広市西２２条南４丁目２６－１","0802472","2020-12-22","","016813",""]
[{"$f":"INDEX(学校種!B:B,MATCH(D239,学校種!A:A,0))","v":"幼稚園(幼稚園型認定こども園を含む)"},{"$f":"INDEX(_tmp2!B:B,MATCH(E239,_tmp2!A:A,0))","v":"北海道"},"A101320700109","A1","01","3","1","帯広わかば幼稚園","帯広市西１７条南５丁目３０番地４","0800027","2020-12-22","","016814",""]
[{"$f":"INDEX(学校種!B:B,MATCH(D240,学校種!A:A,0))","v":"幼稚園(幼稚園型認定こども園を含む)"},{"$f":"INDEX(_tmp2!B:B,MATCH(E240,_tmp2!A:A,0))","v":"北海道"},"A101320700118","A1","01","3","1","認定こども園帯広第二ひまわり幼稚園","帯広市西１５条南４１丁目１１番１４号","0800025","2020-12-22","","016815",""]
[{"$f":"INDEX(学校種!B:B,MATCH(D241,学校種!A:A,0))","v":"幼稚園(幼稚園型認定こども園を含む)"},{"$f":"INDEX(_tmp2!B:B,MATCH(E241,_tmp2!A:A,0))","v":"北海道"},"A101320700127","A1","01","3","1","帯広幼稚園","帯広市西２１条南３丁目２２番地の２","0802471","2020-12-22","","017618",""]
[{"$f":"INDEX(学校種!B:B,MATCH(D242,学校種!A:A,0))","v":"幼稚園(幼稚園型認定こども園を含む)"},{"$f":"INDEX(_tmp2!B:B,MATCH(E242,_tmp2!A:A,0))","v":"北海道"},"A101320700136","A1","01","3","1","認定こども園つつじが丘幼稚園","帯広市西２５条南３丁目９番地","0802475","2020-12-22","","017627",""]
[{"$f":"INDEX(学校種!B:B,MATCH(D243,学校種!A:A,0))","v":"幼稚園(幼稚園型認定こども園を含む)"},{"$f":"INDEX(_tmp2!B:B,MATCH(E243,_tmp2!A:A,0))","v":"北海道"},"A101320800019","A1","01","3","1","認定こども園北見マリア幼稚園","北見市小泉２６８番地","0900001","2020-12-22","","016830",""]
[{"$f":"INDEX(学校種!B:B,MATCH(D244,学校種!A:A,0))","v":"幼稚園(幼稚園型認定こども園を含む)"},{"$f":"INDEX(_tmp2!B:B,MATCH(E244,_tmp2!A:A,0))","v":"北海道"},"A101320800028","A1","01","3","1","認定こども園北見さくら幼稚園","北見市大通東７丁目１０番地の２","0900020","2020-12-22","","016831",""]
[{"$f":"INDEX(学校種!B:B,MATCH(D245,学校種!A:A,0))","v":"幼稚園(幼稚園型認定こども園を含む)"},{"$f":"INDEX(_tmp2!B:B,MATCH(E245,_tmp2!A:A,0))","v":"北海道"},"A101320800037","A1","01","3","1","認定こども園北見藤幼稚園","北見市番場町１－４","0900033","2020-12-22","","016833",""]
[{"$f":"INDEX(学校種!B:B,MATCH(D246,学校種!A:A,0))","v":"幼稚園(幼稚園型認定こども園を含む)"},{"$f":"INDEX(_tmp2!B:B,MATCH(E246,_tmp2!A:A,0))","v":"北海道"},"A101320800046","A1","01","3","1","北見のぞみ幼稚園","北見市花月町２０","0900066","2020-12-22","","016834",""]
[{"$f":"INDEX(学校種!B:B,MATCH(D247,学校種!A:A,0))","v":"幼稚園(幼稚園型認定こども園を含む)"},{"$f":"INDEX(_tmp2!B:B,MATCH(E247,_tmp2!A:A,0))","v":"北海道"},"A101320800055","A1","01","3","1","認定こども園北見聖母幼稚園","北見市東三輪3丁目２６番地","0900836","2020-12-22","","016835",""]
[{"$f":"INDEX(学校種!B:B,MATCH(D248,学校種!A:A,0))","v":"幼稚園(幼稚園型認定こども園を含む)"},{"$f":"INDEX(_tmp2!B:B,MATCH(E248,_tmp2!A:A,0))","v":"北海道"},"A101320800064","A1","01","3","1","高栄幼稚園","北見市高栄西町９丁目３番１号","0900058","2020-12-22","","016838",""]
[{"$f":"INDEX(学校種!B:B,MATCH(D249,学校種!A:A,0))","v":"幼稚園(幼稚園型認定こども園を含む)"},{"$f":"INDEX(_tmp2!B:B,MATCH(E249,_tmp2!A:A,0))","v":"北海道"},"A101320800073","A1","01","3","1","認定こども園北見わかば幼稚園","北見市若葉２丁目３番２号","0900057","2020-12-22","","016840",""]
[{"$f":"INDEX(学校種!B:B,MATCH(D250,学校種!A:A,0))","v":"幼稚園(幼稚園型認定こども園を含む)"},{"$f":"INDEX(_tmp2!B:B,MATCH(E250,_tmp2!A:A,0))","v":"北海道"},"A101321000015","A1","01","3","1","よいこのくに幼稚園","岩見沢市９条東１丁目１２","0680009","2020-12-22","","016862",""]
[{"$f":"INDEX(学校種!B:B,MATCH(D251,学校種!A:A,0))","v":"幼稚園(幼稚園型認定こども園を含む)"},{"$f":"INDEX(_tmp2!B:B,MATCH(E251,_tmp2!A:A,0))","v":"北海道"},"A101321000024","A1","01","3","1","岩見沢めぐみ幼稚園","岩見沢市７条東９丁目１番地","0680007","2020-12-22","","016863",""]
[{"$f":"INDEX(学校種!B:B,MATCH(D252,学校種!A:A,0))","v":"幼稚園(幼稚園型認定こども園を含む)"},{"$f":"INDEX(_tmp2!B:B,MATCH(E252,_tmp2!A:A,0))","v":"北海道"},"A101321000033","A1","01","3","1","岩見沢天使幼稚園","岩見沢市５条西６丁目８番５","0680025","2020-12-22","","016864",""]
[{"$f":"INDEX(学校種!B:B,MATCH(D253,学校種!A:A,0))","v":"幼稚園(幼稚園型認定こども園を含む)"},{"$f":"INDEX(_tmp2!B:B,MATCH(E253,_tmp2!A:A,0))","v":"北海道"},"A101321000042","A1","01","3","1","岩見沢聖十字幼稚園","岩見沢市緑が丘１丁目２１","0680835","2020-12-22","","016865",""]
[{"$f":"INDEX(学校種!B:B,MATCH(D254,学校種!A:A,0))","v":"幼稚園(幼稚園型認定こども園を含む)"},{"$f":"INDEX(_tmp2!B:B,MATCH(E254,_tmp2!A:A,0))","v":"北海道"},"A101321000051","A1","01","3","1","駒沢幼稚園","岩見沢市６条西１８丁目１番地","0680026","2020-12-22","","016866",""]
[{"$f":"INDEX(学校種!B:B,MATCH(D255,学校種!A:A,0))","v":"幼稚園(幼稚園型認定こども園を含む)"},{"$f":"INDEX(_tmp2!B:B,MATCH(E255,_tmp2!A:A,0))","v":"北海道"},"A101321100014","A1","01","3","1","網走幼稚園","網走市南８条東３丁目１番地","0930008","2020-12-22","","016875",""]
[{"$f":"INDEX(学校種!B:B,MATCH(D256,学校種!A:A,0))","v":"幼稚園(幼稚園型認定こども園を含む)"},{"$f":"INDEX(_tmp2!B:B,MATCH(E256,_tmp2!A:A,0))","v":"北海道"},"A101321100023","A1","01","3","1","認定こども園網走藤幼稚園","網走市北４条西４丁目３－１","0930074","2020-12-22","","016876",""]
[{"$f":"INDEX(学校種!B:B,MATCH(D257,学校種!A:A,0))","v":"幼稚園(幼稚園型認定こども園を含む)"},{"$f":"INDEX(_tmp2!B:B,MATCH(E257,_tmp2!A:A,0))","v":"北海道"},"A101321100032","A1","01","3","9","網走若葉幼稚園","網走市南６条東２丁目９番地","0930006","2020-12-22","2021-05-27","016877","A201321100031"]
[{"$f":"INDEX(学校種!B:B,MATCH(D258,学校種!A:A,0))","v":"幼稚園(幼稚園型認定こども園を含む)"},{"$f":"INDEX(_tmp2!B:B,MATCH(E258,_tmp2!A:A,0))","v":"北海道"},"A101321100041","A1","01","3","1","桂幼稚園","網走市桂町２丁目３番１号","0930041","2020-12-22","","016878",""]
[{"$f":"INDEX(学校種!B:B,MATCH(D259,学校種!A:A,0))","v":"幼稚園(幼稚園型認定こども園を含む)"},{"$f":"INDEX(_tmp2!B:B,MATCH(E259,_tmp2!A:A,0))","v":"北海道"},"A101321200013","A1","01","3","1","留萌聖園幼稚園","留萌市宮園町１丁目９番地","0770032","2020-12-22","","016891",""]
[{"$f":"INDEX(学校種!B:B,MATCH(D260,学校種!A:A,0))","v":"幼稚園(幼稚園型認定こども園を含む)"},{"$f":"INDEX(_tmp2!B:B,MATCH(E260,_tmp2!A:A,0))","v":"北海道"},"A101321200022","A1","01","3","1","かもめ幼稚園","留萌市開運町２丁目４－７","0770042","2020-12-22","","016892",""]
[{"$f":"INDEX(学校種!B:B,MATCH(D261,学校種!A:A,0))","v":"幼稚園(幼稚園型認定こども園を含む)"},{"$f":"INDEX(_tmp2!B:B,MATCH(E261,_tmp2!A:A,0))","v":"北海道"},"A101321300012","A1","01","3","1","苫小牧藤幼稚園","苫小牧市双葉町２丁目９－９","0530045","2020-12-22","","016904",""]
[{"$f":"INDEX(学校種!B:B,MATCH(D262,学校種!A:A,0))","v":"幼稚園(幼稚園型認定こども園を含む)"},{"$f":"INDEX(_tmp2!B:B,MATCH(E262,_tmp2!A:A,0))","v":"北海道"},"A101321300021","A1","01","3","9","苫小牧ふたば幼稚園","苫小牧市王子町１丁目２番１８号","0530027","2020-12-22","2021-05-27","016906","A201321300128"]
[{"$f":"INDEX(学校種!B:B,MATCH(D263,学校種!A:A,0))","v":"幼稚園(幼稚園型認定こども園を含む)"},{"$f":"INDEX(_tmp2!B:B,MATCH(E263,_tmp2!A:A,0))","v":"北海道"},"A101321300030","A1","01","3","1","苫小牧いずみ幼稚園","苫小牧市三光町５丁目７番２９","0530042","2020-12-22","","016907",""]
[{"$f":"INDEX(学校種!B:B,MATCH(D264,学校種!A:A,0))","v":"幼稚園(幼稚園型認定こども園を含む)"},{"$f":"INDEX(_tmp2!B:B,MATCH(E264,_tmp2!A:A,0))","v":"北海道"},"A101321300049","A1","01","3","1","苫小牧聖母幼稚園","苫小牧市新富町２丁目６番１６号","0530805","2020-12-22","","016910",""]
[{"$f":"INDEX(学校種!B:B,MATCH(D265,学校種!A:A,0))","v":"幼稚園(幼稚園型認定こども園を含む)"},{"$f":"INDEX(_tmp2!B:B,MATCH(E265,_tmp2!A:A,0))","v":"北海道"},"A101321300058","A1","01","3","9","原学園ひかり幼稚園","苫小牧市光洋町３丁目１３ー２","0530811","2020-12-22","2021-05-27","016911","A201321300119"]
[{"$f":"INDEX(学校種!B:B,MATCH(D266,学校種!A:A,0))","v":"幼稚園(幼稚園型認定こども園を含む)"},{"$f":"INDEX(_tmp2!B:B,MATCH(E266,_tmp2!A:A,0))","v":"北海道"},"A101321300067","A1","01","3","1","錦岡幼稚園","苫小牧市明徳町４丁目６番６０号","0591273","2020-12-22","","016912",""]
[{"$f":"INDEX(学校種!B:B,MATCH(D267,学校種!A:A,0))","v":"幼稚園(幼稚園型認定こども園を含む)"},{"$f":"INDEX(_tmp2!B:B,MATCH(E267,_tmp2!A:A,0))","v":"北海道"},"A101321300076","A1","01","3","1","ピノキオ苫小牧幼稚園","苫小牧市日新町３丁目６番１０号","0530833","2020-12-22","","016913",""]
[{"$f":"INDEX(学校種!B:B,MATCH(D268,学校種!A:A,0))","v":"幼稚園(幼稚園型認定こども園を含む)"},{"$f":"INDEX(_tmp2!B:B,MATCH(E268,_tmp2!A:A,0))","v":"北海道"},"A101321300085","A1","01","3","1","駒澤苫小牧幼稚園","苫小牧市美園町１丁目９番１号","0530041","2020-12-22","","016915",""]
[{"$f":"INDEX(学校種!B:B,MATCH(D269,学校種!A:A,0))","v":"幼稚園(幼稚園型認定こども園を含む)"},{"$f":"INDEX(_tmp2!B:B,MATCH(E269,_tmp2!A:A,0))","v":"北海道"},"A101321300094","A1","01","3","1","エンゼル幼稚園","苫小牧市しらかば町５丁目６番６号","0530821","2020-12-22","","016917",""]
[{"$f":"INDEX(学校種!B:B,MATCH(D270,学校種!A:A,0))","v":"幼稚園(幼稚園型認定こども園を含む)"},{"$f":"INDEX(_tmp2!B:B,MATCH(E270,_tmp2!A:A,0))","v":"北海道"},"A101321300101","A1","01","3","1","認定こども園苫小牧あおば幼稚園","苫小牧市見山町４丁目６番４号","0530855","2020-12-22","","016920",""]
[{"$f":"INDEX(学校種!B:B,MATCH(D271,学校種!A:A,0))","v":"幼稚園(幼稚園型認定こども園を含む)"},{"$f":"INDEX(_tmp2!B:B,MATCH(E271,_tmp2!A:A,0))","v":"北海道"},"A101321300129","A1","01","3","1","ひかりの国幼稚園","苫小牧市糸井３５３番地１","0530814","2020-12-22","","017539",""]
[{"$f":"INDEX(学校種!B:B,MATCH(D272,学校種!A:A,0))","v":"幼稚園(幼稚園型認定こども園を含む)"},{"$f":"INDEX(_tmp2!B:B,MATCH(E272,_tmp2!A:A,0))","v":"北海道"},"A101321300138","A1","01","3","1","青空幼稚園","苫小牧市柏木町２丁目３番５号","0530823","2020-12-22","","017569",""]
[{"$f":"INDEX(学校種!B:B,MATCH(D273,学校種!A:A,0))","v":"幼稚園(幼稚園型認定こども園を含む)"},{"$f":"INDEX(_tmp2!B:B,MATCH(E273,_tmp2!A:A,0))","v":"北海道"},"A101321300147","A1","01","3","9","はくちょう幼稚園","苫小牧市北栄町３丁目４番６号","0591304","2020-12-22","2021-05-27","017636","A201321300100"]
[{"$f":"INDEX(学校種!B:B,MATCH(D274,学校種!A:A,0))","v":"幼稚園(幼稚園型認定こども園を含む)"},{"$f":"INDEX(_tmp2!B:B,MATCH(E274,_tmp2!A:A,0))","v":"北海道"},"A101321300156","A1","01","3","1","苫小牧のぞみ幼稚園","苫小牧市拓勇東町８丁目１番地の７","0591303","2020-12-22","","017658",""]
[{"$f":"INDEX(学校種!B:B,MATCH(D275,学校種!A:A,0))","v":"幼稚園(幼稚園型認定こども園を含む)"},{"$f":"INDEX(_tmp2!B:B,MATCH(E275,_tmp2!A:A,0))","v":"北海道"},"A101321400011","A1","01","3","1","稚内鈴蘭幼稚園","稚内市港３丁目６番１２号","0970021","2020-12-22","","016921",""]
[{"$f":"INDEX(学校種!B:B,MATCH(D276,学校種!A:A,0))","v":"幼稚園(幼稚園型認定こども園を含む)"},{"$f":"INDEX(_tmp2!B:B,MATCH(E276,_tmp2!A:A,0))","v":"北海道"},"A101321400020","A1","01","3","1","稚内幼稚園","稚内市宝来２丁目８番１７号","0970024","2020-12-22","","016923",""]
[{"$f":"INDEX(学校種!B:B,MATCH(D277,学校種!A:A,0))","v":"幼稚園(幼稚園型認定こども園を含む)"},{"$f":"INDEX(_tmp2!B:B,MATCH(E277,_tmp2!A:A,0))","v":"北海道"},"A101321400039","A1","01","3","1","稚内ひかり幼稚園","稚内市緑４丁目５番３２号","0970004","2020-12-22","","016925",""]
[{"$f":"INDEX(学校種!B:B,MATCH(D278,学校種!A:A,0))","v":"幼稚園(幼稚園型認定こども園を含む)"},{"$f":"INDEX(_tmp2!B:B,MATCH(E278,_tmp2!A:A,0))","v":"北海道"},"A101321400048","A1","01","3","1","稚内大谷幼稚園","稚内市中央２丁目１６番１２号","0970022","2020-12-22","","016927",""]
[{"$f":"INDEX(学校種!B:B,MATCH(D279,学校種!A:A,0))","v":"幼稚園(幼稚園型認定こども園を含む)"},{"$f":"INDEX(_tmp2!B:B,MATCH(E279,_tmp2!A:A,0))","v":"北海道"},"A101321400057","A1","01","3","1","稚内富岡幼稚園","稚内市富岡４丁目１８番５号","0970012","2020-12-22","","016928",""]
[{"$f":"INDEX(学校種!B:B,MATCH(D280,学校種!A:A,0))","v":"幼稚園(幼稚園型認定こども園を含む)"},{"$f":"INDEX(_tmp2!B:B,MATCH(E280,_tmp2!A:A,0))","v":"北海道"},"A101321500010","A1","01","3","1","美唄めぐみ幼稚園","美唄市西２条北３丁目２番２５号","0720031","2020-12-22","","016939",""]
[{"$f":"INDEX(学校種!B:B,MATCH(D281,学校種!A:A,0))","v":"幼稚園(幼稚園型認定こども園を含む)"},{"$f":"INDEX(_tmp2!B:B,MATCH(E281,_tmp2!A:A,0))","v":"北海道"},"A101321500029","A1","01","3","1","美唄アカシヤ幼稚園","美唄市東２条南３丁目２－１０","0720013","2020-12-22","","016940",""]
[{"$f":"INDEX(学校種!B:B,MATCH(D282,学校種!A:A,0))","v":"幼稚園(幼稚園型認定こども園を含む)"},{"$f":"INDEX(_tmp2!B:B,MATCH(E282,_tmp2!A:A,0))","v":"北海道"},"A101321600019","A1","01","3","1","芦別みどり幼稚園","芦別市南１条東１丁目８番地","0750031","2020-12-22","","017387",""]
[{"$f":"INDEX(学校種!B:B,MATCH(D283,学校種!A:A,0))","v":"幼稚園(幼稚園型認定こども園を含む)"},{"$f":"INDEX(_tmp2!B:B,MATCH(E283,_tmp2!A:A,0))","v":"北海道"},"A101321700018","A1","01","3","1","のっぽろ幼稚園","江別市野幌若葉町３番地３","0690831","2020-12-22","","016952",""]
[{"$f":"INDEX(学校種!B:B,MATCH(D284,学校種!A:A,0))","v":"幼稚園(幼稚園型認定こども園を含む)"},{"$f":"INDEX(_tmp2!B:B,MATCH(E284,_tmp2!A:A,0))","v":"北海道"},"A101321700027","A1","01","3","1","江別大谷幼稚園","江別市６条５丁目１","0670016","2020-12-22","","016955",""]
[{"$f":"INDEX(学校種!B:B,MATCH(D285,学校種!A:A,0))","v":"幼稚園(幼稚園型認定こども園を含む)"},{"$f":"INDEX(_tmp2!B:B,MATCH(E285,_tmp2!A:A,0))","v":"北海道"},"A101321700036","A1","01","3","1","大麻ひかり幼稚園","江別市大麻園町３２－１","0690851","2020-12-22","","016957",""]
[{"$f":"INDEX(学校種!B:B,MATCH(D286,学校種!A:A,0))","v":"幼稚園(幼稚園型認定こども園を含む)"},{"$f":"INDEX(_tmp2!B:B,MATCH(E286,_tmp2!A:A,0))","v":"北海道"},"A101321700045","A1","01","3","1","上江別幼稚園","江別市上江別４３３－１９","0670064","2020-12-22","","016962",""]
[{"$f":"INDEX(学校種!B:B,MATCH(D287,学校種!A:A,0))","v":"幼稚園(幼稚園型認定こども園を含む)"},{"$f":"INDEX(_tmp2!B:B,MATCH(E287,_tmp2!A:A,0))","v":"北海道"},"A101321700054","A1","01","3","1","元野幌めぐみ幼稚園","江別市野幌寿町４５番地１","0690802","2020-12-22","","016963",""]
[{"$f":"INDEX(学校種!B:B,MATCH(D288,学校種!A:A,0))","v":"幼稚園(幼稚園型認定こども園を含む)"},{"$f":"INDEX(_tmp2!B:B,MATCH(E288,_tmp2!A:A,0))","v":"北海道"},"A101321700072","A1","01","3","1","江別あかしや幼稚園","江別市江別太２２２－６","0670022","2020-12-22","","017588",""]
[{"$f":"INDEX(学校種!B:B,MATCH(D289,学校種!A:A,0))","v":"幼稚園(幼稚園型認定こども園を含む)"},{"$f":"INDEX(_tmp2!B:B,MATCH(E289,_tmp2!A:A,0))","v":"北海道"},"A101321900016","A1","01","3","1","認定こども園紋別幼稚園","紋別市花園町２丁目１７番地","0940015","2020-12-22","","016973",""]
[{"$f":"INDEX(学校種!B:B,MATCH(D290,学校種!A:A,0))","v":"幼稚園(幼稚園型認定こども園を含む)"},{"$f":"INDEX(_tmp2!B:B,MATCH(E290,_tmp2!A:A,0))","v":"北海道"},"A101322000013","A1","01","3","1","認定こども園カトリック士別幼稚園","士別市東３条１丁目","0950013","2020-12-22","","016985",""]
[{"$f":"INDEX(学校種!B:B,MATCH(D291,学校種!A:A,0))","v":"幼稚園(幼稚園型認定こども園を含む)"},{"$f":"INDEX(_tmp2!B:B,MATCH(E291,_tmp2!A:A,0))","v":"北海道"},"A101322000022","A1","01","3","1","瑞祥幼稚園","士別市大通東１０丁目41番地1","0950019","2020-12-22","","016986",""]
[{"$f":"INDEX(学校種!B:B,MATCH(D292,学校種!A:A,0))","v":"幼稚園(幼稚園型認定こども園を含む)"},{"$f":"INDEX(_tmp2!B:B,MATCH(E292,_tmp2!A:A,0))","v":"北海道"},"A101322000031","A1","01","3","1","士別幼稚園","士別市大通西４丁目１９２６番地３","0950029","2020-12-22","","016987",""]
[{"$f":"INDEX(学校種!B:B,MATCH(D293,学校種!A:A,0))","v":"幼稚園(幼稚園型認定こども園を含む)"},{"$f":"INDEX(_tmp2!B:B,MATCH(E293,_tmp2!A:A,0))","v":"北海道"},"A101322100012","A1","01","3","1","光名幼稚園","名寄市西２条南１０丁目１番地","0960012","2020-12-22","","016999",""]
[{"$f":"INDEX(学校種!B:B,MATCH(D294,学校種!A:A,0))","v":"幼稚園(幼稚園型認定こども園を含む)"},{"$f":"INDEX(_tmp2!B:B,MATCH(E294,_tmp2!A:A,0))","v":"北海道"},"A101322100021","A1","01","3","1","認定こども園名寄幼稚園","名寄市東１条南２丁目１番地","0960001","2020-12-22","","017000",""]
[{"$f":"INDEX(学校種!B:B,MATCH(D295,学校種!A:A,0))","v":"幼稚園(幼稚園型認定こども園を含む)"},{"$f":"INDEX(_tmp2!B:B,MATCH(E295,_tmp2!A:A,0))","v":"北海道"},"A101322100030","A1","01","3","1","名寄カトリック幼稚園","名寄市西３条南４丁目","0960013","2020-12-22","","017001",""]
[{"$f":"INDEX(学校種!B:B,MATCH(D296,学校種!A:A,0))","v":"幼稚園(幼稚園型認定こども園を含む)"},{"$f":"INDEX(_tmp2!B:B,MATCH(E296,_tmp2!A:A,0))","v":"北海道"},"A101322300010","A1","01","3","1","認定こども園根室カトリック幼稚園","根室市大正町２丁目２１番地","0870028","2020-12-22","","017024",""]
[{"$f":"INDEX(学校種!B:B,MATCH(D297,学校種!A:A,0))","v":"幼稚園(幼稚園型認定こども園を含む)"},{"$f":"INDEX(_tmp2!B:B,MATCH(E297,_tmp2!A:A,0))","v":"北海道"},"A101322300029","A1","01","3","1","根室つくし幼稚園","根室市有磯町１丁目１番地","0870008","2020-12-22","","017026",""]
[{"$f":"INDEX(学校種!B:B,MATCH(D298,学校種!A:A,0))","v":"幼稚園(幼稚園型認定こども園を含む)"},{"$f":"INDEX(_tmp2!B:B,MATCH(E298,_tmp2!A:A,0))","v":"北海道"},"A101322400019","A1","01","3","1","メリー幼稚園","千歳市末広５丁目１番６号","0660027","2020-12-22","","017036",""]
[{"$f":"INDEX(学校種!B:B,MATCH(D299,学校種!A:A,0))","v":"幼稚園(幼稚園型認定こども園を含む)"},{"$f":"INDEX(_tmp2!B:B,MATCH(E299,_tmp2!A:A,0))","v":"北海道"},"A101322400028","A1","01","3","1","千歳青葉幼稚園","千歳市青葉５丁目１３番７号","0660015","2020-12-22","","017037",""]
[{"$f":"INDEX(学校種!B:B,MATCH(D300,学校種!A:A,0))","v":"幼稚園(幼稚園型認定こども園を含む)"},{"$f":"INDEX(_tmp2!B:B,MATCH(E300,_tmp2!A:A,0))","v":"北海道"},"A101322400037","A1","01","3","1","千歳幼稚園","千歳市清水町４丁目２５番地","0660041","2020-12-22","","017039",""]
[{"$f":"INDEX(学校種!B:B,MATCH(D301,学校種!A:A,0))","v":"幼稚園(幼稚園型認定こども園を含む)"},{"$f":"INDEX(_tmp2!B:B,MATCH(E301,_tmp2!A:A,0))","v":"北海道"},"A101322400046","A1","01",3,"1","くるみ幼稚園","千歳市幸福１丁目８４７番地","0660082","2020-12-22","","017040",""]
[{"$f":"INDEX(学校種!B:B,MATCH(D302,学校種!A:A,0))","v":"幼稚園(幼稚園型認定こども園を含む)"},{"$f":"INDEX(_tmp2!B:B,MATCH(E302,_tmp2!A:A,0))","v":"北海道"},"A101322400055","A1","01","3","1","第二メリー幼稚園","千歳市富丘４丁目１３番２０号","0660034","2020-12-22","","017041",""]
[{"$f":"INDEX(学校種!B:B,MATCH(D303,学校種!A:A,0))","v":"幼稚園(幼稚園型認定こども園を含む)"},{"$f":"INDEX(_tmp2!B:B,MATCH(E303,_tmp2!A:A,0))","v":"北海道"},"A101322400064","A1","01","3","1","千歳わかば幼稚園","千歳市富士２－５－６","0660039","2020-12-22","","017042",""]
[{"$f":"INDEX(学校種!B:B,MATCH(D304,学校種!A:A,0))","v":"幼稚園(幼稚園型認定こども園を含む)"},{"$f":"INDEX(_tmp2!B:B,MATCH(E304,_tmp2!A:A,0))","v":"北海道"},"A101322400073","A1","01","3","1","千歳つくし幼稚園","千歳市高台２丁目３－１１","0660035","2020-12-22","","017043",""]
[{"$f":"INDEX(学校種!B:B,MATCH(D305,学校種!A:A,0))","v":"幼稚園(幼稚園型認定こども園を含む)"},{"$f":"INDEX(_tmp2!B:B,MATCH(E305,_tmp2!A:A,0))","v":"北海道"},"A101322400082","A1","01","3","1","第２わかば幼稚園","千歳市勇舞１丁目４番１","0660078","2020-12-22","","017646",""]
[{"$f":"INDEX(学校種!B:B,MATCH(D306,学校種!A:A,0))","v":"幼稚園(幼稚園型認定こども園を含む)"},{"$f":"INDEX(_tmp2!B:B,MATCH(E306,_tmp2!A:A,0))","v":"北海道"},"A101322500018","A1","01","3","1","滝川幼稚園","滝川市栄町２丁目７番１３号","0730031","2020-12-22","","017051",""]
[{"$f":"INDEX(学校種!B:B,MATCH(D307,学校種!A:A,0))","v":"幼稚園(幼稚園型認定こども園を含む)"},{"$f":"INDEX(_tmp2!B:B,MATCH(E307,_tmp2!A:A,0))","v":"北海道"},"A101322500027","A1","01","3","1","滝川白樺幼稚園","滝川市一の坂西１－１－５","0730017","2020-12-22","","017052",""]
[{"$f":"INDEX(学校種!B:B,MATCH(D308,学校種!A:A,0))","v":"幼稚園(幼稚園型認定こども園を含む)"},{"$f":"INDEX(_tmp2!B:B,MATCH(E308,_tmp2!A:A,0))","v":"北海道"},"A101322600017","A1","01","3","1","砂川天使幼稚園","砂川市東５条南３丁目","0730135","2020-12-22","","017062",""]
[{"$f":"INDEX(学校種!B:B,MATCH(D309,学校種!A:A,0))","v":"幼稚園(幼稚園型認定こども園を含む)"},{"$f":"INDEX(_tmp2!B:B,MATCH(E309,_tmp2!A:A,0))","v":"北海道"},"A101322800015","A1","01","3","1","深川めぐみ幼稚園","深川市８条１５番８号","0740008","2020-12-22","","017076",""]
[{"$f":"INDEX(学校種!B:B,MATCH(D310,学校種!A:A,0))","v":"幼稚園(幼稚園型認定こども園を含む)"},{"$f":"INDEX(_tmp2!B:B,MATCH(E310,_tmp2!A:A,0))","v":"北海道"},"A101322800024","A1","01","3","1","深川幼稚園","深川市文光町１７－６","0740003","2020-12-22","","017077",""]
[{"$f":"INDEX(学校種!B:B,MATCH(D311,学校種!A:A,0))","v":"幼稚園(幼稚園型認定こども園を含む)"},{"$f":"INDEX(_tmp2!B:B,MATCH(E311,_tmp2!A:A,0))","v":"北海道"},"A101322900014","A1","01","3","1","慈恵ひまわり幼稚園","富良野市若松町１１－１","0760032","2020-12-22","","017087",""]
[{"$f":"INDEX(学校種!B:B,MATCH(D312,学校種!A:A,0))","v":"幼稚園(幼稚園型認定こども園を含む)"},{"$f":"INDEX(_tmp2!B:B,MATCH(E312,_tmp2!A:A,0))","v":"北海道"},"A101322900023","A1","01","3","1","学校法人旭川カトリック学園富良野聖園幼稚園","富良野市桂木町３－７３","0760038","2020-12-22","","017088",""]
[{"$f":"INDEX(学校種!B:B,MATCH(D313,学校種!A:A,0))","v":"幼稚園(幼稚園型認定こども園を含む)"},{"$f":"INDEX(_tmp2!B:B,MATCH(E313,_tmp2!A:A,0))","v":"北海道"},"A101322900032","A1","01","3","1","ルンビニ幼稚園","富良野市本町１１－１０","0760031","2020-12-22","","017089",""]
[{"$f":"INDEX(学校種!B:B,MATCH(D314,学校種!A:A,0))","v":"幼稚園(幼稚園型認定こども園を含む)"},{"$f":"INDEX(_tmp2!B:B,MATCH(E314,_tmp2!A:A,0))","v":"北海道"},"A101322900041","A1","01","3","1","富良野みどり幼稚園","富良野市扇町１番１号","0760008","2020-12-22","","017090",""]
[{"$f":"INDEX(学校種!B:B,MATCH(D315,学校種!A:A,0))","v":"幼稚園(幼稚園型認定こども園を含む)"},{"$f":"INDEX(_tmp2!B:B,MATCH(E315,_tmp2!A:A,0))","v":"北海道"},"A101323000011","A1","01","3","1","リリー文化幼稚園","登別市鷲別町２丁目１７番地","0590034","2020-12-22","","017316",""]
[{"$f":"INDEX(学校種!B:B,MATCH(D316,学校種!A:A,0))","v":"幼稚園(幼稚園型認定こども園を含む)"},{"$f":"INDEX(_tmp2!B:B,MATCH(E316,_tmp2!A:A,0))","v":"北海道"},"A101323000020","A1","01","3","1","登別カトリック聖心幼稚園","登別市中央町７丁目１５","0590012","2020-12-22","","017317",""]
[{"$f":"INDEX(学校種!B:B,MATCH(D317,学校種!A:A,0))","v":"幼稚園(幼稚園型認定こども園を含む)"},{"$f":"INDEX(_tmp2!B:B,MATCH(E317,_tmp2!A:A,0))","v":"北海道"},"A101323000039","A1","01","3","1","認定こども園白菊幼稚園","登別市桜木町２丁目５－３","0590023","2020-12-22","","017318",""]
[{"$f":"INDEX(学校種!B:B,MATCH(D318,学校種!A:A,0))","v":"幼稚園(幼稚園型認定こども園を含む)"},{"$f":"INDEX(_tmp2!B:B,MATCH(E318,_tmp2!A:A,0))","v":"北海道"},"A101323000048","A1","01","3","1","認定こども園白雪幼稚園","登別市登別本町２－２５－８","0590465","2020-12-22","","017319",""]
[{"$f":"INDEX(学校種!B:B,MATCH(D319,学校種!A:A,0))","v":"幼稚園(幼稚園型認定こども園を含む)"},{"$f":"INDEX(_tmp2!B:B,MATCH(E319,_tmp2!A:A,0))","v":"北海道"},"A101323100010","A1","01","3","1","恵庭幼稚園","恵庭市大町４丁目１番１１号","0611424","2020-12-22","","017107",""]
[{"$f":"INDEX(学校種!B:B,MATCH(D320,学校種!A:A,0))","v":"幼稚園(幼稚園型認定こども園を含む)"},{"$f":"INDEX(_tmp2!B:B,MATCH(E320,_tmp2!A:A,0))","v":"北海道"},"A101323100029","A1","01","3","1","クラーク幼稚園","恵庭市住吉町３丁目９番１号","0611441","2020-12-22","","017108",""]
[{"$f":"INDEX(学校種!B:B,MATCH(D321,学校種!A:A,0))","v":"幼稚園(幼稚園型認定こども園を含む)"},{"$f":"INDEX(_tmp2!B:B,MATCH(E321,_tmp2!A:A,0))","v":"北海道"},"A101323100038","A1","01","3","1","認定こども園かしわ幼稚園かしわ保育園","恵庭市柏陽町３丁目１４番地","0611434","2020-12-22","","017109",""]
[{"$f":"INDEX(学校種!B:B,MATCH(D322,学校種!A:A,0))","v":"幼稚園(幼稚園型認定こども園を含む)"},{"$f":"INDEX(_tmp2!B:B,MATCH(E322,_tmp2!A:A,0))","v":"北海道"},"A101323100047","A1","01","3","1","第二かしわ幼稚園","恵庭市中島町５丁目１１－３３","0611435","2020-12-22","","017110",""]
[{"$f":"INDEX(学校種!B:B,MATCH(D323,学校種!A:A,0))","v":"幼稚園(幼稚園型認定こども園を含む)"},{"$f":"INDEX(_tmp2!B:B,MATCH(E323,_tmp2!A:A,0))","v":"北海道"},"A101323100056","A1","01","3","1","島松幼稚園","恵庭市南島松２７番地１","0611375","2020-12-22","","017603",""]
[{"$f":"INDEX(学校種!B:B,MATCH(D324,学校種!A:A,0))","v":"幼稚園(幼稚園型認定こども園を含む)"},{"$f":"INDEX(_tmp2!B:B,MATCH(E324,_tmp2!A:A,0))","v":"北海道"},"A101323100065","A1","01","3","1","恵み野第二幼稚園","恵庭市恵み野東１丁目６－１１","0611371","2020-12-22","","017635",""]
[{"$f":"INDEX(学校種!B:B,MATCH(D325,学校種!A:A,0))","v":"幼稚園(幼稚園型認定こども園を含む)"},{"$f":"INDEX(_tmp2!B:B,MATCH(E325,_tmp2!A:A,0))","v":"北海道"},"A101323300018","A1","01","3","1","伊達幼稚園","伊達市元町３１番地","0520023","2020-12-22","","017309",""]
[{"$f":"INDEX(学校種!B:B,MATCH(D326,学校種!A:A,0))","v":"幼稚園(幼稚園型認定こども園を含む)"},{"$f":"INDEX(_tmp2!B:B,MATCH(E326,_tmp2!A:A,0))","v":"北海道"},"A101323300027","A1","01","3","1","京王幼稚園","伊達市館山町１５番地","0520031","2020-12-22","","017604",""]
[{"$f":"INDEX(学校種!B:B,MATCH(D327,学校種!A:A,0))","v":"幼稚園(幼稚園型認定こども園を含む)"},{"$f":"INDEX(_tmp2!B:B,MATCH(E327,_tmp2!A:A,0))","v":"北海道"},"A101323400017","A1","01","3","1","広島天使幼稚園","北広島市中央４丁目５－２","0611121","2020-12-22","","017100",""]
[{"$f":"INDEX(学校種!B:B,MATCH(D328,学校種!A:A,0))","v":"幼稚園(幼稚園型認定こども園を含む)"},{"$f":"INDEX(_tmp2!B:B,MATCH(E328,_tmp2!A:A,0))","v":"北海道"},"A101323400026","A1","01","3","1","広島大谷幼稚園","北広島市広葉町３丁目２","0611134","2020-12-22","","017101",""]
[{"$f":"INDEX(学校種!B:B,MATCH(D329,学校種!A:A,0))","v":"幼稚園(幼稚園型認定こども園を含む)"},{"$f":"INDEX(_tmp2!B:B,MATCH(E329,_tmp2!A:A,0))","v":"北海道"},"A101323400035","A1","01","3","1","北広島かおり幼稚園","北広島市高台町１丁目９番地１","0611146","2020-12-22","","017466",""]
[{"$f":"INDEX(学校種!B:B,MATCH(D330,学校種!A:A,0))","v":"幼稚園(幼稚園型認定こども園を含む)"},{"$f":"INDEX(_tmp2!B:B,MATCH(E330,_tmp2!A:A,0))","v":"北海道"},"A101323400044","A1","01","3","1","広島幼稚園","北広島市共栄町１丁目７番地１","0611113","2020-12-22","","017467",""]
[{"$f":"INDEX(学校種!B:B,MATCH(D331,学校種!A:A,0))","v":"幼稚園(幼稚園型認定こども園を含む)"},{"$f":"INDEX(_tmp2!B:B,MATCH(E331,_tmp2!A:A,0))","v":"北海道"},"A101323400053","A1","01","3","1","大曲大谷幼稚園","北広島市大曲５８１－５","0611270","2020-12-22","","017590",""]
[{"$f":"INDEX(学校種!B:B,MATCH(D332,学校種!A:A,0))","v":"幼稚園(幼稚園型認定こども園を含む)"},{"$f":"INDEX(_tmp2!B:B,MATCH(E332,_tmp2!A:A,0))","v":"北海道"},"A101323400062","A1","01","3","1","大地太陽幼稚園","北広島市大曲７８４－１０６","0611270","2020-12-22","","017650",""]
[{"$f":"INDEX(学校種!B:B,MATCH(D333,学校種!A:A,0))","v":"幼稚園(幼稚園型認定こども園を含む)"},{"$f":"INDEX(_tmp2!B:B,MATCH(E333,_tmp2!A:A,0))","v":"北海道"},"A101323600015","A1","01","3","1","函館大谷短期大学附属大野幼稚園","北斗市市渡５０６番地８","0411242","2020-12-22","","017396",""]
[{"$f":"INDEX(学校種!B:B,MATCH(D334,学校種!A:A,0))","v":"幼稚園(幼稚園型認定こども園を含む)"},{"$f":"INDEX(_tmp2!B:B,MATCH(E334,_tmp2!A:A,0))","v":"北海道"},"A101323600024","A1","01","3","1","上磯幼稚園","北斗市押上１丁目４番１２号","0490152","2020-12-22","","017434",""]
[{"$f":"INDEX(学校種!B:B,MATCH(D335,学校種!A:A,0))","v":"幼稚園(幼稚園型認定こども園を含む)"},{"$f":"INDEX(_tmp2!B:B,MATCH(E335,_tmp2!A:A,0))","v":"北海道"},"A101323600033","A1","01","3","1","ゆうあい幼稚園","北斗市追分７丁目８番１２号","0490101","2020-12-22","","017435",""]
[{"$f":"INDEX(学校種!B:B,MATCH(D336,学校種!A:A,0))","v":"幼稚園(幼稚園型認定こども園を含む)"},{"$f":"INDEX(_tmp2!B:B,MATCH(E336,_tmp2!A:A,0))","v":"北海道"},"A101323600042","A1","01","3","1","上磯立正幼稚園","北斗市東浜２丁目９番１３号","0490122","2020-12-22","","017436",""]
[{"$f":"INDEX(学校種!B:B,MATCH(D337,学校種!A:A,0))","v":"幼稚園(幼稚園型認定こども園を含む)"},{"$f":"INDEX(_tmp2!B:B,MATCH(E337,_tmp2!A:A,0))","v":"北海道"},"A101333200018","A1","01","3","1","福島幼稚園","松前郡福島町字月崎２７１番地の３","0491321","2020-12-22","","017113",""]
[{"$f":"INDEX(学校種!B:B,MATCH(D338,学校種!A:A,0))","v":"幼稚園(幼稚園型認定こども園を含む)"},{"$f":"INDEX(_tmp2!B:B,MATCH(E338,_tmp2!A:A,0))","v":"北海道"},"A101333700013","A1","01","3","1","七飯マリア幼稚園","亀田郡七飯町鳴川町５丁目１番１７号","0411112","2020-12-22","","017117",""]
[{"$f":"INDEX(学校種!B:B,MATCH(D339,学校種!A:A,0))","v":"幼稚園(幼稚園型認定こども園を含む)"},{"$f":"INDEX(_tmp2!B:B,MATCH(E339,_tmp2!A:A,0))","v":"北海道"},"A101333700022","A1","01","3","1","七飯南幼稚園","亀田郡七飯町大川１０－１－１","0411122","2020-12-22","","017548",""]
[{"$f":"INDEX(学校種!B:B,MATCH(D340,学校種!A:A,0))","v":"幼稚園(幼稚園型認定こども園を含む)"},{"$f":"INDEX(_tmp2!B:B,MATCH(E340,_tmp2!A:A,0))","v":"北海道"},"A101334600012","A1","01","3","1","八雲幼稚園","二海郡八雲町末広町１３２","0493112","2020-12-22","","017134",""]
[{"$f":"INDEX(学校種!B:B,MATCH(D341,学校種!A:A,0))","v":"幼稚園(幼稚園型認定こども園を含む)"},{"$f":"INDEX(_tmp2!B:B,MATCH(E341,_tmp2!A:A,0))","v":"北海道"},"A101334700011","A1","01","3","9","長万部マリア幼稚園","山越郡長万部町字富野１０２－４７","0493514","2020-12-22","2021-05-27","017140","A201334700010"]
[{"$f":"INDEX(学校種!B:B,MATCH(D342,学校種!A:A,0))","v":"幼稚園(幼稚園型認定こども園を含む)"},{"$f":"INDEX(_tmp2!B:B,MATCH(E342,_tmp2!A:A,0))","v":"北海道"},"A101339400013","A1","01","3","1","蘭越ひばり幼稚園","磯谷郡蘭越町蘭越町２１９番地３６","0481301","2020-12-22","","017156",""]
[{"$f":"INDEX(学校種!B:B,MATCH(D343,学校種!A:A,0))","v":"幼稚園(幼稚園型認定こども園を含む)"},{"$f":"INDEX(_tmp2!B:B,MATCH(E343,_tmp2!A:A,0))","v":"北海道"},"A101340000015","A1","01","3","1","倶知安藤幼稚園","虻田郡倶知安町北５西１－１－６","0440055","2020-12-22","","017161",""]
[{"$f":"INDEX(学校種!B:B,MATCH(D344,学校種!A:A,0))","v":"幼稚園(幼稚園型認定こども園を含む)"},{"$f":"INDEX(_tmp2!B:B,MATCH(E344,_tmp2!A:A,0))","v":"北海道"},"A101340000024","A1","01","3","1","倶知安めぐみ幼稚園","虻田郡倶知安町南４条西２丁目","0440034","2020-12-22","","017162",""]
[{"$f":"INDEX(学校種!B:B,MATCH(D345,学校種!A:A,0))","v":"幼稚園(幼稚園型認定こども園を含む)"},{"$f":"INDEX(_tmp2!B:B,MATCH(E345,_tmp2!A:A,0))","v":"北海道"},"A101340200013","A1","01","3","1","高田幼稚園","岩内郡岩内町字栄１３６番地","0450011","2020-12-22","","017165",""]
[{"$f":"INDEX(学校種!B:B,MATCH(D346,学校種!A:A,0))","v":"幼稚園(幼稚園型認定こども園を含む)"},{"$f":"INDEX(_tmp2!B:B,MATCH(E346,_tmp2!A:A,0))","v":"北海道"},"A101340200022","A1","01","3","1","岩内幼稚園","岩内郡岩内町字高台１８０番地","0450013","2020-12-22","","017167",""]
[{"$f":"INDEX(学校種!B:B,MATCH(D347,学校種!A:A,0))","v":"幼稚園(幼稚園型認定こども園を含む)"},{"$f":"INDEX(_tmp2!B:B,MATCH(E347,_tmp2!A:A,0))","v":"北海道"},"A101340800017","A1","01","3","1","認定こども園杉の子幼稚園","余市郡余市町黒川町１５丁目２番地２","0460003","2020-12-22","","017173",""]
[{"$f":"INDEX(学校種!B:B,MATCH(D348,学校種!A:A,0))","v":"幼稚園(幼稚園型認定こども園を含む)"},{"$f":"INDEX(_tmp2!B:B,MATCH(E348,_tmp2!A:A,0))","v":"北海道"},"A101340800026","A1","01","3","1","リタ幼稚園","余市郡余市町黒川町１丁目１７","0460003","2020-12-22","","017174",""]
[{"$f":"INDEX(学校種!B:B,MATCH(D349,学校種!A:A,0))","v":"幼稚園(幼稚園型認定こども園を含む)"},{"$f":"INDEX(_tmp2!B:B,MATCH(E349,_tmp2!A:A,0))","v":"北海道"},"A101340800035","A1","01","3","1","夢の森幼稚園","余市郡余市町沢町３３１番地","0460022","2020-12-22","","017652",""]
[{"$f":"INDEX(学校種!B:B,MATCH(D350,学校種!A:A,0))","v":"幼稚園(幼稚園型認定こども園を含む)"},{"$f":"INDEX(_tmp2!B:B,MATCH(E350,_tmp2!A:A,0))","v":"北海道"},"A101342300018","A1","01","3","1","認定こども園南幌みどり野幼稚園","空知郡南幌町南１４線西７番地","0690214","2020-12-22","","017644",""]
[{"$f":"INDEX(学校種!B:B,MATCH(D351,学校種!A:A,0))","v":"幼稚園(幼稚園型認定こども園を含む)"},{"$f":"INDEX(_tmp2!B:B,MATCH(E351,_tmp2!A:A,0))","v":"北海道"},"A101342800013","A1","01","3","1","長沼カトリック聖心幼稚園","夕張郡長沼町銀座北１－４－１２","0691331","2020-12-22","","017192",""]
[{"$f":"INDEX(学校種!B:B,MATCH(D352,学校種!A:A,0))","v":"幼稚園(幼稚園型認定こども園を含む)"},{"$f":"INDEX(_tmp2!B:B,MATCH(E352,_tmp2!A:A,0))","v":"北海道"},"A101343200017","A1","01","3","1","新十津川幼稚園","樺戸郡新十津川町字総進６０ー４","0731106","2020-12-22","","017606",""]
[{"$f":"INDEX(学校種!B:B,MATCH(D353,学校種!A:A,0))","v":"幼稚園(幼稚園型認定こども園を含む)"},{"$f":"INDEX(_tmp2!B:B,MATCH(E353,_tmp2!A:A,0))","v":"北海道"},"A101345300020","A1","01","3","1","東聖こばと幼稚園","上川郡東神楽町ひじり野南１条２丁目２－２","0711523","2020-12-22","","017641",""]
[{"$f":"INDEX(学校種!B:B,MATCH(D354,学校種!A:A,0))","v":"幼稚園(幼稚園型認定こども園を含む)"},{"$f":"INDEX(_tmp2!B:B,MATCH(E354,_tmp2!A:A,0))","v":"北海道"},"A101345700017","A1","01","3","1","のぞみ幼稚園","上川郡上川町新町７２","0781762","2020-12-22","","017226",""]
[{"$f":"INDEX(学校種!B:B,MATCH(D355,学校種!A:A,0))","v":"幼稚園(幼稚園型認定こども園を含む)"},{"$f":"INDEX(_tmp2!B:B,MATCH(E355,_tmp2!A:A,0))","v":"北海道"},"A101345700026","A1","01","3","1","上川幼稚園","上川郡上川町北町３３","0781744","2020-12-22","","017227",""]
[{"$f":"INDEX(学校種!B:B,MATCH(D356,学校種!A:A,0))","v":"幼稚園(幼稚園型認定こども園を含む)"},{"$f":"INDEX(_tmp2!B:B,MATCH(E356,_tmp2!A:A,0))","v":"北海道"},"A101348400014","A1","01","3","1","羽幌藤幼稚園","苫前郡羽幌町港町３丁目２番地","0784120","2020-12-22","","017254",""]
[{"$f":"INDEX(学校種!B:B,MATCH(D357,学校種!A:A,0))","v":"幼稚園(幼稚園型認定こども園を含む)"},{"$f":"INDEX(_tmp2!B:B,MATCH(E357,_tmp2!A:A,0))","v":"北海道"},"A101351400018","A1","01","3","1","枝幸幼稚園","枝幸郡枝幸町梅ヶ枝町３４６番地２","0985806","2020-12-22","","017264",""]
[{"$f":"INDEX(学校種!B:B,MATCH(D358,学校種!A:A,0))","v":"幼稚園(幼稚園型認定こども園を含む)"},{"$f":"INDEX(_tmp2!B:B,MATCH(E358,_tmp2!A:A,0))","v":"北海道"},"A101354300013","A1","01","3","1","美幌大谷幼稚園","網走郡美幌町字西２条南１丁目１番地","0920033","2020-12-22","","017270",""]
[{"$f":"INDEX(学校種!B:B,MATCH(D359,学校種!A:A,0))","v":"幼稚園(幼稚園型認定こども園を含む)"},{"$f":"INDEX(_tmp2!B:B,MATCH(E359,_tmp2!A:A,0))","v":"北海道"},"A101354600010","A1","01","3","1","清里やまと幼稚園","斜里郡清里町羽衣町５８番地","0994405","2020-12-22","","017581",""]
[{"$f":"INDEX(学校種!B:B,MATCH(D360,学校種!A:A,0))","v":"幼稚園(幼稚園型認定こども園を含む)"},{"$f":"INDEX(_tmp2!B:B,MATCH(E360,_tmp2!A:A,0))","v":"北海道"},"A101354700019","A1","01","3","1","小清水幼稚園","斜里郡小清水町元町１丁目51番２号","0993641","2020-12-22","","017410",""]
[{"$f":"INDEX(学校種!B:B,MATCH(D361,学校種!A:A,0))","v":"幼稚園(幼稚園型認定こども園を含む)"},{"$f":"INDEX(_tmp2!B:B,MATCH(E361,_tmp2!A:A,0))","v":"北海道"},"A101355500018","A1","01","3","1","認定こども園遠軽ひばり幼稚園","紋別郡遠軽町１条通北３丁目２番地７","0990403","2020-12-22","","017298",""]
[{"$f":"INDEX(学校種!B:B,MATCH(D362,学校種!A:A,0))","v":"幼稚園(幼稚園型認定こども園を含む)"},{"$f":"INDEX(_tmp2!B:B,MATCH(E362,_tmp2!A:A,0))","v":"北海道"},"A101355900014","A1","01","3","1","みのり幼稚園","紋別郡湧別町中湧別南町８４２－８","0996328","2020-12-22","","017301",""]
[{"$f":"INDEX(学校種!B:B,MATCH(D363,学校種!A:A,0))","v":"幼稚園(幼稚園型認定こども園を含む)"},{"$f":"INDEX(_tmp2!B:B,MATCH(E363,_tmp2!A:A,0))","v":"北海道"},"A101356100010","A1","01","3","1","はまなす幼稚園","紋別郡興部町字興部２０６番地の３","0981601","2020-12-22","","017439",""]
[{"$f":"INDEX(学校種!B:B,MATCH(D364,学校種!A:A,0))","v":"幼稚園(幼稚園型認定こども園を含む)"},{"$f":"INDEX(_tmp2!B:B,MATCH(E364,_tmp2!A:A,0))","v":"北海道"},"A101357800011","A1","01","3","1","認定こども園白老さくら幼稚園","白老郡白老町日の出町３丁目９－４７","0590903","2020-12-22","","017310",""]
[{"$f":"INDEX(学校種!B:B,MATCH(D365,学校種!A:A,0))","v":"幼稚園(幼稚園型認定こども園を含む)"},{"$f":"INDEX(_tmp2!B:B,MATCH(E365,_tmp2!A:A,0))","v":"北海道"},"A101358400013","A1","01","3","1","とうやこ幼稚園","虻田郡洞爺湖町高砂町１２７－９","0495605","2020-12-22","","017617",""]
[{"$f":"INDEX(学校種!B:B,MATCH(D366,学校種!A:A,0))","v":"幼稚園(幼稚園型認定こども園を含む)"},{"$f":"INDEX(_tmp2!B:B,MATCH(E366,_tmp2!A:A,0))","v":"北海道"},"A101360100012","A1","01","3","1","厚賀幼稚園","沙流郡日高町字厚賀町２１７番地１４","0592243","2020-12-22","","017327",""]
[{"$f":"INDEX(学校種!B:B,MATCH(D367,学校種!A:A,0))","v":"幼稚園(幼稚園型認定こども園を含む)"},{"$f":"INDEX(_tmp2!B:B,MATCH(E367,_tmp2!A:A,0))","v":"北海道"},"A101360100021","A1","01","3","1","富川ひばり幼稚園","沙流郡日高町富川北３丁目５－３","0550001","2020-12-22","","017328",""]
[{"$f":"INDEX(学校種!B:B,MATCH(D368,学校種!A:A,0))","v":"幼稚園(幼稚園型認定こども園を含む)"},{"$f":"INDEX(_tmp2!B:B,MATCH(E368,_tmp2!A:A,0))","v":"北海道"},"A101360700016","A1","01","3","1","認定こども園浦河フレンドようちえん","浦河郡浦河町旭町４２の１","0570011","2020-12-22","","017339",""]
[{"$f":"INDEX(学校種!B:B,MATCH(D369,学校種!A:A,0))","v":"幼稚園(幼稚園型認定こども園を含む)"},{"$f":"INDEX(_tmp2!B:B,MATCH(E369,_tmp2!A:A,0))","v":"北海道"},"A101360900014","A1","01","3","1","光の園幼稚園","幌泉郡えりも町字本町３７３番地","0580204","2020-12-22","","017347",""]
[{"$f":"INDEX(学校種!B:B,MATCH(D370,学校種!A:A,0))","v":"幼稚園(幼稚園型認定こども園を含む)"},{"$f":"INDEX(_tmp2!B:B,MATCH(E370,_tmp2!A:A,0))","v":"北海道"},"A101361000011","A1","01","3","1","静内幼稚園","日高郡新ひだか町静内山手町２丁目７番１号","0560024","2020-12-22","","017330",""]
[{"$f":"INDEX(学校種!B:B,MATCH(D371,学校種!A:A,0))","v":"幼稚園(幼稚園型認定こども園を含む)"},{"$f":"INDEX(_tmp2!B:B,MATCH(E371,_tmp2!A:A,0))","v":"北海道"},"A101363100016","A1","01","3","1","共栄台幼稚園","河東郡音更町芝栄台西１１丁目５－１３","0800314","2020-12-22","","016808",""]
[{"$f":"INDEX(学校種!B:B,MATCH(D372,学校種!A:A,0))","v":"幼稚園(幼稚園型認定こども園を含む)"},{"$f":"INDEX(_tmp2!B:B,MATCH(E372,_tmp2!A:A,0))","v":"北海道"},"A101363100025","A1","01","3","1","認定こども園帯広大谷短期大学付属音更大谷幼稚園","河東郡音更町希望が丘３番地３","0800325","2020-12-22","","017619",""]
[{"$f":"INDEX(学校種!B:B,MATCH(D373,学校種!A:A,0))","v":"幼稚園(幼稚園型認定こども園を含む)"},{"$f":"INDEX(_tmp2!B:B,MATCH(E373,_tmp2!A:A,0))","v":"北海道"},"A101363700010","A1","01","3","1","芽室幼稚園","河西郡芽室町東６条３丁目２番地","0820016","2020-12-22","","017390",""]
[{"$f":"INDEX(学校種!B:B,MATCH(D374,学校種!A:A,0))","v":"幼稚園(幼稚園型認定こども園を含む)"},{"$f":"INDEX(_tmp2!B:B,MATCH(E374,_tmp2!A:A,0))","v":"北海道"},"A101363700029","A1","01","3","1","北明やまざと幼稚園","河西郡芽室町字北明西７線１８番地","0820002","2020-12-22","","017607",""]
[{"$f":"INDEX(学校種!B:B,MATCH(D375,学校種!A:A,0))","v":"幼稚園(幼稚園型認定こども園を含む)"},{"$f":"INDEX(_tmp2!B:B,MATCH(E375,_tmp2!A:A,0))","v":"北海道"},"A101364300012","A1","01","3","1","幕別幼稚園","中川郡幕別町札内豊町９番地の１","0890532","2020-12-22","","017496",""]
[{"$f":"INDEX(学校種!B:B,MATCH(D376,学校種!A:A,0))","v":"幼稚園(幼稚園型認定こども園を含む)"},{"$f":"INDEX(_tmp2!B:B,MATCH(E376,_tmp2!A:A,0))","v":"北海道"},"A101364400011","A1","01","3","1","池田カトリック幼稚園","中川郡池田町字西２条８丁目４１","0830022","2020-12-22","","017362",""]
[{"$f":"INDEX(学校種!B:B,MATCH(D377,学校種!A:A,0))","v":"幼稚園(幼稚園型認定こども園を含む)"},{"$f":"INDEX(_tmp2!B:B,MATCH(E377,_tmp2!A:A,0))","v":"北海道"},"A101366100019","A1","01","3","1","白梅幼稚園","釧路郡釧路町中央８丁目９１番","0880606","2020-12-22","","017556",""]
[{"$f":"INDEX(学校種!B:B,MATCH(D378,学校種!A:A,0))","v":"幼稚園(幼稚園型認定こども園を含む)"},{"$f":"INDEX(_tmp2!B:B,MATCH(E378,_tmp2!A:A,0))","v":"北海道"},"A101366100028","A1","01","3","1","釧路めぐみ幼稚園","釧路郡釧路町雪里１番地４","0880600","2020-12-22","","017653",""]
[{"$f":"INDEX(学校種!B:B,MATCH(D379,学校種!A:A,0))","v":"幼稚園(幼稚園型認定こども園を含む)"},{"$f":"INDEX(_tmp2!B:B,MATCH(E379,_tmp2!A:A,0))","v":"北海道"},"A101366200018","A1","01","3","1","厚岸カトリック幼稚園","厚岸郡厚岸町港町１丁目４番","0881128","2020-12-22","","017420",""]
[{"$f":"INDEX(学校種!B:B,MATCH(D380,学校種!A:A,0))","v":"幼稚園(幼稚園型認定こども園を含む)"},{"$f":"INDEX(_tmp2!B:B,MATCH(E380,_tmp2!A:A,0))","v":"北海道"},"A101366200027","A1","01","3","1","厚岸さくら幼稚園","厚岸郡厚岸町宮園３丁目１１５番地","0881124","2020-12-22","","017421",""]
[{"$f":"INDEX(学校種!B:B,MATCH(D381,学校種!A:A,0))","v":"幼稚園(幼稚園型認定こども園を含む)"},{"$f":"INDEX(_tmp2!B:B,MATCH(E381,_tmp2!A:A,0))","v":"北海道"},"A101369100013","A1","01","3","1","認定こども園別海くるみ幼稚園","野付郡別海町別海旭町２０６","0860202","2020-12-22","","017391",""]
[{"$f":"INDEX(学校種!B:B,MATCH(D382,学校種!A:A,0))","v":"幼稚園(幼稚園型認定こども園を含む)"},{"$f":"INDEX(_tmp2!B:B,MATCH(E382,_tmp2!A:A,0))","v":"北海道"},"A101369100059","A1","01","3","1","認定こども園別海愛光幼稚園","野付郡別海町別海常盤町２６４－２","0860205","2020-12-22","","017578",""]
[{"$f":"INDEX(学校種!B:B,MATCH(D383,学校種!A:A,0))","v":"幼稚園(幼稚園型認定こども園を含む)"},{"$f":"INDEX(_tmp2!B:B,MATCH(E383,_tmp2!A:A,0))","v":"北海道"},"A101369200012","A1","01","3","1","認定こども園中標津カトリック幼稚園","標津郡中標津町東１条南３丁目１番地２","0861001","2020-12-22","","017382",""]
[{"$f":"INDEX(学校種!B:B,MATCH(D384,学校種!A:A,0))","v":"幼稚園(幼稚園型認定こども園を含む)"},{"$f":"INDEX(_tmp2!B:B,MATCH(E384,_tmp2!A:A,0))","v":"北海道"},"A101369200021","A1","01","3","1","中標津愛光幼稚園","標津郡中標津町西５条北３丁目８番地","0861125","2020-12-22","","017383",""]
[{"$f":"INDEX(学校種!B:B,MATCH(D385,学校種!A:A,0))","v":"幼稚園(幼稚園型認定こども園を含む)"},{"$f":"INDEX(_tmp2!B:B,MATCH(E385,_tmp2!A:A,0))","v":"北海道"},"A101369200030","A1","01","3","1","中標津ひかり幼稚園","標津郡中標津町東１１条南７丁目","0861011","2020-12-22","","017384",""]
[{"$f":"INDEX(学校種!B:B,MATCH(D386,学校種!A:A,0))","v":"幼稚園(幼稚園型認定こども園を含む)"},{"$f":"INDEX(_tmp2!B:B,MATCH(E386,_tmp2!A:A,0))","v":"北海道"},"A101369200058","A1","01","3","1","中標津第二ひかり幼稚園","標津郡中標津町東１４条北６丁目","0861054","2020-12-22","","017591",""]
[{"$f":"INDEX(学校種!B:B,MATCH(D387,学校種!A:A,0))","v":"幼保連携型認定こども園"},{"$f":"INDEX(_tmp2!B:B,MATCH(E387,_tmp2!A:A,0))","v":"北海道"},"A201211000017","A2","01","2","1","札幌市立認定こども園にじいろ","札幌市清田区真栄２条１丁目１１－２０","0040832","2020-12-22","","01A025",""]
[{"$f":"INDEX(学校種!B:B,MATCH(D388,学校種!A:A,0))","v":"幼保連携型認定こども園"},{"$f":"INDEX(_tmp2!B:B,MATCH(E388,_tmp2!A:A,0))","v":"北海道"},"A201222400010","A2","01","2","1","千歳市立認定こども園ひまわり","千歳市新富２丁目４－６０","0660037","2020-12-22","","01A070",""]
[{"$f":"INDEX(学校種!B:B,MATCH(D389,学校種!A:A,0))","v":"幼保連携型認定こども園"},{"$f":"INDEX(_tmp2!B:B,MATCH(E389,_tmp2!A:A,0))","v":"北海道"},"A201222400029","A2","01","2","1","千歳市立認定こども園つばさ","千歳市花園４丁目３－１","0660028","2020-12-22","","01A071",""]
[{"$f":"INDEX(学校種!B:B,MATCH(D390,学校種!A:A,0))","v":"幼保連携型認定こども園"},{"$f":"INDEX(_tmp2!B:B,MATCH(E390,_tmp2!A:A,0))","v":"北海道"},"A201222700017","A2","01","2","1","歌志内市立歌志内認定こども園","歌志内市字文珠２００番地","0730407","2020-12-22","","01A228",""]
[{"$f":"INDEX(学校種!B:B,MATCH(D391,学校種!A:A,0))","v":"幼保連携型認定こども園"},{"$f":"INDEX(_tmp2!B:B,MATCH(E391,_tmp2!A:A,0))","v":"北海道"},"A201236300011","A2","01","2","1","厚沢部町認定こども園はぜる","檜山郡厚沢部町赤沼町３３７番地１","0431111","2020-12-22","","01A234",""]
[{"$f":"INDEX(学校種!B:B,MATCH(D392,学校種!A:A,0))","v":"幼保連携型認定こども園"},{"$f":"INDEX(_tmp2!B:B,MATCH(E392,_tmp2!A:A,0))","v":"北海道"},"A201237100011","A2","01","2","1","せたな町立認定こども園きたひやま","久遠郡せたな町北檜山区豊岡２５９番地１","0494514","2020-12-22","","01A191",""]
[{"$f":"INDEX(学校種!B:B,MATCH(D393,学校種!A:A,0))","v":"幼保連携型認定こども園"},{"$f":"INDEX(_tmp2!B:B,MATCH(E393,_tmp2!A:A,0))","v":"北海道"},"A201246900014","A2","01","2","1","認定こども園美深町幼児センター","中川郡美深町字西１条北５丁目４番地","0982251","2020-12-22","","01A023",""]
[{"$f":"INDEX(学校種!B:B,MATCH(D394,学校種!A:A,0))","v":"幼保連携型認定こども園"},{"$f":"INDEX(_tmp2!B:B,MATCH(E394,_tmp2!A:A,0))","v":"北海道"},"A201247100010","A2","01","2","1","認定こども園中川町幼児センター","中川郡中川町字中川２１７番地２","0982802","2020-12-22","","01A021",""]
[{"$f":"INDEX(学校種!B:B,MATCH(D395,学校種!A:A,0))","v":"幼保連携型認定こども園"},{"$f":"INDEX(_tmp2!B:B,MATCH(E395,_tmp2!A:A,0))","v":"北海道"},"A201248100018","A2","01","2","1","増毛町立認定こども園あっぷる","増毛郡増毛町南畠中町２丁目３５番地の２","0770224","2020-12-22","","01A236",""]
[{"$f":"INDEX(学校種!B:B,MATCH(D396,学校種!A:A,0))","v":"幼保連携型認定こども園"},{"$f":"INDEX(_tmp2!B:B,MATCH(E396,_tmp2!A:A,0))","v":"北海道"},"A201251200011","A2","01","2","1","浜頓別こども園すまいる","枝幸郡浜頓別町北１条５丁目１番地","0985711","2020-12-22","","01A050",""]
[{"$f":"INDEX(学校種!B:B,MATCH(D397,学校種!A:A,0))","v":"幼保連携型認定こども園"},{"$f":"INDEX(_tmp2!B:B,MATCH(E397,_tmp2!A:A,0))","v":"北海道"},"A201254900018","A2","01","2","1","訓子府町認定こども園","常呂郡訓子府町旭町75番地","0991432","2020-12-22","","01A113",""]
[{"$f":"INDEX(学校種!B:B,MATCH(D398,学校種!A:A,0))","v":"幼保連携型認定こども園"},{"$f":"INDEX(_tmp2!B:B,MATCH(E398,_tmp2!A:A,0))","v":"北海道"},"A201256000012","A2","01","2","1","認定こども園滝上町こども園","紋別郡滝上町字サクルー原野基線９番地","0995604","2020-12-22","","01A044",""]
[{"$f":"INDEX(学校種!B:B,MATCH(D399,学校種!A:A,0))","v":"幼保連携型認定こども園"},{"$f":"INDEX(_tmp2!B:B,MATCH(E399,_tmp2!A:A,0))","v":"北海道"},"A201260400010","A2","01","2","1","新冠町立認定こども園ド・レ・ミ","新冠郡新冠町字東町１８番地２","0592404","2020-12-22","","01A040",""]
[{"$f":"INDEX(学校種!B:B,MATCH(D400,学校種!A:A,0))","v":"幼保連携型認定こども園"},{"$f":"INDEX(_tmp2!B:B,MATCH(E400,_tmp2!A:A,0))","v":"北海道"},"A201260800016","A2","01","2","1","認定こども園様似町立幼児センター","様似郡様似町錦町１番地１、８、９","0580015","2020-12-22","","01A032",""]
[{"$f":"INDEX(学校種!B:B,MATCH(D401,学校種!A:A,0))","v":"幼保連携型認定こども園"},{"$f":"INDEX(_tmp2!B:B,MATCH(E401,_tmp2!A:A,0))","v":"北海道"},"A201263200016","A2","01","2","1","士幌町認定こども園","河東郡士幌町字士幌西１線１７２番地","0801217","2020-12-22","","01A024",""]
[{"$f":"INDEX(学校種!B:B,MATCH(D402,学校種!A:A,0))","v":"幼保連携型認定こども園"},{"$f":"INDEX(_tmp2!B:B,MATCH(E402,_tmp2!A:A,0))","v":"北海道"},"A201263300015","A2","01","2","1","上士幌町認定こども園","河東郡上士幌町字上士幌東３線２３８番地","0801408","2020-12-22","","01A079",""]
[{"$f":"INDEX(学校種!B:B,MATCH(D403,学校種!A:A,0))","v":"幼保連携型認定こども園"},{"$f":"INDEX(_tmp2!B:B,MATCH(E403,_tmp2!A:A,0))","v":"北海道"},"A201263400014","A2","01","2","1","鹿追町立認定こども園しかおい","河東郡鹿追町緑町３丁目1番地、仲町１丁目３１番地","0000081","2020-12-22","","01A080",""]
[{"$f":"INDEX(学校種!B:B,MATCH(D404,学校種!A:A,0))","v":"幼保連携型認定こども園"},{"$f":"INDEX(_tmp2!B:B,MATCH(E404,_tmp2!A:A,0))","v":"北海道"},"A201269300012","A2","01","2","1","標津認定こども園","標津郡標津町南２条西４丁目１番３号","0861652","2020-12-22","","01A160",""]
[{"$f":"INDEX(学校種!B:B,MATCH(D405,学校種!A:A,0))","v":"幼保連携型認定こども園"},{"$f":"INDEX(_tmp2!B:B,MATCH(E405,_tmp2!A:A,0))","v":"北海道"},"A201269300021","A2","01","2","1","川北認定こども園","標津郡標津町字川北９３番地２１","0861451","2020-12-22","","01A159",""]
[{"$f":"INDEX(学校種!B:B,MATCH(D406,学校種!A:A,0))","v":"幼保連携型認定こども園"},{"$f":"INDEX(_tmp2!B:B,MATCH(E406,_tmp2!A:A,0))","v":"北海道"},"A201310100016","A2","01","3","1","認定こども園カトリック聖園こどもの家","札幌市中央区北１条東６丁目１０－４１","0600031","2020-12-22","","01A067",""]
[{"$f":"INDEX(学校種!B:B,MATCH(D407,学校種!A:A,0))","v":"幼保連携型認定こども園"},{"$f":"INDEX(_tmp2!B:B,MATCH(E407,_tmp2!A:A,0))","v":"北海道"},"A201310100025","A2","01","3","1","認定こども園札幌大谷幼稚園","札幌市中央区南７条西７丁目２９０－２","0640807","2020-12-22","","01A161",""]
[{"$f":"INDEX(学校種!B:B,MATCH(D408,学校種!A:A,0))","v":"幼保連携型認定こども園"},{"$f":"INDEX(_tmp2!B:B,MATCH(E408,_tmp2!A:A,0))","v":"北海道"},"A201310100034","A2","01","3","1","認定こども園大谷オアシス保育園","札幌市中央区大通西２１丁目３－８","0640820","2020-12-22","","01A216",""]
[{"$f":"INDEX(学校種!B:B,MATCH(D409,学校種!A:A,0))","v":"幼保連携型認定こども園"},{"$f":"INDEX(_tmp2!B:B,MATCH(E409,_tmp2!A:A,0))","v":"北海道"},"A201310100043","A2","01",3,1,"認定こども園幌西そらいろ保育園","札幌市中央区南９条西２０丁目２－２２","0640809","2021-05-27","","01A268",""]
[{"$f":"INDEX(学校種!B:B,MATCH(D410,学校種!A:A,0))","v":"幼保連携型認定こども園"},{"$f":"INDEX(_tmp2!B:B,MATCH(E410,_tmp2!A:A,0))","v":"北海道"},"A201310100052","A2","01",3,1,"認定こども園宮の森メープル保育園","札幌市中央区宮の森４条１０丁目１－７","0640954","2021-05-27","","01A269",""]
[{"$f":"INDEX(学校種!B:B,MATCH(D411,学校種!A:A,0))","v":"幼保連携型認定こども園"},{"$f":"INDEX(_tmp2!B:B,MATCH(E411,_tmp2!A:A,0))","v":"北海道"},"A201310200015","A2","01","3","1","認定こども園太陽こころ幼稚園","札幌市北区屯田９条３丁目３番９号","0020859","2020-12-22","","01A051",""]
[{"$f":"INDEX(学校種!B:B,MATCH(D412,学校種!A:A,0))","v":"幼保連携型認定こども園"},{"$f":"INDEX(_tmp2!B:B,MATCH(E412,_tmp2!A:A,0))","v":"北海道"},"A201310200024","A2","01","3","1","認定こども園ひまわり","札幌市北区拓北６条２丁目６番１２号、８番７号","0028066","2020-12-22","","01A060",""]
[{"$f":"INDEX(学校種!B:B,MATCH(D413,学校種!A:A,0))","v":"幼保連携型認定こども園"},{"$f":"INDEX(_tmp2!B:B,MATCH(E413,_tmp2!A:A,0))","v":"北海道"},"A201310200033","A2","01","3","1","認定こども園こうほく","札幌市北区新琴似１２条１０丁目３－１７","0010912","2020-12-22","","01A066",""]
[{"$f":"INDEX(学校種!B:B,MATCH(D414,学校種!A:A,0))","v":"幼保連携型認定こども園"},{"$f":"INDEX(_tmp2!B:B,MATCH(E414,_tmp2!A:A,0))","v":"北海道"},"A201310200042","A2","01","3","1","こども園ソレイユ","札幌市北区拓北３条２丁目７－１２","0028063","2020-12-22","","01A084",""]
[{"$f":"INDEX(学校種!B:B,MATCH(D415,学校種!A:A,0))","v":"幼保連携型認定こども園"},{"$f":"INDEX(_tmp2!B:B,MATCH(E415,_tmp2!A:A,0))","v":"北海道"},"A201310200051","A2","01","3","1","認定こども園あいの里","札幌市北区あいの里４条６丁目２－５","0028074","2020-12-22","","01A114",""]
[{"$f":"INDEX(学校種!B:B,MATCH(D416,学校種!A:A,0))","v":"幼保連携型認定こども園"},{"$f":"INDEX(_tmp2!B:B,MATCH(E416,_tmp2!A:A,0))","v":"北海道"},"A201310200060","A2","01","3","1","あいの里大藤幼稚園","札幌市北区あいの里３条３丁目１－２","0028073","2020-12-22","","01A162",""]
[{"$f":"INDEX(学校種!B:B,MATCH(D417,学校種!A:A,0))","v":"幼保連携型認定こども園"},{"$f":"INDEX(_tmp2!B:B,MATCH(E417,_tmp2!A:A,0))","v":"北海道"},"A201310200079","A2","01","3","1","認定こども園はなぞの","札幌市北区新川１条２丁目８－１０","0010921","2020-12-22","","01A193",""]
[{"$f":"INDEX(学校種!B:B,MATCH(D418,学校種!A:A,0))","v":"幼保連携型認定こども園"},{"$f":"INDEX(_tmp2!B:B,MATCH(E418,_tmp2!A:A,0))","v":"北海道"},"A201310200088","A2","01","3","1","しんことに清香こども園","札幌市北区新琴似１１条５丁目１－３０","0010911","2020-12-22","","01A194",""]
[{"$f":"INDEX(学校種!B:B,MATCH(D419,学校種!A:A,0))","v":"幼保連携型認定こども園"},{"$f":"INDEX(_tmp2!B:B,MATCH(E419,_tmp2!A:A,0))","v":"北海道"},"A201310200097","A2","01","3","1","新川西さくらこ認定こども園","札幌市北区新川西１条４丁目２－４５","0010931","2020-12-22","","01A217",""]
[{"$f":"INDEX(学校種!B:B,MATCH(D420,学校種!A:A,0))","v":"幼保連携型認定こども園"},{"$f":"INDEX(_tmp2!B:B,MATCH(E420,_tmp2!A:A,0))","v":"北海道"},"A201310200104","A2","01","3","1","認定こども園太平あずさ保育園","札幌市北区太平４条３丁目２－３３","0028004","2020-12-22","","01A218",""]
[{"$f":"INDEX(学校種!B:B,MATCH(D421,学校種!A:A,0))","v":"幼保連携型認定こども園"},{"$f":"INDEX(_tmp2!B:B,MATCH(E421,_tmp2!A:A,0))","v":"北海道"},"A201310200113","A2","01","3","1","認定こども園メルシー学院","札幌市北区屯田５条９丁目１－４６－６","0020855","2020-12-22","","01A219",""]
[{"$f":"INDEX(学校種!B:B,MATCH(D422,学校種!A:A,0))","v":"幼保連携型認定こども園"},{"$f":"INDEX(_tmp2!B:B,MATCH(E422,_tmp2!A:A,0))","v":"北海道"},"A201310200122","A2","01","3","1","創成札幌こども園","札幌市北区北１５条西１丁目２－１８","0010015","2020-12-22","","01A247",""]
[{"$f":"INDEX(学校種!B:B,MATCH(D423,学校種!A:A,0))","v":"幼保連携型認定こども園"},{"$f":"INDEX(_tmp2!B:B,MATCH(E423,_tmp2!A:A,0))","v":"北海道"},"A201310200131","A2","01",3,1,"幼保連携型認定こども園ＣｉｎｑＰｅｒｌｅｓ幼稚園","札幌市北区篠路７条６丁目３－８","0028027","2021-05-27","","01A270",""]
[{"$f":"INDEX(学校種!B:B,MATCH(D424,学校種!A:A,0))","v":"幼保連携型認定こども園"},{"$f":"INDEX(_tmp2!B:B,MATCH(E424,_tmp2!A:A,0))","v":"北海道"},"A201310300014","A2","01","3","1","認定こども園　札幌愛珠","札幌市東区北38条東9丁目1-38","0070838","2020-12-22","","01A053",""]
[{"$f":"INDEX(学校種!B:B,MATCH(D425,学校種!A:A,0))","v":"幼保連携型認定こども園"},{"$f":"INDEX(_tmp2!B:B,MATCH(E425,_tmp2!A:A,0))","v":"北海道"},"A201310300023","A2","01","3","1","幼保連携型認定こども園さつなえのもり","札幌市東区東苗穂８条３丁目３－２０、２１","0070808","2020-12-22","","01A055",""]
[{"$f":"INDEX(学校種!B:B,MATCH(D426,学校種!A:A,0))","v":"幼保連携型認定こども園"},{"$f":"INDEX(_tmp2!B:B,MATCH(E426,_tmp2!A:A,0))","v":"北海道"},"A201310300032","A2","01","3","1","幼保連携型認定こども園せいめいのもり","札幌市東区北１０条東１４丁目２－８","0650010","2020-12-22","","01A115",""]
[{"$f":"INDEX(学校種!B:B,MATCH(D427,学校種!A:A,0))","v":"幼保連携型認定こども園"},{"$f":"INDEX(_tmp2!B:B,MATCH(E427,_tmp2!A:A,0))","v":"北海道"},"A201310300041","A2","01","3","1","幼保連携型認定こども園さっぽろ夢","札幌市東区北３６条東１７丁目１－３０","0070836","2020-12-22","","01A116",""]
[{"$f":"INDEX(学校種!B:B,MATCH(D428,学校種!A:A,0))","v":"幼保連携型認定こども園"},{"$f":"INDEX(_tmp2!B:B,MATCH(E428,_tmp2!A:A,0))","v":"北海道"},"A201310300050","A2","01","3","1","幼保連携型認定こども園おかだまのもり","札幌市東区北３７条東２７丁目１－１","0070837","2020-12-22","","01A117",""]
[{"$f":"INDEX(学校種!B:B,MATCH(D429,学校種!A:A,0))","v":"幼保連携型認定こども園"},{"$f":"INDEX(_tmp2!B:B,MATCH(E429,_tmp2!A:A,0))","v":"北海道"},"A201310300069","A2","01","3","1","幼保連携型認定こども園しらゆき夢","札幌市東区北４６条東１４丁目２－１０","0070846","2020-12-22","","01A118",""]
[{"$f":"INDEX(学校種!B:B,MATCH(D430,学校種!A:A,0))","v":"幼保連携型認定こども園"},{"$f":"INDEX(_tmp2!B:B,MATCH(E430,_tmp2!A:A,0))","v":"北海道"},"A201310300078","A2","01","3","1","幼保連携型認定こども園ふしこ幼稚園","札幌市東区本町１条５丁目１－１５","0650041","2020-12-22","","01A195",""]
[{"$f":"INDEX(学校種!B:B,MATCH(D431,学校種!A:A,0))","v":"幼保連携型認定こども園"},{"$f":"INDEX(_tmp2!B:B,MATCH(E431,_tmp2!A:A,0))","v":"北海道"},"A201310300087","A2","01","3","1","幼保連携型認定こども園もえれのもり","札幌市東区東苗穂１１条２丁目７－１","0070811","2020-12-22","","01A196",""]
[{"$f":"INDEX(学校種!B:B,MATCH(D432,学校種!A:A,0))","v":"幼保連携型認定こども園"},{"$f":"INDEX(_tmp2!B:B,MATCH(E432,_tmp2!A:A,0))","v":"北海道"},"A201310300096","A2","01","3","1","幼保連携型認定こども園東苗穂スパークル園","札幌市東区東苗穂１２条４丁目","0070812","2020-12-22","","01A248",""]
[{"$f":"INDEX(学校種!B:B,MATCH(D433,学校種!A:A,0))","v":"幼保連携型認定こども園"},{"$f":"INDEX(_tmp2!B:B,MATCH(E433,_tmp2!A:A,0))","v":"北海道"},"A201310300103","A2","01","3","1","認定こども園栄光幼稚園","札幌市東区北４４条東２丁目","0070844","2020-12-22","","01A249",""]
[{"$f":"INDEX(学校種!B:B,MATCH(D434,学校種!A:A,0))","v":"幼保連携型認定こども園"},{"$f":"INDEX(_tmp2!B:B,MATCH(E434,_tmp2!A:A,0))","v":"北海道"},"A201310400013","A2","01","3","1","東橋いちい認定こども園","札幌市白石区菊水８条２丁目１番１号","0030808","2020-12-22","","01A045",""]
[{"$f":"INDEX(学校種!B:B,MATCH(D435,学校種!A:A,0))","v":"幼保連携型認定こども園"},{"$f":"INDEX(_tmp2!B:B,MATCH(E435,_tmp2!A:A,0))","v":"北海道"},"A201310400022","A2","01","3","1","認定こども園幌東","札幌市白石区本郷通３丁目北３番１０号、１１号","0030025","2020-12-22","","01A058",""]
[{"$f":"INDEX(学校種!B:B,MATCH(D436,学校種!A:A,0))","v":"幼保連携型認定こども園"},{"$f":"INDEX(_tmp2!B:B,MATCH(E436,_tmp2!A:A,0))","v":"北海道"},"A201310400031","A2","01","3","1","菊水いちい認定こども園","札幌市白石区菊水元町１条１丁目４番１８号","0030821","2020-12-22","","01A064",""]
[{"$f":"INDEX(学校種!B:B,MATCH(D437,学校種!A:A,0))","v":"幼保連携型認定こども園"},{"$f":"INDEX(_tmp2!B:B,MATCH(E437,_tmp2!A:A,0))","v":"北海道"},"A201310400040","A2","01","3","1","認定こども園北都","札幌市白石区北郷４条１１丁目２０－７","0030834","2020-12-22","","01A119",""]
[{"$f":"INDEX(学校種!B:B,MATCH(D438,学校種!A:A,0))","v":"幼保連携型認定こども園"},{"$f":"INDEX(_tmp2!B:B,MATCH(E438,_tmp2!A:A,0))","v":"北海道"},"A201310400059","A2","01","3","1","認定こども園北郷あゆみ幼稚園","札幌市白石区北郷３条３丁目８－１５","0030833","2020-12-22","","01A163",""]
[{"$f":"INDEX(学校種!B:B,MATCH(D439,学校種!A:A,0))","v":"幼保連携型認定こども園"},{"$f":"INDEX(_tmp2!B:B,MATCH(E439,_tmp2!A:A,0))","v":"北海道"},"A201310400068","A2","01","3","1","北都幼稚園","札幌市白石区川下７４９番地５５","0030869","2020-12-22","","01A164",""]
[{"$f":"INDEX(学校種!B:B,MATCH(D440,学校種!A:A,0))","v":"幼保連携型認定こども園"},{"$f":"INDEX(_tmp2!B:B,MATCH(E440,_tmp2!A:A,0))","v":"北海道"},"A201310400077","A2","01","3","1","北郷ピノキオ認定こども園","札幌市白石区北郷２条６丁目５－１２","0030832","2020-12-22","","01A165",""]
[{"$f":"INDEX(学校種!B:B,MATCH(D441,学校種!A:A,0))","v":"幼保連携型認定こども園"},{"$f":"INDEX(_tmp2!B:B,MATCH(E441,_tmp2!A:A,0))","v":"北海道"},"A201310400086","A2","01","3","1","飛翔認定こども園","札幌市白石区東札幌１条４丁目７－１９","0030001","2020-12-22","","01A197",""]
[{"$f":"INDEX(学校種!B:B,MATCH(D442,学校種!A:A,0))","v":"幼保連携型認定こども園"},{"$f":"INDEX(_tmp2!B:B,MATCH(E442,_tmp2!A:A,0))","v":"北海道"},"A201310400095","A2","01","3","1","友愛北白石認定こども園","札幌市白石区米里２条４丁目２－１６","0030872","2020-12-22","","01A198",""]
[{"$f":"INDEX(学校種!B:B,MATCH(D443,学校種!A:A,0))","v":"幼保連携型認定こども園"},{"$f":"INDEX(_tmp2!B:B,MATCH(E443,_tmp2!A:A,0))","v":"北海道"},"A201310400102","A2","01","3","1","認定こども園ピッコリーノ学院","札幌市白石区北郷１条６丁目１－２５","0030831","2020-12-22","","01A220",""]
[{"$f":"INDEX(学校種!B:B,MATCH(D444,学校種!A:A,0))","v":"幼保連携型認定こども園"},{"$f":"INDEX(_tmp2!B:B,MATCH(E444,_tmp2!A:A,0))","v":"北海道"},"A201310400111","A2","01","3","1","認定こども園北郷すずらん","札幌市白石区北郷７条３丁目１２－２５","0030837","2020-12-22","","01A221",""]
[{"$f":"INDEX(学校種!B:B,MATCH(D445,学校種!A:A,0))","v":"幼保連携型認定こども園"},{"$f":"INDEX(_tmp2!B:B,MATCH(E445,_tmp2!A:A,0))","v":"北海道"},"A201310400120","A2","01","3","1","双葉こども園","札幌市白石区栄通１５丁目１５－１８","0030021","2020-12-22","","01A222",""]
[{"$f":"INDEX(学校種!B:B,MATCH(D446,学校種!A:A,0))","v":"幼保連携型認定こども園"},{"$f":"INDEX(_tmp2!B:B,MATCH(E446,_tmp2!A:A,0))","v":"北海道"},"A201310400139","A2","01",3,1,"幼保連携型認定こども園北郷札幌幼稚園","札幌市白石区北郷４条５丁目６－１２","0030834","2021-05-27","","01A271",""]
[{"$f":"INDEX(学校種!B:B,MATCH(D447,学校種!A:A,0))","v":"幼保連携型認定こども園"},{"$f":"INDEX(_tmp2!B:B,MATCH(E447,_tmp2!A:A,0))","v":"北海道"},"A201310500012","A2","01","3","1","認定こども園まなび","札幌市豊平区西岡３条５丁目１番１号","0620033","2020-12-22","","01A035",""]
[{"$f":"INDEX(学校種!B:B,MATCH(D448,学校種!A:A,0))","v":"幼保連携型認定こども園"},{"$f":"INDEX(_tmp2!B:B,MATCH(E448,_tmp2!A:A,0))","v":"北海道"},"A201310500021","A2","01","3","1","こども園・ひかりのこ　さっぽろ","札幌市豊平区月寒東４条９丁目１－１１","0620054","2020-12-22","","01A122",""]
[{"$f":"INDEX(学校種!B:B,MATCH(D449,学校種!A:A,0))","v":"幼保連携型認定こども園"},{"$f":"INDEX(_tmp2!B:B,MATCH(E449,_tmp2!A:A,0))","v":"北海道"},"A201310500030","A2","01","3","1","さっぽろこども園","札幌市豊平区豊平６条３丁目６－３５","0620906","2020-12-22","","01A199",""]
[{"$f":"INDEX(学校種!B:B,MATCH(D450,学校種!A:A,0))","v":"幼保連携型認定こども園"},{"$f":"INDEX(_tmp2!B:B,MATCH(E450,_tmp2!A:A,0))","v":"北海道"},"A201310500049","A2","01","3","1","東月寒にれこども園","札幌市豊平区月寒東３条１６丁目２－３６","0620053","2020-12-22","","01A223",""]
[{"$f":"INDEX(学校種!B:B,MATCH(D451,学校種!A:A,0))","v":"幼保連携型認定こども園"},{"$f":"INDEX(_tmp2!B:B,MATCH(E451,_tmp2!A:A,0))","v":"北海道"},"A201310500058","A2","01","3","1","にれ第２こども園","札幌市豊平区月寒東５条１６丁目８－１４","0620055","2020-12-22","","01A224",""]
[{"$f":"INDEX(学校種!B:B,MATCH(D452,学校種!A:A,0))","v":"幼保連携型認定こども園"},{"$f":"INDEX(_tmp2!B:B,MATCH(E452,_tmp2!A:A,0))","v":"北海道"},"A201310500067","A2","01","3","1","認定こども園ひらぎし幼稚園","札幌市豊平区平岸３条１２丁目３－９","0620933","2020-12-22","","01A250",""]
[{"$f":"INDEX(学校種!B:B,MATCH(D453,学校種!A:A,0))","v":"幼保連携型認定こども園"},{"$f":"INDEX(_tmp2!B:B,MATCH(E453,_tmp2!A:A,0))","v":"北海道"},"A201310500076","A2","01",3,1,"認定こども園月寒そらいろ保育園","札幌市豊平区月寒西４条６丁目４－１","0620054","2021-05-27","","01A272",""]
[{"$f":"INDEX(学校種!B:B,MATCH(D454,学校種!A:A,0))","v":"幼保連携型認定こども園"},{"$f":"INDEX(_tmp2!B:B,MATCH(E454,_tmp2!A:A,0))","v":"北海道"},"A201310600011","A2","01","3","1","認定こども園そらいろ","札幌市南区澄川６条１１丁目２－１０","0050006","2020-12-22","","01A046",""]
[{"$f":"INDEX(学校種!B:B,MATCH(D455,学校種!A:A,0))","v":"幼保連携型認定こども園"},{"$f":"INDEX(_tmp2!B:B,MATCH(E455,_tmp2!A:A,0))","v":"北海道"},"A201310600020","A2","01","3","1","幼保連携型認定こども園澄川ひろのぶ保育園","札幌市南区澄川２条１丁目３－１","0050002","2020-12-22","","01A202",""]
[{"$f":"INDEX(学校種!B:B,MATCH(D456,学校種!A:A,0))","v":"幼保連携型認定こども園"},{"$f":"INDEX(_tmp2!B:B,MATCH(E456,_tmp2!A:A,0))","v":"北海道"},"A201310600039","A2","01","3","1","光塩学園女子短期大学附属認定こども園","札幌市南区真駒内上町３丁目１－１","0050012","2020-12-22","","01A203",""]
[{"$f":"INDEX(学校種!B:B,MATCH(D457,学校種!A:A,0))","v":"幼保連携型認定こども園"},{"$f":"INDEX(_tmp2!B:B,MATCH(E457,_tmp2!A:A,0))","v":"北海道"},"A201310600048","A2","01",3,1,"幼保連携型認定こども園ときわみなみのこどもえん","札幌市南区真駒内３８０番１８","0050861","2021-05-27","","01A273",""]
[{"$f":"INDEX(学校種!B:B,MATCH(D458,学校種!A:A,0))","v":"幼保連携型認定こども園"},{"$f":"INDEX(_tmp2!B:B,MATCH(E458,_tmp2!A:A,0))","v":"北海道"},"A201310700010","A2","01","3","1","発寒にこりんこども園","札幌市西区発寒５条３丁目８番１２号","0630825","2020-12-22","","01A062",""]
[{"$f":"INDEX(学校種!B:B,MATCH(D459,学校種!A:A,0))","v":"幼保連携型認定こども園"},{"$f":"INDEX(_tmp2!B:B,MATCH(E459,_tmp2!A:A,0))","v":"北海道"},"A201310700029","A2","01",3,1,"認定こども園西町さつき保育園","札幌市西区西町南１９丁目","0630062","2021-05-27","","01A274",""]
[{"$f":"INDEX(学校種!B:B,MATCH(D460,学校種!A:A,0))","v":"幼保連携型認定こども園"},{"$f":"INDEX(_tmp2!B:B,MATCH(E460,_tmp2!A:A,0))","v":"北海道"},"A201310700038","A2","01",3,1,"認定こども園西野そらいろ保育園","札幌市西区西野４条７丁目１－８","0630034","2021-05-27","","01A275",""]
[{"$f":"INDEX(学校種!B:B,MATCH(D461,学校種!A:A,0))","v":"幼保連携型認定こども園"},{"$f":"INDEX(_tmp2!B:B,MATCH(E461,_tmp2!A:A,0))","v":"北海道"},"A201310800019","A2","01","3","1","認定こども園いちい幼稚園・保育園","札幌市厚別区もみじ台西５丁目３","0040013","2020-12-22","","01A034",""]
[{"$f":"INDEX(学校種!B:B,MATCH(D462,学校種!A:A,0))","v":"幼保連携型認定こども園"},{"$f":"INDEX(_tmp2!B:B,MATCH(E462,_tmp2!A:A,0))","v":"北海道"},"A201310800028","A2","01","3","1","認定こども園新さっぽろ幼稚園・保育園","札幌市厚別区上野幌1条2丁目6-20、2条3丁目6-1","0040032","2020-12-22","","01A054",""]
[{"$f":"INDEX(学校種!B:B,MATCH(D463,学校種!A:A,0))","v":"幼保連携型認定こども園"},{"$f":"INDEX(_tmp2!B:B,MATCH(E463,_tmp2!A:A,0))","v":"北海道"},"A201310800037","A2","01","3","1","認定こども園おおやち","札幌市厚別区大谷地東３丁目５番１１号","0040041","2020-12-22","","01A059",""]
[{"$f":"INDEX(学校種!B:B,MATCH(D464,学校種!A:A,0))","v":"幼保連携型認定こども園"},{"$f":"INDEX(_tmp2!B:B,MATCH(E464,_tmp2!A:A,0))","v":"北海道"},"A201310800046","A2","01","3","1","認定こども園桜台いちい幼稚園・保育園","札幌市厚別区厚別西６１１番地５２０","0040068","2020-12-22","","01A120",""]
[{"$f":"INDEX(学校種!B:B,MATCH(D465,学校種!A:A,0))","v":"幼保連携型認定こども園"},{"$f":"INDEX(_tmp2!B:B,MATCH(E465,_tmp2!A:A,0))","v":"北海道"},"A201310800055","A2","01","3","1","認定こども園厚別さくら木保育園","札幌市厚別区厚別東３条１丁目２－８","0040003","2020-12-22","","01A121",""]
[{"$f":"INDEX(学校種!B:B,MATCH(D466,学校種!A:A,0))","v":"幼保連携型認定こども園"},{"$f":"INDEX(_tmp2!B:B,MATCH(E466,_tmp2!A:A,0))","v":"北海道"},"A201310800064","A2","01","3","1","幼保連携型認定こども園ひばりが丘明星幼稚園","札幌市厚別区厚別中央２条４丁目１－１０","0040052","2020-12-22","","01A166",""]
[{"$f":"INDEX(学校種!B:B,MATCH(D467,学校種!A:A,0))","v":"幼保連携型認定こども園"},{"$f":"INDEX(_tmp2!B:B,MATCH(E467,_tmp2!A:A,0))","v":"北海道"},"A201310800073","A2","01",3,1,"認定こども園第２あつべつ幼稚園","札幌市厚別区厚別西３条４丁目１－５","0040063","2021-05-27","","01A276",""]
[{"$f":"INDEX(学校種!B:B,MATCH(D468,学校種!A:A,0))","v":"幼保連携型認定こども園"},{"$f":"INDEX(_tmp2!B:B,MATCH(E468,_tmp2!A:A,0))","v":"北海道"},"A201310900018","A2","01","3","1","星置ピノキオ認定こども園","札幌市手稲区星置１条１丁目２０－１","0060851","2020-12-22","","01A167",""]
[{"$f":"INDEX(学校種!B:B,MATCH(D469,学校種!A:A,0))","v":"幼保連携型認定こども園"},{"$f":"INDEX(_tmp2!B:B,MATCH(E469,_tmp2!A:A,0))","v":"北海道"},"A201310900027","A2","01","3","1","まえだ認定こども園","札幌市手稲区前田５条７丁目２－１５","0060815","2020-12-22","","01A204",""]
[{"$f":"INDEX(学校種!B:B,MATCH(D470,学校種!A:A,0))","v":"幼保連携型認定こども園"},{"$f":"INDEX(_tmp2!B:B,MATCH(E470,_tmp2!A:A,0))","v":"北海道"},"A201310900036","A2","01","3","1","ていねあすなろ認定こども園","札幌市手稲区曙５条３丁目２－２５","0060835","2020-12-22","","01A205",""]
[{"$f":"INDEX(学校種!B:B,MATCH(D471,学校種!A:A,0))","v":"幼保連携型認定こども園"},{"$f":"INDEX(_tmp2!B:B,MATCH(E471,_tmp2!A:A,0))","v":"北海道"},"A201310900045","A2","01","3","1","幼保連携型認定こども園山王幼稚園","札幌市手稲区曙９条１丁目９－１５","0060839","2020-12-22","","01A225",""]
[{"$f":"INDEX(学校種!B:B,MATCH(D472,学校種!A:A,0))","v":"幼保連携型認定こども園"},{"$f":"INDEX(_tmp2!B:B,MATCH(E472,_tmp2!A:A,0))","v":"北海道"},"A201310900054","A2","01","3","1","認定こども園まつばの杜","札幌市手稲区新発寒５条９丁目３－２４","0060805","2020-12-22","","01A226",""]
[{"$f":"INDEX(学校種!B:B,MATCH(D473,学校種!A:A,0))","v":"幼保連携型認定こども園"},{"$f":"INDEX(_tmp2!B:B,MATCH(E473,_tmp2!A:A,0))","v":"北海道"},"A201310900063","A2","01","3","1","認定こども園ほしおきガーデン星の子幼稚園","札幌市手稲区星置３条８丁目１－１０","0060853","2020-12-22","","01A227",""]
[{"$f":"INDEX(学校種!B:B,MATCH(D474,学校種!A:A,0))","v":"幼保連携型認定こども園"},{"$f":"INDEX(_tmp2!B:B,MATCH(E474,_tmp2!A:A,0))","v":"北海道"},"A201311000024","A2","01","3","1","認定こども園北野しらかば幼稚園・保育園","札幌市清田区北野５条２丁目２－２０","0040865","2020-12-22","","01A069",""]
[{"$f":"INDEX(学校種!B:B,MATCH(D475,学校種!A:A,0))","v":"幼保連携型認定こども園"},{"$f":"INDEX(_tmp2!B:B,MATCH(E475,_tmp2!A:A,0))","v":"北海道"},"A201311000033","A2","01","3","1","アルプス認定こども園","札幌市清田区平岡４条３丁目６－４３","0040874","2020-12-22","","01A123",""]
[{"$f":"INDEX(学校種!B:B,MATCH(D476,学校種!A:A,0))","v":"幼保連携型認定こども園"},{"$f":"INDEX(_tmp2!B:B,MATCH(E476,_tmp2!A:A,0))","v":"北海道"},"A201311000042","A2","01","3","1","花山認定こども園","札幌市清田区里塚緑ヶ丘３丁目８－１","0040805","2020-12-22","","01A200",""]
[{"$f":"INDEX(学校種!B:B,MATCH(D477,学校種!A:A,0))","v":"幼保連携型認定こども園"},{"$f":"INDEX(_tmp2!B:B,MATCH(E477,_tmp2!A:A,0))","v":"北海道"},"A201311000051","A2","01","3","1","認定こども園からまつ保育園","札幌市清田区里塚２条２丁目４－１２","0040802","2020-12-22","","01A201",""]
[{"$f":"INDEX(学校種!B:B,MATCH(D478,学校種!A:A,0))","v":"幼保連携型認定こども園"},{"$f":"INDEX(_tmp2!B:B,MATCH(E478,_tmp2!A:A,0))","v":"北海道"},"A201311000060","A2","01",3,1,"札幌国際大学付属認定こども園","札幌市清田区清田４条２丁目","0048602","2021-05-27","","01A277",""]
[{"$f":"INDEX(学校種!B:B,MATCH(D479,学校種!A:A,0))","v":"幼保連携型認定こども園"},{"$f":"INDEX(_tmp2!B:B,MATCH(E479,_tmp2!A:A,0))","v":"北海道"},"A201311000079","A2","01",3,1,"認定こども園つみき","札幌市清田区里塚１条１丁目１４－８","0040801","2021-05-27","","01A278",""]
[{"$f":"INDEX(学校種!B:B,MATCH(D480,学校種!A:A,0))","v":"幼保連携型認定こども園"},{"$f":"INDEX(_tmp2!B:B,MATCH(E480,_tmp2!A:A,0))","v":"北海道"},"A201320200014","A2","01","3","1","認定こども園 国の華幼稚園","函館市梁川町１９番１７号","0400015","2020-12-22","","01A022",""]
[{"$f":"INDEX(学校種!B:B,MATCH(D481,学校種!A:A,0))","v":"幼保連携型認定こども園"},{"$f":"INDEX(_tmp2!B:B,MATCH(E481,_tmp2!A:A,0))","v":"北海道"},"A201320200023","A2","01","3","1","函館大谷短期大学附属認定こども園","函館市鍛治１丁目２番３号","0410852","2020-12-22","","01A056",""]
[{"$f":"INDEX(学校種!B:B,MATCH(D482,学校種!A:A,0))","v":"幼保連携型認定こども園"},{"$f":"INDEX(_tmp2!B:B,MATCH(E482,_tmp2!A:A,0))","v":"北海道"},"A201320200032","A2","01","3","1","認定こども園函館大谷幼稚園","函館市千代台町１０番１０号","0400013","2020-12-22","","01A124",""]
[{"$f":"INDEX(学校種!B:B,MATCH(D483,学校種!A:A,0))","v":"幼保連携型認定こども園"},{"$f":"INDEX(_tmp2!B:B,MATCH(E483,_tmp2!A:A,0))","v":"北海道"},"A201320200041","A2","01","3","1","認定こども園花園大谷幼稚園","函館市花園町１７番１７号","0410843","2020-12-22","","01A125",""]
[{"$f":"INDEX(学校種!B:B,MATCH(D484,学校種!A:A,0))","v":"幼保連携型認定こども園"},{"$f":"INDEX(_tmp2!B:B,MATCH(E484,_tmp2!A:A,0))","v":"北海道"},"A201320200050","A2","01","3","1","駒止認定こども園","函館市船見町２０番５号","0400055","2020-12-22","","01A126",""]
[{"$f":"INDEX(学校種!B:B,MATCH(D485,学校種!A:A,0))","v":"幼保連携型認定こども園"},{"$f":"INDEX(_tmp2!B:B,MATCH(E485,_tmp2!A:A,0))","v":"北海道"},"A201320200069","A2","01","3","1","亀田認定こども園","函館市亀田町５番１９号","0400072","2020-12-22","","01A127",""]
[{"$f":"INDEX(学校種!B:B,MATCH(D486,学校種!A:A,0))","v":"幼保連携型認定こども園"},{"$f":"INDEX(_tmp2!B:B,MATCH(E486,_tmp2!A:A,0))","v":"北海道"},"A201320200078","A2","01","3","1","はまなす認定こども園","函館市高盛町３０番１６号","0400024","2020-12-22","","01A128",""]
[{"$f":"INDEX(学校種!B:B,MATCH(D487,学校種!A:A,0))","v":"幼保連携型認定こども園"},{"$f":"INDEX(_tmp2!B:B,MATCH(E487,_tmp2!A:A,0))","v":"北海道"},"A201320200087","A2","01","3","1","谷地頭認定こども園","函館市谷地頭町８番１２号","0400046","2020-12-22","","01A129",""]
[{"$f":"INDEX(学校種!B:B,MATCH(D488,学校種!A:A,0))","v":"幼保連携型認定こども園"},{"$f":"INDEX(_tmp2!B:B,MATCH(E488,_tmp2!A:A,0))","v":"北海道"},"A201320200096","A2","01","3","1","中央認定こども園","函館市新川町１番５号","0400032","2020-12-22","","01A130",""]
[{"$f":"INDEX(学校種!B:B,MATCH(D489,学校種!A:A,0))","v":"幼保連携型認定こども園"},{"$f":"INDEX(_tmp2!B:B,MATCH(E489,_tmp2!A:A,0))","v":"北海道"},"A201320200103","A2","01","3","1","ゆりかご認定こども園","函館市中島町３３番１８号","0400014","2020-12-22","","01A132",""]
[{"$f":"INDEX(学校種!B:B,MATCH(D490,学校種!A:A,0))","v":"幼保連携型認定こども園"},{"$f":"INDEX(_tmp2!B:B,MATCH(E490,_tmp2!A:A,0))","v":"北海道"},"A201320200112","A2","01","3","1","駒場認定こども園","函館市駒場町１０番２２号","0420935","2020-12-22","","01A133",""]
[{"$f":"INDEX(学校種!B:B,MATCH(D491,学校種!A:A,0))","v":"幼保連携型認定こども園"},{"$f":"INDEX(_tmp2!B:B,MATCH(E491,_tmp2!A:A,0))","v":"北海道"},"A201320200121","A2","01","3","1","つくし認定こども園","函館市榎本町１６番１７号","0420931","2020-12-22","","01A134",""]
[{"$f":"INDEX(学校種!B:B,MATCH(D492,学校種!A:A,0))","v":"幼保連携型認定こども園"},{"$f":"INDEX(_tmp2!B:B,MATCH(E492,_tmp2!A:A,0))","v":"北海道"},"A201320200130","A2","01","3","1","鍛治さくら認定こども園","函館市鍛治１丁目１１番２１号","0410852","2020-12-22","","01A135",""]
[{"$f":"INDEX(学校種!B:B,MATCH(D493,学校種!A:A,0))","v":"幼保連携型認定こども園"},{"$f":"INDEX(_tmp2!B:B,MATCH(E493,_tmp2!A:A,0))","v":"北海道"},"A201320200149","A2","01","3","1","赤川認定こども園","函館市赤川町１６１番地２","0410804","2020-12-22","","01A136",""]
[{"$f":"INDEX(学校種!B:B,MATCH(D494,学校種!A:A,0))","v":"幼保連携型認定こども園"},{"$f":"INDEX(_tmp2!B:B,MATCH(E494,_tmp2!A:A,0))","v":"北海道"},"A201320200158","A2","01","3","1","南かやべ認定こども園","函館市川汲町１６０１番地１","0411611","2020-12-22","","01A137",""]
[{"$f":"INDEX(学校種!B:B,MATCH(D495,学校種!A:A,0))","v":"幼保連携型認定こども園"},{"$f":"INDEX(_tmp2!B:B,MATCH(E495,_tmp2!A:A,0))","v":"北海道"},"A201320200167","A2","01","3","1","認定こども園第二太陽の子幼稚園","函館市亀田港町１３番５号","0410822","2020-12-22","","01A174",""]
[{"$f":"INDEX(学校種!B:B,MATCH(D496,学校種!A:A,0))","v":"幼保連携型認定こども園"},{"$f":"INDEX(_tmp2!B:B,MATCH(E496,_tmp2!A:A,0))","v":"北海道"},"A201320200176","A2","01","3","1","認定こども園函館ひかり幼稚園","函館市神山３丁目５２番８号","0410832","2020-12-22","","01A175",""]
[{"$f":"INDEX(学校種!B:B,MATCH(D497,学校種!A:A,0))","v":"幼保連携型認定こども園"},{"$f":"INDEX(_tmp2!B:B,MATCH(E497,_tmp2!A:A,0))","v":"北海道"},"A201320200185","A2","01","3","1","認定根崎こども園","函館市高松町４２６番地１","0420952","2020-12-22","","01A211",""]
[{"$f":"INDEX(学校種!B:B,MATCH(D498,学校種!A:A,0))","v":"幼保連携型認定こども園"},{"$f":"INDEX(_tmp2!B:B,MATCH(E498,_tmp2!A:A,0))","v":"北海道"},"A201320200194","A2","01","3","1","認定こども園　ききょう幼稚園","函館市西桔梗町２１８番地４３","0410824","2020-12-22","","01A212",""]
[{"$f":"INDEX(学校種!B:B,MATCH(D499,学校種!A:A,0))","v":"幼保連携型認定こども園"},{"$f":"INDEX(_tmp2!B:B,MATCH(E499,_tmp2!A:A,0))","v":"北海道"},"A201320200201","A2","01","3","1","認定こども園　カトリック湯の川幼稚園","函館市駒場町１４番１０号","0420935","2020-12-22","","01A213",""]
[{"$f":"INDEX(学校種!B:B,MATCH(D500,学校種!A:A,0))","v":"幼保連携型認定こども園"},{"$f":"INDEX(_tmp2!B:B,MATCH(E500,_tmp2!A:A,0))","v":"北海道"},"A201320200210","A2","01","3","1","認定こども園　元町白百合幼稚園","函館市元町１５番３０号","0400054","2020-12-22","","01A214",""]
[{"$f":"INDEX(学校種!B:B,MATCH(D501,学校種!A:A,0))","v":"幼保連携型認定こども園"},{"$f":"INDEX(_tmp2!B:B,MATCH(E501,_tmp2!A:A,0))","v":"北海道"},"A201320200229","A2","01","3","1","函館あおい認定こども園","函館市美原２丁目４６番１０号","0410806","2020-12-22","","01A215",""]
[{"$f":"INDEX(学校種!B:B,MATCH(D502,学校種!A:A,0))","v":"幼保連携型認定こども園"},{"$f":"INDEX(_tmp2!B:B,MATCH(E502,_tmp2!A:A,0))","v":"北海道"},"A201320200238","A2","01","3","1","認定こども園龍谷幼稚園","函館市東川町１２番２４号","0400042","2020-12-22","","01A266",""]
[{"$f":"INDEX(学校種!B:B,MATCH(D503,学校種!A:A,0))","v":"幼保連携型認定こども園"},{"$f":"INDEX(_tmp2!B:B,MATCH(E503,_tmp2!A:A,0))","v":"北海道"},"A201320200247","A2","01",3,1,"認定こども園太陽の子幼稚園","函館市富岡町１丁目４２番１２号","0410811","2021-05-27","","01A279",""]
[{"$f":"INDEX(学校種!B:B,MATCH(D504,学校種!A:A,0))","v":"幼保連携型認定こども園"},{"$f":"INDEX(_tmp2!B:B,MATCH(E504,_tmp2!A:A,0))","v":"北海道"},"A201320200256","A2","01",3,1,"函館花園認定こども園","函館市花園町３２番１号","0410843","2021-05-27","","01A280",""]
[{"$f":"INDEX(学校種!B:B,MATCH(D505,学校種!A:A,0))","v":"幼保連携型認定こども園"},{"$f":"INDEX(_tmp2!B:B,MATCH(E505,_tmp2!A:A,0))","v":"北海道"},"A201320200265","A2","01",3,1,"五稜郭認定こども園","函館市亀田本町８番１８号","0410813","2021-05-27","","01A281",""]
[{"$f":"INDEX(学校種!B:B,MATCH(D506,学校種!A:A,0))","v":"幼保連携型認定こども園"},{"$f":"INDEX(_tmp2!B:B,MATCH(E506,_tmp2!A:A,0))","v":"北海道"},"A201320200274","A2","01",3,1,"なかよし認定こども園","函館市昭和３丁目１５番１０号","0410812","2021-05-27","","01A282",""]
[{"$f":"INDEX(学校種!B:B,MATCH(D507,学校種!A:A,0))","v":"幼保連携型認定こども園"},{"$f":"INDEX(_tmp2!B:B,MATCH(E507,_tmp2!A:A,0))","v":"北海道"},"A201320200283","A2","01",3,1,"かぜのこ認定こども園","函館市富岡町２丁目５９番１１号","0410811","2021-05-27","","01A283",""]
[{"$f":"INDEX(学校種!B:B,MATCH(D508,学校種!A:A,0))","v":"幼保連携型認定こども園"},{"$f":"INDEX(_tmp2!B:B,MATCH(E508,_tmp2!A:A,0))","v":"北海道"},"A201320300013","A2","01","3","1","認定こども園桂岡幼稚園","小樽市桂岡町５番１６号","0470264","2020-12-22","","01A052",""]
[{"$f":"INDEX(学校種!B:B,MATCH(D509,学校種!A:A,0))","v":"幼保連携型認定こども園"},{"$f":"INDEX(_tmp2!B:B,MATCH(E509,_tmp2!A:A,0))","v":"北海道"},"A201320300022","A2","01","3","1","認定こども園いなほ幼稚園","小樽市稲穂４丁目１１番２号","0470032","2020-12-22","","01A258",""]
[{"$f":"INDEX(学校種!B:B,MATCH(D510,学校種!A:A,0))","v":"幼保連携型認定こども園"},{"$f":"INDEX(_tmp2!B:B,MATCH(E510,_tmp2!A:A,0))","v":"北海道"},"A201320400012","A2","01","3","1","認定こども園ひとみ幼稚園","旭川市忠和４条１丁目６番５号","0708044","2020-12-22","","01A029",""]
[{"$f":"INDEX(学校種!B:B,MATCH(D511,学校種!A:A,0))","v":"幼保連携型認定こども園"},{"$f":"INDEX(_tmp2!B:B,MATCH(E511,_tmp2!A:A,0))","v":"北海道"},"A201320400021","A2","01","3","1","認定こども園百華幼稚園","旭川市春光台４条４丁目２番４号","0718144","2020-12-22","","01A036",""]
[{"$f":"INDEX(学校種!B:B,MATCH(D512,学校種!A:A,0))","v":"幼保連携型認定こども園"},{"$f":"INDEX(_tmp2!B:B,MATCH(E512,_tmp2!A:A,0))","v":"北海道"},"A201320400030","A2","01","3","1","幼保連携型認定こども園末広こまどり","旭川市末広２条１３丁目１－８","0718132","2020-12-22","","01A085",""]
[{"$f":"INDEX(学校種!B:B,MATCH(D513,学校種!A:A,0))","v":"幼保連携型認定こども園"},{"$f":"INDEX(_tmp2!B:B,MATCH(E513,_tmp2!A:A,0))","v":"北海道"},"A201320400049","A2","01","3","1","幼保連携型認定こども園末広第二こども園","旭川市末広６条７丁目７番5号","0718136","2020-12-22","","01A168",""]
[{"$f":"INDEX(学校種!B:B,MATCH(D514,学校種!A:A,0))","v":"幼保連携型認定こども園"},{"$f":"INDEX(_tmp2!B:B,MATCH(E514,_tmp2!A:A,0))","v":"北海道"},"A201320400058","A2","01","3","1","幼保連携型認定こども園旭川隣保会第一こども園","旭川市6条通3丁目左3","0700036","2020-12-22","","01A169",""]
[{"$f":"INDEX(学校種!B:B,MATCH(D515,学校種!A:A,0))","v":"幼保連携型認定こども園"},{"$f":"INDEX(_tmp2!B:B,MATCH(E515,_tmp2!A:A,0))","v":"北海道"},"A201320400067","A2","01","3","1","幼保連携型バンビ認定こども園","旭川市東光11条3丁目396-59","0788351","2020-12-22","","01A170",""]
[{"$f":"INDEX(学校種!B:B,MATCH(D516,学校種!A:A,0))","v":"幼保連携型認定こども園"},{"$f":"INDEX(_tmp2!B:B,MATCH(E516,_tmp2!A:A,0))","v":"北海道"},"A201320400076","A2","01","3","1","幼保連携型認定こども園西神楽宮前こども園","旭川市西神楽南1条1丁目139番40","0710171","2020-12-22","","01A171",""]
[{"$f":"INDEX(学校種!B:B,MATCH(D517,学校種!A:A,0))","v":"幼保連携型認定こども園"},{"$f":"INDEX(_tmp2!B:B,MATCH(E517,_tmp2!A:A,0))","v":"北海道"},"A201320400085","A2","01","3","1","幼保連携型認定こども園東旭川こども園","旭川市東旭川南1条6丁目8番5号","0788261","2020-12-22","","01A172",""]
[{"$f":"INDEX(学校種!B:B,MATCH(D518,学校種!A:A,0))","v":"幼保連携型認定こども園"},{"$f":"INDEX(_tmp2!B:B,MATCH(E518,_tmp2!A:A,0))","v":"北海道"},"A201320400094","A2","01","3","1","幼保連携型認定こども園東鷹栖森のこども園","旭川市東鷹栖4条5丁目639-162","0718104","2020-12-22","","01A173",""]
[{"$f":"INDEX(学校種!B:B,MATCH(D519,学校種!A:A,0))","v":"幼保連携型認定こども園"},{"$f":"INDEX(_tmp2!B:B,MATCH(E519,_tmp2!A:A,0))","v":"北海道"},"A201320400101","A2","01","3","1","幼保連携型認定こども園東光宮前こども園","旭川市東光６条４丁目３５１番地４","0788346","2020-12-22","","01A206",""]
[{"$f":"INDEX(学校種!B:B,MATCH(D520,学校種!A:A,0))","v":"幼保連携型認定こども園"},{"$f":"INDEX(_tmp2!B:B,MATCH(E520,_tmp2!A:A,0))","v":"北海道"},"A201320400110","A2","01","3","1","幼保連携型認定こども園秋月こども園","旭川市秋月２条２丁目３番地１６","0798402","2020-12-22","","01A207",""]
[{"$f":"INDEX(学校種!B:B,MATCH(D521,学校種!A:A,0))","v":"幼保連携型認定こども園"},{"$f":"INDEX(_tmp2!B:B,MATCH(E521,_tmp2!A:A,0))","v":"北海道"},"A201320400129","A2","01","3","1","幼保連携型認定こども園大町のぞみこども園","旭川市大町２条１２丁目６６番２１","0700842","2020-12-22","","01A208",""]
[{"$f":"INDEX(学校種!B:B,MATCH(D522,学校種!A:A,0))","v":"幼保連携型認定こども園"},{"$f":"INDEX(_tmp2!B:B,MATCH(E522,_tmp2!A:A,0))","v":"北海道"},"A201320400138","A2","01","3","1","幼保連携型認定こども園永山太陽認定こども園","旭川市永山７条２０丁目１０９番地６９","0798417","2020-12-22","","01A209",""]
[{"$f":"INDEX(学校種!B:B,MATCH(D523,学校種!A:A,0))","v":"幼保連携型認定こども園"},{"$f":"INDEX(_tmp2!B:B,MATCH(E523,_tmp2!A:A,0))","v":"北海道"},"A201320400147","A2","01","3","1","幼保連携型豊岡蘭契認定こども園","旭川市豊岡３条３丁目２－４","0788233","2020-12-22","","01A210",""]
[{"$f":"INDEX(学校種!B:B,MATCH(D524,学校種!A:A,0))","v":"幼保連携型認定こども園"},{"$f":"INDEX(_tmp2!B:B,MATCH(E524,_tmp2!A:A,0))","v":"北海道"},"A201320400156","A2","01",3,1,"幼保連携型認定こども園エールこども園","旭川市東旭川町下兵村３６９－９","0788208","2021-05-27","","01A284",""]
[{"$f":"INDEX(学校種!B:B,MATCH(D525,学校種!A:A,0))","v":"幼保連携型認定こども園"},{"$f":"INDEX(_tmp2!B:B,MATCH(E525,_tmp2!A:A,0))","v":"北海道"},"A201320500011","A2","01","3","1","認定こども園室蘭めばえ幼稚園","室蘭市知利別町２丁目１５番１５号","0500076","2020-12-22","","01A184",""]
[{"$f":"INDEX(学校種!B:B,MATCH(D526,学校種!A:A,0))","v":"幼保連携型認定こども園"},{"$f":"INDEX(_tmp2!B:B,MATCH(E526,_tmp2!A:A,0))","v":"北海道"},"A201320500020","A2","01",3,1,"認定こども園清泉幼稚園","室蘭市祝津町３丁目１６番１号","0510036","2021-05-27","","01A285",""]
[{"$f":"INDEX(学校種!B:B,MATCH(D527,学校種!A:A,0))","v":"幼保連携型認定こども園"},{"$f":"INDEX(_tmp2!B:B,MATCH(E527,_tmp2!A:A,0))","v":"北海道"},"A201320600010","A2","01","3","1","認定こども園よしの","釧路市大楽毛西２丁目25番３号","0840916","2020-12-22","","01A112",""]
[{"$f":"INDEX(学校種!B:B,MATCH(D528,学校種!A:A,0))","v":"幼保連携型認定こども園"},{"$f":"INDEX(_tmp2!B:B,MATCH(E528,_tmp2!A:A,0))","v":"北海道"},"A201320600029","A2","01","3","1","釧路あさひ認定こども園","釧路市旭町１２番２号","0850011","2020-12-22","","01A145",""]
[{"$f":"INDEX(学校種!B:B,MATCH(D529,学校種!A:A,0))","v":"幼保連携型認定こども園"},{"$f":"INDEX(_tmp2!B:B,MATCH(E529,_tmp2!A:A,0))","v":"北海道"},"A201320600038","A2","01","3","1","釧路風の子認定こども園","釧路市鳥取南７丁目２番９号","0840905","2020-12-22","","01A178",""]
[{"$f":"INDEX(学校種!B:B,MATCH(D530,学校種!A:A,0))","v":"幼保連携型認定こども園"},{"$f":"INDEX(_tmp2!B:B,MATCH(E530,_tmp2!A:A,0))","v":"北海道"},"A201320600047","A2","01","3","1","釧路おたのしけ認定こども園","釧路市大楽毛４丁目１２番６号","0840917","2020-12-22","","01A239",""]
[{"$f":"INDEX(学校種!B:B,MATCH(D531,学校種!A:A,0))","v":"幼保連携型認定こども園"},{"$f":"INDEX(_tmp2!B:B,MATCH(E531,_tmp2!A:A,0))","v":"北海道"},"A201320600056","A2","01","3","1","かしわ認定こども園","釧路市紫雲台２番３０号","0850812","2020-12-22","","01A240",""]
[{"$f":"INDEX(学校種!B:B,MATCH(D532,学校種!A:A,0))","v":"幼保連携型認定こども園"},{"$f":"INDEX(_tmp2!B:B,MATCH(E532,_tmp2!A:A,0))","v":"北海道"},"A201320600065","A2","01","3","1","あいこう認定こども園","釧路市愛国西１丁目２４番１０号","0850057","2020-12-22","","01A241",""]
[{"$f":"INDEX(学校種!B:B,MATCH(D533,学校種!A:A,0))","v":"幼保連携型認定こども園"},{"$f":"INDEX(_tmp2!B:B,MATCH(E533,_tmp2!A:A,0))","v":"北海道"},"A201320600074","A2","01","3","1","美原認定こども園","釧路市美原４丁目５番１６号","0850065","2020-12-22","","01A242",""]
[{"$f":"INDEX(学校種!B:B,MATCH(D534,学校種!A:A,0))","v":"幼保連携型認定こども園"},{"$f":"INDEX(_tmp2!B:B,MATCH(E534,_tmp2!A:A,0))","v":"北海道"},"A201320600083","A2","01","3","1","ことぶき認定こども園","釧路市寿１丁目４番４号","0850026","2020-12-22","","01A243",""]
[{"$f":"INDEX(学校種!B:B,MATCH(D535,学校種!A:A,0))","v":"幼保連携型認定こども園"},{"$f":"INDEX(_tmp2!B:B,MATCH(E535,_tmp2!A:A,0))","v":"北海道"},"A201320600092","A2","01","3","1","桂恋認定こども園","釧路市桂恋１６７番地","0850802","2020-12-22","","01A244",""]
[{"$f":"INDEX(学校種!B:B,MATCH(D536,学校種!A:A,0))","v":"幼保連携型認定こども園"},{"$f":"INDEX(_tmp2!B:B,MATCH(E536,_tmp2!A:A,0))","v":"北海道"},"A201320600109","A2","01","3","1","双葉認定こども園","釧路市新釧路町３番１４号","0850002","2020-12-22","","01A245",""]
[{"$f":"INDEX(学校種!B:B,MATCH(D537,学校種!A:A,0))","v":"幼保連携型認定こども園"},{"$f":"INDEX(_tmp2!B:B,MATCH(E537,_tmp2!A:A,0))","v":"北海道"},"A201320800018","A2","01","3","1","幼保連携型認定こども園北見くるみ幼稚園","北見市春光町５丁目１１番２０号","0900801","2020-12-22","","01A028",""]
[{"$f":"INDEX(学校種!B:B,MATCH(D538,学校種!A:A,0))","v":"幼保連携型認定こども園"},{"$f":"INDEX(_tmp2!B:B,MATCH(E538,_tmp2!A:A,0))","v":"北海道"},"A201320800027","A2","01","3","1","認定こども園留辺蘂マリア幼稚園","北見市留辺蘂町栄町１０１番地４","0910033","2020-12-22","","01A047",""]
[{"$f":"INDEX(学校種!B:B,MATCH(D539,学校種!A:A,0))","v":"幼保連携型認定こども園"},{"$f":"INDEX(_tmp2!B:B,MATCH(E539,_tmp2!A:A,0))","v":"北海道"},"A201320800036","A2","01","3","1","認定こども園北見大谷幼稚園ほいくの森","北見市東相内町２２５番地の１","0990878","2020-12-22","","01A061",""]
[{"$f":"INDEX(学校種!B:B,MATCH(D540,学校種!A:A,0))","v":"幼保連携型認定こども園"},{"$f":"INDEX(_tmp2!B:B,MATCH(E540,_tmp2!A:A,0))","v":"北海道"},"A201320800045","A2","01","3","1","認定こども園美山遊子","北見市花月町７番地７","0900062","2020-12-22","","01A077",""]
[{"$f":"INDEX(学校種!B:B,MATCH(D541,学校種!A:A,0))","v":"幼保連携型認定こども園"},{"$f":"INDEX(_tmp2!B:B,MATCH(E541,_tmp2!A:A,0))","v":"北海道"},"A201320800054","A2","01","3","1","認定こども園北見ときわ幼稚園","北見市常磐町３丁目８番４号","0900817","2020-12-22","","01A101",""]
[{"$f":"INDEX(学校種!B:B,MATCH(D542,学校種!A:A,0))","v":"幼保連携型認定こども園"},{"$f":"INDEX(_tmp2!B:B,MATCH(E542,_tmp2!A:A,0))","v":"北海道"},"A201320800063","A2","01","3","1","幼保連携型認定こども園めぐみ","北見市山下町４丁目５番13号","0900037","2020-12-22","","01A102",""]
[{"$f":"INDEX(学校種!B:B,MATCH(D543,学校種!A:A,0))","v":"幼保連携型認定こども園"},{"$f":"INDEX(_tmp2!B:B,MATCH(E543,_tmp2!A:A,0))","v":"北海道"},"A201320800072","A2","01","3","1","幼保連携型認定こども園ひかり","北見市泉町３丁目６番47号","0900811","2020-12-22","","01A103",""]
[{"$f":"INDEX(学校種!B:B,MATCH(D544,学校種!A:A,0))","v":"幼保連携型認定こども園"},{"$f":"INDEX(_tmp2!B:B,MATCH(E544,_tmp2!A:A,0))","v":"北海道"},"A201320800081","A2","01","3","1","幼保連携型認定こども園北進","北見市北進町４丁目10番27号","0900052","2020-12-22","","01A104",""]
[{"$f":"INDEX(学校種!B:B,MATCH(D545,学校種!A:A,0))","v":"幼保連携型認定こども園"},{"$f":"INDEX(_tmp2!B:B,MATCH(E545,_tmp2!A:A,0))","v":"北海道"},"A201320800090","A2","01","3","1","幼保連携型認定こども園ほっこう","北見市北光328番地15","0900824","2020-12-22","","01A105",""]
[{"$f":"INDEX(学校種!B:B,MATCH(D546,学校種!A:A,0))","v":"幼保連携型認定こども園"},{"$f":"INDEX(_tmp2!B:B,MATCH(E546,_tmp2!A:A,0))","v":"北海道"},"A201320800107","A2","01","3","1","幼保連携型夕陽ヶ丘認定こども園","北見市高栄西町１丁目12番５号","0900058","2020-12-22","","01A106",""]
[{"$f":"INDEX(学校種!B:B,MATCH(D547,学校種!A:A,0))","v":"幼保連携型認定こども園"},{"$f":"INDEX(_tmp2!B:B,MATCH(E547,_tmp2!A:A,0))","v":"北海道"},"A201320800116","A2","01","3","1","幼保連携型光西認定こども園","北見市光西町178番地５","0900835","2020-12-22","","01A107",""]
[{"$f":"INDEX(学校種!B:B,MATCH(D548,学校種!A:A,0))","v":"幼保連携型認定こども園"},{"$f":"INDEX(_tmp2!B:B,MATCH(E548,_tmp2!A:A,0))","v":"北海道"},"A201320800125","A2","01","3","1","幼保連携型みなみ認定こども園","北見市南仲町３丁目２番26","0900812","2020-12-22","","01A108",""]
[{"$f":"INDEX(学校種!B:B,MATCH(D549,学校種!A:A,0))","v":"幼保連携型認定こども園"},{"$f":"INDEX(_tmp2!B:B,MATCH(E549,_tmp2!A:A,0))","v":"北海道"},"A201320800134","A2","01","3","1","認定こども園北見北光幼稚園","北見市錦町１８５－１７","0900827","2020-12-22","","01A156",""]
[{"$f":"INDEX(学校種!B:B,MATCH(D550,学校種!A:A,0))","v":"幼保連携型認定こども園"},{"$f":"INDEX(_tmp2!B:B,MATCH(E550,_tmp2!A:A,0))","v":"北海道"},"A201320800143","A2","01","3","1","認定こども園みわ保育園","北見市東三輪２丁目１２７番地１","0900836","2020-12-22","","01A188",""]
[{"$f":"INDEX(学校種!B:B,MATCH(D551,学校種!A:A,0))","v":"幼保連携型認定こども園"},{"$f":"INDEX(_tmp2!B:B,MATCH(E551,_tmp2!A:A,0))","v":"北海道"},"A201320800152","A2","01","3","1","認定こども園北見幼稚園","北見市幸町３丁目２番１２号","0900036","2020-12-22","","01A263",""]
[{"$f":"INDEX(学校種!B:B,MATCH(D552,学校種!A:A,0))","v":"幼保連携型認定こども園"},{"$f":"INDEX(_tmp2!B:B,MATCH(E552,_tmp2!A:A,0))","v":"北海道"},"A201320900017","A2","01",3,1,"ゆうばり丘の上こども園","夕張市清水沢3丁目122番地1","0680531","2021-05-27","","01A286",""]
[{"$f":"INDEX(学校種!B:B,MATCH(D553,学校種!A:A,0))","v":"幼保連携型認定こども園"},{"$f":"INDEX(_tmp2!B:B,MATCH(E553,_tmp2!A:A,0))","v":"北海道"},"A201321100013","A2","01","3","1","認定こども園つくし","網走市つくしヶ丘５丁目９番３号","0930034","2020-12-22","","01A048",""]
[{"$f":"INDEX(学校種!B:B,MATCH(D554,学校種!A:A,0))","v":"幼保連携型認定こども園"},{"$f":"INDEX(_tmp2!B:B,MATCH(E554,_tmp2!A:A,0))","v":"北海道"},"A201321100022","A2","01","3","1","認定こども園しおみ","網走市潮見８丁目４番９号","0930042","2020-12-22","","01A237",""]
[{"$f":"INDEX(学校種!B:B,MATCH(D555,学校種!A:A,0))","v":"幼保連携型認定こども園"},{"$f":"INDEX(_tmp2!B:B,MATCH(E555,_tmp2!A:A,0))","v":"北海道"},"A201321100031","A2","01",3,1,"認定こども園網走若葉幼稚園","網走市南6条東2丁目9番地","0930006","2021-05-27","","01A287",""]
[{"$f":"INDEX(学校種!B:B,MATCH(D556,学校種!A:A,0))","v":"幼保連携型認定こども園"},{"$f":"INDEX(_tmp2!B:B,MATCH(E556,_tmp2!A:A,0))","v":"北海道"},"A201321300011","A2","01","3","1","認定こども園苫小牧もも花幼稚園","苫小牧市澄川町３丁目16番８号","0591271","2020-12-22","","01A068",""]
[{"$f":"INDEX(学校種!B:B,MATCH(D557,学校種!A:A,0))","v":"幼保連携型認定こども園"},{"$f":"INDEX(_tmp2!B:B,MATCH(E557,_tmp2!A:A,0))","v":"北海道"},"A201321300020","A2","01","3","1","認定こども園苫小牧中央幼稚園","苫小牧市新中野町３丁目16番４号","0530006","2020-12-22","","01A081",""]
[{"$f":"INDEX(学校種!B:B,MATCH(D558,学校種!A:A,0))","v":"幼保連携型認定こども園"},{"$f":"INDEX(_tmp2!B:B,MATCH(E558,_tmp2!A:A,0))","v":"北海道"},"A201321300039","A2","01","3","1","認定こども園かおり幼稚園","苫小牧市弥生町２丁目８番25号","0530802","2020-12-22","","01A082",""]
[{"$f":"INDEX(学校種!B:B,MATCH(D559,学校種!A:A,0))","v":"幼保連携型認定こども園"},{"$f":"INDEX(_tmp2!B:B,MATCH(E559,_tmp2!A:A,0))","v":"北海道"},"A201321300048","A2","01","3","1","認定こども園勇払幼稚園","苫小牧市字勇払142番地22","0591372","2020-12-22","","01A097",""]
[{"$f":"INDEX(学校種!B:B,MATCH(D560,学校種!A:A,0))","v":"幼保連携型認定こども園"},{"$f":"INDEX(_tmp2!B:B,MATCH(E560,_tmp2!A:A,0))","v":"北海道"},"A201321300057","A2","01","3","1","はなぞの認定こども園","苫小牧市花園町２丁目１１番１５号","0530853","2020-12-22","","01A154",""]
[{"$f":"INDEX(学校種!B:B,MATCH(D561,学校種!A:A,0))","v":"幼保連携型認定こども園"},{"$f":"INDEX(_tmp2!B:B,MATCH(E561,_tmp2!A:A,0))","v":"北海道"},"A201321300066","A2","01","3","1","認定こども園苫小牧聖ルカ幼稚園","苫小牧市旭町２丁目６番１９号","0530018","2020-12-22","","01A185",""]
[{"$f":"INDEX(学校種!B:B,MATCH(D562,学校種!A:A,0))","v":"幼保連携型認定こども園"},{"$f":"INDEX(_tmp2!B:B,MATCH(E562,_tmp2!A:A,0))","v":"北海道"},"A201321300075","A2","01","3","1","認定こども園第２はくちょう幼稚園","苫小牧市北栄町４丁目１番９号","0591304","2020-12-22","","01A186",""]
[{"$f":"INDEX(学校種!B:B,MATCH(D563,学校種!A:A,0))","v":"幼保連携型認定こども園"},{"$f":"INDEX(_tmp2!B:B,MATCH(E563,_tmp2!A:A,0))","v":"北海道"},"A201321300084","A2","01","3","1","認定こども園苫小牧すみれ保育園","苫小牧市矢代町３丁目７番４７号","0530803","2020-12-22","","01A259",""]
[{"$f":"INDEX(学校種!B:B,MATCH(D564,学校種!A:A,0))","v":"幼保連携型認定こども園"},{"$f":"INDEX(_tmp2!B:B,MATCH(E564,_tmp2!A:A,0))","v":"北海道"},"A201321300093","A2","01","3","1","認定こども園苫小牧マーガレット幼稚園","苫小牧市清水町２丁目１１番８号","0530034","2020-12-22","","01A260",""]
[{"$f":"INDEX(学校種!B:B,MATCH(D565,学校種!A:A,0))","v":"幼保連携型認定こども園"},{"$f":"INDEX(_tmp2!B:B,MATCH(E565,_tmp2!A:A,0))","v":"北海道"},"A201321300100","A2","01",3,1,"認定こども園はくちょう幼稚園","苫小牧市北栄町3丁目4番6号","0591304","2021-05-27","","01A288",""]
[{"$f":"INDEX(学校種!B:B,MATCH(D566,学校種!A:A,0))","v":"幼保連携型認定こども園"},{"$f":"INDEX(_tmp2!B:B,MATCH(E566,_tmp2!A:A,0))","v":"北海道"},"A201321300119","A2","01",3,1,"認定こども園原学園ひかり幼稚園","苫小牧市光洋町3丁目13番2号","0530811","2021-05-27","","01A289",""]
[{"$f":"INDEX(学校種!B:B,MATCH(D567,学校種!A:A,0))","v":"幼保連携型認定こども園"},{"$f":"INDEX(_tmp2!B:B,MATCH(E567,_tmp2!A:A,0))","v":"北海道"},"A201321300128","A2","01",3,1,"幼保連携型認定こども園苫小牧ふたば幼稚園","苫小牧市王子町１丁目２番１８号","0530027","2021-05-27","","01A290",""]
[{"$f":"INDEX(学校種!B:B,MATCH(D568,学校種!A:A,0))","v":"幼保連携型認定こども園"},{"$f":"INDEX(_tmp2!B:B,MATCH(E568,_tmp2!A:A,0))","v":"北海道"},"A201321700017","A2","01","3","1","認定こども園あけぼの","江別市大麻栄町11番地12","0690862","2020-12-22","","01A030",""]
[{"$f":"INDEX(学校種!B:B,MATCH(D569,学校種!A:A,0))","v":"幼保連携型認定こども園"},{"$f":"INDEX(_tmp2!B:B,MATCH(E569,_tmp2!A:A,0))","v":"北海道"},"A201321700026","A2","01","3","1","認定こども園大麻まんまるこども園","江別市大麻西町１５番地","0690844","2020-12-22","","01A037",""]
[{"$f":"INDEX(学校種!B:B,MATCH(D570,学校種!A:A,0))","v":"幼保連携型認定こども園"},{"$f":"INDEX(_tmp2!B:B,MATCH(E570,_tmp2!A:A,0))","v":"北海道"},"A201321700035","A2","01","3","1","あすかの森認定こども園","江別市緑町西１丁目８１","0670002","2020-12-22","","01A086",""]
[{"$f":"INDEX(学校種!B:B,MATCH(D571,学校種!A:A,0))","v":"幼保連携型認定こども園"},{"$f":"INDEX(_tmp2!B:B,MATCH(E571,_tmp2!A:A,0))","v":"北海道"},"A201321700044","A2","01","3","1","おおあさ認定こども園","江別市大麻沢町９番地１","0690842","2020-12-22","","01A087",""]
[{"$f":"INDEX(学校種!B:B,MATCH(D572,学校種!A:A,0))","v":"幼保連携型認定こども園"},{"$f":"INDEX(_tmp2!B:B,MATCH(E572,_tmp2!A:A,0))","v":"北海道"},"A201321700053","A2","01","3","1","認定こども園元江別わかば幼稚園","江別市元町２４番地８","0670031","2020-12-22","","01A138",""]
[{"$f":"INDEX(学校種!B:B,MATCH(D573,学校種!A:A,0))","v":"幼保連携型認定こども園"},{"$f":"INDEX(_tmp2!B:B,MATCH(E573,_tmp2!A:A,0))","v":"北海道"},"A201321700062","A2","01","3","1","認定こども園第２大麻こども園","江別市大麻宮町８番地","0690855","2020-12-22","","01A180",""]
[{"$f":"INDEX(学校種!B:B,MATCH(D574,学校種!A:A,0))","v":"幼保連携型認定こども園"},{"$f":"INDEX(_tmp2!B:B,MATCH(E574,_tmp2!A:A,0))","v":"北海道"},"A201321700071","A2","01","3","1","認定こども園もりのひだまり","江別市上江別東町１５－２","0670061","2020-12-22","","01A181",""]
[{"$f":"INDEX(学校種!B:B,MATCH(D575,学校種!A:A,0))","v":"幼保連携型認定こども園"},{"$f":"INDEX(_tmp2!B:B,MATCH(E575,_tmp2!A:A,0))","v":"北海道"},"A201321700080","A2","01","3","1","認定こども園江別若葉幼稚園","江別市５条５丁目８","0670015","2020-12-22","","01A231",""]
[{"$f":"INDEX(学校種!B:B,MATCH(D576,学校種!A:A,0))","v":"幼保連携型認定こども園"},{"$f":"INDEX(_tmp2!B:B,MATCH(E576,_tmp2!A:A,0))","v":"北海道"},"A201321700099","A2","01","3","1","大麻藤認定こども園","江別市大麻中町９番地","0690854","2020-12-22","","01A256",""]
[{"$f":"INDEX(学校種!B:B,MATCH(D577,学校種!A:A,0))","v":"幼保連携型認定こども園"},{"$f":"INDEX(_tmp2!B:B,MATCH(E577,_tmp2!A:A,0))","v":"北海道"},"A201321900015","A2","01","3","1","紋別大谷認定こども園","紋別市幸町１丁目５７番地","0940005","2020-12-22","","01A043",""]
[{"$f":"INDEX(学校種!B:B,MATCH(D578,学校種!A:A,0))","v":"幼保連携型認定こども園"},{"$f":"INDEX(_tmp2!B:B,MATCH(E578,_tmp2!A:A,0))","v":"北海道"},"A201321900024","A2","01","3","1","幼保連携型認定こども園紋別藤幼稚園","紋別市花園町５丁目９番11号","0940015","2020-12-22","","01A109",""]
[{"$f":"INDEX(学校種!B:B,MATCH(D579,学校種!A:A,0))","v":"幼保連携型認定こども園"},{"$f":"INDEX(_tmp2!B:B,MATCH(E579,_tmp2!A:A,0))","v":"北海道"},"A201322100011","A2","01","3","1","名寄大谷認定こども園","名寄市西５条南２丁目１０番地","0960015","2020-12-22","","01A026",""]
[{"$f":"INDEX(学校種!B:B,MATCH(D580,学校種!A:A,0))","v":"幼保連携型認定こども園"},{"$f":"INDEX(_tmp2!B:B,MATCH(E580,_tmp2!A:A,0))","v":"北海道"},"A201322100020","A2","01","3","1","認定こども園風連幼稚園","名寄市風連町西町２８４番地１","0980507","2020-12-22","","01A235",""]
[{"$f":"INDEX(学校種!B:B,MATCH(D581,学校種!A:A,0))","v":"幼保連携型認定こども園"},{"$f":"INDEX(_tmp2!B:B,MATCH(E581,_tmp2!A:A,0))","v":"北海道"},"A201322200010","A2","01","3","1","幼保連携型認定こども園　三笠まつばの杜","三笠市堤町７－１","0682158","2020-12-22","","01A254",""]
[{"$f":"INDEX(学校種!B:B,MATCH(D582,学校種!A:A,0))","v":"幼保連携型認定こども園"},{"$f":"INDEX(_tmp2!B:B,MATCH(E582,_tmp2!A:A,0))","v":"北海道"},"A201322300019","A2","01","3","1","幼保連携型認定こども園睦の園幼稚園","根室市明治町２丁目１３番地","0870003","2020-12-22","","01A265",""]
[{"$f":"INDEX(学校種!B:B,MATCH(D583,学校種!A:A,0))","v":"幼保連携型認定こども園"},{"$f":"INDEX(_tmp2!B:B,MATCH(E583,_tmp2!A:A,0))","v":"北海道"},"A201322400036","A2","01","3","1","アリス認定こども園","千歳市勇舞１丁目１番地１号","0660078","2020-12-22","","01A072",""]
[{"$f":"INDEX(学校種!B:B,MATCH(D584,学校種!A:A,0))","v":"幼保連携型認定こども園"},{"$f":"INDEX(_tmp2!B:B,MATCH(E584,_tmp2!A:A,0))","v":"北海道"},"A201322400045","A2","01","3","1","北斗認定こども園","千歳市北斗５丁目６番地３号","0660073","2020-12-22","","01A073",""]
[{"$f":"INDEX(学校種!B:B,MATCH(D585,学校種!A:A,0))","v":"幼保連携型認定こども園"},{"$f":"INDEX(_tmp2!B:B,MATCH(E585,_tmp2!A:A,0))","v":"北海道"},"A201322400054","A2","01","3","1","認定こども園千歳春日保育園","千歳市春日町２丁目１番９号","0660065","2020-12-22","","01A074",""]
[{"$f":"INDEX(学校種!B:B,MATCH(D586,学校種!A:A,0))","v":"幼保連携型認定こども園"},{"$f":"INDEX(_tmp2!B:B,MATCH(E586,_tmp2!A:A,0))","v":"北海道"},"A201322400063","A2","01","3","1","あずさ認定こども園","千歳市あずさ５丁目２１－１","0660076","2020-12-22","","01A075",""]
[{"$f":"INDEX(学校種!B:B,MATCH(D587,学校種!A:A,0))","v":"幼保連携型認定こども園"},{"$f":"INDEX(_tmp2!B:B,MATCH(E587,_tmp2!A:A,0))","v":"北海道"},"A201322400072","A2","01","3","1","認定こども園北陽幼稚園・第２北陽保育園","千歳市北陽８丁目２－８","0660075","2020-12-22","","01A076",""]
[{"$f":"INDEX(学校種!B:B,MATCH(D588,学校種!A:A,0))","v":"幼保連携型認定こども園"},{"$f":"INDEX(_tmp2!B:B,MATCH(E588,_tmp2!A:A,0))","v":"北海道"},"A201322400081","A2","01","3","1","認定こども園千歳第２幼稚園","千歳市新富１丁目６番21号","0660037","2020-12-22","","01A092",""]
[{"$f":"INDEX(学校種!B:B,MATCH(D589,学校種!A:A,0))","v":"幼保連携型認定こども園"},{"$f":"INDEX(_tmp2!B:B,MATCH(E589,_tmp2!A:A,0))","v":"北海道"},"A201322400090","A2","01","3","1","住吉認定こども園","千歳市豊里３丁目９番５号","0660022","2020-12-22","","01A146",""]
[{"$f":"INDEX(学校種!B:B,MATCH(D590,学校種!A:A,0))","v":"幼保連携型認定こども園"},{"$f":"INDEX(_tmp2!B:B,MATCH(E590,_tmp2!A:A,0))","v":"北海道"},"A201322400107","A2","01","3","1","認定こども園つくし保育園","千歳市富丘１丁目５番１３号","0660034","2020-12-22","","01A147",""]
[{"$f":"INDEX(学校種!B:B,MATCH(D591,学校種!A:A,0))","v":"幼保連携型認定こども園"},{"$f":"INDEX(_tmp2!B:B,MATCH(E591,_tmp2!A:A,0))","v":"北海道"},"A201322400116","A2","01","3","1","認定こども園向陽台つくし幼稚園","千歳市若草５丁目３番地１","0660057","2020-12-22","","01A148",""]
[{"$f":"INDEX(学校種!B:B,MATCH(D592,学校種!A:A,0))","v":"幼保連携型認定こども園"},{"$f":"INDEX(_tmp2!B:B,MATCH(E592,_tmp2!A:A,0))","v":"北海道"},"A201322400125","A2","01","3","1","認定こども園おひさま","千歳市みどり台南２丁目１２番","0660084","2020-12-22","","01A182",""]
[{"$f":"INDEX(学校種!B:B,MATCH(D593,学校種!A:A,0))","v":"幼保連携型認定こども園"},{"$f":"INDEX(_tmp2!B:B,MATCH(E593,_tmp2!A:A,0))","v":"北海道"},"A201322400134","A2","01","3","1","あんじゅ認定こども園","千歳市春日町５丁目１番１０号","0660065","2020-12-22","","01A232",""]
[{"$f":"INDEX(学校種!B:B,MATCH(D594,学校種!A:A,0))","v":"幼保連携型認定こども園"},{"$f":"INDEX(_tmp2!B:B,MATCH(E594,_tmp2!A:A,0))","v":"北海道"},"A201322400143","A2","01","3","1","認定こども園向陽台","千歳市若草５丁目２番地の２","0660057","2020-12-22","","01A257",""]
[{"$f":"INDEX(学校種!B:B,MATCH(D595,学校種!A:A,0))","v":"幼保連携型認定こども園"},{"$f":"INDEX(_tmp2!B:B,MATCH(E595,_tmp2!A:A,0))","v":"北海道"},"A201323100019","A2","01","3","1","認定こども園恵み野幼稚園恵み野保育園","恵庭市恵み野南４丁目１番２","0611372","2020-12-22","","01A057",""]
[{"$f":"INDEX(学校種!B:B,MATCH(D596,学校種!A:A,0))","v":"幼保連携型認定こども園"},{"$f":"INDEX(_tmp2!B:B,MATCH(E596,_tmp2!A:A,0))","v":"北海道"},"A201323100028","A2","01","3","1","認定こども園柏学園ひまわり幼稚園柏学園ひまわり保育園","恵庭市黄金南６丁目２番２","0611409","2020-12-22","","01A093",""]
[{"$f":"INDEX(学校種!B:B,MATCH(D597,学校種!A:A,0))","v":"幼保連携型認定こども園"},{"$f":"INDEX(_tmp2!B:B,MATCH(E597,_tmp2!A:A,0))","v":"北海道"},"A201323100055","A2","01",3,1,"幼保連携型認定こども園北海道文教大学附属幼稚園","恵庭市漁町396番","0611414","2021-05-27","","01A291",""]
[{"$f":"INDEX(学校種!B:B,MATCH(D598,学校種!A:A,0))","v":"幼保連携型認定こども園"},{"$f":"INDEX(_tmp2!B:B,MATCH(E598,_tmp2!A:A,0))","v":"北海道"},"A201323200036","A2","01","3","1","認定こども園さくら保育園","恵庭市大町１丁目１０－５","0611424","2020-12-22","","01A139",""]
[{"$f":"INDEX(学校種!B:B,MATCH(D599,学校種!A:A,0))","v":"幼保連携型認定こども園"},{"$f":"INDEX(_tmp2!B:B,MATCH(E599,_tmp2!A:A,0))","v":"北海道"},"A201323200045","A2","01","3","1","認定こども園えほんの森","恵庭市桜町３丁目９番１号","0611416","2020-12-22","","01A176",""]
[{"$f":"INDEX(学校種!B:B,MATCH(D600,学校種!A:A,0))","v":"幼保連携型認定こども園"},{"$f":"INDEX(_tmp2!B:B,MATCH(E600,_tmp2!A:A,0))","v":"北海道"},"A201323400016","A2","01","3","1","認定こども園札幌自由の森幼稚園・保育園","北広島市西の里498番地１","0611102","2020-12-22","","01A094",""]
[{"$f":"INDEX(学校種!B:B,MATCH(D601,学校種!A:A,0))","v":"幼保連携型認定こども園"},{"$f":"INDEX(_tmp2!B:B,MATCH(E601,_tmp2!A:A,0))","v":"北海道"},"A201323400025","A2","01","3","1","認定こども園北広島わかば幼稚園","北広島市若葉町３丁目１１番地","0611142","2020-12-22","","01A140",""]
[{"$f":"INDEX(学校種!B:B,MATCH(D602,学校種!A:A,0))","v":"幼保連携型認定こども園"},{"$f":"INDEX(_tmp2!B:B,MATCH(E602,_tmp2!A:A,0))","v":"北海道"},"A201323400034","A2","01","3","1","大谷むつみ認定こども園","北広島市大曲柏葉２丁目１４番５","0611273","2020-12-22","","01A183",""]
[{"$f":"INDEX(学校種!B:B,MATCH(D603,学校種!A:A,0))","v":"幼保連携型認定こども園"},{"$f":"INDEX(_tmp2!B:B,MATCH(E603,_tmp2!A:A,0))","v":"北海道"},"A201323500015","A2","01","3","1","花川南認定こども園","石狩市花川南９条４丁目８３番地の４","0613209","2020-12-22","","01A031",""]
[{"$f":"INDEX(学校種!B:B,MATCH(D604,学校種!A:A,0))","v":"幼保連携型認定こども園"},{"$f":"INDEX(_tmp2!B:B,MATCH(E604,_tmp2!A:A,0))","v":"北海道"},"A201323500024","A2","01","3","1","えるむ認定こども園","石狩市花川北２条５丁目６３番地","0613212","2020-12-22","","01A088",""]
[{"$f":"INDEX(学校種!B:B,MATCH(D605,学校種!A:A,0))","v":"幼保連携型認定こども園"},{"$f":"INDEX(_tmp2!B:B,MATCH(E605,_tmp2!A:A,0))","v":"北海道"},"A201323500033","A2","01","3","1","えるむの森認定こども園","石狩市花川東９３番地５","0613248","2020-12-22","","01A089",""]
[{"$f":"INDEX(学校種!B:B,MATCH(D606,学校種!A:A,0))","v":"幼保連携型認定こども園"},{"$f":"INDEX(_tmp2!B:B,MATCH(E606,_tmp2!A:A,0))","v":"北海道"},"A201323500042","A2","01","3","1","認定こども園ミナクル幼稚園","石狩市花川南３条５丁目３番地","0613203","2020-12-22","","01A095",""]
[{"$f":"INDEX(学校種!B:B,MATCH(D607,学校種!A:A,0))","v":"幼保連携型認定こども園"},{"$f":"INDEX(_tmp2!B:B,MATCH(E607,_tmp2!A:A,0))","v":"北海道"},"A201323500051","A2","01","3","1","認定こども園花川わかば幼稚園","石狩市花川北２条５丁目65番２","0613212","2020-12-22","","01A096",""]
[{"$f":"INDEX(学校種!B:B,MATCH(D608,学校種!A:A,0))","v":"幼保連携型認定こども園"},{"$f":"INDEX(_tmp2!B:B,MATCH(E608,_tmp2!A:A,0))","v":"北海道"},"A201323500060","A2","01","3","1","まきば認定こども園","石狩市樽川６条２丁目６００","0613256","2020-12-22","","01A149",""]
[{"$f":"INDEX(学校種!B:B,MATCH(D609,学校種!A:A,0))","v":"幼保連携型認定こども園"},{"$f":"INDEX(_tmp2!B:B,MATCH(E609,_tmp2!A:A,0))","v":"北海道"},"A201323500079","A2","01","3","1","友愛認定こども園","石狩市花川南８条３丁目１５３－３","0613208","2020-12-22","","01A150",""]
[{"$f":"INDEX(学校種!B:B,MATCH(D610,学校種!A:A,0))","v":"幼保連携型認定こども園"},{"$f":"INDEX(_tmp2!B:B,MATCH(E610,_tmp2!A:A,0))","v":"北海道"},"A201323500088","A2","01","3","1","花川北陽認定こども園","石狩市花川北４条３丁目５番地","0613214","2020-12-22","","01A151",""]
[{"$f":"INDEX(学校種!B:B,MATCH(D611,学校種!A:A,0))","v":"幼保連携型認定こども園"},{"$f":"INDEX(_tmp2!B:B,MATCH(E611,_tmp2!A:A,0))","v":"北海道"},"A201323500097","A2","01","3","1","認定こども園くるみ保育園","石狩市八幡１丁目４３３番地１４","0613361","2020-12-22","","01A152",""]
[{"$f":"INDEX(学校種!B:B,MATCH(D612,学校種!A:A,0))","v":"幼保連携型認定こども園"},{"$f":"INDEX(_tmp2!B:B,MATCH(E612,_tmp2!A:A,0))","v":"北海道"},"A201323500104","A2","01","3","1","認定こども園ひかりのこいしかり","石狩市花川南４条３丁目２番地","0613204","2020-12-22","","01A153",""]
[{"$f":"INDEX(学校種!B:B,MATCH(D613,学校種!A:A,0))","v":"幼保連携型認定こども園"},{"$f":"INDEX(_tmp2!B:B,MATCH(E613,_tmp2!A:A,0))","v":"北海道"},"A201323500113","A2","01","3","1","石狩仲よし認定こども園","石狩市花川北４条３丁目５番３号","0613214","2020-12-22","","01A177",""]
[{"$f":"INDEX(学校種!B:B,MATCH(D614,学校種!A:A,0))","v":"幼保連携型認定こども園"},{"$f":"INDEX(_tmp2!B:B,MATCH(E614,_tmp2!A:A,0))","v":"北海道"},"A201323500122","A2","01","3","1","花川マリア認定こども園","石狩市花川南４条５丁目１３番地の内、１９番地の内","0613204","2020-12-22","","01A229",""]
[{"$f":"INDEX(学校種!B:B,MATCH(D615,学校種!A:A,0))","v":"幼保連携型認定こども園"},{"$f":"INDEX(_tmp2!B:B,MATCH(E615,_tmp2!A:A,0))","v":"北海道"},"A201323500131","A2","01","3","1","緑苑台認定こども園","石狩市花川東１番地２１３７","0613248","2020-12-22","","01A230",""]
[{"$f":"INDEX(学校種!B:B,MATCH(D616,学校種!A:A,0))","v":"幼保連携型認定こども園"},{"$f":"INDEX(_tmp2!B:B,MATCH(E616,_tmp2!A:A,0))","v":"北海道"},"A201323600014","A2","01","3","1","幼保連携型認定こども園七重浜こども園","北斗市七重浜３丁目１２番５号","0490111","2020-12-22","","01A142",""]
[{"$f":"INDEX(学校種!B:B,MATCH(D617,学校種!A:A,0))","v":"幼保連携型認定こども園"},{"$f":"INDEX(_tmp2!B:B,MATCH(E617,_tmp2!A:A,0))","v":"北海道"},"A201323600023","A2","01","3","1","幼保連携型認定こども園浜分こども園","北斗市七重浜５丁目１１番８号","0490111","2020-12-22","","01A143",""]
[{"$f":"INDEX(学校種!B:B,MATCH(D618,学校種!A:A,0))","v":"幼保連携型認定こども園"},{"$f":"INDEX(_tmp2!B:B,MATCH(E618,_tmp2!A:A,0))","v":"北海道"},"A201330300012","A2","01","3","1","認定こども園当別夢の国幼稚園","石狩郡当別町北栄町20番地12","0610235","2020-12-22","","01A038",""]
[{"$f":"INDEX(学校種!B:B,MATCH(D619,学校種!A:A,0))","v":"幼保連携型認定こども園"},{"$f":"INDEX(_tmp2!B:B,MATCH(E619,_tmp2!A:A,0))","v":"北海道"},"A201330300021","A2","01","3","1","認定こども園おとぎのくに","石狩郡当別町太美町１４８０番地８","0613776","2020-12-22","","01A233",""]
[{"$f":"INDEX(学校種!B:B,MATCH(D620,学校種!A:A,0))","v":"幼保連携型認定こども園"},{"$f":"INDEX(_tmp2!B:B,MATCH(E620,_tmp2!A:A,0))","v":"北海道"},"A201333100018","A2","01","3","1","函館大谷短期大学附属松前認定こども園","松前郡松前町博多２２６番地１６","0491505","2020-12-22","","01A049",""]
[{"$f":"INDEX(学校種!B:B,MATCH(D621,学校種!A:A,0))","v":"幼保連携型認定こども園"},{"$f":"INDEX(_tmp2!B:B,MATCH(E621,_tmp2!A:A,0))","v":"北海道"},"A201334600011","A2","01","3","1","認定こども園八雲マリア幼稚園","二海郡八雲町東町１９番地","0493102","2020-12-22","","01A187",""]
[{"$f":"INDEX(学校種!B:B,MATCH(D622,学校種!A:A,0))","v":"幼保連携型認定こども園"},{"$f":"INDEX(_tmp2!B:B,MATCH(E622,_tmp2!A:A,0))","v":"北海道"},"A201334700010","A2","01",3,1,"認定こども園長万部マリア幼稚園","山越郡長万部町字富野102番地47","0493514","2021-05-27","","01A292",""]
[{"$f":"INDEX(学校種!B:B,MATCH(D623,学校種!A:A,0))","v":"幼保連携型認定こども園"},{"$f":"INDEX(_tmp2!B:B,MATCH(E623,_tmp2!A:A,0))","v":"北海道"},"A201336100011","A2","01","3","1","認定こども園江差幼稚園","檜山郡江差町新地町２７","0430053","2020-12-22","","01A261",""]
[{"$f":"INDEX(学校種!B:B,MATCH(D624,学校種!A:A,0))","v":"幼保連携型認定こども園"},{"$f":"INDEX(_tmp2!B:B,MATCH(E624,_tmp2!A:A,0))","v":"北海道"},"A201337000010","A2","01","3","1","認定こども園いまかね","瀬棚郡今金町字今金４３５番地３８０","0494308","2020-12-22","","01A042",""]
[{"$f":"INDEX(学校種!B:B,MATCH(D625,学校種!A:A,0))","v":"幼保連携型認定こども園"},{"$f":"INDEX(_tmp2!B:B,MATCH(E625,_tmp2!A:A,0))","v":"北海道"},"A201340000014","A2","01","3","1","認定こども園倶知安幼稚園","虻田郡倶知安町北５条東２丁目","0440005","2020-12-22","","01A141",""]
[{"$f":"INDEX(学校種!B:B,MATCH(D626,学校種!A:A,0))","v":"幼保連携型認定こども園"},{"$f":"INDEX(_tmp2!B:B,MATCH(E626,_tmp2!A:A,0))","v":"北海道"},"A201342700013","A2","01","3","1","にじいろこども園","夕張郡由仁町本町３１８番地","0691206","2020-12-22","","01A255",""]
[{"$f":"INDEX(学校種!B:B,MATCH(D627,学校種!A:A,0))","v":"幼保連携型認定こども園"},{"$f":"INDEX(_tmp2!B:B,MATCH(E627,_tmp2!A:A,0))","v":"北海道"},"A201342900011","A2","01","3","1","幼保連携型栗山めぐみこども園","夕張郡栗山町錦２丁目６２","0691521","2020-12-22","","01A179",""]
[{"$f":"INDEX(学校種!B:B,MATCH(D628,学校種!A:A,0))","v":"幼保連携型認定こども園"},{"$f":"INDEX(_tmp2!B:B,MATCH(E628,_tmp2!A:A,0))","v":"北海道"},"A201343100017","A2","01","3","1","浦臼町認定こども園なかよし","樺戸郡浦臼町字ウラウシナイ１８３－３５５","0610600","2020-12-22","","01A189",""]
[{"$f":"INDEX(学校種!B:B,MATCH(D629,学校種!A:A,0))","v":"幼保連携型認定こども園"},{"$f":"INDEX(_tmp2!B:B,MATCH(E629,_tmp2!A:A,0))","v":"北海道"},"A201345200011","A2","01","3","1","認定こども園たかす円山幼稚園","上川郡鷹栖町北野東２条２丁目","0711222","2020-12-22","","01A155",""]
[{"$f":"INDEX(学校種!B:B,MATCH(D630,学校種!A:A,0))","v":"幼保連携型認定こども園"},{"$f":"INDEX(_tmp2!B:B,MATCH(E630,_tmp2!A:A,0))","v":"北海道"},"A201345300010","A2","01","3","1","社会福祉法人洗心会認定こども園花の森","上川郡東神楽町ひじり野北２条８丁目１番２号","0711522","2020-12-22","","01A098",""]
[{"$f":"INDEX(学校種!B:B,MATCH(D631,学校種!A:A,0))","v":"幼保連携型認定こども園"},{"$f":"INDEX(_tmp2!B:B,MATCH(E631,_tmp2!A:A,0))","v":"北海道"},"A201345900014","A2","01","3","1","幼保連携型認定こども園びえい青葉幼稚園","上川郡美瑛町寿町３丁目１番３２号","0710209","2020-12-22","","01A253",""]
[{"$f":"INDEX(学校種!B:B,MATCH(D632,学校種!A:A,0))","v":"幼保連携型認定こども園"},{"$f":"INDEX(_tmp2!B:B,MATCH(E632,_tmp2!A:A,0))","v":"北海道"},"A201346000011","A2","01","3","1","認定こども園わかば中央保育園","空知郡上富良野町富町１丁目４番９０号","0710541","2020-12-22","","01A090",""]
[{"$f":"INDEX(学校種!B:B,MATCH(D633,学校種!A:A,0))","v":"幼保連携型認定こども園"},{"$f":"INDEX(_tmp2!B:B,MATCH(E633,_tmp2!A:A,0))","v":"北海道"},"A201346000020","A2","01","3","1","認定こども園わかば愛育園","空知郡上富良野町旭町３丁目５番４３号","0710553","2020-12-22","","01A091",""]
[{"$f":"INDEX(学校種!B:B,MATCH(D634,学校種!A:A,0))","v":"幼保連携型認定こども園"},{"$f":"INDEX(_tmp2!B:B,MATCH(E634,_tmp2!A:A,0))","v":"北海道"},"A201346000039","A2","01","3","1","認定こども園上富良野高田幼稚園","空知郡上富良野町栄町３丁目２番30号","0710544","2020-12-22","","01A099",""]
[{"$f":"INDEX(学校種!B:B,MATCH(D635,学校種!A:A,0))","v":"幼保連携型認定こども園"},{"$f":"INDEX(_tmp2!B:B,MATCH(E635,_tmp2!A:A,0))","v":"北海道"},"A201346100010","A2","01","3","1","幼保連携型認定こども園社会福祉法人洗心会なかふらのこども園","空知郡中富良野町本町10番55号","0710752","2020-12-22","","01A100",""]
[{"$f":"INDEX(学校種!B:B,MATCH(D636,学校種!A:A,0))","v":"幼保連携型認定こども園"},{"$f":"INDEX(_tmp2!B:B,MATCH(E636,_tmp2!A:A,0))","v":"北海道"},"A201348300014","A2","01","3","1","認定苫前こども園","苫前郡苫前町字苫前１６１番地の６","0783701","2020-12-22","","01A144",""]
[{"$f":"INDEX(学校種!B:B,MATCH(D637,学校種!A:A,0))","v":"幼保連携型認定こども園"},{"$f":"INDEX(_tmp2!B:B,MATCH(E637,_tmp2!A:A,0))","v":"北海道"},"A201348400013","A2","01","3","1","認定こども園・まき","苫前郡羽幌町南３条５丁目５番地","0784103","2020-12-22","","01A065",""]
[{"$f":"INDEX(学校種!B:B,MATCH(D638,学校種!A:A,0))","v":"幼保連携型認定こども園"},{"$f":"INDEX(_tmp2!B:B,MATCH(E638,_tmp2!A:A,0))","v":"北海道"},"A201354300012","A2","01","3","1","幼保連携認定こども園美幌藤幼稚園","網走郡美幌町栄町１丁目１０－６","0920012","2020-12-22","","01A252",""]
[{"$f":"INDEX(学校種!B:B,MATCH(D639,学校種!A:A,0))","v":"幼保連携型認定こども園"},{"$f":"INDEX(_tmp2!B:B,MATCH(E639,_tmp2!A:A,0))","v":"北海道"},"A201354400011","A2","01","3","1","認定こども園こどもの杜","網走郡津別町字新町２１番地","0920232","2020-12-22","","01A078",""]
[{"$f":"INDEX(学校種!B:B,MATCH(D640,学校種!A:A,0))","v":"幼保連携型認定こども園"},{"$f":"INDEX(_tmp2!B:B,MATCH(E640,_tmp2!A:A,0))","v":"北海道"},"A201354500010","A2","01","3","1","認定こども園斜里大谷幼稚園","斜里郡斜里町本町46番地10","0994113","2020-12-22","","01A110",""]
[{"$f":"INDEX(学校種!B:B,MATCH(D641,学校種!A:A,0))","v":"幼保連携型認定こども園"},{"$f":"INDEX(_tmp2!B:B,MATCH(E641,_tmp2!A:A,0))","v":"北海道"},"A201355500017","A2","01","3","1","幼保連携型認定こども園こころ","紋別郡遠軽町１条通南１丁目２－１７","0990417","2020-12-22","","01A063",""]
[{"$f":"INDEX(学校種!B:B,MATCH(D642,学校種!A:A,0))","v":"幼保連携型認定こども園"},{"$f":"INDEX(_tmp2!B:B,MATCH(E642,_tmp2!A:A,0))","v":"北海道"},"A201355500026","A2","01","3","1","認定こども園遠軽幼稚園","紋別郡遠軽町岩見通北３丁目１－１５","0990405","2020-12-22","","01A262",""]
[{"$f":"INDEX(学校種!B:B,MATCH(D643,学校種!A:A,0))","v":"幼保連携型認定こども園"},{"$f":"INDEX(_tmp2!B:B,MATCH(E643,_tmp2!A:A,0))","v":"北海道"},"A201356400016","A2","01",3,1,"大空町認定こども園めまんべつ","網走郡大空町女満別中央３４１－１","0992371","2021-05-27","","01A293",""]
[{"$f":"INDEX(学校種!B:B,MATCH(D644,学校種!A:A,0))","v":"幼保連携型認定こども園"},{"$f":"INDEX(_tmp2!B:B,MATCH(E644,_tmp2!A:A,0))","v":"北海道"},"A201357800010","A2","01","3","1","認定こども園白老小鳩保育園","白老郡白老町東町３丁目１番２７号","0590903","2020-12-22","","01A083",""]
[{"$f":"INDEX(学校種!B:B,MATCH(D645,学校種!A:A,0))","v":"幼保連携型認定こども園"},{"$f":"INDEX(_tmp2!B:B,MATCH(E645,_tmp2!A:A,0))","v":"北海道"},"A201357800029","A2","01","3","1","認定こども園海の子保育園","白老郡白老町字虎杖浜７４番地１１","0590641","2020-12-22","","01A190",""]
[{"$f":"INDEX(学校種!B:B,MATCH(D646,学校種!A:A,0))","v":"幼保連携型認定こども園"},{"$f":"INDEX(_tmp2!B:B,MATCH(E646,_tmp2!A:A,0))","v":"北海道"},"A201358500011","A2","01",3,"1","認定こども園安平町立はやきた子ども園","勇払郡安平町早来大町１５６番地１","0591501","2020-12-22","","01A033",""]
[{"$f":"INDEX(学校種!B:B,MATCH(D647,学校種!A:A,0))","v":"幼保連携型認定こども園"},{"$f":"INDEX(_tmp2!B:B,MATCH(E647,_tmp2!A:A,0))","v":"北海道"},"A201358500020","A2","01","3","1","認定こども園おいわけ子ども園","勇払郡安平町追分本町６丁目５４番地","0591911","2020-12-22","","01A158",""]
[{"$f":"INDEX(学校種!B:B,MATCH(D648,学校種!A:A,0))","v":"幼保連携型認定こども園"},{"$f":"INDEX(_tmp2!B:B,MATCH(E648,_tmp2!A:A,0))","v":"北海道"},"A201358600010","A2","01","3","1","むかわひかり認定こども園","勇払郡むかわ町大原２丁目１４番地１","0540021","2020-12-22","","01A039",""]
[{"$f":"INDEX(学校種!B:B,MATCH(D649,学校種!A:A,0))","v":"幼保連携型認定こども園"},{"$f":"INDEX(_tmp2!B:B,MATCH(E649,_tmp2!A:A,0))","v":"北海道"},"A201360700015","A2","01","3","1","認定こども園夢の国幼稚園・保育園","浦河郡浦河町堺町西１丁目１１番２１号","0570034","2020-12-22","","01A041",""]
[{"$f":"INDEX(学校種!B:B,MATCH(D650,学校種!A:A,0))","v":"幼保連携型認定こども園"},{"$f":"INDEX(_tmp2!B:B,MATCH(E650,_tmp2!A:A,0))","v":"北海道"},"A201361000010","A2","01","3","1","認定こども園マーガレット幼稚園","日高郡新ひだか町静内御幸町６丁目２番２６号","0560017","2020-12-22","","01A027",""]
[{"$f":"INDEX(学校種!B:B,MATCH(D651,学校種!A:A,0))","v":"幼保連携型認定こども園"},{"$f":"INDEX(_tmp2!B:B,MATCH(E651,_tmp2!A:A,0))","v":"北海道"},"A201363100015","A2","01","3","1","音更認定こども園","河東郡音更町新通９丁目３番地","0800104","2020-12-22","","01A111",""]
[{"$f":"INDEX(学校種!B:B,MATCH(D652,学校種!A:A,0))","v":"幼保連携型認定こども園"},{"$f":"INDEX(_tmp2!B:B,MATCH(E652,_tmp2!A:A,0))","v":"北海道"},"A201363100024","A2","01","3","1","認定こども園宝来こども園","河東郡音更町宝来仲町南１丁目１０番地","0800135","2020-12-22","","01A238",""]
[{"$f":"INDEX(学校種!B:B,MATCH(D653,学校種!A:A,0))","v":"幼保連携型認定こども園"},{"$f":"INDEX(_tmp2!B:B,MATCH(E653,_tmp2!A:A,0))","v":"北海道"},"A201363100033","A2","01","3","1","緑陽台認定こども園","河東郡音更町緑陽台仲区３５番地９","0800317","2020-12-22","","01A264",""]
[{"$f":"INDEX(学校種!B:B,MATCH(D654,学校種!A:A,0))","v":"幼保連携型認定こども園"},{"$f":"INDEX(_tmp2!B:B,MATCH(E654,_tmp2!A:A,0))","v":"北海道"},"A201363100042","A2","01",3,1,"駒場認定こども園","河東郡音更町駒場南1条通3番地","0800566","2021-05-27","","01A294",""]
[{"$f":"INDEX(学校種!B:B,MATCH(D655,学校種!A:A,0))","v":"幼保連携型認定こども園"},{"$f":"INDEX(_tmp2!B:B,MATCH(E655,_tmp2!A:A,0))","v":"北海道"},"A201364600018","A2","01","3","1","幼保連携型認定こども園ほんべつ","中川郡本別町南３丁目１６番地４","0893314","2020-12-22","","01A157",""]
[{"$f":"INDEX(学校種!B:B,MATCH(D656,学校種!A:A,0))","v":"幼保連携型認定こども園"},{"$f":"INDEX(_tmp2!B:B,MATCH(E656,_tmp2!A:A,0))","v":"北海道"},"A201366500014","A2","01","3","1","幼保連携型認定こども園ましゅう","川上郡弟子屈町泉１丁目５０番地１","0883212","2020-12-22","","01A246",""]
[{"$f":"INDEX(学校種!B:B,MATCH(D657,学校種!A:A,0))","v":"幼保連携型認定こども園"},{"$f":"INDEX(_tmp2!B:B,MATCH(E657,_tmp2!A:A,0))","v":"北海道"},"A201366800011","A2","01",3,"1","庶路こども園","白糠郡白糠町西庶路学園通１丁目１番地","0880575","2020-12-22","","01A192",""]
[{"$f":"INDEX(学校種!B:B,MATCH(D658,学校種!A:A,0))","v":"幼保連携型認定こども園"},{"$f":"INDEX(_tmp2!B:B,MATCH(E658,_tmp2!A:A,0))","v":"北海道"},"A201366800020","A2","01",3,"1","学校法人二葉学園　白糠こども園","白糠町西２条３丁目１番地１","0880312","2020-12-22","","01A267",""]
[{"$f":"INDEX(学校種!B:B,MATCH(D659,学校種!A:A,0))","v":"小学校"},{"$f":"INDEX(_tmp2!B:B,MATCH(E659,_tmp2!A:A,0))","v":"北海道"},"B101110000010","B1","01","1","1","北海道教育大学附属札幌小学校","札幌市北区あいの里５－３－１－１０","0028075","2020-12-22","","010001",""]
[{"$f":"INDEX(学校種!B:B,MATCH(D660,学校種!A:A,0))","v":"小学校"},{"$f":"INDEX(_tmp2!B:B,MATCH(E660,_tmp2!A:A,0))","v":"北海道"},"B101110000029","B1","01","1","1","北海道教育大学附属函館小学校","函館市美原３－４８－６","0410806","2020-12-22","","010002",""]
[{"$f":"INDEX(学校種!B:B,MATCH(D661,学校種!A:A,0))","v":"小学校"},{"$f":"INDEX(_tmp2!B:B,MATCH(E661,_tmp2!A:A,0))","v":"北海道"},"B101110000038","B1","01","1","1","北海道教育大学附属旭川小学校","旭川市春光４条１丁目１ー１","0700874","2020-12-22","","010003",""]
[{"$f":"INDEX(学校種!B:B,MATCH(D662,学校種!A:A,0))","v":"小学校"},{"$f":"INDEX(_tmp2!B:B,MATCH(E662,_tmp2!A:A,0))","v":"北海道"},"B101110000047","B1","01","1","9","北海道教育大学附属釧路小学校","釧路市桜ヶ岡７－１２－４８","0850805","2020-12-22","2021-05-27","010004",""]
[{"$f":"INDEX(学校種!B:B,MATCH(D663,学校種!A:A,0))","v":"小学校"},{"$f":"INDEX(_tmp2!B:B,MATCH(E663,_tmp2!A:A,0))","v":"北海道"},"B101210110042","B1","01","2","1","札幌市立中央小学校","札幌市中央区大通東６丁目１２番地","0600041","2020-12-22","","010015",""]
[{"$f":"INDEX(学校種!B:B,MATCH(D664,学校種!A:A,0))","v":"小学校"},{"$f":"INDEX(_tmp2!B:B,MATCH(E664,_tmp2!A:A,0))","v":"北海道"},"B101210110051","B1","01","2","1","札幌市立山鼻小学校","札幌市中央区南１４条西１０丁目１番地","0640914","2020-12-22","","010018",""]
[{"$f":"INDEX(学校種!B:B,MATCH(D665,学校種!A:A,0))","v":"小学校"},{"$f":"INDEX(_tmp2!B:B,MATCH(E665,_tmp2!A:A,0))","v":"北海道"},"B101210110060","B1","01","2","1","札幌市立幌西小学校","札幌市中央区南１０条西１７丁目１番１号","0640810","2020-12-22","","010021",""]
[{"$f":"INDEX(学校種!B:B,MATCH(D666,学校種!A:A,0))","v":"小学校"},{"$f":"INDEX(_tmp2!B:B,MATCH(E666,_tmp2!A:A,0))","v":"北海道"},"B101210110079","B1","01","2","1","札幌市立桑園小学校","札幌市中央区北８条西１７丁目１","0600008","2020-12-22","","010023",""]
[{"$f":"INDEX(学校種!B:B,MATCH(D667,学校種!A:A,0))","v":"小学校"},{"$f":"INDEX(_tmp2!B:B,MATCH(E667,_tmp2!A:A,0))","v":"北海道"},"B101210110088","B1","01","2","1","札幌市立幌南小学校","札幌市中央区南２１条西５丁目１－１","0640921","2020-12-22","","010025",""]
[{"$f":"INDEX(学校種!B:B,MATCH(D668,学校種!A:A,0))","v":"小学校"},{"$f":"INDEX(_tmp2!B:B,MATCH(E668,_tmp2!A:A,0))","v":"北海道"},"B101210110097","B1","01","2","1","札幌市立円山小学校","札幌市中央区北１条西２５丁目１－８","0640821","2020-12-22","","010026",""]
[{"$f":"INDEX(学校種!B:B,MATCH(D669,学校種!A:A,0))","v":"小学校"},{"$f":"INDEX(_tmp2!B:B,MATCH(E669,_tmp2!A:A,0))","v":"北海道"},"B101210110104","B1","01","2","1","札幌市立二条小学校","札幌市中央区南２条西１５丁目","0600062","2020-12-22","","010029",""]
[{"$f":"INDEX(学校種!B:B,MATCH(D670,学校種!A:A,0))","v":"小学校"},{"$f":"INDEX(_tmp2!B:B,MATCH(E670,_tmp2!A:A,0))","v":"北海道"},"B101210110122","B1","01","2","1","札幌市立日新小学校","札幌市中央区北８条西２５丁目２番１号","0600008","2020-12-22","","010033",""]
[{"$f":"INDEX(学校種!B:B,MATCH(D671,学校種!A:A,0))","v":"小学校"},{"$f":"INDEX(_tmp2!B:B,MATCH(E671,_tmp2!A:A,0))","v":"北海道"},"B101210110131","B1","01","2","1","札幌市立緑丘小学校","札幌市中央区南十条西２２丁目３‐１","0640810","2020-12-22","","010036",""]
[{"$f":"INDEX(学校種!B:B,MATCH(D672,学校種!A:A,0))","v":"小学校"},{"$f":"INDEX(_tmp2!B:B,MATCH(E672,_tmp2!A:A,0))","v":"北海道"},"B101210110140","B1","01","2","1","札幌市立盤渓小学校","札幌市中央区盤渓２２６番地","0640945","2020-12-22","","010051",""]
[{"$f":"INDEX(学校種!B:B,MATCH(D673,学校種!A:A,0))","v":"小学校"},{"$f":"INDEX(_tmp2!B:B,MATCH(E673,_tmp2!A:A,0))","v":"北海道"},"B101210110159","B1","01","2","1","札幌市立宮の森小学校","札幌市中央区宮の森４条６丁目１番地１","0640954","2020-12-22","","010062",""]
[{"$f":"INDEX(学校種!B:B,MATCH(D674,学校種!A:A,0))","v":"小学校"},{"$f":"INDEX(_tmp2!B:B,MATCH(E674,_tmp2!A:A,0))","v":"北海道"},"B101210110168","B1","01","2","1","札幌市立伏見小学校","札幌市中央区南１８条西１５丁目１番１号","0640918","2020-12-22","","010111",""]
[{"$f":"INDEX(学校種!B:B,MATCH(D675,学校種!A:A,0))","v":"小学校"},{"$f":"INDEX(_tmp2!B:B,MATCH(E675,_tmp2!A:A,0))","v":"北海道"},"B101210110177","B1","01","2","1","札幌市立大倉山小学校","札幌市中央区宮の森３条１３丁目６－２０","0640963","2020-12-22","","012832",""]
[{"$f":"INDEX(学校種!B:B,MATCH(D676,学校種!A:A,0))","v":"小学校"},{"$f":"INDEX(_tmp2!B:B,MATCH(E676,_tmp2!A:A,0))","v":"北海道"},"B101210110186","B1","01","2","1","札幌市立三角山小学校","札幌市中央区宮の森４条１１丁目４－１","0640954","2020-12-22","","012839",""]
[{"$f":"INDEX(学校種!B:B,MATCH(D677,学校種!A:A,0))","v":"小学校"},{"$f":"INDEX(_tmp2!B:B,MATCH(E677,_tmp2!A:A,0))","v":"北海道"},"B101210110195","B1","01","2","1","札幌市立山鼻南小学校","札幌市中央区南２９条西１２丁目１の１","0640929","2020-12-22","","012972",""]
[{"$f":"INDEX(学校種!B:B,MATCH(D678,学校種!A:A,0))","v":"小学校"},{"$f":"INDEX(_tmp2!B:B,MATCH(E678,_tmp2!A:A,0))","v":"北海道"},"B101210110202","B1","01","2","1","札幌市立資生館小学校","札幌市中央区南３条西７丁目","0600063","2020-12-22","","013008",""]
[{"$f":"INDEX(学校種!B:B,MATCH(D679,学校種!A:A,0))","v":"小学校"},{"$f":"INDEX(_tmp2!B:B,MATCH(E679,_tmp2!A:A,0))","v":"北海道"},"B101210220012","B1","01","2","1","札幌市立北九条小学校","札幌市北区北９条西1丁目１","0600809","2020-12-22","","010014",""]
[{"$f":"INDEX(学校種!B:B,MATCH(D680,学校種!A:A,0))","v":"小学校"},{"$f":"INDEX(_tmp2!B:B,MATCH(E680,_tmp2!A:A,0))","v":"北海道"},"B101210220021","B1","01","2","1","札幌市立幌北小学校","札幌市北区北１９条西２丁目１－１","0010019","2020-12-22","","010024",""]
[{"$f":"INDEX(学校種!B:B,MATCH(D681,学校種!A:A,0))","v":"小学校"},{"$f":"INDEX(_tmp2!B:B,MATCH(E681,_tmp2!A:A,0))","v":"北海道"},"B101210220030","B1","01","2","1","札幌市立白楊小学校","札幌市北区北２４条西７丁目１の１","0010024","2020-12-22","","010035",""]
[{"$f":"INDEX(学校種!B:B,MATCH(D682,学校種!A:A,0))","v":"小学校"},{"$f":"INDEX(_tmp2!B:B,MATCH(E682,_tmp2!A:A,0))","v":"北海道"},"B101210220049","B1","01","2","1","札幌市立新琴似小学校","札幌市北区新琴似７条３丁目２番１号","0010907","2020-12-22","","010048",""]
[{"$f":"INDEX(学校種!B:B,MATCH(D683,学校種!A:A,0))","v":"小学校"},{"$f":"INDEX(_tmp2!B:B,MATCH(E683,_tmp2!A:A,0))","v":"北海道"},"B101210220058","B1","01","2","1","札幌市立屯田小学校","札幌市北区屯田７条６丁目２番２号","0020857","2020-12-22","","010050",""]
[{"$f":"INDEX(学校種!B:B,MATCH(D684,学校種!A:A,0))","v":"小学校"},{"$f":"INDEX(_tmp2!B:B,MATCH(E684,_tmp2!A:A,0))","v":"北海道"},"B101210220067","B1","01","2","1","札幌市立新川小学校","札幌市北区新川５条１５丁目１番１号","0010925","2020-12-22","","010052",""]
[{"$f":"INDEX(学校種!B:B,MATCH(D685,学校種!A:A,0))","v":"小学校"},{"$f":"INDEX(_tmp2!B:B,MATCH(E685,_tmp2!A:A,0))","v":"北海道"},"B101210220076","B1","01","2","1","札幌市立篠路小学校","札幌市北区篠路４条９丁目３－１","0028024","2020-12-22","","010057",""]
[{"$f":"INDEX(学校種!B:B,MATCH(D686,学校種!A:A,0))","v":"小学校"},{"$f":"INDEX(_tmp2!B:B,MATCH(E686,_tmp2!A:A,0))","v":"北海道"},"B101210220085","B1","01","2","1","札幌市立茨戸小学校","札幌市北区東茨戸１条２丁目３１４－１５","0028041","2020-12-22","","010058",""]
[{"$f":"INDEX(学校種!B:B,MATCH(D687,学校種!A:A,0))","v":"小学校"},{"$f":"INDEX(_tmp2!B:B,MATCH(E687,_tmp2!A:A,0))","v":"北海道"},"B101210220094","B1","01","2","1","札幌市立鴻城小学校","札幌市北区あいの里３条６丁目２－１","0028073","2020-12-22","","010061",""]
[{"$f":"INDEX(学校種!B:B,MATCH(D688,学校種!A:A,0))","v":"小学校"},{"$f":"INDEX(_tmp2!B:B,MATCH(E688,_tmp2!A:A,0))","v":"北海道"},"B101210220101","B1","01","2","1","札幌市立和光小学校","札幌市北区北３４条西７丁目３番２号","0010034","2020-12-22","","010087",""]
[{"$f":"INDEX(学校種!B:B,MATCH(D689,学校種!A:A,0))","v":"小学校"},{"$f":"INDEX(_tmp2!B:B,MATCH(E689,_tmp2!A:A,0))","v":"北海道"},"B101210220110","B1","01","2","1","札幌市立光陽小学校","札幌市北区新琴似５条１１丁目４－１","0010905","2020-12-22","","010105",""]
[{"$f":"INDEX(学校種!B:B,MATCH(D690,学校種!A:A,0))","v":"小学校"},{"$f":"INDEX(_tmp2!B:B,MATCH(E690,_tmp2!A:A,0))","v":"北海道"},"B101210220129","B1","01","2","1","札幌市立新陽小学校","札幌市北区北２７条西１４丁目１番１号","0010027","2020-12-22","","010115",""]
[{"$f":"INDEX(学校種!B:B,MATCH(D691,学校種!A:A,0))","v":"小学校"},{"$f":"INDEX(_tmp2!B:B,MATCH(E691,_tmp2!A:A,0))","v":"北海道"},"B101210220138","B1","01","2","1","札幌市立新琴似北小学校","札幌市北区新琴似１１条６丁目１番１号","0010911","2020-12-22","","010118",""]
[{"$f":"INDEX(学校種!B:B,MATCH(D692,学校種!A:A,0))","v":"小学校"},{"$f":"INDEX(_tmp2!B:B,MATCH(E692,_tmp2!A:A,0))","v":"北海道"},"B101210220147","B1","01","2","1","札幌市立新川中央小学校","札幌市北区新川３条３丁目２番１号","0010923","2020-12-22","","010120",""]
[{"$f":"INDEX(学校種!B:B,MATCH(D693,学校種!A:A,0))","v":"小学校"},{"$f":"INDEX(_tmp2!B:B,MATCH(E693,_tmp2!A:A,0))","v":"北海道"},"B101210220156","B1","01","2","1","札幌市立新琴似西小学校","札幌市北区新琴似１１条１５丁目１番５号","0010911","2020-12-22","","012811",""]
[{"$f":"INDEX(学校種!B:B,MATCH(D694,学校種!A:A,0))","v":"小学校"},{"$f":"INDEX(_tmp2!B:B,MATCH(E694,_tmp2!A:A,0))","v":"北海道"},"B101210220165","B1","01","2","1","札幌市立太平小学校","札幌市北区篠路１条２丁目６番２０号","0028021","2020-12-22","","012812",""]
[{"$f":"INDEX(学校種!B:B,MATCH(D695,学校種!A:A,0))","v":"小学校"},{"$f":"INDEX(_tmp2!B:B,MATCH(E695,_tmp2!A:A,0))","v":"北海道"},"B101210220174","B1","01","2","1","札幌市立新琴似南小学校","札幌市北区新琴似１条３丁目１番１号","0010901","2020-12-22","","012817",""]
[{"$f":"INDEX(学校種!B:B,MATCH(D696,学校種!A:A,0))","v":"小学校"},{"$f":"INDEX(_tmp2!B:B,MATCH(E696,_tmp2!A:A,0))","v":"北海道"},"B101210220183","B1","01","2","1","札幌市立篠路西小学校","札幌市北区篠路５条２丁目２番１号","0028025","2020-12-22","","012818",""]
[{"$f":"INDEX(学校種!B:B,MATCH(D697,学校種!A:A,0))","v":"小学校"},{"$f":"INDEX(_tmp2!B:B,MATCH(E697,_tmp2!A:A,0))","v":"北海道"},"B101210220192","B1","01","2","1","札幌市立新光小学校","札幌市北区新琴似１条１２丁目１番１号","0010901","2020-12-22","","012826",""]
[{"$f":"INDEX(学校種!B:B,MATCH(D698,学校種!A:A,0))","v":"小学校"},{"$f":"INDEX(_tmp2!B:B,MATCH(E698,_tmp2!A:A,0))","v":"北海道"},"B101210220209","B1","01","2","1","札幌市立拓北小学校","札幌市北区あいの里２条１丁目２４－１","0028072","2020-12-22","","012840",""]
[{"$f":"INDEX(学校種!B:B,MATCH(D699,学校種!A:A,0))","v":"小学校"},{"$f":"INDEX(_tmp2!B:B,MATCH(E699,_tmp2!A:A,0))","v":"北海道"},"B101210220218","B1","01","2","1","札幌市立屯田南小学校","札幌市北区屯田５条４丁目６－１","0020855","2020-12-22","","012851",""]
[{"$f":"INDEX(学校種!B:B,MATCH(D700,学校種!A:A,0))","v":"小学校"},{"$f":"INDEX(_tmp2!B:B,MATCH(E700,_tmp2!A:A,0))","v":"北海道"},"B101210220227","B1","01","2","1","札幌市立北陽小学校","札幌市北区北３１条西９丁目２－１","0010031","2020-12-22","","012852",""]
[{"$f":"INDEX(学校種!B:B,MATCH(D701,学校種!A:A,0))","v":"小学校"},{"$f":"INDEX(_tmp2!B:B,MATCH(E701,_tmp2!A:A,0))","v":"北海道"},"B101210220236","B1","01","2","1","札幌市立新琴似緑小学校","札幌市北区新琴似１０条１１丁目５番１号","0010910","2020-12-22","","012853",""]
[{"$f":"INDEX(学校種!B:B,MATCH(D702,学校種!A:A,0))","v":"小学校"},{"$f":"INDEX(_tmp2!B:B,MATCH(E702,_tmp2!A:A,0))","v":"北海道"},"B101210220245","B1","01","2","1","札幌市立太平南小学校","札幌市北区太平１条１丁目２－１","0028001","2020-12-22","","012854",""]
[{"$f":"INDEX(学校種!B:B,MATCH(D703,学校種!A:A,0))","v":"小学校"},{"$f":"INDEX(_tmp2!B:B,MATCH(E703,_tmp2!A:A,0))","v":"北海道"},"B101210220254","B1","01","2","1","札幌市立あいの里西小学校","札幌市北区あいの里２条３丁目９－１","0028072","2020-12-22","","012977",""]
[{"$f":"INDEX(学校種!B:B,MATCH(D704,学校種!A:A,0))","v":"小学校"},{"$f":"INDEX(_tmp2!B:B,MATCH(E704,_tmp2!A:A,0))","v":"北海道"},"B101210220263","B1","01","2","1","札幌市立屯田西小学校","札幌市北区屯田６条１０丁目３番１号","0020856","2020-12-22","","012982",""]
[{"$f":"INDEX(学校種!B:B,MATCH(D705,学校種!A:A,0))","v":"小学校"},{"$f":"INDEX(_tmp2!B:B,MATCH(E705,_tmp2!A:A,0))","v":"北海道"},"B101210220272","B1","01","2","1","札幌市立あいの里東小学校","札幌市北区あいの里３条７丁目１１－１","0028073","2020-12-22","","012986",""]
[{"$f":"INDEX(学校種!B:B,MATCH(D706,学校種!A:A,0))","v":"小学校"},{"$f":"INDEX(_tmp2!B:B,MATCH(E706,_tmp2!A:A,0))","v":"北海道"},"B101210220281","B1","01","2","1","札幌市立百合が原小学校","札幌市北区百合が原６丁目５番１号","0028081","2020-12-22","","013000",""]
[{"$f":"INDEX(学校種!B:B,MATCH(D707,学校種!A:A,0))","v":"小学校"},{"$f":"INDEX(_tmp2!B:B,MATCH(E707,_tmp2!A:A,0))","v":"北海道"},"B101210220290","B1","01","2","1","札幌市立屯田北小学校","札幌市北区屯田９条３丁目４－１","0020859","2020-12-22","","013009",""]
[{"$f":"INDEX(学校種!B:B,MATCH(D708,学校種!A:A,0))","v":"小学校"},{"$f":"INDEX(_tmp2!B:B,MATCH(E708,_tmp2!A:A,0))","v":"北海道"},"B101210220815","B1","01","2","2","札幌市立幌北小学校ひまわり分校","札幌市北区北１４条西５丁目","0600014","2020-12-22","","013040",""]
[{"$f":"INDEX(学校種!B:B,MATCH(D709,学校種!A:A,0))","v":"小学校"},{"$f":"INDEX(_tmp2!B:B,MATCH(E709,_tmp2!A:A,0))","v":"北海道"},"B101210330019","B1","01","2","1","札幌市立苗穂小学校","札幌市東区北９条東１３丁目１－１","0650009","2020-12-22","","010019",""]
[{"$f":"INDEX(学校種!B:B,MATCH(D710,学校種!A:A,0))","v":"小学校"},{"$f":"INDEX(_tmp2!B:B,MATCH(E710,_tmp2!A:A,0))","v":"北海道"},"B101210330028","B1","01","2","1","札幌市立北光小学校","札幌市東区北１２条東６丁目１－１","0650012","2020-12-22","","010020",""]
[{"$f":"INDEX(学校種!B:B,MATCH(D711,学校種!A:A,0))","v":"小学校"},{"$f":"INDEX(_tmp2!B:B,MATCH(E711,_tmp2!A:A,0))","v":"北海道"},"B101210330037","B1","01","2","1","札幌市立美香保小学校","札幌市東区北１８条東６丁目１番１０号","0650018","2020-12-22","","010031",""]
[{"$f":"INDEX(学校種!B:B,MATCH(D712,学校種!A:A,0))","v":"小学校"},{"$f":"INDEX(_tmp2!B:B,MATCH(E712,_tmp2!A:A,0))","v":"北海道"},"B101210330046","B1","01","2","1","札幌市立札幌小学校","札幌市東区伏古１条２丁目１番３１号","0070861","2020-12-22","","010053",""]
[{"$f":"INDEX(学校種!B:B,MATCH(D713,学校種!A:A,0))","v":"小学校"},{"$f":"INDEX(_tmp2!B:B,MATCH(E713,_tmp2!A:A,0))","v":"北海道"},"B101210330055","B1","01","2","1","札幌市立丘珠小学校","札幌市東区丘珠町５９３番地","0070880","2020-12-22","","010054",""]
[{"$f":"INDEX(学校種!B:B,MATCH(D714,学校種!A:A,0))","v":"小学校"},{"$f":"INDEX(_tmp2!B:B,MATCH(E714,_tmp2!A:A,0))","v":"北海道"},"B101210330064","B1","01","2","1","札幌市立札苗小学校","札幌市東区東苗穂７条２丁目３番１号","0070807","2020-12-22","","010055",""]
[{"$f":"INDEX(学校種!B:B,MATCH(D715,学校種!A:A,0))","v":"小学校"},{"$f":"INDEX(_tmp2!B:B,MATCH(E715,_tmp2!A:A,0))","v":"北海道"},"B101210330073","B1","01","2","1","札幌市立栄小学校","札幌市東区北４２条東１０丁目２の３","0070842","2020-12-22","","010056",""]
[{"$f":"INDEX(学校種!B:B,MATCH(D716,学校種!A:A,0))","v":"小学校"},{"$f":"INDEX(_tmp2!B:B,MATCH(E716,_tmp2!A:A,0))","v":"北海道"},"B101210330082","B1","01","2","1","札幌市立福移小学校","札幌市東区中沼町２４０番地","0070890","2020-12-22","","010059",""]
[{"$f":"INDEX(学校種!B:B,MATCH(D717,学校種!A:A,0))","v":"小学校"},{"$f":"INDEX(_tmp2!B:B,MATCH(E717,_tmp2!A:A,0))","v":"北海道"},"B101210330091","B1","01","2","1","札幌市立中沼小学校","札幌市東区中沼町７３番地１０","0070890","2020-12-22","","010060",""]
[{"$f":"INDEX(学校種!B:B,MATCH(D718,学校種!A:A,0))","v":"小学校"},{"$f":"INDEX(_tmp2!B:B,MATCH(E718,_tmp2!A:A,0))","v":"北海道"},"B101210330108","B1","01","2","1","札幌市立北園小学校","札幌市東区北２５条東４丁目３番１号","0650025","2020-12-22","","010063",""]
[{"$f":"INDEX(学校種!B:B,MATCH(D719,学校種!A:A,0))","v":"小学校"},{"$f":"INDEX(_tmp2!B:B,MATCH(E719,_tmp2!A:A,0))","v":"北海道"},"B101210330117","B1","01","2","1","札幌市立元町小学校","札幌市東区北２５条東１７丁目１－１","0650025","2020-12-22","","010086",""]
[{"$f":"INDEX(学校種!B:B,MATCH(D720,学校種!A:A,0))","v":"小学校"},{"$f":"INDEX(_tmp2!B:B,MATCH(E720,_tmp2!A:A,0))","v":"北海道"},"B101210330126","B1","01","2","1","札幌市立北小学校","札幌市東区北３３条東４丁目１－１","0650033","2020-12-22","","010089",""]
[{"$f":"INDEX(学校種!B:B,MATCH(D721,学校種!A:A,0))","v":"小学校"},{"$f":"INDEX(_tmp2!B:B,MATCH(E721,_tmp2!A:A,0))","v":"北海道"},"B101210330135","B1","01","2","1","札幌市立明園小学校","札幌市東区北１９条東１４丁目１番１号","0650019","2020-12-22","","010097",""]
[{"$f":"INDEX(学校種!B:B,MATCH(D722,学校種!A:A,0))","v":"小学校"},{"$f":"INDEX(_tmp2!B:B,MATCH(E722,_tmp2!A:A,0))","v":"北海道"},"B101210330144","B1","01","2","1","札幌市立本町小学校","札幌市東区本町２条７丁目１番３０号","0650042","2020-12-22","","010114",""]
[{"$f":"INDEX(学校種!B:B,MATCH(D723,学校種!A:A,0))","v":"小学校"},{"$f":"INDEX(_tmp2!B:B,MATCH(E723,_tmp2!A:A,0))","v":"北海道"},"B101210330153","B1","01","2","1","札幌市立栄西小学校","札幌市東区北３９条東４丁目１番１号","0070839","2020-12-22","","010117",""]
[{"$f":"INDEX(学校種!B:B,MATCH(D724,学校種!A:A,0))","v":"小学校"},{"$f":"INDEX(_tmp2!B:B,MATCH(E724,_tmp2!A:A,0))","v":"北海道"},"B101210330162","B1","01","2","1","札幌市立栄北小学校","札幌市東区北４７条東６丁目１－１","0070847","2020-12-22","","010119",""]
[{"$f":"INDEX(学校種!B:B,MATCH(D725,学校種!A:A,0))","v":"小学校"},{"$f":"INDEX(_tmp2!B:B,MATCH(E725,_tmp2!A:A,0))","v":"北海道"},"B101210330171","B1","01","2","1","札幌市立元町北小学校","札幌市東区北３１条東１４丁目１","0650031","2020-12-22","","010121",""]
[{"$f":"INDEX(学校種!B:B,MATCH(D726,学校種!A:A,0))","v":"小学校"},{"$f":"INDEX(_tmp2!B:B,MATCH(E726,_tmp2!A:A,0))","v":"北海道"},"B101210330180","B1","01","2","1","札幌市立栄東小学校","札幌市東区北４６条東１３丁目１番１号","0070846","2020-12-22","","012819",""]
[{"$f":"INDEX(学校種!B:B,MATCH(D727,学校種!A:A,0))","v":"小学校"},{"$f":"INDEX(_tmp2!B:B,MATCH(E727,_tmp2!A:A,0))","v":"北海道"},"B101210330199","B1","01","2","1","札幌市立札苗北小学校","札幌市東区東苗穂９条３丁目２番３号","0070809","2020-12-22","","012827",""]
[{"$f":"INDEX(学校種!B:B,MATCH(D728,学校種!A:A,0))","v":"小学校"},{"$f":"INDEX(_tmp2!B:B,MATCH(E728,_tmp2!A:A,0))","v":"北海道"},"B101210330206","B1","01","2","1","札幌市立東光小学校","札幌市東区本町２条１丁目２番３２号","0650042","2020-12-22","","012833",""]
[{"$f":"INDEX(学校種!B:B,MATCH(D729,学校種!A:A,0))","v":"小学校"},{"$f":"INDEX(_tmp2!B:B,MATCH(E729,_tmp2!A:A,0))","v":"北海道"},"B101210330215","B1","01","2","1","札幌市立栄南小学校","札幌市東区北３７条東２０丁目３－１","0070837","2020-12-22","","012834",""]
[{"$f":"INDEX(学校種!B:B,MATCH(D730,学校種!A:A,0))","v":"小学校"},{"$f":"INDEX(_tmp2!B:B,MATCH(E730,_tmp2!A:A,0))","v":"北海道"},"B101210330224","B1","01","2","1","札幌市立伏古小学校","札幌市東区伏古８条５丁目２番１号","0070868","2020-12-22","","012847",""]
[{"$f":"INDEX(学校種!B:B,MATCH(D731,学校種!A:A,0))","v":"小学校"},{"$f":"INDEX(_tmp2!B:B,MATCH(E731,_tmp2!A:A,0))","v":"北海道"},"B101210330233","B1","01","2","1","札幌市立開成小学校","札幌市東区北２１条東２１丁目３－１","0650021","2020-12-22","","012864",""]
[{"$f":"INDEX(学校種!B:B,MATCH(D732,学校種!A:A,0))","v":"小学校"},{"$f":"INDEX(_tmp2!B:B,MATCH(E732,_tmp2!A:A,0))","v":"北海道"},"B101210330242","B1","01","2","1","札幌市立栄町小学校","札幌市東区北３６条東１３丁目３番１号","0070836","2020-12-22","","012877",""]
[{"$f":"INDEX(学校種!B:B,MATCH(D733,学校種!A:A,0))","v":"小学校"},{"$f":"INDEX(_tmp2!B:B,MATCH(E733,_tmp2!A:A,0))","v":"北海道"},"B101210330251","B1","01","2","1","札幌市立栄緑小学校","札幌市東区北５１条東１０丁目１番１号","0070851","2020-12-22","","012894",""]
[{"$f":"INDEX(学校種!B:B,MATCH(D734,学校種!A:A,0))","v":"小学校"},{"$f":"INDEX(_tmp2!B:B,MATCH(E734,_tmp2!A:A,0))","v":"北海道"},"B101210330260","B1","01","2","1","札幌市立東苗穂小学校","札幌市東区東苗穂５条２丁目３番１号","0070805","2020-12-22","","012922",""]
[{"$f":"INDEX(学校種!B:B,MATCH(D735,学校種!A:A,0))","v":"小学校"},{"$f":"INDEX(_tmp2!B:B,MATCH(E735,_tmp2!A:A,0))","v":"北海道"},"B101210330279","B1","01","2","1","札幌市立伏古北小学校","札幌市東区伏古１１条１丁目２－１０","0070871","2020-12-22","","012937",""]
[{"$f":"INDEX(学校種!B:B,MATCH(D736,学校種!A:A,0))","v":"小学校"},{"$f":"INDEX(_tmp2!B:B,MATCH(E736,_tmp2!A:A,0))","v":"北海道"},"B101210330288","B1","01","2","1","札幌市立札苗緑小学校","札幌市東区東苗穂１３条４丁目９番３０号","0070813","2020-12-22","","012978",""]
[{"$f":"INDEX(学校種!B:B,MATCH(D737,学校種!A:A,0))","v":"小学校"},{"$f":"INDEX(_tmp2!B:B,MATCH(E737,_tmp2!A:A,0))","v":"北海道"},"B101210440016","B1","01","2","1","札幌市立東橋小学校","札幌市白石区菊水８条１丁目３番２５号","0030808","2020-12-22","","010022",""]
[{"$f":"INDEX(学校種!B:B,MATCH(D738,学校種!A:A,0))","v":"小学校"},{"$f":"INDEX(_tmp2!B:B,MATCH(E738,_tmp2!A:A,0))","v":"北海道"},"B101210440025","B1","01","2","1","札幌市立白石小学校","札幌市白石区本通１丁目北４番１号","0030027","2020-12-22","","010038",""]
[{"$f":"INDEX(学校種!B:B,MATCH(D739,学校種!A:A,0))","v":"小学校"},{"$f":"INDEX(_tmp2!B:B,MATCH(E739,_tmp2!A:A,0))","v":"北海道"},"B101210440034","B1","01","2","1","札幌市立上白石小学校","札幌市白石区菊水上町１条３丁目５２番地","0030811","2020-12-22","","010039",""]
[{"$f":"INDEX(学校種!B:B,MATCH(D740,学校種!A:A,0))","v":"小学校"},{"$f":"INDEX(_tmp2!B:B,MATCH(E740,_tmp2!A:A,0))","v":"北海道"},"B101210440043","B1","01","2","1","札幌市立大谷地小学校","札幌市白石区本通１８丁目南１番１号","0030026","2020-12-22","","010041",""]
[{"$f":"INDEX(学校種!B:B,MATCH(D741,学校種!A:A,0))","v":"小学校"},{"$f":"INDEX(_tmp2!B:B,MATCH(E741,_tmp2!A:A,0))","v":"北海道"},"B101210440061","B1","01","2","1","札幌市立本郷小学校","札幌市白石区南郷通１０丁目南３番１号","0030022","2020-12-22","","010064",""]
[{"$f":"INDEX(学校種!B:B,MATCH(D742,学校種!A:A,0))","v":"小学校"},{"$f":"INDEX(_tmp2!B:B,MATCH(E742,_tmp2!A:A,0))","v":"北海道"},"B101210440070","B1","01","2","1","札幌市立南郷小学校","札幌市白石区本郷通４丁目南３－１","0030024","2020-12-22","","010083",""]
[{"$f":"INDEX(学校種!B:B,MATCH(D743,学校種!A:A,0))","v":"小学校"},{"$f":"INDEX(_tmp2!B:B,MATCH(E743,_tmp2!A:A,0))","v":"北海道"},"B101210440089","B1","01","2","1","札幌市立本通小学校","札幌市白石区平和通９丁目南１番１号","0030028","2020-12-22","","010084",""]
[{"$f":"INDEX(学校種!B:B,MATCH(D744,学校種!A:A,0))","v":"小学校"},{"$f":"INDEX(_tmp2!B:B,MATCH(E744,_tmp2!A:A,0))","v":"北海道"},"B101210440098","B1","01","2","1","札幌市立東札幌小学校","札幌市白石区東札幌４条５丁目４番２０号","0030004","2020-12-22","","010085",""]
[{"$f":"INDEX(学校種!B:B,MATCH(D745,学校種!A:A,0))","v":"小学校"},{"$f":"INDEX(_tmp2!B:B,MATCH(E745,_tmp2!A:A,0))","v":"北海道"},"B101210440105","B1","01","2","1","札幌市立北郷小学校","札幌市白石区北郷４条５丁目１番１号","0030834","2020-12-22","","010091",""]
[{"$f":"INDEX(学校種!B:B,MATCH(D746,学校種!A:A,0))","v":"小学校"},{"$f":"INDEX(_tmp2!B:B,MATCH(E746,_tmp2!A:A,0))","v":"北海道"},"B101210440114","B1","01","2","1","札幌市立東白石小学校","札幌市白石区本通１４丁目南６番１号","0030026","2020-12-22","","010095",""]
[{"$f":"INDEX(学校種!B:B,MATCH(D747,学校種!A:A,0))","v":"小学校"},{"$f":"INDEX(_tmp2!B:B,MATCH(E747,_tmp2!A:A,0))","v":"北海道"},"B101210440123","B1","01","2","1","札幌市立北白石小学校","札幌市白石区北郷６条３丁目５番２号","0030836","2020-12-22","","010112",""]
[{"$f":"INDEX(学校種!B:B,MATCH(D748,学校種!A:A,0))","v":"小学校"},{"$f":"INDEX(_tmp2!B:B,MATCH(E748,_tmp2!A:A,0))","v":"北海道"},"B101210440132","B1","01","2","1","札幌市立西白石小学校","札幌市白石区中央３条５丁目２番２２号","0030013","2020-12-22","","010122",""]
[{"$f":"INDEX(学校種!B:B,MATCH(D749,学校種!A:A,0))","v":"小学校"},{"$f":"INDEX(_tmp2!B:B,MATCH(E749,_tmp2!A:A,0))","v":"北海道"},"B101210440141","B1","01","2","1","札幌市立北都小学校","札幌市白石区北郷３条１１丁目７－１","0030833","2020-12-22","","012813",""]
[{"$f":"INDEX(学校種!B:B,MATCH(D750,学校種!A:A,0))","v":"小学校"},{"$f":"INDEX(_tmp2!B:B,MATCH(E750,_tmp2!A:A,0))","v":"北海道"},"B101210440150","B1","01","2","1","札幌市立幌東小学校","札幌市白石区菊水６条３丁目２番６５号","0030806","2020-12-22","","012820",""]
[{"$f":"INDEX(学校種!B:B,MATCH(D751,学校種!A:A,0))","v":"小学校"},{"$f":"INDEX(_tmp2!B:B,MATCH(E751,_tmp2!A:A,0))","v":"北海道"},"B101210440169","B1","01","2","1","札幌市立平和通小学校","札幌市白石区本通１５丁目北３番１号","0030027","2020-12-22","","012828",""]
[{"$f":"INDEX(学校種!B:B,MATCH(D752,学校種!A:A,0))","v":"小学校"},{"$f":"INDEX(_tmp2!B:B,MATCH(E752,_tmp2!A:A,0))","v":"北海道"},"B101210440178","B1","01","2","1","札幌市立南白石小学校","札幌市白石区南郷通２丁目南６番３５号","0030022","2020-12-22","","012835",""]
[{"$f":"INDEX(学校種!B:B,MATCH(D753,学校種!A:A,0))","v":"小学校"},{"$f":"INDEX(_tmp2!B:B,MATCH(E753,_tmp2!A:A,0))","v":"北海道"},"B101210440187","B1","01","2","1","札幌市立菊水小学校","札幌市白石区菊水元町２条３丁目２番１４号","0030822","2020-12-22","","012841",""]
[{"$f":"INDEX(学校種!B:B,MATCH(D754,学校種!A:A,0))","v":"小学校"},{"$f":"INDEX(_tmp2!B:B,MATCH(E754,_tmp2!A:A,0))","v":"北海道"},"B101210440196","B1","01","2","1","札幌市立川北小学校","札幌市白石区川北４条２丁目２－１","0030854","2020-12-22","","012865",""]
[{"$f":"INDEX(学校種!B:B,MATCH(D755,学校種!A:A,0))","v":"小学校"},{"$f":"INDEX(_tmp2!B:B,MATCH(E755,_tmp2!A:A,0))","v":"北海道"},"B101210440203","B1","01","2","1","札幌市立東川下小学校","札幌市白石区川下４条３丁目１－１","0030864","2020-12-22","","012878",""]
[{"$f":"INDEX(学校種!B:B,MATCH(D756,学校種!A:A,0))","v":"小学校"},{"$f":"INDEX(_tmp2!B:B,MATCH(E756,_tmp2!A:A,0))","v":"北海道"},"B101210440212","B1","01","2","1","札幌市立米里小学校","札幌市白石区米里１条３丁目８－１","0030871","2020-12-22","","012961",""]
[{"$f":"INDEX(学校種!B:B,MATCH(D757,学校種!A:A,0))","v":"小学校"},{"$f":"INDEX(_tmp2!B:B,MATCH(E757,_tmp2!A:A,0))","v":"北海道"},"B101210550012","B1","01","2","1","札幌市立豊平小学校","札幌市豊平区豊平５条７丁目１番２号","0620905","2020-12-22","","010017",""]
[{"$f":"INDEX(学校種!B:B,MATCH(D758,学校種!A:A,0))","v":"小学校"},{"$f":"INDEX(_tmp2!B:B,MATCH(E758,_tmp2!A:A,0))","v":"北海道"},"B101210550021","B1","01","2","1","札幌市立東園小学校","札幌市豊平区豊平１条１２丁目１－１","0620901","2020-12-22","","010032",""]
[{"$f":"INDEX(学校種!B:B,MATCH(D759,学校種!A:A,0))","v":"小学校"},{"$f":"INDEX(_tmp2!B:B,MATCH(E759,_tmp2!A:A,0))","v":"北海道"},"B101210550030","B1","01","2","1","札幌市立旭小学校","札幌市豊平区水車町３丁目１－２２","0620912","2020-12-22","","010037",""]
[{"$f":"INDEX(学校種!B:B,MATCH(D760,学校種!A:A,0))","v":"小学校"},{"$f":"INDEX(_tmp2!B:B,MATCH(E760,_tmp2!A:A,0))","v":"北海道"},"B101210550049","B1","01","2","1","札幌市立月寒小学校","札幌市豊平区月寒西２条５丁目１－１","0620022","2020-12-22","","010065",""]
[{"$f":"INDEX(学校種!B:B,MATCH(D761,学校種!A:A,0))","v":"小学校"},{"$f":"INDEX(_tmp2!B:B,MATCH(E761,_tmp2!A:A,0))","v":"北海道"},"B101210550058","B1","01","2","1","札幌市立平岸小学校","札幌市豊平区平岸２条１４丁目１番２８号","0620932","2020-12-22","","010066",""]
[{"$f":"INDEX(学校種!B:B,MATCH(D762,学校種!A:A,0))","v":"小学校"},{"$f":"INDEX(_tmp2!B:B,MATCH(E762,_tmp2!A:A,0))","v":"北海道"},"B101210550067","B1","01","2","1","札幌市立美園小学校","札幌市豊平区平岸５条７丁目２番２１号","0620935","2020-12-22","","010067",""]
[{"$f":"INDEX(学校種!B:B,MATCH(D763,学校種!A:A,0))","v":"小学校"},{"$f":"INDEX(_tmp2!B:B,MATCH(E763,_tmp2!A:A,0))","v":"北海道"},"B101210550076","B1","01","2","1","札幌市立豊園小学校","札幌市豊平区美園１条４丁目１－１","0620001","2020-12-22","","010068",""]
[{"$f":"INDEX(学校種!B:B,MATCH(D764,学校種!A:A,0))","v":"小学校"},{"$f":"INDEX(_tmp2!B:B,MATCH(E764,_tmp2!A:A,0))","v":"北海道"},"B101210550085","B1","01","2","1","札幌市立西岡小学校","札幌市豊平区西岡２条９丁目１－１","0620032","2020-12-22","","010078",""]
[{"$f":"INDEX(学校種!B:B,MATCH(D765,学校種!A:A,0))","v":"小学校"},{"$f":"INDEX(_tmp2!B:B,MATCH(E765,_tmp2!A:A,0))","v":"北海道"},"B101210550094","B1","01","2","1","札幌市立中の島小学校","札幌市豊平区中の島２条１丁目１番２２号","0620922","2020-12-22","","010088",""]
[{"$f":"INDEX(学校種!B:B,MATCH(D766,学校種!A:A,0))","v":"小学校"},{"$f":"INDEX(_tmp2!B:B,MATCH(E766,_tmp2!A:A,0))","v":"北海道"},"B101210550101","B1","01","2","1","札幌市立月寒東小学校","札幌市豊平区月寒東３条１０丁目１番１号","0620053","2020-12-22","","010090",""]
[{"$f":"INDEX(学校種!B:B,MATCH(D767,学校種!A:A,0))","v":"小学校"},{"$f":"INDEX(_tmp2!B:B,MATCH(E767,_tmp2!A:A,0))","v":"北海道"},"B101210550110","B1","01","2","1","札幌市立羊丘小学校","札幌市豊平区月寒東１条１６丁目３－１","0620051","2020-12-22","","010108",""]
[{"$f":"INDEX(学校種!B:B,MATCH(D768,学校種!A:A,0))","v":"小学校"},{"$f":"INDEX(_tmp2!B:B,MATCH(E768,_tmp2!A:A,0))","v":"北海道"},"B101210550129","B1","01","2","1","札幌市立東山小学校","札幌市豊平区平岸４条１１丁目６番１号","0620934","2020-12-22","","010109",""]
[{"$f":"INDEX(学校種!B:B,MATCH(D769,学校種!A:A,0))","v":"小学校"},{"$f":"INDEX(_tmp2!B:B,MATCH(E769,_tmp2!A:A,0))","v":"北海道"},"B101210550138","B1","01","2","1","札幌市立平岸西小学校","札幌市豊平区平岸１条1５丁目２番","0620931","2020-12-22","","010113",""]
[{"$f":"INDEX(学校種!B:B,MATCH(D770,学校種!A:A,0))","v":"小学校"},{"$f":"INDEX(_tmp2!B:B,MATCH(E770,_tmp2!A:A,0))","v":"北海道"},"B101210550147","B1","01","2","1","札幌市立しらかば台小学校","札幌市豊平区月寒東４条１８丁目１０番４３号","0620054","2020-12-22","","012821",""]
[{"$f":"INDEX(学校種!B:B,MATCH(D771,学校種!A:A,0))","v":"小学校"},{"$f":"INDEX(_tmp2!B:B,MATCH(E771,_tmp2!A:A,0))","v":"北海道"},"B101210550156","B1","01","2","1","札幌市立南月寒小学校","札幌市豊平区月寒西４条８丁目２－１","0620024","2020-12-22","","012837",""]
[{"$f":"INDEX(学校種!B:B,MATCH(D772,学校種!A:A,0))","v":"小学校"},{"$f":"INDEX(_tmp2!B:B,MATCH(E772,_tmp2!A:A,0))","v":"北海道"},"B101210550165","B1","01","2","1","札幌市立みどり小学校","札幌市豊平区美園５条２丁目２番１号","0620005","2020-12-22","","012842",""]
[{"$f":"INDEX(学校種!B:B,MATCH(D773,学校種!A:A,0))","v":"小学校"},{"$f":"INDEX(_tmp2!B:B,MATCH(E773,_tmp2!A:A,0))","v":"北海道"},"B101210550174","B1","01","2","1","札幌市立福住小学校","札幌市豊平区福住３条５丁目１番１号","0620043","2020-12-22","","012843",""]
[{"$f":"INDEX(学校種!B:B,MATCH(D774,学校種!A:A,0))","v":"小学校"},{"$f":"INDEX(_tmp2!B:B,MATCH(E774,_tmp2!A:A,0))","v":"北海道"},"B101210550183","B1","01","2","1","札幌市立西岡南小学校","札幌市豊平区西岡４条１２丁目７番１号","0620034","2020-12-22","","012856",""]
[{"$f":"INDEX(学校種!B:B,MATCH(D775,学校種!A:A,0))","v":"小学校"},{"$f":"INDEX(_tmp2!B:B,MATCH(E775,_tmp2!A:A,0))","v":"北海道"},"B101210550192","B1","01","2","1","札幌市立平岸高台小学校","札幌市豊平区平岸５条１８丁目１番１号","0620935","2020-12-22","","012903",""]
[{"$f":"INDEX(学校種!B:B,MATCH(D776,学校種!A:A,0))","v":"小学校"},{"$f":"INDEX(_tmp2!B:B,MATCH(E776,_tmp2!A:A,0))","v":"北海道"},"B101210550209","B1","01","2","1","札幌市立あやめ野小学校","札幌市豊平区月寒東１条１１丁目７番３２号","0620051","2020-12-22","","012913",""]
[{"$f":"INDEX(学校種!B:B,MATCH(D777,学校種!A:A,0))","v":"小学校"},{"$f":"INDEX(_tmp2!B:B,MATCH(E777,_tmp2!A:A,0))","v":"北海道"},"B101210550218","B1","01","2","1","札幌市立西岡北小学校","札幌市豊平区西岡３条６丁目７－２０","0620033","2020-12-22","","012923",""]
[{"$f":"INDEX(学校種!B:B,MATCH(D778,学校種!A:A,0))","v":"小学校"},{"$f":"INDEX(_tmp2!B:B,MATCH(E778,_tmp2!A:A,0))","v":"北海道"},"B101210550815","B1","01","2","2","札幌市立平岸高台小学校のぞみ分校","札幌市豊平区平岸４条１８丁目１番２５号","0620934","2020-12-22","","012979",""]
[{"$f":"INDEX(学校種!B:B,MATCH(D779,学校種!A:A,0))","v":"小学校"},{"$f":"INDEX(_tmp2!B:B,MATCH(E779,_tmp2!A:A,0))","v":"北海道"},"B101210660019","B1","01","2","1","札幌市立藻岩小学校","札幌市南区川沿７条２丁目３番１号","0050807","2020-12-22","","010027",""]
[{"$f":"INDEX(学校種!B:B,MATCH(D780,学校種!A:A,0))","v":"小学校"},{"$f":"INDEX(_tmp2!B:B,MATCH(E780,_tmp2!A:A,0))","v":"北海道"},"B101210660028","B1","01","2","1","札幌市立南小学校","札幌市南区南３１条西９丁目２番の１号","0050031","2020-12-22","","010034",""]
[{"$f":"INDEX(学校種!B:B,MATCH(D781,学校種!A:A,0))","v":"小学校"},{"$f":"INDEX(_tmp2!B:B,MATCH(E781,_tmp2!A:A,0))","v":"北海道"},"B101210660037","B1","01","2","1","札幌市立定山渓小学校","札幌市南区定山渓温泉東４丁目３０８番地","0612302","2020-12-22","","010069",""]
[{"$f":"INDEX(学校種!B:B,MATCH(D782,学校種!A:A,0))","v":"小学校"},{"$f":"INDEX(_tmp2!B:B,MATCH(E782,_tmp2!A:A,0))","v":"北海道"},"B101210660055","B1","01","2","1","札幌市立簾舞小学校","札幌市南区簾舞１条４丁目２－１","0612261","2020-12-22","","010071",""]
[{"$f":"INDEX(学校種!B:B,MATCH(D783,学校種!A:A,0))","v":"小学校"},{"$f":"INDEX(_tmp2!B:B,MATCH(E783,_tmp2!A:A,0))","v":"北海道"},"B101210660073","B1","01","2","9","札幌市立常盤小学校","札幌市南区常盤６条２丁目１０７番地","0050856","2020-12-22","2021-05-27","010074","B101210660297"]
[{"$f":"INDEX(学校種!B:B,MATCH(D784,学校種!A:A,0))","v":"小学校"},{"$f":"INDEX(_tmp2!B:B,MATCH(E784,_tmp2!A:A,0))","v":"北海道"},"B101210660082","B1","01","2","1","札幌市立藤の沢小学校","札幌市南区石山５２８番地","0050849","2020-12-22","","010075",""]
[{"$f":"INDEX(学校種!B:B,MATCH(D785,学校種!A:A,0))","v":"小学校"},{"$f":"INDEX(_tmp2!B:B,MATCH(E785,_tmp2!A:A,0))","v":"北海道"},"B101210660108","B1","01","2","1","札幌市立駒岡小学校","札幌市南区真駒内１４３番地","0050861","2020-12-22","","010081",""]
[{"$f":"INDEX(学校種!B:B,MATCH(D786,学校種!A:A,0))","v":"小学校"},{"$f":"INDEX(_tmp2!B:B,MATCH(E786,_tmp2!A:A,0))","v":"北海道"},"B101210660135","B1","01","2","1","札幌市立澄川小学校","札幌市南区澄川５条４丁目１番１号","0050005","2020-12-22","","010094",""]
[{"$f":"INDEX(学校種!B:B,MATCH(D787,学校種!A:A,0))","v":"小学校"},{"$f":"INDEX(_tmp2!B:B,MATCH(E787,_tmp2!A:A,0))","v":"北海道"},"B101210660162","B1","01","2","1","札幌市立澄川西小学校","札幌市南区澄川２条５丁目７－２","0050002","2020-12-22","","012815",""]
[{"$f":"INDEX(学校種!B:B,MATCH(D788,学校種!A:A,0))","v":"小学校"},{"$f":"INDEX(_tmp2!B:B,MATCH(E788,_tmp2!A:A,0))","v":"北海道"},"B101210660171","B1","01","2","1","札幌市立藻岩北小学校","札幌市南区川沿２条３丁目７番１号","0050812","2020-12-22","","012816",""]
[{"$f":"INDEX(学校種!B:B,MATCH(D789,学校種!A:A,0))","v":"小学校"},{"$f":"INDEX(_tmp2!B:B,MATCH(E789,_tmp2!A:A,0))","v":"北海道"},"B101210660180","B1","01","2","1","札幌市立藤野小学校","札幌市南区藤野２条７丁目７番１号","0612282","2020-12-22","","012825",""]
[{"$f":"INDEX(学校種!B:B,MATCH(D790,学校種!A:A,0))","v":"小学校"},{"$f":"INDEX(_tmp2!B:B,MATCH(E790,_tmp2!A:A,0))","v":"北海道"},"B101210660199","B1","01","2","1","札幌市立南の沢小学校","札幌市南区南沢３条２丁目１８の１","0050823","2020-12-22","","012838",""]
[{"$f":"INDEX(学校種!B:B,MATCH(D791,学校種!A:A,0))","v":"小学校"},{"$f":"INDEX(_tmp2!B:B,MATCH(E791,_tmp2!A:A,0))","v":"北海道"},"B101210660215","B1","01","2","1","札幌市立北の沢小学校","札幌市南区北ノ沢１７２７番地の５","0050832","2020-12-22","","012880",""]
[{"$f":"INDEX(学校種!B:B,MATCH(D792,学校種!A:A,0))","v":"小学校"},{"$f":"INDEX(_tmp2!B:B,MATCH(E792,_tmp2!A:A,0))","v":"北海道"},"B101210660224","B1","01","2","1","札幌市立藻岩南小学校","札幌市南区川沿１８条２丁目１－１５","0050818","2020-12-22","","012895",""]
[{"$f":"INDEX(学校種!B:B,MATCH(D793,学校種!A:A,0))","v":"小学校"},{"$f":"INDEX(_tmp2!B:B,MATCH(E793,_tmp2!A:A,0))","v":"北海道"},"B101210660233","B1","01","2","1","札幌市立澄川南小学校","札幌市南区澄川５条１３丁目７－１","0050005","2020-12-22","","012896",""]
[{"$f":"INDEX(学校種!B:B,MATCH(D794,学校種!A:A,0))","v":"小学校"},{"$f":"INDEX(_tmp2!B:B,MATCH(E794,_tmp2!A:A,0))","v":"北海道"},"B101210660242","B1","01","2","9","札幌市立石山東小学校","札幌市南区石山東５丁目６番１号","0050850","2020-12-22","2021-05-27","012924","B101210660297"]
[{"$f":"INDEX(学校種!B:B,MATCH(D795,学校種!A:A,0))","v":"小学校"},{"$f":"INDEX(_tmp2!B:B,MATCH(E795,_tmp2!A:A,0))","v":"北海道"},"B101210660251","B1","01","2","1","札幌市立藤野南小学校","札幌市南区藤野４条６丁目２６－１","0612284","2020-12-22","","012968",""]
[{"$f":"INDEX(学校種!B:B,MATCH(D796,学校種!A:A,0))","v":"小学校"},{"$f":"INDEX(_tmp2!B:B,MATCH(E796,_tmp2!A:A,0))","v":"北海道"},"B101210660260","B1","01","2","1","札幌市立真駒内公園小学校","札幌市南区真駒内曙町２丁目","0050018","2020-12-22","","013031",""]
[{"$f":"INDEX(学校種!B:B,MATCH(D797,学校種!A:A,0))","v":"小学校"},{"$f":"INDEX(_tmp2!B:B,MATCH(E797,_tmp2!A:A,0))","v":"北海道"},"B101210660279","B1","01","2","1","札幌市立真駒内桜山小学校","札幌市南区真駒内泉町３丁目","0050015","2020-12-22","","013032",""]
[{"$f":"INDEX(学校種!B:B,MATCH(D798,学校種!A:A,0))","v":"小学校"},{"$f":"INDEX(_tmp2!B:B,MATCH(E798,_tmp2!A:A,0))","v":"北海道"},"B101210660288","B1","01","2","1","札幌市立石山緑小学校","札幌市南区石山１条１丁目１番１号","0050841","2020-12-22","","013050",""]
[{"$f":"INDEX(学校種!B:B,MATCH(D799,学校種!A:A,0))","v":"小学校"},{"$f":"INDEX(_tmp2!B:B,MATCH(E799,_tmp2!A:A,0))","v":"北海道"},"B101210660297","B1","01",2,1,"芸術の森小学校","札幌市南区常盤２条３丁目","0050852","2021-05-27","","013057",""]
[{"$f":"INDEX(学校種!B:B,MATCH(D800,学校種!A:A,0))","v":"小学校"},{"$f":"INDEX(_tmp2!B:B,MATCH(E800,_tmp2!A:A,0))","v":"北海道"},"B101210770016","B1","01","2","1","札幌市立琴似小学校","札幌市西区琴似２条７丁目１番３０号","0630812","2020-12-22","","010046",""]
[{"$f":"INDEX(学校種!B:B,MATCH(D801,学校種!A:A,0))","v":"小学校"},{"$f":"INDEX(_tmp2!B:B,MATCH(E801,_tmp2!A:A,0))","v":"北海道"},"B101210770025","B1","01","2","1","札幌市立琴似中央小学校","札幌市西区八軒７条東１丁目１－１","0630867","2020-12-22","","010047",""]
[{"$f":"INDEX(学校種!B:B,MATCH(D802,学校種!A:A,0))","v":"小学校"},{"$f":"INDEX(_tmp2!B:B,MATCH(E802,_tmp2!A:A,0))","v":"北海道"},"B101210770034","B1","01","2","1","札幌市立発寒小学校","札幌市西区発寒１０条４丁目１番６２号","0630830","2020-12-22","","010049",""]
[{"$f":"INDEX(学校種!B:B,MATCH(D803,学校種!A:A,0))","v":"小学校"},{"$f":"INDEX(_tmp2!B:B,MATCH(E803,_tmp2!A:A,0))","v":"北海道"},"B101210770043","B1","01","2","1","札幌市立山の手小学校","札幌市西区山の手５条６丁目１番１号","0630005","2020-12-22","","010092",""]
[{"$f":"INDEX(学校種!B:B,MATCH(D804,学校種!A:A,0))","v":"小学校"},{"$f":"INDEX(_tmp2!B:B,MATCH(E804,_tmp2!A:A,0))","v":"北海道"},"B101210770052","B1","01","2","1","札幌市立手稲東小学校","札幌市西区西野４条３丁目７番１号","0630034","2020-12-22","","010100",""]
[{"$f":"INDEX(学校種!B:B,MATCH(D805,学校種!A:A,0))","v":"小学校"},{"$f":"INDEX(_tmp2!B:B,MATCH(E805,_tmp2!A:A,0))","v":"北海道"},"B101210770061","B1","01","2","1","札幌市立手稲宮丘小学校","札幌市西区宮の沢３条２丁目１番１号","0630053","2020-12-22","","010104",""]
[{"$f":"INDEX(学校種!B:B,MATCH(D806,学校種!A:A,0))","v":"小学校"},{"$f":"INDEX(_tmp2!B:B,MATCH(E806,_tmp2!A:A,0))","v":"北海道"},"B101210770070","B1","01","2","1","札幌市立発寒西小学校","札幌市西区発寒５条７丁目１－２","0630825","2020-12-22","","010096",""]
[{"$f":"INDEX(学校種!B:B,MATCH(D807,学校種!A:A,0))","v":"小学校"},{"$f":"INDEX(_tmp2!B:B,MATCH(E807,_tmp2!A:A,0))","v":"北海道"},"B101210770089","B1","01","2","1","札幌市立八軒小学校","札幌市西区八軒４条西１丁目１－８","0630844","2020-12-22","","010098",""]
[{"$f":"INDEX(学校種!B:B,MATCH(D808,学校種!A:A,0))","v":"小学校"},{"$f":"INDEX(_tmp2!B:B,MATCH(E808,_tmp2!A:A,0))","v":"北海道"},"B101210770098","B1","01","2","1","札幌市立二十四軒小学校","札幌市西区二十四軒２条３丁目１番３７号","0630802","2020-12-22","","010106",""]
[{"$f":"INDEX(学校種!B:B,MATCH(D809,学校種!A:A,0))","v":"小学校"},{"$f":"INDEX(_tmp2!B:B,MATCH(E809,_tmp2!A:A,0))","v":"北海道"},"B101210770105","B1","01","2","1","札幌市立発寒南小学校","札幌市西区発寒２条４丁目１番地１号","0630822","2020-12-22","","010116",""]
[{"$f":"INDEX(学校種!B:B,MATCH(D810,学校種!A:A,0))","v":"小学校"},{"$f":"INDEX(_tmp2!B:B,MATCH(E810,_tmp2!A:A,0))","v":"北海道"},"B101210770114","B1","01","2","1","札幌市立西小学校","札幌市西区発寒７条１３丁目２－１","0630827","2020-12-22","","010124",""]
[{"$f":"INDEX(学校種!B:B,MATCH(D811,学校種!A:A,0))","v":"小学校"},{"$f":"INDEX(_tmp2!B:B,MATCH(E811,_tmp2!A:A,0))","v":"北海道"},"B101210770123","B1","01","2","1","札幌市立西野小学校","札幌市西区西野８条４丁目４番１号","0630038","2020-12-22","","010127",""]
[{"$f":"INDEX(学校種!B:B,MATCH(D812,学校種!A:A,0))","v":"小学校"},{"$f":"INDEX(_tmp2!B:B,MATCH(E812,_tmp2!A:A,0))","v":"北海道"},"B101210770132","B1","01","2","1","札幌市立発寒東小学校","札幌市西区発寒１５条２丁目２－１","0630835","2020-12-22","","012823",""]
[{"$f":"INDEX(学校種!B:B,MATCH(D813,学校種!A:A,0))","v":"小学校"},{"$f":"INDEX(_tmp2!B:B,MATCH(E813,_tmp2!A:A,0))","v":"北海道"},"B101210770141","B1","01","2","1","札幌市立西野第二小学校","札幌市西区西野８条７丁目１番１号","0630038","2020-12-22","","012831",""]
[{"$f":"INDEX(学校種!B:B,MATCH(D814,学校種!A:A,0))","v":"小学校"},{"$f":"INDEX(_tmp2!B:B,MATCH(E814,_tmp2!A:A,0))","v":"北海道"},"B101210770150","B1","01","2","1","札幌市立八軒西小学校","札幌市西区八軒３条西５丁目１番１号","0630843","2020-12-22","","012846",""]
[{"$f":"INDEX(学校種!B:B,MATCH(D815,学校種!A:A,0))","v":"小学校"},{"$f":"INDEX(_tmp2!B:B,MATCH(E815,_tmp2!A:A,0))","v":"北海道"},"B101210770169","B1","01","2","1","札幌市立福井野小学校","札幌市西区福井６丁目１１番１号","0630012","2020-12-22","","012849",""]
[{"$f":"INDEX(学校種!B:B,MATCH(D816,学校種!A:A,0))","v":"小学校"},{"$f":"INDEX(_tmp2!B:B,MATCH(E816,_tmp2!A:A,0))","v":"北海道"},"B101210770178","B1","01","2","1","札幌市立山の手南小学校","札幌市西区山の手１条９丁目６番１号","0630001","2020-12-22","","012881",""]
[{"$f":"INDEX(学校種!B:B,MATCH(D817,学校種!A:A,0))","v":"小学校"},{"$f":"INDEX(_tmp2!B:B,MATCH(E817,_tmp2!A:A,0))","v":"北海道"},"B101210770187","B1","01","2","1","札幌市立西園小学校","札幌市西区西野１条７丁目４番１号","0630031","2020-12-22","","012882",""]
[{"$f":"INDEX(学校種!B:B,MATCH(D818,学校種!A:A,0))","v":"小学校"},{"$f":"INDEX(_tmp2!B:B,MATCH(E818,_tmp2!A:A,0))","v":"北海道"},"B101210770196","B1","01","2","1","札幌市立八軒北小学校","札幌市西区八軒８条西６丁目１番１号","0630848","2020-12-22","","012905",""]
[{"$f":"INDEX(学校種!B:B,MATCH(D819,学校種!A:A,0))","v":"小学校"},{"$f":"INDEX(_tmp2!B:B,MATCH(E819,_tmp2!A:A,0))","v":"北海道"},"B101210770203","B1","01","2","1","札幌市立平和小学校","札幌市西区平和３条８丁目２－１","0630023","2020-12-22","","012906",""]
[{"$f":"INDEX(学校種!B:B,MATCH(D820,学校種!A:A,0))","v":"小学校"},{"$f":"INDEX(_tmp2!B:B,MATCH(E820,_tmp2!A:A,0))","v":"北海道"},"B101210845017","B1","01","2","1","札幌市立信濃小学校","札幌市厚別区厚別中央４条３丁目６番１号","0040054","2020-12-22","","010040",""]
[{"$f":"INDEX(学校種!B:B,MATCH(D821,学校種!A:A,0))","v":"小学校"},{"$f":"INDEX(_tmp2!B:B,MATCH(E821,_tmp2!A:A,0))","v":"北海道"},"B101210845026","B1","01","2","1","札幌市立小野幌小学校","札幌市厚別区厚別東２条４丁目５番１号","0040002","2020-12-22","","010043",""]
[{"$f":"INDEX(学校種!B:B,MATCH(D822,学校種!A:A,0))","v":"小学校"},{"$f":"INDEX(_tmp2!B:B,MATCH(E822,_tmp2!A:A,0))","v":"北海道"},"B101210845062","B1","01","2","1","札幌市立共栄小学校","札幌市厚別区厚別南２丁目２１－２２","0040022","2020-12-22","","012814",""]
[{"$f":"INDEX(学校種!B:B,MATCH(D823,学校種!A:A,0))","v":"小学校"},{"$f":"INDEX(_tmp2!B:B,MATCH(E823,_tmp2!A:A,0))","v":"北海道"},"B101210845080","B1","01","2","1","札幌市立ひばりが丘小学校","札幌市厚別区厚別中央２条４丁目３番１号","0040052","2020-12-22","","012836",""]
[{"$f":"INDEX(学校種!B:B,MATCH(D824,学校種!A:A,0))","v":"小学校"},{"$f":"INDEX(_tmp2!B:B,MATCH(E824,_tmp2!A:A,0))","v":"北海道"},"B101210845115","B1","01","2","1","札幌市立厚別西小学校","札幌市厚別区厚別西３条１丁目３－１","0040063","2020-12-22","","012912",""]
[{"$f":"INDEX(学校種!B:B,MATCH(D825,学校種!A:A,0))","v":"小学校"},{"$f":"INDEX(_tmp2!B:B,MATCH(E825,_tmp2!A:A,0))","v":"北海道"},"B101210845124","B1","01","2","1","札幌市立厚別北小学校","札幌市厚別区厚別北２条３丁目３番１号","0040072","2020-12-22","","012930",""]
[{"$f":"INDEX(学校種!B:B,MATCH(D826,学校種!A:A,0))","v":"小学校"},{"$f":"INDEX(_tmp2!B:B,MATCH(E826,_tmp2!A:A,0))","v":"北海道"},"B101210845133","B1","01","2","1","札幌市立大谷地東小学校","札幌市厚別区大谷地東５丁目８－１","0040041","2020-12-22","","012938",""]
[{"$f":"INDEX(学校種!B:B,MATCH(D827,学校種!A:A,0))","v":"小学校"},{"$f":"INDEX(_tmp2!B:B,MATCH(E827,_tmp2!A:A,0))","v":"北海道"},"B101210845151","B1","01","2","1","札幌市立厚別通小学校","札幌市厚別区厚別西４条３丁目１０番３０号","0040064","2020-12-22","","012960",""]
[{"$f":"INDEX(学校種!B:B,MATCH(D828,学校種!A:A,0))","v":"小学校"},{"$f":"INDEX(_tmp2!B:B,MATCH(E828,_tmp2!A:A,0))","v":"北海道"},"B101210845179","B1","01","2","1","札幌市立厚別東小学校","札幌市厚別区厚別東４条８丁目１番１号","0040004","2020-12-22","","012973",""]
[{"$f":"INDEX(学校種!B:B,MATCH(D829,学校種!A:A,0))","v":"小学校"},{"$f":"INDEX(_tmp2!B:B,MATCH(E829,_tmp2!A:A,0))","v":"北海道"},"B101210845188","B1","01","2","1","札幌市立もみじの丘小学校","札幌市厚別区もみじ台東４丁目","0040011","2020-12-22","","013029",""]
[{"$f":"INDEX(学校種!B:B,MATCH(D830,学校種!A:A,0))","v":"小学校"},{"$f":"INDEX(_tmp2!B:B,MATCH(E830,_tmp2!A:A,0))","v":"北海道"},"B101210845197","B1","01","2","1","札幌市立もみじの森小学校","札幌市厚別区もみじ台西３丁目","0040013","2020-12-22","","013030",""]
[{"$f":"INDEX(学校種!B:B,MATCH(D831,学校種!A:A,0))","v":"小学校"},{"$f":"INDEX(_tmp2!B:B,MATCH(E831,_tmp2!A:A,0))","v":"北海道"},"B101210845204","B1","01","2","1","札幌市立ノホロの丘小学校","札幌市厚別区上野幌２条４丁目５番１号","0040032","2020-12-22","","013051",""]
[{"$f":"INDEX(学校種!B:B,MATCH(D832,学校種!A:A,0))","v":"小学校"},{"$f":"INDEX(_tmp2!B:B,MATCH(E832,_tmp2!A:A,0))","v":"北海道"},"B101210845213","B1","01","2","1","札幌市立新札幌わかば小学校","札幌市厚別区厚別南７丁目","0040022","2020-12-22","","013054",""]
[{"$f":"INDEX(学校種!B:B,MATCH(D833,学校種!A:A,0))","v":"小学校"},{"$f":"INDEX(_tmp2!B:B,MATCH(E833,_tmp2!A:A,0))","v":"北海道"},"B101210975019","B1","01","2","1","札幌市立手稲中央小学校","札幌市手稲区手稲本町３条２丁目６番１号","0060023","2020-12-22","","010099",""]
[{"$f":"INDEX(学校種!B:B,MATCH(D834,学校種!A:A,0))","v":"小学校"},{"$f":"INDEX(_tmp2!B:B,MATCH(E834,_tmp2!A:A,0))","v":"北海道"},"B101210975028","B1","01","2","1","札幌市立手稲西小学校","札幌市手稲区金山３条２丁目８番６０号","0060043","2020-12-22","","010101",""]
[{"$f":"INDEX(学校種!B:B,MATCH(D835,学校種!A:A,0))","v":"小学校"},{"$f":"INDEX(_tmp2!B:B,MATCH(E835,_tmp2!A:A,0))","v":"北海道"},"B101210975037","B1","01","2","1","札幌市立手稲北小学校","札幌市手稲区手稲山口６５３番地２号","0060860","2020-12-22","","010102",""]
[{"$f":"INDEX(学校種!B:B,MATCH(D836,学校種!A:A,0))","v":"小学校"},{"$f":"INDEX(_tmp2!B:B,MATCH(E836,_tmp2!A:A,0))","v":"北海道"},"B101210975046","B1","01","2","1","札幌市立手稲鉄北小学校","札幌市手稲区前田２条１２丁目１番２号","0060812","2020-12-22","","010103",""]
[{"$f":"INDEX(学校種!B:B,MATCH(D837,学校種!A:A,0))","v":"小学校"},{"$f":"INDEX(_tmp2!B:B,MATCH(E837,_tmp2!A:A,0))","v":"北海道"},"B101210975055","B1","01","2","1","札幌市立手稲山口小学校","札幌市手稲区曙１１条２丁目７番１号","0060841","2020-12-22","","012824",""]
[{"$f":"INDEX(学校種!B:B,MATCH(D838,学校種!A:A,0))","v":"小学校"},{"$f":"INDEX(_tmp2!B:B,MATCH(E838,_tmp2!A:A,0))","v":"北海道"},"B101210975064","B1","01","2","1","札幌市立富丘小学校","札幌市手稲区富丘１条６丁目４番１号","0060011","2020-12-22","","012844",""]
[{"$f":"INDEX(学校種!B:B,MATCH(D839,学校種!A:A,0))","v":"小学校"},{"$f":"INDEX(_tmp2!B:B,MATCH(E839,_tmp2!A:A,0))","v":"北海道"},"B101210975073","B1","01","2","1","札幌市立前田小学校","札幌市手稲区前田６条１１丁目３番１号","0060816","2020-12-22","","012845",""]
[{"$f":"INDEX(学校種!B:B,MATCH(D840,学校種!A:A,0))","v":"小学校"},{"$f":"INDEX(_tmp2!B:B,MATCH(E840,_tmp2!A:A,0))","v":"北海道"},"B101210975082","B1","01","2","1","札幌市立前田北小学校","札幌市手稲区前田１０条１８丁目４番１号","0060820","2020-12-22","","012867",""]
[{"$f":"INDEX(学校種!B:B,MATCH(D841,学校種!A:A,0))","v":"小学校"},{"$f":"INDEX(_tmp2!B:B,MATCH(E841,_tmp2!A:A,0))","v":"北海道"},"B101210975091","B1","01","2","1","札幌市立新陵小学校","札幌市手稲区新発寒６条６丁目３番１号","0060806","2020-12-22","","012915",""]
[{"$f":"INDEX(学校種!B:B,MATCH(D842,学校種!A:A,0))","v":"小学校"},{"$f":"INDEX(_tmp2!B:B,MATCH(E842,_tmp2!A:A,0))","v":"北海道"},"B101210975108","B1","01","2","1","札幌市立稲穂小学校","札幌市手稲区稲穂４条５丁目１２－５","0060034","2020-12-22","","012931",""]
[{"$f":"INDEX(学校種!B:B,MATCH(D843,学校種!A:A,0))","v":"小学校"},{"$f":"INDEX(_tmp2!B:B,MATCH(E843,_tmp2!A:A,0))","v":"北海道"},"B101210975117","B1","01","2","1","札幌市立前田中央小学校","札幌市手稲区前田８条１２丁目２番１号","0060818","2020-12-22","","012932",""]
[{"$f":"INDEX(学校種!B:B,MATCH(D844,学校種!A:A,0))","v":"小学校"},{"$f":"INDEX(_tmp2!B:B,MATCH(E844,_tmp2!A:A,0))","v":"北海道"},"B101210975126","B1","01","2","1","札幌市立稲積小学校","札幌市手稲区前田５条７丁目１－１","0060815","2020-12-22","","012940",""]
[{"$f":"INDEX(学校種!B:B,MATCH(D845,学校種!A:A,0))","v":"小学校"},{"$f":"INDEX(_tmp2!B:B,MATCH(E845,_tmp2!A:A,0))","v":"北海道"},"B101210975135","B1","01","2","1","札幌市立新発寒小学校","札幌市手稲区新発寒２条２丁目１１１５番地３０７","0060802","2020-12-22","","012950",""]
[{"$f":"INDEX(学校種!B:B,MATCH(D846,学校種!A:A,0))","v":"小学校"},{"$f":"INDEX(_tmp2!B:B,MATCH(E846,_tmp2!A:A,0))","v":"北海道"},"B101210975144","B1","01","2","1","札幌市立西宮の沢小学校","札幌市手稲区西宮の沢２条４丁目１５番１号","0060002","2020-12-22","","012956",""]
[{"$f":"INDEX(学校種!B:B,MATCH(D847,学校種!A:A,0))","v":"小学校"},{"$f":"INDEX(_tmp2!B:B,MATCH(E847,_tmp2!A:A,0))","v":"北海道"},"B101210975153","B1","01","2","1","札幌市立新陵東小学校","札幌市手稲区新発寒５条４丁目２番１号","0060805","2020-12-22","","012962",""]
[{"$f":"INDEX(学校種!B:B,MATCH(D848,学校種!A:A,0))","v":"小学校"},{"$f":"INDEX(_tmp2!B:B,MATCH(E848,_tmp2!A:A,0))","v":"北海道"},"B101210975162","B1","01","2","1","札幌市立星置東小学校","札幌市手稲区星置２条１丁目６の１","0060852","2020-12-22","","012975",""]
[{"$f":"INDEX(学校種!B:B,MATCH(D849,学校種!A:A,0))","v":"小学校"},{"$f":"INDEX(_tmp2!B:B,MATCH(E849,_tmp2!A:A,0))","v":"北海道"},"B101211055010","B1","01","2","1","札幌市立清田小学校","札幌市清田区清田１条４丁目３番３０号","0040841","2020-12-22","","010072",""]
[{"$f":"INDEX(学校種!B:B,MATCH(D850,学校種!A:A,0))","v":"小学校"},{"$f":"INDEX(_tmp2!B:B,MATCH(E850,_tmp2!A:A,0))","v":"北海道"},"B101211055029","B1","01","2","1","札幌市立有明小学校","札幌市清田区有明１４１番地２","0040821","2020-12-22","","010079",""]
[{"$f":"INDEX(学校種!B:B,MATCH(D851,学校種!A:A,0))","v":"小学校"},{"$f":"INDEX(_tmp2!B:B,MATCH(E851,_tmp2!A:A,0))","v":"北海道"},"B101211055038","B1","01","2","1","札幌市立三里塚小学校","札幌市清田区里塚２条６丁目７－１","0040802","2020-12-22","","010080",""]
[{"$f":"INDEX(学校種!B:B,MATCH(D852,学校種!A:A,0))","v":"小学校"},{"$f":"INDEX(_tmp2!B:B,MATCH(E852,_tmp2!A:A,0))","v":"北海道"},"B101211055047","B1","01","2","1","札幌市立北野小学校","札幌市清田区北野３条２丁目１０の１","0040863","2020-12-22","","012822",""]
[{"$f":"INDEX(学校種!B:B,MATCH(D853,学校種!A:A,0))","v":"小学校"},{"$f":"INDEX(_tmp2!B:B,MATCH(E853,_tmp2!A:A,0))","v":"北海道"},"B101211055056","B1","01","2","1","札幌市立清田南小学校","札幌市清田区清田５条２丁目１８－１","0040845","2020-12-22","","012830",""]
[{"$f":"INDEX(学校種!B:B,MATCH(D854,学校種!A:A,0))","v":"小学校"},{"$f":"INDEX(_tmp2!B:B,MATCH(E854,_tmp2!A:A,0))","v":"北海道"},"B101211055065","B1","01","2","1","札幌市立北野台小学校","札幌市清田区北野４条５丁目４番８０号","0040864","2020-12-22","","012855",""]
[{"$f":"INDEX(学校種!B:B,MATCH(D855,学校種!A:A,0))","v":"小学校"},{"$f":"INDEX(_tmp2!B:B,MATCH(E855,_tmp2!A:A,0))","v":"北海道"},"B101211055074","B1","01","2","1","札幌市立北野平小学校","札幌市清田区北野２条３丁目７番１号","0040862","2020-12-22","","012879",""]
[{"$f":"INDEX(学校種!B:B,MATCH(D856,学校種!A:A,0))","v":"小学校"},{"$f":"INDEX(_tmp2!B:B,MATCH(E856,_tmp2!A:A,0))","v":"北海道"},"B101211055083","B1","01","2","1","札幌市立清田緑小学校","札幌市清田区清田７条３丁目１２番３０号","0040847","2020-12-22","","012904",""]
[{"$f":"INDEX(学校種!B:B,MATCH(D857,学校種!A:A,0))","v":"小学校"},{"$f":"INDEX(_tmp2!B:B,MATCH(E857,_tmp2!A:A,0))","v":"北海道"},"B101211055092","B1","01","2","1","札幌市立平岡小学校","札幌市清田区平岡９条２丁目５番１号","0040879","2020-12-22","","012914",""]
[{"$f":"INDEX(学校種!B:B,MATCH(D858,学校種!A:A,0))","v":"小学校"},{"$f":"INDEX(_tmp2!B:B,MATCH(E858,_tmp2!A:A,0))","v":"北海道"},"B101211055109","B1","01","2","1","札幌市立真栄小学校","札幌市清田区美しが丘１条１丁目１－１０","0040811","2020-12-22","","012939",""]
[{"$f":"INDEX(学校種!B:B,MATCH(D859,学校種!A:A,0))","v":"小学校"},{"$f":"INDEX(_tmp2!B:B,MATCH(E859,_tmp2!A:A,0))","v":"北海道"},"B101211055118","B1","01","2","1","札幌市立平岡南小学校","札幌市清田区平岡２条６丁目２番１号","0040872","2020-12-22","","012949",""]
[{"$f":"INDEX(学校種!B:B,MATCH(D860,学校種!A:A,0))","v":"小学校"},{"$f":"INDEX(_tmp2!B:B,MATCH(E860,_tmp2!A:A,0))","v":"北海道"},"B101211055127","B1","01","2","1","札幌市立平岡中央小学校","札幌市清田区平岡５条３丁目","0040875","2020-12-22","","012955",""]
[{"$f":"INDEX(学校種!B:B,MATCH(D861,学校種!A:A,0))","v":"小学校"},{"$f":"INDEX(_tmp2!B:B,MATCH(E861,_tmp2!A:A,0))","v":"北海道"},"B101211055136","B1","01","2","1","札幌市立美しが丘小学校","札幌市清田区美しが丘２条５丁目１番１号","0040812","2020-12-22","","012974",""]
[{"$f":"INDEX(学校種!B:B,MATCH(D862,学校種!A:A,0))","v":"小学校"},{"$f":"INDEX(_tmp2!B:B,MATCH(E862,_tmp2!A:A,0))","v":"北海道"},"B101211055145","B1","01","2","1","札幌市立平岡公園小学校","札幌市清田区平岡公園東５丁目９番１号","0040882","2020-12-22","","012983",""]
[{"$f":"INDEX(学校種!B:B,MATCH(D863,学校種!A:A,0))","v":"小学校"},{"$f":"INDEX(_tmp2!B:B,MATCH(E863,_tmp2!A:A,0))","v":"北海道"},"B101211055154","B1","01","2","1","札幌市立美しが丘緑小学校","札幌市清田区美しが丘４条５丁目８－１","0040814","2020-12-22","","012989",""]
[{"$f":"INDEX(学校種!B:B,MATCH(D864,学校種!A:A,0))","v":"小学校"},{"$f":"INDEX(_tmp2!B:B,MATCH(E864,_tmp2!A:A,0))","v":"北海道"},"B101220200015","B1","01","2","1","函館市立弥生小学校","函館市弥生町４番１６号","0400056","2020-12-22","","010131",""]
[{"$f":"INDEX(学校種!B:B,MATCH(D865,学校種!A:A,0))","v":"小学校"},{"$f":"INDEX(_tmp2!B:B,MATCH(E865,_tmp2!A:A,0))","v":"北海道"},"B101220200024","B1","01","2","1","函館市立青柳小学校","函館市青柳町２２番１３号","0400044","2020-12-22","","010130",""]
[{"$f":"INDEX(学校種!B:B,MATCH(D866,学校種!A:A,0))","v":"小学校"},{"$f":"INDEX(_tmp2!B:B,MATCH(E866,_tmp2!A:A,0))","v":"北海道"},"B101220200033","B1","01","2","1","函館市立あさひ小学校","函館市大森町６番１１号","0400034","2020-12-22","","013001",""]
[{"$f":"INDEX(学校種!B:B,MATCH(D867,学校種!A:A,0))","v":"小学校"},{"$f":"INDEX(_tmp2!B:B,MATCH(E867,_tmp2!A:A,0))","v":"北海道"},"B101220200042","B1","01","2","1","函館市立中部小学校","函館市新川町３０－２６","0400032","2020-12-22","","010165",""]
[{"$f":"INDEX(学校種!B:B,MATCH(D868,学校種!A:A,0))","v":"小学校"},{"$f":"INDEX(_tmp2!B:B,MATCH(E868,_tmp2!A:A,0))","v":"北海道"},"B101220200051","B1","01","2","1","函館市立北星小学校","函館市大縄町２４番２６号","0400062","2020-12-22","","012942",""]
[{"$f":"INDEX(学校種!B:B,MATCH(D869,学校種!A:A,0))","v":"小学校"},{"$f":"INDEX(_tmp2!B:B,MATCH(E869,_tmp2!A:A,0))","v":"北海道"},"B101220200060","B1","01","2","1","函館市立八幡小学校","函館市八幡町１５番３０号","0400083","2020-12-22","","010149",""]
[{"$f":"INDEX(学校種!B:B,MATCH(D870,学校種!A:A,0))","v":"小学校"},{"$f":"INDEX(_tmp2!B:B,MATCH(E870,_tmp2!A:A,0))","v":"北海道"},"B101220200079","B1","01","2","1","函館市立万年橋小学校","函館市吉川町６番２２号","0400077","2020-12-22","","010148",""]
[{"$f":"INDEX(学校種!B:B,MATCH(D871,学校種!A:A,0))","v":"小学校"},{"$f":"INDEX(_tmp2!B:B,MATCH(E871,_tmp2!A:A,0))","v":"北海道"},"B101220200088","B1","01","2","1","函館市立港小学校","函館市港町１丁目２２番地１号","0410821","2020-12-22","","010150",""]
[{"$f":"INDEX(学校種!B:B,MATCH(D872,学校種!A:A,0))","v":"小学校"},{"$f":"INDEX(_tmp2!B:B,MATCH(E872,_tmp2!A:A,0))","v":"北海道"},"B101220200097","B1","01","2","1","函館市立中島小学校","函館市中島町３０番５号","0400014","2020-12-22","","010142",""]
[{"$f":"INDEX(学校種!B:B,MATCH(D873,学校種!A:A,0))","v":"小学校"},{"$f":"INDEX(_tmp2!B:B,MATCH(E873,_tmp2!A:A,0))","v":"北海道"},"B101220200104","B1","01","2","1","函館市立千代田小学校","函館市梁川町２３番４号","0400015","2020-12-22","","010144",""]
[{"$f":"INDEX(学校種!B:B,MATCH(D874,学校種!A:A,0))","v":"小学校"},{"$f":"INDEX(_tmp2!B:B,MATCH(E874,_tmp2!A:A,0))","v":"北海道"},"B101220200113","B1","01","2","1","函館市立柏野小学校","函館市松陰町５番１０号","0400003","2020-12-22","","010145",""]
[{"$f":"INDEX(学校種!B:B,MATCH(D875,学校種!A:A,0))","v":"小学校"},{"$f":"INDEX(_tmp2!B:B,MATCH(E875,_tmp2!A:A,0))","v":"北海道"},"B101220200122","B1","01","2","1","函館市立大森浜小学校","函館市金堀町３番１号","0420944","2020-12-22","","013052",""]
[{"$f":"INDEX(学校種!B:B,MATCH(D876,学校種!A:A,0))","v":"小学校"},{"$f":"INDEX(_tmp2!B:B,MATCH(E876,_tmp2!A:A,0))","v":"北海道"},"B101220200131","B1","01","2","1","函館市立駒場小学校","函館市駒場町１番６号","0420935","2020-12-22","","010146",""]
[{"$f":"INDEX(学校種!B:B,MATCH(D877,学校種!A:A,0))","v":"小学校"},{"$f":"INDEX(_tmp2!B:B,MATCH(E877,_tmp2!A:A,0))","v":"北海道"},"B101220200140","B1","01","2","1","函館市立深堀小学校","函館市深堀町１４－２","0420941","2020-12-22","","010160",""]
[{"$f":"INDEX(学校種!B:B,MATCH(D878,学校種!A:A,0))","v":"小学校"},{"$f":"INDEX(_tmp2!B:B,MATCH(E878,_tmp2!A:A,0))","v":"北海道"},"B101220200159","B1","01","2","1","函館市立日吉が丘小学校","函館市日吉町２丁目３４番１号","0410841","2020-12-22","","010152",""]
[{"$f":"INDEX(学校種!B:B,MATCH(D879,学校種!A:A,0))","v":"小学校"},{"$f":"INDEX(_tmp2!B:B,MATCH(E879,_tmp2!A:A,0))","v":"北海道"},"B101220200168","B1","01","2","1","函館市立北日吉小学校","函館市日吉町４丁目５番５号","0410841","2020-12-22","","010162",""]
[{"$f":"INDEX(学校種!B:B,MATCH(D880,学校種!A:A,0))","v":"小学校"},{"$f":"INDEX(_tmp2!B:B,MATCH(E880,_tmp2!A:A,0))","v":"北海道"},"B101220200177","B1","01","2","1","函館市立湯川小学校","函館市湯川町３丁目４２番１号","0420932","2020-12-22","","010151",""]
[{"$f":"INDEX(学校種!B:B,MATCH(D881,学校種!A:A,0))","v":"小学校"},{"$f":"INDEX(_tmp2!B:B,MATCH(E881,_tmp2!A:A,0))","v":"北海道"},"B101220200186","B1","01","2","1","函館市立高丘小学校","函館市高丘町３番２号","0420955","2020-12-22","","010163",""]
[{"$f":"INDEX(学校種!B:B,MATCH(D882,学校種!A:A,0))","v":"小学校"},{"$f":"INDEX(_tmp2!B:B,MATCH(E882,_tmp2!A:A,0))","v":"北海道"},"B101220200195","B1","01","2","1","函館市立上湯川小学校","函館市上湯川町２９５番地","0420914","2020-12-22","","010159",""]
[{"$f":"INDEX(学校種!B:B,MATCH(D883,学校種!A:A,0))","v":"小学校"},{"$f":"INDEX(_tmp2!B:B,MATCH(E883,_tmp2!A:A,0))","v":"北海道"},"B101220200202","B1","01","2","1","函館市立旭岡小学校","函館市旭丘町１丁目３３番地の１","0420915","2020-12-22","","010167",""]
[{"$f":"INDEX(学校種!B:B,MATCH(D884,学校種!A:A,0))","v":"小学校"},{"$f":"INDEX(_tmp2!B:B,MATCH(E884,_tmp2!A:A,0))","v":"北海道"},"B101220200211","B1","01","2","1","函館市立鱒川小学校","函館市鱒川町９１番地","0420907","2020-12-22","","010154",""]
[{"$f":"INDEX(学校種!B:B,MATCH(D885,学校種!A:A,0))","v":"小学校"},{"$f":"INDEX(_tmp2!B:B,MATCH(E885,_tmp2!A:A,0))","v":"北海道"},"B101220200220","B1","01","2","1","函館市立東小学校","函館市銭亀町３３９番地","0420922","2020-12-22","","010161",""]
[{"$f":"INDEX(学校種!B:B,MATCH(D886,学校種!A:A,0))","v":"小学校"},{"$f":"INDEX(_tmp2!B:B,MATCH(E886,_tmp2!A:A,0))","v":"北海道"},"B101220200239","B1","01","2","1","函館市立石崎小学校","函館市石崎町４３８番地","0410261","2020-12-22","","010158",""]
[{"$f":"INDEX(学校種!B:B,MATCH(D887,学校種!A:A,0))","v":"小学校"},{"$f":"INDEX(_tmp2!B:B,MATCH(E887,_tmp2!A:A,0))","v":"北海道"},"B101220200248","B1","01","2","1","函館市立桔梗小学校","函館市桔梗１丁目１３番２号","0410801","2020-12-22","","010961",""]
[{"$f":"INDEX(学校種!B:B,MATCH(D888,学校種!A:A,0))","v":"小学校"},{"$f":"INDEX(_tmp2!B:B,MATCH(E888,_tmp2!A:A,0))","v":"北海道"},"B101220200257","B1","01","2","1","函館市立中の沢小学校","函館市桔梗５丁目２５－５","0410801","2020-12-22","","010967",""]
[{"$f":"INDEX(学校種!B:B,MATCH(D889,学校種!A:A,0))","v":"小学校"},{"$f":"INDEX(_tmp2!B:B,MATCH(E889,_tmp2!A:A,0))","v":"北海道"},"B101220200266","B1","01","2","1","函館市立北昭和小学校","函館市昭和４丁目３８番１号","0410812","2020-12-22","","010164",""]
[{"$f":"INDEX(学校種!B:B,MATCH(D890,学校種!A:A,0))","v":"小学校"},{"$f":"INDEX(_tmp2!B:B,MATCH(E890,_tmp2!A:A,0))","v":"北海道"},"B101220200275","B1","01","2","1","函館市立昭和小学校","函館市昭和１丁目５番５号","0410812","2020-12-22","","010966",""]
[{"$f":"INDEX(学校種!B:B,MATCH(D891,学校種!A:A,0))","v":"小学校"},{"$f":"INDEX(_tmp2!B:B,MATCH(E891,_tmp2!A:A,0))","v":"北海道"},"B101220200284","B1","01","2","1","函館市立亀田小学校","函館市富岡町１丁目１８－１","0410811","2020-12-22","","010962",""]
[{"$f":"INDEX(学校種!B:B,MATCH(D892,学校種!A:A,0))","v":"小学校"},{"$f":"INDEX(_tmp2!B:B,MATCH(E892,_tmp2!A:A,0))","v":"北海道"},"B101220200293","B1","01","2","1","函館市立赤川小学校","函館市赤川町３６７番地","0410804","2020-12-22","","010963",""]
[{"$f":"INDEX(学校種!B:B,MATCH(D893,学校種!A:A,0))","v":"小学校"},{"$f":"INDEX(_tmp2!B:B,MATCH(E893,_tmp2!A:A,0))","v":"北海道"},"B101220200300","B1","01","2","1","函館市立中央小学校","函館市美原２丁目２８番１号","0410806","2020-12-22","","010969",""]
[{"$f":"INDEX(学校種!B:B,MATCH(D894,学校種!A:A,0))","v":"小学校"},{"$f":"INDEX(_tmp2!B:B,MATCH(E894,_tmp2!A:A,0))","v":"北海道"},"B101220200319","B1","01","2","1","函館市立北美原小学校","函館市北美原１丁目９番１６号","0410807","2020-12-22","","010168",""]
[{"$f":"INDEX(学校種!B:B,MATCH(D895,学校種!A:A,0))","v":"小学校"},{"$f":"INDEX(_tmp2!B:B,MATCH(E895,_tmp2!A:A,0))","v":"北海道"},"B101220200328","B1","01","2","1","函館市立鍛神小学校","函館市鍛冶２丁目４６番４号","0410852","2020-12-22","","010964",""]
[{"$f":"INDEX(学校種!B:B,MATCH(D896,学校種!A:A,0))","v":"小学校"},{"$f":"INDEX(_tmp2!B:B,MATCH(E896,_tmp2!A:A,0))","v":"北海道"},"B101220200337","B1","01","2","1","函館市立神山小学校","函館市神山町２３３番地の１","0410831","2020-12-22","","012984",""]
[{"$f":"INDEX(学校種!B:B,MATCH(D897,学校種!A:A,0))","v":"小学校"},{"$f":"INDEX(_tmp2!B:B,MATCH(E897,_tmp2!A:A,0))","v":"北海道"},"B101220200346","B1","01","2","1","函館市立東山小学校","函館市東山２丁目３番１号","0410835","2020-12-22","","010166",""]
[{"$f":"INDEX(学校種!B:B,MATCH(D898,学校種!A:A,0))","v":"小学校"},{"$f":"INDEX(_tmp2!B:B,MATCH(E898,_tmp2!A:A,0))","v":"北海道"},"B101220200355","B1","01","2","1","函館市立本通小学校","函館市本通１丁目４７－２","0410851","2020-12-22","","010968",""]
[{"$f":"INDEX(学校種!B:B,MATCH(D899,学校種!A:A,0))","v":"小学校"},{"$f":"INDEX(_tmp2!B:B,MATCH(E899,_tmp2!A:A,0))","v":"北海道"},"B101220200364","B1","01","2","1","函館市立南本通小学校","函館市本通３丁目１０番１号","0410851","2020-12-22","","012898",""]
[{"$f":"INDEX(学校種!B:B,MATCH(D900,学校種!A:A,0))","v":"小学校"},{"$f":"INDEX(_tmp2!B:B,MATCH(E900,_tmp2!A:A,0))","v":"北海道"},"B101220200373","B1","01","2","9","函館市立戸井西小学校","函館市小安町５４８番地１","0410251","2020-12-22","2021-05-27","010970","C201220200012"]
[{"$f":"INDEX(学校種!B:B,MATCH(D901,学校種!A:A,0))","v":"小学校"},{"$f":"INDEX(_tmp2!B:B,MATCH(E901,_tmp2!A:A,0))","v":"北海道"},"B101220200382","B1","01","2","9","函館市立日新小学校","函館市弁才町２７９－１","0410303","2020-12-22","2021-05-27","010972","C201220200012"]
[{"$f":"INDEX(学校種!B:B,MATCH(D902,学校種!A:A,0))","v":"小学校"},{"$f":"INDEX(_tmp2!B:B,MATCH(E902,_tmp2!A:A,0))","v":"北海道"},"B101220200391","B1","01","2","1","函館市立えさん小学校","函館市中浜町７９番地","0410404","2020-12-22","","010977",""]
[{"$f":"INDEX(学校種!B:B,MATCH(D903,学校種!A:A,0))","v":"小学校"},{"$f":"INDEX(_tmp2!B:B,MATCH(E903,_tmp2!A:A,0))","v":"北海道"},"B101220200408","B1","01","2","1","函館市立椴法華小学校","函館市新八幡町８６番地１","0410601","2020-12-22","","010982",""]
[{"$f":"INDEX(学校種!B:B,MATCH(D904,学校種!A:A,0))","v":"小学校"},{"$f":"INDEX(_tmp2!B:B,MATCH(E904,_tmp2!A:A,0))","v":"北海道"},"B101220200417","B1","01","2","1","函館市立磨光小学校","函館市尾札部町１６０９－１","0411603","2020-12-22","","010986",""]
[{"$f":"INDEX(学校種!B:B,MATCH(D905,学校種!A:A,0))","v":"小学校"},{"$f":"INDEX(_tmp2!B:B,MATCH(E905,_tmp2!A:A,0))","v":"北海道"},"B101220200426","B1","01","2","1","函館市立臼尻小学校","函館市臼尻町５９５番地","0411613","2020-12-22","","010987",""]
[{"$f":"INDEX(学校種!B:B,MATCH(D906,学校種!A:A,0))","v":"小学校"},{"$f":"INDEX(_tmp2!B:B,MATCH(E906,_tmp2!A:A,0))","v":"北海道"},"B101220200435","B1","01","2","1","函館市立大船小学校","函館市大船町２４番地","0411622","2020-12-22","","010988",""]
[{"$f":"INDEX(学校種!B:B,MATCH(D907,学校種!A:A,0))","v":"小学校"},{"$f":"INDEX(_tmp2!B:B,MATCH(E907,_tmp2!A:A,0))","v":"北海道"},"B101220300014","B1","01","2","1","小樽市立花園小学校","小樽市花園５丁目４番１号","0470024","2020-12-22","","010169",""]
[{"$f":"INDEX(学校種!B:B,MATCH(D908,学校種!A:A,0))","v":"小学校"},{"$f":"INDEX(_tmp2!B:B,MATCH(E908,_tmp2!A:A,0))","v":"北海道"},"B101220300023","B1","01","2","1","小樽市立稲穂小学校","小樽市富岡１丁目５番１号","0470033","2020-12-22","","010172",""]
[{"$f":"INDEX(学校種!B:B,MATCH(D909,学校種!A:A,0))","v":"小学校"},{"$f":"INDEX(_tmp2!B:B,MATCH(E909,_tmp2!A:A,0))","v":"北海道"},"B101220300032","B1","01","2","1","小樽市立長橋小学校","小樽市長橋４丁目５番１号","0470036","2020-12-22","","010173",""]
[{"$f":"INDEX(学校種!B:B,MATCH(D910,学校種!A:A,0))","v":"小学校"},{"$f":"INDEX(_tmp2!B:B,MATCH(E910,_tmp2!A:A,0))","v":"北海道"},"B101220300041","B1","01","2","1","小樽市立潮見台小学校","小樽市新富町９番１３号","0470004","2020-12-22","","010176",""]
[{"$f":"INDEX(学校種!B:B,MATCH(D911,学校種!A:A,0))","v":"小学校"},{"$f":"INDEX(_tmp2!B:B,MATCH(E911,_tmp2!A:A,0))","v":"北海道"},"B101220300050","B1","01","2","1","小樽市立高島小学校","小樽市高島５丁目６番１号","0470048","2020-12-22","","010178",""]
[{"$f":"INDEX(学校種!B:B,MATCH(D912,学校種!A:A,0))","v":"小学校"},{"$f":"INDEX(_tmp2!B:B,MATCH(E912,_tmp2!A:A,0))","v":"北海道"},"B101220300069","B1","01","2","1","小樽市立奥沢小学校","小樽市奥沢２丁目５番１号","0470013","2020-12-22","","010179",""]
[{"$f":"INDEX(学校種!B:B,MATCH(D913,学校種!A:A,0))","v":"小学校"},{"$f":"INDEX(_tmp2!B:B,MATCH(E913,_tmp2!A:A,0))","v":"北海道"},"B101220300078","B1","01","2","1","小樽市立銭函小学校","小樽市見晴町５番２号","0470263","2020-12-22","","010185",""]
[{"$f":"INDEX(学校種!B:B,MATCH(D914,学校種!A:A,0))","v":"小学校"},{"$f":"INDEX(_tmp2!B:B,MATCH(E914,_tmp2!A:A,0))","v":"北海道"},"B101220300087","B1","01","2","1","小樽市立忍路中央小学校","小樽市忍路１－１７１","0482561","2020-12-22","","010188",""]
[{"$f":"INDEX(学校種!B:B,MATCH(D915,学校種!A:A,0))","v":"小学校"},{"$f":"INDEX(_tmp2!B:B,MATCH(E915,_tmp2!A:A,0))","v":"北海道"},"B101220300096","B1","01","2","1","小樽市立桜小学校","小樽市桜１丁目１６番１号","0470156","2020-12-22","","010189",""]
[{"$f":"INDEX(学校種!B:B,MATCH(D916,学校種!A:A,0))","v":"小学校"},{"$f":"INDEX(_tmp2!B:B,MATCH(E916,_tmp2!A:A,0))","v":"北海道"},"B101220300103","B1","01","2","1","小樽市立朝里小学校","小樽市新光２丁目６番１号","0470152","2020-12-22","","010190",""]
[{"$f":"INDEX(学校種!B:B,MATCH(D917,学校種!A:A,0))","v":"小学校"},{"$f":"INDEX(_tmp2!B:B,MATCH(E917,_tmp2!A:A,0))","v":"北海道"},"B101220300112","B1","01","2","1","小樽市立塩谷小学校","小樽市塩谷２丁目１８番１号","0482672","2020-12-22","","010191",""]
[{"$f":"INDEX(学校種!B:B,MATCH(D918,学校種!A:A,0))","v":"小学校"},{"$f":"INDEX(_tmp2!B:B,MATCH(E918,_tmp2!A:A,0))","v":"北海道"},"B101220300121","B1","01","2","1","小樽市立張碓小学校","小樽市春香町２１５番地","0470265","2020-12-22","","010193",""]
[{"$f":"INDEX(学校種!B:B,MATCH(D919,学校種!A:A,0))","v":"小学校"},{"$f":"INDEX(_tmp2!B:B,MATCH(E919,_tmp2!A:A,0))","v":"北海道"},"B101220300130","B1","01","2","1","小樽市立幸小学校","小樽市幸４丁目２１番１号","0470037","2020-12-22","","010196",""]
[{"$f":"INDEX(学校種!B:B,MATCH(D920,学校種!A:A,0))","v":"小学校"},{"$f":"INDEX(_tmp2!B:B,MATCH(E920,_tmp2!A:A,0))","v":"北海道"},"B101220300149","B1","01","2","1","小樽市立桂岡小学校","小樽市桂岡町２３番１号","0470264","2020-12-22","","010197",""]
[{"$f":"INDEX(学校種!B:B,MATCH(D921,学校種!A:A,0))","v":"小学校"},{"$f":"INDEX(_tmp2!B:B,MATCH(E921,_tmp2!A:A,0))","v":"北海道"},"B101220300158","B1","01","2","1","小樽市立望洋台小学校","小樽市望洋台１丁目８番２５号","0470155","2020-12-22","","012907",""]
[{"$f":"INDEX(学校種!B:B,MATCH(D922,学校種!A:A,0))","v":"小学校"},{"$f":"INDEX(_tmp2!B:B,MATCH(E922,_tmp2!A:A,0))","v":"北海道"},"B101220300167","B1","01","2","1","小樽市立手宮中央小学校","小樽市末広町５番１号","0470042","2020-12-22","","013043",""]
[{"$f":"INDEX(学校種!B:B,MATCH(D923,学校種!A:A,0))","v":"小学校"},{"$f":"INDEX(_tmp2!B:B,MATCH(E923,_tmp2!A:A,0))","v":"北海道"},"B101220300176","B1","01","2","1","小樽市立山の手小学校","小樽市花園５丁目２番２０号","0470024","2020-12-22","","013048",""]
[{"$f":"INDEX(学校種!B:B,MATCH(D924,学校種!A:A,0))","v":"小学校"},{"$f":"INDEX(_tmp2!B:B,MATCH(E924,_tmp2!A:A,0))","v":"北海道"},"B101220400013","B1","01","2","1","旭川市立日章小学校","旭川市６条通５丁目","0700036","2020-12-22","","010207",""]
[{"$f":"INDEX(学校種!B:B,MATCH(D925,学校種!A:A,0))","v":"小学校"},{"$f":"INDEX(_tmp2!B:B,MATCH(E925,_tmp2!A:A,0))","v":"北海道"},"B101220400022","B1","01","2","1","旭川市立朝日小学校","旭川市５条通２１丁目","0788215","2020-12-22","","010208",""]
[{"$f":"INDEX(学校種!B:B,MATCH(D926,学校種!A:A,0))","v":"小学校"},{"$f":"INDEX(_tmp2!B:B,MATCH(E926,_tmp2!A:A,0))","v":"北海道"},"B101220400031","B1","01","2","1","旭川市立青雲小学校","旭川市曙１条２丁目","0700061","2020-12-22","","010209",""]
[{"$f":"INDEX(学校種!B:B,MATCH(D927,学校種!A:A,0))","v":"小学校"},{"$f":"INDEX(_tmp2!B:B,MATCH(E927,_tmp2!A:A,0))","v":"北海道"},"B101220400040","B1","01","2","1","旭川市立大有小学校","旭川市旭町１条６丁目２２６４番地","0700831","2020-12-22","","010211",""]
[{"$f":"INDEX(学校種!B:B,MATCH(D928,学校種!A:A,0))","v":"小学校"},{"$f":"INDEX(_tmp2!B:B,MATCH(E928,_tmp2!A:A,0))","v":"北海道"},"B101220400059","B1","01","2","1","旭川市立啓明小学校","旭川市南２条通２２丁目","0788332","2020-12-22","","010213",""]
[{"$f":"INDEX(学校種!B:B,MATCH(D929,学校種!A:A,0))","v":"小学校"},{"$f":"INDEX(_tmp2!B:B,MATCH(E929,_tmp2!A:A,0))","v":"北海道"},"B101220400068","B1","01","2","1","旭川市立正和小学校","旭川市大雪通８丁目","0700010","2020-12-22","","010214",""]
[{"$f":"INDEX(学校種!B:B,MATCH(D930,学校種!A:A,0))","v":"小学校"},{"$f":"INDEX(_tmp2!B:B,MATCH(E930,_tmp2!A:A,0))","v":"北海道"},"B101220400077","B1","01","2","1","旭川市立春光小学校","旭川市末広１条１丁目４番８号","0718131","2020-12-22","","010215",""]
[{"$f":"INDEX(学校種!B:B,MATCH(D931,学校種!A:A,0))","v":"小学校"},{"$f":"INDEX(_tmp2!B:B,MATCH(E931,_tmp2!A:A,0))","v":"北海道"},"B101220400086","B1","01","2","1","旭川市立北鎮小学校","旭川市春光６条６丁目１番１号","0700876","2020-12-22","","010216",""]
[{"$f":"INDEX(学校種!B:B,MATCH(D932,学校種!A:A,0))","v":"小学校"},{"$f":"INDEX(_tmp2!B:B,MATCH(E932,_tmp2!A:A,0))","v":"北海道"},"B101220400095","B1","01","2","1","旭川市立高台小学校","旭川市春光台４条４丁目","0718144","2020-12-22","","010217",""]
[{"$f":"INDEX(学校種!B:B,MATCH(D933,学校種!A:A,0))","v":"小学校"},{"$f":"INDEX(_tmp2!B:B,MATCH(E933,_tmp2!A:A,0))","v":"北海道"},"B101220400102","B1","01","2","1","旭川市立近文小学校","旭川市緑町１７丁目","0700823","2020-12-22","","010218",""]
[{"$f":"INDEX(学校種!B:B,MATCH(D934,学校種!A:A,0))","v":"小学校"},{"$f":"INDEX(_tmp2!B:B,MATCH(E934,_tmp2!A:A,0))","v":"北海道"},"B101220400111","B1","01","2","1","旭川市立東五条小学校","旭川市東５条５丁目２－２４","0700025","2020-12-22","","010219",""]
[{"$f":"INDEX(学校種!B:B,MATCH(D935,学校種!A:A,0))","v":"小学校"},{"$f":"INDEX(_tmp2!B:B,MATCH(E935,_tmp2!A:A,0))","v":"北海道"},"B101220400120","B1","01","2","1","旭川市立向陵小学校","旭川市住吉５条１丁目１番１号","0700865","2020-12-22","","010220",""]
[{"$f":"INDEX(学校種!B:B,MATCH(D936,学校種!A:A,0))","v":"小学校"},{"$f":"INDEX(_tmp2!B:B,MATCH(E936,_tmp2!A:A,0))","v":"北海道"},"B101220400139","B1","01","2","1","旭川市立新町小学校","旭川市４条西３丁目２番１号","0700054","2020-12-22","","010221",""]
[{"$f":"INDEX(学校種!B:B,MATCH(D937,学校種!A:A,0))","v":"小学校"},{"$f":"INDEX(_tmp2!B:B,MATCH(E937,_tmp2!A:A,0))","v":"北海道"},"B101220400148","B1","01","2","1","旭川市立東町小学校","旭川市豊岡３条１丁目２番２０号","0788233","2020-12-22","","010222",""]
[{"$f":"INDEX(学校種!B:B,MATCH(D938,学校種!A:A,0))","v":"小学校"},{"$f":"INDEX(_tmp2!B:B,MATCH(E938,_tmp2!A:A,0))","v":"北海道"},"B101220400157","B1","01","2","1","旭川市立大町小学校","旭川市大町１条１丁目","0700841","2020-12-22","","010223",""]
[{"$f":"INDEX(学校種!B:B,MATCH(D939,学校種!A:A,0))","v":"小学校"},{"$f":"INDEX(_tmp2!B:B,MATCH(E939,_tmp2!A:A,0))","v":"北海道"},"B101220400166","B1","01","2","1","旭川市立新富小学校","旭川市新富２条２丁目１１番３号","0700002","2020-12-22","","010224",""]
[{"$f":"INDEX(学校種!B:B,MATCH(D940,学校種!A:A,0))","v":"小学校"},{"$f":"INDEX(_tmp2!B:B,MATCH(E940,_tmp2!A:A,0))","v":"北海道"},"B101220400175","B1","01","2","1","旭川市立千代田小学校","旭川市東光８条３丁目","0788348","2020-12-22","","010225",""]
[{"$f":"INDEX(学校種!B:B,MATCH(D941,学校種!A:A,0))","v":"小学校"},{"$f":"INDEX(_tmp2!B:B,MATCH(E941,_tmp2!A:A,0))","v":"北海道"},"B101220400184","B1","01","2","1","旭川市立神居小学校","旭川市神居４条６丁目","0708014","2020-12-22","","010226",""]
[{"$f":"INDEX(学校種!B:B,MATCH(D942,学校種!A:A,0))","v":"小学校"},{"$f":"INDEX(_tmp2!B:B,MATCH(E942,_tmp2!A:A,0))","v":"北海道"},"B101220400193","B1","01","2","1","旭川市立雨紛小学校","旭川市神居町雨紛３８０番地","0708033","2020-12-22","","010227",""]
[{"$f":"INDEX(学校種!B:B,MATCH(D943,学校種!A:A,0))","v":"小学校"},{"$f":"INDEX(_tmp2!B:B,MATCH(E943,_tmp2!A:A,0))","v":"北海道"},"B101220400200","B1","01","2","1","旭川市立富沢小学校","旭川市神居町富沢１３２番地","0708024","2020-12-22","","010228",""]
[{"$f":"INDEX(学校種!B:B,MATCH(D944,学校種!A:A,0))","v":"小学校"},{"$f":"INDEX(_tmp2!B:B,MATCH(E944,_tmp2!A:A,0))","v":"北海道"},"B101220400219","B1","01","2","1","旭川市立台場小学校","旭川市神居町台場２７４番地","0708022","2020-12-22","","010229",""]
[{"$f":"INDEX(学校種!B:B,MATCH(D945,学校種!A:A,0))","v":"小学校"},{"$f":"INDEX(_tmp2!B:B,MATCH(E945,_tmp2!A:A,0))","v":"北海道"},"B101220400228","B1","01","2","1","旭川市立江丹別小学校","旭川市江丹別町中央","0711173","2020-12-22","","010232",""]
[{"$f":"INDEX(学校種!B:B,MATCH(D946,学校種!A:A,0))","v":"小学校"},{"$f":"INDEX(_tmp2!B:B,MATCH(E946,_tmp2!A:A,0))","v":"北海道"},"B101220400237","B1","01","2","1","旭川市立嵐山小学校","旭川市江丹別町嵐山１４３番地","0708051","2020-12-22","","010233",""]
[{"$f":"INDEX(学校種!B:B,MATCH(D947,学校種!A:A,0))","v":"小学校"},{"$f":"INDEX(_tmp2!B:B,MATCH(E947,_tmp2!A:A,0))","v":"北海道"},"B101220400246","B1","01","2","1","旭川市立永山小学校","旭川市永山５条１８丁目２－１","0798415","2020-12-22","","010237",""]
[{"$f":"INDEX(学校種!B:B,MATCH(D948,学校種!A:A,0))","v":"小学校"},{"$f":"INDEX(_tmp2!B:B,MATCH(E948,_tmp2!A:A,0))","v":"北海道"},"B101220400255","B1","01","2","1","旭川市立永山東小学校","旭川市永山町１３丁目","0798431","2020-12-22","","010238",""]
[{"$f":"INDEX(学校種!B:B,MATCH(D949,学校種!A:A,0))","v":"小学校"},{"$f":"INDEX(_tmp2!B:B,MATCH(E949,_tmp2!A:A,0))","v":"北海道"},"B101220400264","B1","01","2","1","旭川市立永山西小学校","旭川市永山７条１１丁目１番４号","0798417","2020-12-22","","010239",""]
[{"$f":"INDEX(学校種!B:B,MATCH(D950,学校種!A:A,0))","v":"小学校"},{"$f":"INDEX(_tmp2!B:B,MATCH(E950,_tmp2!A:A,0))","v":"北海道"},"B101220400273","B1","01","2","1","旭川市立旭川小学校","旭川市東旭川南１条６丁目","0788261","2020-12-22","","010240",""]
[{"$f":"INDEX(学校種!B:B,MATCH(D951,学校種!A:A,0))","v":"小学校"},{"$f":"INDEX(_tmp2!B:B,MATCH(E951,_tmp2!A:A,0))","v":"北海道"},"B101220400282","B1","01","2","1","旭川市立旭川第一小学校","旭川市東旭川町米原７１３番地","0781273","2020-12-22","","010241",""]
[{"$f":"INDEX(学校種!B:B,MATCH(D952,学校種!A:A,0))","v":"小学校"},{"$f":"INDEX(_tmp2!B:B,MATCH(E952,_tmp2!A:A,0))","v":"北海道"},"B101220400291","B1","01","2","1","旭川市立旭川第三小学校","旭川市東光８条８丁目１番２８号","0788348","2020-12-22","","010243",""]
[{"$f":"INDEX(学校種!B:B,MATCH(D953,学校種!A:A,0))","v":"小学校"},{"$f":"INDEX(_tmp2!B:B,MATCH(E953,_tmp2!A:A,0))","v":"北海道"},"B101220400308","B1","01","2","1","旭川市立旭川第五小学校","旭川市東旭川町東桜岡７２","0788201","2020-12-22","","010245",""]
[{"$f":"INDEX(学校種!B:B,MATCH(D954,学校種!A:A,0))","v":"小学校"},{"$f":"INDEX(_tmp2!B:B,MATCH(E954,_tmp2!A:A,0))","v":"北海道"},"B101220400317","B1","01","2","1","旭川市立豊岡小学校","旭川市豊岡１０条３丁目","0788240","2020-12-22","","010248",""]
[{"$f":"INDEX(学校種!B:B,MATCH(D955,学校種!A:A,0))","v":"小学校"},{"$f":"INDEX(_tmp2!B:B,MATCH(E955,_tmp2!A:A,0))","v":"北海道"},"B101220400326","B1","01","2","1","旭川市立神楽小学校","旭川市神楽５条８丁目１番６号","0708005","2020-12-22","","010249",""]
[{"$f":"INDEX(学校種!B:B,MATCH(D956,学校種!A:A,0))","v":"小学校"},{"$f":"INDEX(_tmp2!B:B,MATCH(E956,_tmp2!A:A,0))","v":"北海道"},"B101220400335","B1","01","2","1","旭川市立西神楽小学校","旭川市西神楽北２条３丁目","0710174","2020-12-22","","010250",""]
[{"$f":"INDEX(学校種!B:B,MATCH(D957,学校種!A:A,0))","v":"小学校"},{"$f":"INDEX(_tmp2!B:B,MATCH(E957,_tmp2!A:A,0))","v":"北海道"},"B101220400344","B1","01","2","1","旭川市立西御料地小学校","旭川市西御料１条２丁目","0788821","2020-12-22","","010253",""]
[{"$f":"INDEX(学校種!B:B,MATCH(D958,学校種!A:A,0))","v":"小学校"},{"$f":"INDEX(_tmp2!B:B,MATCH(E958,_tmp2!A:A,0))","v":"北海道"},"B101220400353","B1","01","2","1","旭川市立神楽岡小学校","旭川市神楽岡１４条３丁目","0788324","2020-12-22","","010255",""]
[{"$f":"INDEX(学校種!B:B,MATCH(D959,学校種!A:A,0))","v":"小学校"},{"$f":"INDEX(_tmp2!B:B,MATCH(E959,_tmp2!A:A,0))","v":"北海道"},"B101220400362","B1","01","2","1","旭川市立北光小学校","旭川市旭町１条１６丁目","0700831","2020-12-22","","010256",""]
[{"$f":"INDEX(学校種!B:B,MATCH(D960,学校種!A:A,0))","v":"小学校"},{"$f":"INDEX(_tmp2!B:B,MATCH(E960,_tmp2!A:A,0))","v":"北海道"},"B101220400371","B1","01","2","1","旭川市立知新小学校","旭川市８条通１３丁目","0700038","2020-12-22","","010257",""]
[{"$f":"INDEX(学校種!B:B,MATCH(D961,学校種!A:A,0))","v":"小学校"},{"$f":"INDEX(_tmp2!B:B,MATCH(E961,_tmp2!A:A,0))","v":"北海道"},"B101220400380","B1","01","2","1","旭川市立東栄小学校","旭川市東光４条６丁目４番８号","0788344","2020-12-22","","010258",""]
[{"$f":"INDEX(学校種!B:B,MATCH(D962,学校種!A:A,0))","v":"小学校"},{"$f":"INDEX(_tmp2!B:B,MATCH(E962,_tmp2!A:A,0))","v":"北海道"},"B101220400399","B1","01","2","1","旭川市立末広小学校","旭川市末広６条２丁目","0718136","2020-12-22","","010259",""]
[{"$f":"INDEX(学校種!B:B,MATCH(D963,学校種!A:A,0))","v":"小学校"},{"$f":"INDEX(_tmp2!B:B,MATCH(E963,_tmp2!A:A,0))","v":"北海道"},"B101220400406","B1","01","2","1","旭川市立愛宕小学校","旭川市豊岡８条６丁目","0788238","2020-12-22","","010260",""]
[{"$f":"INDEX(学校種!B:B,MATCH(D964,学校種!A:A,0))","v":"小学校"},{"$f":"INDEX(_tmp2!B:B,MATCH(E964,_tmp2!A:A,0))","v":"北海道"},"B101220400415","B1","01","2","1","旭川市立緑が丘小学校","旭川市緑が丘３条４丁目１番地","0788303","2020-12-22","","010261",""]
[{"$f":"INDEX(学校種!B:B,MATCH(D965,学校種!A:A,0))","v":"小学校"},{"$f":"INDEX(_tmp2!B:B,MATCH(E965,_tmp2!A:A,0))","v":"北海道"},"B101220400424","B1","01","2","1","旭川市立神居東小学校","旭川市神居１条１７丁目１番３７号","0708011","2020-12-22","","010262",""]
[{"$f":"INDEX(学校種!B:B,MATCH(D966,学校種!A:A,0))","v":"小学校"},{"$f":"INDEX(_tmp2!B:B,MATCH(E966,_tmp2!A:A,0))","v":"北海道"},"B101220400433","B1","01","2","1","旭川市立東光小学校","旭川市東光1７条６丁目３番１号","0788357","2020-12-22","","010263",""]
[{"$f":"INDEX(学校種!B:B,MATCH(D967,学校種!A:A,0))","v":"小学校"},{"$f":"INDEX(_tmp2!B:B,MATCH(E967,_tmp2!A:A,0))","v":"北海道"},"B101220400442","B1","01","2","1","旭川市立陵雲小学校","旭川市末広１条７丁目","0718131","2020-12-22","","010264",""]
[{"$f":"INDEX(学校種!B:B,MATCH(D968,学校種!A:A,0))","v":"小学校"},{"$f":"INDEX(_tmp2!B:B,MATCH(E968,_tmp2!A:A,0))","v":"北海道"},"B101220400451","B1","01","2","1","旭川市立忠和小学校","旭川市忠和４条４丁目","0708044","2020-12-22","","010265",""]
[{"$f":"INDEX(学校種!B:B,MATCH(D969,学校種!A:A,0))","v":"小学校"},{"$f":"INDEX(_tmp2!B:B,MATCH(E969,_tmp2!A:A,0))","v":"北海道"},"B101220400460","B1","01","2","1","旭川市立近文第一小学校","旭川市東鷹栖３線１０号","0718153","2020-12-22","","011483",""]
[{"$f":"INDEX(学校種!B:B,MATCH(D970,学校種!A:A,0))","v":"小学校"},{"$f":"INDEX(_tmp2!B:B,MATCH(E970,_tmp2!A:A,0))","v":"北海道"},"B101220400479","B1","01","2","1","旭川市立近文第二小学校","旭川市東鷹栖４線１６号２５０番地","0718154","2020-12-22","","011484",""]
[{"$f":"INDEX(学校種!B:B,MATCH(D971,学校種!A:A,0))","v":"小学校"},{"$f":"INDEX(_tmp2!B:B,MATCH(E971,_tmp2!A:A,0))","v":"北海道"},"B101220400488","B1","01","2","1","旭川市立永山南小学校","旭川市永山９条６丁目１番２０号","0798419","2020-12-22","","012857",""]
[{"$f":"INDEX(学校種!B:B,MATCH(D972,学校種!A:A,0))","v":"小学校"},{"$f":"INDEX(_tmp2!B:B,MATCH(E972,_tmp2!A:A,0))","v":"北海道"},"B101220400497","B1","01","2","1","旭川市立末広北小学校","旭川市末広５条１１丁目","0718135","2020-12-22","","012872",""]
[{"$f":"INDEX(学校種!B:B,MATCH(D973,学校種!A:A,0))","v":"小学校"},{"$f":"INDEX(_tmp2!B:B,MATCH(E973,_tmp2!A:A,0))","v":"北海道"},"B101220400503","B1","01","2","1","旭川市立緑新小学校","旭川市神楽岡４条５丁目","0788314","2020-12-22","","012899",""]
[{"$f":"INDEX(学校種!B:B,MATCH(D974,学校種!A:A,0))","v":"小学校"},{"$f":"INDEX(_tmp2!B:B,MATCH(E974,_tmp2!A:A,0))","v":"北海道"},"B101220400512","B1","01","2","1","旭川市立愛宕東小学校","旭川市豊岡７条９丁目１番３号","0788237","2020-12-22","","012916",""]
[{"$f":"INDEX(学校種!B:B,MATCH(D975,学校種!A:A,0))","v":"小学校"},{"$f":"INDEX(_tmp2!B:B,MATCH(E975,_tmp2!A:A,0))","v":"北海道"},"B101220400521","B1","01","2","1","旭川市立共栄小学校","旭川市豊岡２条１０丁目１番１号","0788232","2020-12-22","","012933",""]
[{"$f":"INDEX(学校種!B:B,MATCH(D976,学校種!A:A,0))","v":"小学校"},{"$f":"INDEX(_tmp2!B:B,MATCH(E976,_tmp2!A:A,0))","v":"北海道"},"B101220500012","B1","01","2","9","室蘭市立天沢小学校","室蘭市御前水町２丁目１６番１号","0510002","2020-12-22","2021-05-27","010270","B101220500058"]
[{"$f":"INDEX(学校種!B:B,MATCH(D977,学校種!A:A,0))","v":"小学校"},{"$f":"INDEX(_tmp2!B:B,MATCH(E977,_tmp2!A:A,0))","v":"北海道"},"B101220500021","B1","01","2","1","室蘭市立喜門岱小学校","室蘭市石川町２８２番地３６","0500051","2020-12-22","","010282",""]
[{"$f":"INDEX(学校種!B:B,MATCH(D978,学校種!A:A,0))","v":"小学校"},{"$f":"INDEX(_tmp2!B:B,MATCH(E978,_tmp2!A:A,0))","v":"北海道"},"B101220500030","B1","01","2","1","室蘭市立八丁平小学校","室蘭市八丁平４丁目４２－１","0500061","2020-12-22","","012995",""]
[{"$f":"INDEX(学校種!B:B,MATCH(D979,学校種!A:A,0))","v":"小学校"},{"$f":"INDEX(_tmp2!B:B,MATCH(E979,_tmp2!A:A,0))","v":"北海道"},"B101220500049","B1","01","2","1","室蘭市立海陽小学校","室蘭市東町３－１８－１","0500083","2020-12-22","","013007",""]
[{"$f":"INDEX(学校種!B:B,MATCH(D980,学校種!A:A,0))","v":"小学校"},{"$f":"INDEX(_tmp2!B:B,MATCH(E980,_tmp2!A:A,0))","v":"北海道"},"B101220500058","B1","01","2","1","室蘭市立地球岬小学校","室蘭市母恋北町２丁目１２番８号","0510004","2020-12-22","","013014",""]
[{"$f":"INDEX(学校種!B:B,MATCH(D981,学校種!A:A,0))","v":"小学校"},{"$f":"INDEX(_tmp2!B:B,MATCH(E981,_tmp2!A:A,0))","v":"北海道"},"B101220500067","B1","01","2","1","室蘭市立旭ヶ丘小学校","室蘭市宮の森町１丁目５番５号","0500073","2020-12-22","","013025",""]
[{"$f":"INDEX(学校種!B:B,MATCH(D982,学校種!A:A,0))","v":"小学校"},{"$f":"INDEX(_tmp2!B:B,MATCH(E982,_tmp2!A:A,0))","v":"北海道"},"B101220500076","B1","01","2","1","室蘭市立みなと小学校","室蘭市港南町２丁目１０番１号","0510032","2020-12-22","","013041",""]
[{"$f":"INDEX(学校種!B:B,MATCH(D983,学校種!A:A,0))","v":"小学校"},{"$f":"INDEX(_tmp2!B:B,MATCH(E983,_tmp2!A:A,0))","v":"北海道"},"B101220500085","B1","01","2","1","室蘭市立蘭北小学校","室蘭市港北町４丁目１３番１号","0500063","2020-12-22","","013044",""]
[{"$f":"INDEX(学校種!B:B,MATCH(D984,学校種!A:A,0))","v":"小学校"},{"$f":"INDEX(_tmp2!B:B,MATCH(E984,_tmp2!A:A,0))","v":"北海道"},"B101220500094","B1","01","2","1","室蘭市立白蘭小学校","室蘭市白鳥台２丁目２番１号","0500054","2020-12-22","","013049",""]
[{"$f":"INDEX(学校種!B:B,MATCH(D985,学校種!A:A,0))","v":"小学校"},{"$f":"INDEX(_tmp2!B:B,MATCH(E985,_tmp2!A:A,0))","v":"北海道"},"B101220500101","B1","01","2","1","室蘭市立天神小学校","室蘭市水元町５番１号","0500071","2020-12-22","","013056",""]
[{"$f":"INDEX(学校種!B:B,MATCH(D986,学校種!A:A,0))","v":"小学校"},{"$f":"INDEX(_tmp2!B:B,MATCH(E986,_tmp2!A:A,0))","v":"北海道"},"B101220600011","B1","01","2","1","釧路市立城山小学校","釧路市城山１－１４－３５","0850826","2020-12-22","","010298",""]
[{"$f":"INDEX(学校種!B:B,MATCH(D987,学校種!A:A,0))","v":"小学校"},{"$f":"INDEX(_tmp2!B:B,MATCH(E987,_tmp2!A:A,0))","v":"北海道"},"B101220600020","B1","01","2","1","釧路市立湖畔小学校","釧路市武佐２丁目２７番１６号","0850806","2020-12-22","","010299",""]
[{"$f":"INDEX(学校種!B:B,MATCH(D988,学校種!A:A,0))","v":"小学校"},{"$f":"INDEX(_tmp2!B:B,MATCH(E988,_tmp2!A:A,0))","v":"北海道"},"B101220600039","B1","01","2","1","釧路市立桜が丘小学校","釧路市桜ヶ岡２－４－２２","0850805","2020-12-22","","010300",""]
[{"$f":"INDEX(学校種!B:B,MATCH(D989,学校種!A:A,0))","v":"小学校"},{"$f":"INDEX(_tmp2!B:B,MATCH(E989,_tmp2!A:A,0))","v":"北海道"},"B101220600048","B1","01","2","1","釧路市立鳥取小学校","釧路市鳥取北３丁目１３番２４号","0840907","2020-12-22","","010301",""]
[{"$f":"INDEX(学校種!B:B,MATCH(D990,学校種!A:A,0))","v":"小学校"},{"$f":"INDEX(_tmp2!B:B,MATCH(E990,_tmp2!A:A,0))","v":"北海道"},"B101220600057","B1","01","2","1","釧路市立共栄小学校","釧路市双葉町４番１７号","0850006","2020-12-22","","010302",""]
[{"$f":"INDEX(学校種!B:B,MATCH(D991,学校種!A:A,0))","v":"小学校"},{"$f":"INDEX(_tmp2!B:B,MATCH(E991,_tmp2!A:A,0))","v":"北海道"},"B101220600066","B1","01","2","1","釧路市立朝陽小学校","釧路市桜ヶ岡５丁目３番５２号","0850805","2020-12-22","","010305",""]
[{"$f":"INDEX(学校種!B:B,MATCH(D992,学校種!A:A,0))","v":"小学校"},{"$f":"INDEX(_tmp2!B:B,MATCH(E992,_tmp2!A:A,0))","v":"北海道"},"B101220600075","B1","01","2","1","釧路市立光陽小学校","釧路市光陽町１５番１７号","0850051","2020-12-22","","010306",""]
[{"$f":"INDEX(学校種!B:B,MATCH(D993,学校種!A:A,0))","v":"小学校"},{"$f":"INDEX(_tmp2!B:B,MATCH(E993,_tmp2!A:A,0))","v":"北海道"},"B101220600084","B1","01","2","1","釧路市立大楽毛小学校","釧路市大楽毛４丁目１０番１１号","0840917","2020-12-22","","010307",""]
[{"$f":"INDEX(学校種!B:B,MATCH(D994,学校種!A:A,0))","v":"小学校"},{"$f":"INDEX(_tmp2!B:B,MATCH(E994,_tmp2!A:A,0))","v":"北海道"},"B101220600093","B1","01","2","1","釧路市立清明小学校","釧路市緑ヶ岡４丁目８番７号","0850814","2020-12-22","","010308",""]
[{"$f":"INDEX(学校種!B:B,MATCH(D995,学校種!A:A,0))","v":"小学校"},{"$f":"INDEX(_tmp2!B:B,MATCH(E995,_tmp2!A:A,0))","v":"北海道"},"B101220600100","B1","01","2","1","釧路市立新陽小学校","釧路市新富士町４丁目６番８号","0840904","2020-12-22","","010310",""]
[{"$f":"INDEX(学校種!B:B,MATCH(D996,学校種!A:A,0))","v":"小学校"},{"$f":"INDEX(_tmp2!B:B,MATCH(E996,_tmp2!A:A,0))","v":"北海道"},"B101220600119","B1","01","2","1","釧路市立山花小学校","釧路市山花１４線１３２番地","0840928","2020-12-22","","010313",""]
[{"$f":"INDEX(学校種!B:B,MATCH(D997,学校種!A:A,0))","v":"小学校"},{"$f":"INDEX(_tmp2!B:B,MATCH(E997,_tmp2!A:A,0))","v":"北海道"},"B101220600128","B1","01","2","1","釧路市立愛国小学校","釧路市愛国西１－２５－３","0850057","2020-12-22","","010317",""]
[{"$f":"INDEX(学校種!B:B,MATCH(D998,学校種!A:A,0))","v":"小学校"},{"$f":"INDEX(_tmp2!B:B,MATCH(E998,_tmp2!A:A,0))","v":"北海道"},"B101220600137","B1","01","2","1","釧路市立鳥取西小学校","釧路市鳥取北７丁目５番５号","0840907","2020-12-22","","010318",""]
[{"$f":"INDEX(学校種!B:B,MATCH(D999,学校種!A:A,0))","v":"小学校"},{"$f":"INDEX(_tmp2!B:B,MATCH(E999,_tmp2!A:A,0))","v":"北海道"},"B101220600146","B1","01","2","1","釧路市立武佐小学校","釧路市武佐４丁目３番４２号","0850806","2020-12-22","","010319",""]
[{"$f":"INDEX(学校種!B:B,MATCH(D1000,学校種!A:A,0))","v":"小学校"},{"$f":"INDEX(_tmp2!B:B,MATCH(E1000,_tmp2!A:A,0))","v":"北海道"},"B101220600155","B1","01","2","1","釧路市立美原小学校","釧路市美原４丁目２番３８号","0850065","2020-12-22","","010320",""]
[{"$f":"INDEX(学校種!B:B,MATCH(D1001,学校種!A:A,0))","v":"小学校"},{"$f":"INDEX(_tmp2!B:B,MATCH(E1001,_tmp2!A:A,0))","v":"北海道"},"B101220600164","B1","01","2","1","釧路市立昭和小学校","釧路市昭和中央３丁目１２番２号","0840910","2020-12-22","","010321",""]
[{"$f":"INDEX(学校種!B:B,MATCH(D1002,学校種!A:A,0))","v":"小学校"},{"$f":"INDEX(_tmp2!B:B,MATCH(E1002,_tmp2!A:A,0))","v":"北海道"},"B101220600173","B1","01","2","1","釧路市立阿寒小学校","釧路市阿寒町富士見１丁目１７番１号","0850214","2020-12-22","","012688",""]
[{"$f":"INDEX(学校種!B:B,MATCH(D1003,学校種!A:A,0))","v":"小学校"},{"$f":"INDEX(_tmp2!B:B,MATCH(E1003,_tmp2!A:A,0))","v":"北海道"},"B101220600182","B1","01","2","9","釧路市立阿寒湖小学校","釧路市阿寒町阿寒湖温泉５－６－１","0850467","2020-12-22","2021-05-27","012695","C201220600018"]
[{"$f":"INDEX(学校種!B:B,MATCH(D1004,学校種!A:A,0))","v":"小学校"},{"$f":"INDEX(_tmp2!B:B,MATCH(E1004,_tmp2!A:A,0))","v":"北海道"},"B101220600191","B1","01","2","1","釧路市立音別小学校","釧路市音別町中園２丁目１番地","0880116","2020-12-22","","012725",""]
[{"$f":"INDEX(学校種!B:B,MATCH(D1005,学校種!A:A,0))","v":"小学校"},{"$f":"INDEX(_tmp2!B:B,MATCH(E1005,_tmp2!A:A,0))","v":"北海道"},"B101220600208","B1","01","2","1","釧路市立興津小学校","釧路市興津３丁目１０番１３号","0850811","2020-12-22","","012862",""]
[{"$f":"INDEX(学校種!B:B,MATCH(D1006,学校種!A:A,0))","v":"小学校"},{"$f":"INDEX(_tmp2!B:B,MATCH(E1006,_tmp2!A:A,0))","v":"北海道"},"B101220600217","B1","01","2","1","釧路市立鶴野小学校","釧路市鶴野５８番５１５７","0840924","2020-12-22","","012871",""]
[{"$f":"INDEX(学校種!B:B,MATCH(D1007,学校種!A:A,0))","v":"小学校"},{"$f":"INDEX(_tmp2!B:B,MATCH(E1007,_tmp2!A:A,0))","v":"北海道"},"B101220600226","B1","01","2","1","釧路市立芦野小学校","釧路市芦野１丁目１３番１号","0850061","2020-12-22","","012954",""]
[{"$f":"INDEX(学校種!B:B,MATCH(D1008,学校種!A:A,0))","v":"小学校"},{"$f":"INDEX(_tmp2!B:B,MATCH(E1008,_tmp2!A:A,0))","v":"北海道"},"B101220600235","B1","01","2","1","釧路市立東雲小学校","釧路市白樺台３丁目１９番２４号","0850804","2020-12-22","","013010",""]
[{"$f":"INDEX(学校種!B:B,MATCH(D1009,学校種!A:A,0))","v":"小学校"},{"$f":"INDEX(_tmp2!B:B,MATCH(E1009,_tmp2!A:A,0))","v":"北海道"},"B101220600244","B1","01","2","1","釧路市立中央小学校","釧路市寿１丁目２番１６号","0850026","2020-12-22","","013017",""]
[{"$f":"INDEX(学校種!B:B,MATCH(D1010,学校種!A:A,0))","v":"小学校"},{"$f":"INDEX(_tmp2!B:B,MATCH(E1010,_tmp2!A:A,0))","v":"北海道"},"B101220600253","B1","01","2","1","釧路市立青葉小学校","釧路市新川町３番７号","0850047","2020-12-22","","013018",""]
[{"$f":"INDEX(学校種!B:B,MATCH(D1011,学校種!A:A,0))","v":"小学校"},{"$f":"INDEX(_tmp2!B:B,MATCH(E1011,_tmp2!A:A,0))","v":"北海道"},"B101220600262","B1","01","2","1","釧路市立釧路小学校","釧路市浦見２丁目２番３８号","0850835","2020-12-22","","013019",""]
[{"$f":"INDEX(学校種!B:B,MATCH(D1012,学校種!A:A,0))","v":"小学校"},{"$f":"INDEX(_tmp2!B:B,MATCH(E1012,_tmp2!A:A,0))","v":"北海道"},"B101220700010","B1","01","2","1","帯広市立西小学校","帯広市西２３条南１丁目８３番地","0802473","2020-12-22","","010326",""]
[{"$f":"INDEX(学校種!B:B,MATCH(D1013,学校種!A:A,0))","v":"小学校"},{"$f":"INDEX(_tmp2!B:B,MATCH(E1013,_tmp2!A:A,0))","v":"北海道"},"B101220700029","B1","01","2","1","帯広市立川西小学校","帯広市川西町西３線６６番地","0891182","2020-12-22","","010327",""]
[{"$f":"INDEX(学校種!B:B,MATCH(D1014,学校種!A:A,0))","v":"小学校"},{"$f":"INDEX(_tmp2!B:B,MATCH(E1014,_tmp2!A:A,0))","v":"北海道"},"B101220700038","B1","01","2","1","帯広市立清川小学校","帯広市清川町西３線１２７番地","0802103","2020-12-22","","010330",""]
[{"$f":"INDEX(学校種!B:B,MATCH(D1015,学校種!A:A,0))","v":"小学校"},{"$f":"INDEX(_tmp2!B:B,MATCH(E1015,_tmp2!A:A,0))","v":"北海道"},"B101220700047","B1","01","2","1","帯広市立広野小学校","帯広市広野町西１線１４９番地","0802335","2020-12-22","","010332",""]
[{"$f":"INDEX(学校種!B:B,MATCH(D1016,学校種!A:A,0))","v":"小学校"},{"$f":"INDEX(_tmp2!B:B,MATCH(E1016,_tmp2!A:A,0))","v":"北海道"},"B101220700056","B1","01","2","1","帯広市立大正小学校","帯広市大正町５５０番地の３","0891242","2020-12-22","","010336",""]
[{"$f":"INDEX(学校種!B:B,MATCH(D1017,学校種!A:A,0))","v":"小学校"},{"$f":"INDEX(_tmp2!B:B,MATCH(E1017,_tmp2!A:A,0))","v":"北海道"},"B101220700065","B1","01","2","1","帯広市立愛国小学校","帯広市愛国町基線２３番地","0891181","2020-12-22","","010337",""]
[{"$f":"INDEX(学校種!B:B,MATCH(D1018,学校種!A:A,0))","v":"小学校"},{"$f":"INDEX(_tmp2!B:B,MATCH(E1018,_tmp2!A:A,0))","v":"北海道"},"B101220700074","B1","01","2","1","帯広市立帯広小学校","帯広市西８条南５丁目１番地","0800018","2020-12-22","","010342",""]
[{"$f":"INDEX(学校種!B:B,MATCH(D1019,学校種!A:A,0))","v":"小学校"},{"$f":"INDEX(_tmp2!B:B,MATCH(E1019,_tmp2!A:A,0))","v":"北海道"},"B101220700083","B1","01","2","1","帯広市立柏小学校","帯広市東８条南１１丁目１番地","0800808","2020-12-22","","010343",""]
[{"$f":"INDEX(学校種!B:B,MATCH(D1020,学校種!A:A,0))","v":"小学校"},{"$f":"INDEX(_tmp2!B:B,MATCH(E1020,_tmp2!A:A,0))","v":"北海道"},"B101220700092","B1","01","2","1","帯広市立明星小学校","帯広市西４条南２３丁目１番地","0800014","2020-12-22","","010344",""]
[{"$f":"INDEX(学校種!B:B,MATCH(D1021,学校種!A:A,0))","v":"小学校"},{"$f":"INDEX(_tmp2!B:B,MATCH(E1021,_tmp2!A:A,0))","v":"北海道"},"B101220700109","B1","01","2","1","帯広市立緑丘小学校","帯広市西１４条南１７丁目２番地","0800024","2020-12-22","","010345",""]
[{"$f":"INDEX(学校種!B:B,MATCH(D1022,学校種!A:A,0))","v":"小学校"},{"$f":"INDEX(_tmp2!B:B,MATCH(E1022,_tmp2!A:A,0))","v":"北海道"},"B101220700118","B1","01","2","1","帯広市立北栄小学校","帯広市西７条南１丁目２番地","0800017","2020-12-22","","010346",""]
[{"$f":"INDEX(学校種!B:B,MATCH(D1023,学校種!A:A,0))","v":"小学校"},{"$f":"INDEX(_tmp2!B:B,MATCH(E1023,_tmp2!A:A,0))","v":"北海道"},"B101220700127","B1","01","2","1","帯広市立光南小学校","帯広市東５条南２０丁目１番地","0800805","2020-12-22","","010347",""]
[{"$f":"INDEX(学校種!B:B,MATCH(D1024,学校種!A:A,0))","v":"小学校"},{"$f":"INDEX(_tmp2!B:B,MATCH(E1024,_tmp2!A:A,0))","v":"北海道"},"B101220700136","B1","01","2","1","帯広市立東小学校","帯広市東７条南２丁目１番地","0800807","2020-12-22","","010348",""]
[{"$f":"INDEX(学校種!B:B,MATCH(D1025,学校種!A:A,0))","v":"小学校"},{"$f":"INDEX(_tmp2!B:B,MATCH(E1025,_tmp2!A:A,0))","v":"北海道"},"B101220700145","B1","01","2","1","帯広市立稲田小学校","帯広市西１５条南３９丁目１番１号","0800025","2020-12-22","","010349",""]
[{"$f":"INDEX(学校種!B:B,MATCH(D1026,学校種!A:A,0))","v":"小学校"},{"$f":"INDEX(_tmp2!B:B,MATCH(E1026,_tmp2!A:A,0))","v":"北海道"},"B101220700154","B1","01","2","1","帯広市立啓西小学校","帯広市柏林台中町４丁目１番地","0800057","2020-12-22","","010350",""]
[{"$f":"INDEX(学校種!B:B,MATCH(D1027,学校種!A:A,0))","v":"小学校"},{"$f":"INDEX(_tmp2!B:B,MATCH(E1027,_tmp2!A:A,0))","v":"北海道"},"B101220700163","B1","01","2","1","帯広市立豊成小学校","帯広市西流西１丁目１番地１","0800872","2020-12-22","","010351",""]
[{"$f":"INDEX(学校種!B:B,MATCH(D1028,学校種!A:A,0))","v":"小学校"},{"$f":"INDEX(_tmp2!B:B,MATCH(E1028,_tmp2!A:A,0))","v":"北海道"},"B101220700172","B1","01","2","1","帯広市立大空小学校","帯広市大空町３丁目１６番地","0800838","2020-12-22","","010352",""]
[{"$f":"INDEX(学校種!B:B,MATCH(D1029,学校種!A:A,0))","v":"小学校"},{"$f":"INDEX(_tmp2!B:B,MATCH(E1029,_tmp2!A:A,0))","v":"北海道"},"B101220700181","B1","01","2","1","帯広市立栄小学校","帯広市西１７条北１丁目４４番地２９","0800047","2020-12-22","","010353",""]
[{"$f":"INDEX(学校種!B:B,MATCH(D1030,学校種!A:A,0))","v":"小学校"},{"$f":"INDEX(_tmp2!B:B,MATCH(E1030,_tmp2!A:A,0))","v":"北海道"},"B101220700190","B1","01","2","1","帯広市立若葉小学校","帯広市西１７条南６丁目１番地","0800027","2020-12-22","","010354",""]
[{"$f":"INDEX(学校種!B:B,MATCH(D1031,学校種!A:A,0))","v":"小学校"},{"$f":"INDEX(_tmp2!B:B,MATCH(E1031,_tmp2!A:A,0))","v":"北海道"},"B101220700207","B1","01","2","1","帯広市立広陽小学校","帯広市西１９条南３丁目２０番３号","0802469","2020-12-22","","010355",""]
[{"$f":"INDEX(学校種!B:B,MATCH(D1032,学校種!A:A,0))","v":"小学校"},{"$f":"INDEX(_tmp2!B:B,MATCH(E1032,_tmp2!A:A,0))","v":"北海道"},"B101220700216","B1","01","2","1","帯広市立花園小学校","帯広市公園東町２丁目３番地","0800847","2020-12-22","","012891",""]
[{"$f":"INDEX(学校種!B:B,MATCH(D1033,学校種!A:A,0))","v":"小学校"},{"$f":"INDEX(_tmp2!B:B,MATCH(E1033,_tmp2!A:A,0))","v":"北海道"},"B101220700225","B1","01","2","1","帯広市立啓北小学校","帯広市西１４条北７丁目３番地","0800044","2020-12-22","","012897",""]
[{"$f":"INDEX(学校種!B:B,MATCH(D1034,学校種!A:A,0))","v":"小学校"},{"$f":"INDEX(_tmp2!B:B,MATCH(E1034,_tmp2!A:A,0))","v":"北海道"},"B101220700234","B1","01","2","1","帯広市立開西小学校","帯広市西２２条南３丁目３番地","0802472","2020-12-22","","012917",""]
[{"$f":"INDEX(学校種!B:B,MATCH(D1035,学校種!A:A,0))","v":"小学校"},{"$f":"INDEX(_tmp2!B:B,MATCH(E1035,_tmp2!A:A,0))","v":"北海道"},"B101220700243","B1","01","2","1","帯広市立明和小学校","帯広市西１９条南４丁目２４番地","0802469","2020-12-22","","012959",""]
[{"$f":"INDEX(学校種!B:B,MATCH(D1036,学校種!A:A,0))","v":"小学校"},{"$f":"INDEX(_tmp2!B:B,MATCH(E1036,_tmp2!A:A,0))","v":"北海道"},"B101220700252","B1","01","2","1","帯広市立森の里小学校","帯広市西２２条南４丁目３番地","0802472","2020-12-22","","012967",""]
[{"$f":"INDEX(学校種!B:B,MATCH(D1037,学校種!A:A,0))","v":"小学校"},{"$f":"INDEX(_tmp2!B:B,MATCH(E1037,_tmp2!A:A,0))","v":"北海道"},"B101220700261","B1","01","2","1","帯広市立つつじが丘小学校","帯広市西２４条南３丁目３９番地","0802474","2020-12-22","","012997",""]
[{"$f":"INDEX(学校種!B:B,MATCH(D1038,学校種!A:A,0))","v":"小学校"},{"$f":"INDEX(_tmp2!B:B,MATCH(E1038,_tmp2!A:A,0))","v":"北海道"},"B101220800019","B1","01","2","1","北見市立中央小学校","北見市中央町３－５１","0900034","2020-12-22","","010361",""]
[{"$f":"INDEX(学校種!B:B,MATCH(D1039,学校種!A:A,0))","v":"小学校"},{"$f":"INDEX(_tmp2!B:B,MATCH(E1039,_tmp2!A:A,0))","v":"北海道"},"B101220800028","B1","01","2","1","北見市立東小学校","北見市大町１５９","0900016","2020-12-22","","010362",""]
[{"$f":"INDEX(学校種!B:B,MATCH(D1040,学校種!A:A,0))","v":"小学校"},{"$f":"INDEX(_tmp2!B:B,MATCH(E1040,_tmp2!A:A,0))","v":"北海道"},"B101220800037","B1","01","2","1","北見市立西小学校","北見市とん田東町６８８番地","0900833","2020-12-22","","010363",""]
[{"$f":"INDEX(学校種!B:B,MATCH(D1041,学校種!A:A,0))","v":"小学校"},{"$f":"INDEX(_tmp2!B:B,MATCH(E1041,_tmp2!A:A,0))","v":"北海道"},"B101220800046","B1","01","2","1","北見市立南小学校","北見市南仲町３丁目２番４０号","0900812","2020-12-22","","010365",""]
[{"$f":"INDEX(学校種!B:B,MATCH(D1042,学校種!A:A,0))","v":"小学校"},{"$f":"INDEX(_tmp2!B:B,MATCH(E1042,_tmp2!A:A,0))","v":"北海道"},"B101220800055","B1","01","2","1","北見市立北小学校","北見市寿町６丁目１番２０号","0900065","2020-12-22","","010366",""]
[{"$f":"INDEX(学校種!B:B,MATCH(D1043,学校種!A:A,0))","v":"小学校"},{"$f":"INDEX(_tmp2!B:B,MATCH(E1043,_tmp2!A:A,0))","v":"北海道"},"B101220800064","B1","01","2","1","北見市立上常呂小学校","北見市上ところ２８番地","0991585","2020-12-22","","010367",""]
[{"$f":"INDEX(学校種!B:B,MATCH(D1044,学校種!A:A,0))","v":"小学校"},{"$f":"INDEX(_tmp2!B:B,MATCH(E1044,_tmp2!A:A,0))","v":"北海道"},"B101220800073","B1","01","2","1","北見市立相内小学校","北見市相内町２８７番地","0990871","2020-12-22","","010368",""]
[{"$f":"INDEX(学校種!B:B,MATCH(D1045,学校種!A:A,0))","v":"小学校"},{"$f":"INDEX(_tmp2!B:B,MATCH(E1045,_tmp2!A:A,0))","v":"北海道"},"B101220800082","B1","01","2","1","北見市立上仁頃小学校","北見市上仁頃１０８番地","0900006","2020-12-22","","010369",""]
[{"$f":"INDEX(学校種!B:B,MATCH(D1046,学校種!A:A,0))","v":"小学校"},{"$f":"INDEX(_tmp2!B:B,MATCH(E1046,_tmp2!A:A,0))","v":"北海道"},"B101220800091","B1","01","2","1","北見市立東相内小学校","北見市東相内町１７８番地","0990878","2020-12-22","","010372",""]
[{"$f":"INDEX(学校種!B:B,MATCH(D1047,学校種!A:A,0))","v":"小学校"},{"$f":"INDEX(_tmp2!B:B,MATCH(E1047,_tmp2!A:A,0))","v":"北海道"},"B101220800108","B1","01","2","1","北見市立豊地小学校","北見市豊地２８５番地","0991587","2020-12-22","","010374",""]
[{"$f":"INDEX(学校種!B:B,MATCH(D1048,学校種!A:A,0))","v":"小学校"},{"$f":"INDEX(_tmp2!B:B,MATCH(E1048,_tmp2!A:A,0))","v":"北海道"},"B101220800117","B1","01","2","1","北見市立大正小学校","北見市大正６４－２","0900008","2020-12-22","","010375",""]
[{"$f":"INDEX(学校種!B:B,MATCH(D1049,学校種!A:A,0))","v":"小学校"},{"$f":"INDEX(_tmp2!B:B,MATCH(E1049,_tmp2!A:A,0))","v":"北海道"},"B101220800126","B1","01","2","1","北見市立若松小学校","北見市若松１５５番地","0900808","2020-12-22","","010376",""]
[{"$f":"INDEX(学校種!B:B,MATCH(D1050,学校種!A:A,0))","v":"小学校"},{"$f":"INDEX(_tmp2!B:B,MATCH(E1050,_tmp2!A:A,0))","v":"北海道"},"B101220800135","B1","01","2","1","北見市立小泉小学校","北見市春光町６丁目４－５１","0900801","2020-12-22","","010381",""]
[{"$f":"INDEX(学校種!B:B,MATCH(D1051,学校種!A:A,0))","v":"小学校"},{"$f":"INDEX(_tmp2!B:B,MATCH(E1051,_tmp2!A:A,0))","v":"北海道"},"B101220800144","B1","01","2","1","北見市立三輪小学校","北見市中央三輪８丁目１４番地","0900837","2020-12-22","","010382",""]
[{"$f":"INDEX(学校種!B:B,MATCH(D1052,学校種!A:A,0))","v":"小学校"},{"$f":"INDEX(_tmp2!B:B,MATCH(E1052,_tmp2!A:A,0))","v":"北海道"},"B101220800153","B1","01","2","1","北見市立高栄小学校","北見市高栄西町９丁目３番２号","0900058","2020-12-22","","010383",""]
[{"$f":"INDEX(学校種!B:B,MATCH(D1053,学校種!A:A,0))","v":"小学校"},{"$f":"INDEX(_tmp2!B:B,MATCH(E1053,_tmp2!A:A,0))","v":"北海道"},"B101220800162","B1","01","2","1","北見市立端野小学校","北見市端野町三区１０３３番地３","0992103","2020-12-22","","011964",""]
[{"$f":"INDEX(学校種!B:B,MATCH(D1054,学校種!A:A,0))","v":"小学校"},{"$f":"INDEX(_tmp2!B:B,MATCH(E1054,_tmp2!A:A,0))","v":"北海道"},"B101220800171","B1","01","2","1","北見市立留辺蘂小学校","北見市留辺蘂町栄町１８番地１","0910033","2020-12-22","","011990",""]
[{"$f":"INDEX(学校種!B:B,MATCH(D1055,学校種!A:A,0))","v":"小学校"},{"$f":"INDEX(_tmp2!B:B,MATCH(E1055,_tmp2!A:A,0))","v":"北海道"},"B101220800180","B1","01","2","1","北見市立常呂小学校","北見市常呂町字常呂５０３番地","0930210","2020-12-22","","012012",""]
[{"$f":"INDEX(学校種!B:B,MATCH(D1056,学校種!A:A,0))","v":"小学校"},{"$f":"INDEX(_tmp2!B:B,MATCH(E1056,_tmp2!A:A,0))","v":"北海道"},"B101220800199","B1","01","2","1","北見市立錦水小学校","北見市常呂町字岐阜３２９番地","0930215","2020-12-22","","012013",""]
[{"$f":"INDEX(学校種!B:B,MATCH(D1057,学校種!A:A,0))","v":"小学校"},{"$f":"INDEX(_tmp2!B:B,MATCH(E1057,_tmp2!A:A,0))","v":"北海道"},"B101220800206","B1","01","2","1","北見市立川沿小学校","北見市常呂町字豊川６３番地","0930331","2020-12-22","","012014",""]
[{"$f":"INDEX(学校種!B:B,MATCH(D1058,学校種!A:A,0))","v":"小学校"},{"$f":"INDEX(_tmp2!B:B,MATCH(E1058,_tmp2!A:A,0))","v":"北海道"},"B101220800215","B1","01","2","1","北見市立北光小学校","北見市錦町１８１番地の３","0900827","2020-12-22","","012858",""]
[{"$f":"INDEX(学校種!B:B,MATCH(D1059,学校種!A:A,0))","v":"小学校"},{"$f":"INDEX(_tmp2!B:B,MATCH(E1059,_tmp2!A:A,0))","v":"北海道"},"B101220800224","B1","01","2","1","北見市立緑小学校","北見市緑町２丁目１－１","0900055","2020-12-22","","012859",""]
[{"$f":"INDEX(学校種!B:B,MATCH(D1060,学校種!A:A,0))","v":"小学校"},{"$f":"INDEX(_tmp2!B:B,MATCH(E1060,_tmp2!A:A,0))","v":"北海道"},"B101220800242","B1","01","2","1","北見市立美山小学校","北見市美山町３６番地の８","0900062","2020-12-22","","012890",""]
[{"$f":"INDEX(学校種!B:B,MATCH(D1061,学校種!A:A,0))","v":"小学校"},{"$f":"INDEX(_tmp2!B:B,MATCH(E1061,_tmp2!A:A,0))","v":"北海道"},"B101220900018","B1","01","2","1","夕張市立ゆうばり小学校","夕張市清水沢清陵町１４番地","0680535","2020-12-22","","013026",""]
[{"$f":"INDEX(学校種!B:B,MATCH(D1062,学校種!A:A,0))","v":"小学校"},{"$f":"INDEX(_tmp2!B:B,MATCH(E1062,_tmp2!A:A,0))","v":"北海道"},"B101221000015","B1","01","2","1","岩見沢市立岩見沢小学校","岩見沢市２条東５丁目１番地","0680002","2020-12-22","","010413",""]
[{"$f":"INDEX(学校種!B:B,MATCH(D1063,学校種!A:A,0))","v":"小学校"},{"$f":"INDEX(_tmp2!B:B,MATCH(E1063,_tmp2!A:A,0))","v":"北海道"},"B101221000024","B1","01","2","1","岩見沢市立中央小学校","岩見沢市７条西１６丁目７番地３","0680027","2020-12-22","","010414",""]
[{"$f":"INDEX(学校種!B:B,MATCH(D1064,学校種!A:A,0))","v":"小学校"},{"$f":"INDEX(_tmp2!B:B,MATCH(E1064,_tmp2!A:A,0))","v":"北海道"},"B101221000033","B1","01","2","1","岩見沢市立南小学校","岩見沢市９条東２丁目","0680009","2020-12-22","","010415",""]
[{"$f":"INDEX(学校種!B:B,MATCH(D1065,学校種!A:A,0))","v":"小学校"},{"$f":"INDEX(_tmp2!B:B,MATCH(E1065,_tmp2!A:A,0))","v":"北海道"},"B101221000042","B1","01","2","1","岩見沢市立志文小学校","岩見沢市志文町１５８－２","0680833","2020-12-22","","010417",""]
[{"$f":"INDEX(学校種!B:B,MATCH(D1066,学校種!A:A,0))","v":"小学校"},{"$f":"INDEX(_tmp2!B:B,MATCH(E1066,_tmp2!A:A,0))","v":"北海道"},"B101221000051","B1","01","2","1","岩見沢市立幌向小学校","岩見沢市幌向南２条１丁目１８０番地","0690372","2020-12-22","","010418",""]
[{"$f":"INDEX(学校種!B:B,MATCH(D1067,学校種!A:A,0))","v":"小学校"},{"$f":"INDEX(_tmp2!B:B,MATCH(E1067,_tmp2!A:A,0))","v":"北海道"},"B101221000060","B1","01","2","1","岩見沢市立東小学校","岩見沢市東町２条７丁目","0680014","2020-12-22","","010420",""]
[{"$f":"INDEX(学校種!B:B,MATCH(D1068,学校種!A:A,0))","v":"小学校"},{"$f":"INDEX(_tmp2!B:B,MATCH(E1068,_tmp2!A:A,0))","v":"北海道"},"B101221000079","B1","01","2","1","岩見沢市立メープル小学校","岩見沢市上志文町１０７番地１","0680836","2020-12-22","","010426",""]
[{"$f":"INDEX(学校種!B:B,MATCH(D1069,学校種!A:A,0))","v":"小学校"},{"$f":"INDEX(_tmp2!B:B,MATCH(E1069,_tmp2!A:A,0))","v":"北海道"},"B101221000088","B1","01","2","1","岩見沢市立美園小学校","岩見沢市美園５条４丁目４番１号","0680815","2020-12-22","","010431",""]
[{"$f":"INDEX(学校種!B:B,MATCH(D1070,学校種!A:A,0))","v":"小学校"},{"$f":"INDEX(_tmp2!B:B,MATCH(E1070,_tmp2!A:A,0))","v":"北海道"},"B101221000097","B1","01","2","1","岩見沢市立日の出小学校","岩見沢市かえで町２丁目１番１号","0680829","2020-12-22","","010432",""]
[{"$f":"INDEX(学校種!B:B,MATCH(D1071,学校種!A:A,0))","v":"小学校"},{"$f":"INDEX(_tmp2!B:B,MATCH(E1071,_tmp2!A:A,0))","v":"北海道"},"B101221000104","B1","01","2","1","岩見沢市立第一小学校","岩見沢市緑町３丁目７番１号","0680046","2020-12-22","","010433",""]
[{"$f":"INDEX(学校種!B:B,MATCH(D1072,学校種!A:A,0))","v":"小学校"},{"$f":"INDEX(_tmp2!B:B,MATCH(E1072,_tmp2!A:A,0))","v":"北海道"},"B101221000113","B1","01","2","1","岩見沢市立第二小学校","岩見沢市上幌向南３条７丁目６２４番地","0690364","2020-12-22","","010434",""]
[{"$f":"INDEX(学校種!B:B,MATCH(D1073,学校種!A:A,0))","v":"小学校"},{"$f":"INDEX(_tmp2!B:B,MATCH(E1073,_tmp2!A:A,0))","v":"北海道"},"B101221000122","B1","01","2","1","岩見沢市立栗沢小学校","岩見沢市栗沢町南幸穂６６番地","0680132","2020-12-22","","011332",""]
[{"$f":"INDEX(学校種!B:B,MATCH(D1074,学校種!A:A,0))","v":"小学校"},{"$f":"INDEX(_tmp2!B:B,MATCH(E1074,_tmp2!A:A,0))","v":"北海道"},"B101221000131","B1","01","2","1","岩見沢市立北真小学校","岩見沢市稔町３０番地７","0680016","2020-12-22","","012944",""]
[{"$f":"INDEX(学校種!B:B,MATCH(D1075,学校種!A:A,0))","v":"小学校"},{"$f":"INDEX(_tmp2!B:B,MATCH(E1075,_tmp2!A:A,0))","v":"北海道"},"B101221000140","B1","01","2","1","岩見沢市立北村小学校","岩見沢市北村中央４７２５番地","0681212","2020-12-22","","012994",""]
[{"$f":"INDEX(学校種!B:B,MATCH(D1076,学校種!A:A,0))","v":"小学校"},{"$f":"INDEX(_tmp2!B:B,MATCH(E1076,_tmp2!A:A,0))","v":"北海道"},"B101221100014","B1","01","2","1","網走市立網走小学校","網走市桂町１丁目１番１号","0930041","2020-12-22","","010436",""]
[{"$f":"INDEX(学校種!B:B,MATCH(D1077,学校種!A:A,0))","v":"小学校"},{"$f":"INDEX(_tmp2!B:B,MATCH(E1077,_tmp2!A:A,0))","v":"北海道"},"B101221100023","B1","01","2","1","網走市立中央小学校","網走市向陽ヶ丘４丁目６７番地１","0930084","2020-12-22","","010437",""]
[{"$f":"INDEX(学校種!B:B,MATCH(D1078,学校種!A:A,0))","v":"小学校"},{"$f":"INDEX(_tmp2!B:B,MATCH(E1078,_tmp2!A:A,0))","v":"北海道"},"B101221100032","B1","01","2","1","網走市立西小学校","網走市新町１丁目３４番地","0930046","2020-12-22","","010438",""]
[{"$f":"INDEX(学校種!B:B,MATCH(D1079,学校種!A:A,0))","v":"小学校"},{"$f":"INDEX(_tmp2!B:B,MATCH(E1079,_tmp2!A:A,0))","v":"北海道"},"B101221100041","B1","01","2","1","網走市立呼人小学校","網走市字呼人３３９番地３","0992421","2020-12-22","","010443",""]
[{"$f":"INDEX(学校種!B:B,MATCH(D1080,学校種!A:A,0))","v":"小学校"},{"$f":"INDEX(_tmp2!B:B,MATCH(E1080,_tmp2!A:A,0))","v":"北海道"},"B101221100050","B1","01","2","1","網走市立南小学校","網走市鱒浦１丁目１１－１","0993119","2020-12-22","","010452",""]
[{"$f":"INDEX(学校種!B:B,MATCH(D1081,学校種!A:A,0))","v":"小学校"},{"$f":"INDEX(_tmp2!B:B,MATCH(E1081,_tmp2!A:A,0))","v":"北海道"},"B101221100069","B1","01","2","1","網走市立潮見小学校","網走市潮見４丁目１１１番地","0930042","2020-12-22","","012860",""]
[{"$f":"INDEX(学校種!B:B,MATCH(D1082,学校種!A:A,0))","v":"小学校"},{"$f":"INDEX(_tmp2!B:B,MATCH(E1082,_tmp2!A:A,0))","v":"北海道"},"B101221100078","B1","01","2","1","網走市立東小学校","網走市字藻琴２２５番地","0993111","2020-12-22","","012919",""]
[{"$f":"INDEX(学校種!B:B,MATCH(D1083,学校種!A:A,0))","v":"小学校"},{"$f":"INDEX(_tmp2!B:B,MATCH(E1083,_tmp2!A:A,0))","v":"北海道"},"B101221100087","B1","01","2","1","網走市立白鳥台小学校","網走市字北浜２０１番地１３","0993112","2020-12-22","","012998",""]
[{"$f":"INDEX(学校種!B:B,MATCH(D1084,学校種!A:A,0))","v":"小学校"},{"$f":"INDEX(_tmp2!B:B,MATCH(E1084,_tmp2!A:A,0))","v":"北海道"},"B101221100096","B1","01","2","1","網走市立西が丘小学校","網走市字卯原内１８２番地１","0930135","2020-12-22","","013006",""]
[{"$f":"INDEX(学校種!B:B,MATCH(D1085,学校種!A:A,0))","v":"小学校"},{"$f":"INDEX(_tmp2!B:B,MATCH(E1085,_tmp2!A:A,0))","v":"北海道"},"B101221200013","B1","01","2","1","留萌市立留萌小学校","留萌市寿町２丁目１０番地","0770038","2020-12-22","","010465",""]
[{"$f":"INDEX(学校種!B:B,MATCH(D1086,学校種!A:A,0))","v":"小学校"},{"$f":"INDEX(_tmp2!B:B,MATCH(E1086,_tmp2!A:A,0))","v":"北海道"},"B101221200022","B1","01","2","1","留萌市立東光小学校","留萌市住之江町４丁目７３","0770027","2020-12-22","","010466",""]
[{"$f":"INDEX(学校種!B:B,MATCH(D1087,学校種!A:A,0))","v":"小学校"},{"$f":"INDEX(_tmp2!B:B,MATCH(E1087,_tmp2!A:A,0))","v":"北海道"},"B101221200031","B1","01","2","1","留萌市立港北小学校","留萌市元町３丁目８２番地","0770004","2020-12-22","","010467",""]
[{"$f":"INDEX(学校種!B:B,MATCH(D1088,学校種!A:A,0))","v":"小学校"},{"$f":"INDEX(_tmp2!B:B,MATCH(E1088,_tmp2!A:A,0))","v":"北海道"},"B101221200040","B1","01","2","1","留萌市立潮静小学校","留萌市潮静３丁目１４６番地","0770013","2020-12-22","","010470",""]
[{"$f":"INDEX(学校種!B:B,MATCH(D1089,学校種!A:A,0))","v":"小学校"},{"$f":"INDEX(_tmp2!B:B,MATCH(E1089,_tmp2!A:A,0))","v":"北海道"},"B101221200059","B1","01","2","1","留萌市立緑丘小学校","留萌市千鳥町３丁目２２番地","0770024","2020-12-22","","010476",""]
[{"$f":"INDEX(学校種!B:B,MATCH(D1090,学校種!A:A,0))","v":"小学校"},{"$f":"INDEX(_tmp2!B:B,MATCH(E1090,_tmp2!A:A,0))","v":"北海道"},"B101221300012","B1","01","2","1","苫小牧市立澄川小学校","苫小牧市澄川町２丁目４番６号","0591271","2020-12-22","","010292",""]
[{"$f":"INDEX(学校種!B:B,MATCH(D1091,学校種!A:A,0))","v":"小学校"},{"$f":"INDEX(_tmp2!B:B,MATCH(E1091,_tmp2!A:A,0))","v":"北海道"},"B101221300021","B1","01","2","1","苫小牧市立苫小牧東小学校","苫小牧市旭町１丁目７番１０号","0530018","2020-12-22","","010483",""]
[{"$f":"INDEX(学校種!B:B,MATCH(D1092,学校種!A:A,0))","v":"小学校"},{"$f":"INDEX(_tmp2!B:B,MATCH(E1092,_tmp2!A:A,0))","v":"北海道"},"B101221300030","B1","01","2","1","苫小牧市立苫小牧西小学校","苫小牧市矢代町３－７－１６","0530803","2020-12-22","","010484",""]
[{"$f":"INDEX(学校種!B:B,MATCH(D1093,学校種!A:A,0))","v":"小学校"},{"$f":"INDEX(_tmp2!B:B,MATCH(E1093,_tmp2!A:A,0))","v":"北海道"},"B101221300049","B1","01","2","1","苫小牧市立若草小学校","苫小牧市若草町１丁目４番５号","0530021","2020-12-22","","010485",""]
[{"$f":"INDEX(学校種!B:B,MATCH(D1094,学校種!A:A,0))","v":"小学校"},{"$f":"INDEX(_tmp2!B:B,MATCH(E1094,_tmp2!A:A,0))","v":"北海道"},"B101221300058","B1","01","2","1","苫小牧市立緑小学校","苫小牧市三光町２丁目６番５号","0530042","2020-12-22","","010486",""]
[{"$f":"INDEX(学校種!B:B,MATCH(D1095,学校種!A:A,0))","v":"小学校"},{"$f":"INDEX(_tmp2!B:B,MATCH(E1095,_tmp2!A:A,0))","v":"北海道"},"B101221300067","B1","01","2","1","苫小牧市立北光小学校","苫小牧市北光町３丁目８番２","0530852","2020-12-22","","010487",""]
[{"$f":"INDEX(学校種!B:B,MATCH(D1096,学校種!A:A,0))","v":"小学校"},{"$f":"INDEX(_tmp2!B:B,MATCH(E1096,_tmp2!A:A,0))","v":"北海道"},"B101221300076","B1","01","2","1","苫小牧市立勇払小学校","苫小牧市字勇払１４９番地","0591372","2020-12-22","","010488",""]
[{"$f":"INDEX(学校種!B:B,MATCH(D1097,学校種!A:A,0))","v":"小学校"},{"$f":"INDEX(_tmp2!B:B,MATCH(E1097,_tmp2!A:A,0))","v":"北海道"},"B101221300085","B1","01","2","1","苫小牧市立大成小学校","苫小牧市大成町２丁目３番２号","0530806","2020-12-22","","010489",""]
[{"$f":"INDEX(学校種!B:B,MATCH(D1098,学校種!A:A,0))","v":"小学校"},{"$f":"INDEX(_tmp2!B:B,MATCH(E1098,_tmp2!A:A,0))","v":"北海道"},"B101221300094","B1","01","2","1","苫小牧市立錦岡小学校","苫小牧市宮前町２丁目３０－２","0591264","2020-12-22","","010490",""]
[{"$f":"INDEX(学校種!B:B,MATCH(D1099,学校種!A:A,0))","v":"小学校"},{"$f":"INDEX(_tmp2!B:B,MATCH(E1099,_tmp2!A:A,0))","v":"北海道"},"B101221300101","B1","01","2","1","苫小牧市立樽前小学校","苫小牧市字樽前１０２番地","0591265","2020-12-22","","010491",""]
[{"$f":"INDEX(学校種!B:B,MATCH(D1100,学校種!A:A,0))","v":"小学校"},{"$f":"INDEX(_tmp2!B:B,MATCH(E1100,_tmp2!A:A,0))","v":"北海道"},"B101221300110","B1","01","2","1","苫小牧市立沼ノ端小学校","苫小牧市東開町６丁目１番１号","0591301","2020-12-22","","010492",""]
[{"$f":"INDEX(学校種!B:B,MATCH(D1101,学校種!A:A,0))","v":"小学校"},{"$f":"INDEX(_tmp2!B:B,MATCH(E1101,_tmp2!A:A,0))","v":"北海道"},"B101221300129","B1","01","2","1","苫小牧市立植苗小学校","苫小牧市字植苗５０番地","0591365","2020-12-22","","010493",""]
[{"$f":"INDEX(学校種!B:B,MATCH(D1102,学校種!A:A,0))","v":"小学校"},{"$f":"INDEX(_tmp2!B:B,MATCH(E1102,_tmp2!A:A,0))","v":"北海道"},"B101221300138","B1","01","2","1","苫小牧市立清水小学校","苫小牧市清水町２丁目１０番１６号","0530034","2020-12-22","","010497",""]
[{"$f":"INDEX(学校種!B:B,MATCH(D1103,学校種!A:A,0))","v":"小学校"},{"$f":"INDEX(_tmp2!B:B,MATCH(E1103,_tmp2!A:A,0))","v":"北海道"},"B101221300147","B1","01","2","1","苫小牧市立美園小学校","苫小牧市美園町４丁目２６番２号","0530041","2020-12-22","","010498",""]
[{"$f":"INDEX(学校種!B:B,MATCH(D1104,学校種!A:A,0))","v":"小学校"},{"$f":"INDEX(_tmp2!B:B,MATCH(E1104,_tmp2!A:A,0))","v":"北海道"},"B101221300156","B1","01","2","1","苫小牧市立日新小学校","苫小牧市日新町３丁目１番７号","0530833","2020-12-22","","010500",""]
[{"$f":"INDEX(学校種!B:B,MATCH(D1105,学校種!A:A,0))","v":"小学校"},{"$f":"INDEX(_tmp2!B:B,MATCH(E1105,_tmp2!A:A,0))","v":"北海道"},"B101221300165","B1","01","2","1","苫小牧市立糸井小学校","苫小牧市日吉町４丁目１２－６","0530816","2020-12-22","","010501",""]
[{"$f":"INDEX(学校種!B:B,MATCH(D1106,学校種!A:A,0))","v":"小学校"},{"$f":"INDEX(_tmp2!B:B,MATCH(E1106,_tmp2!A:A,0))","v":"北海道"},"B101221300174","B1","01","2","1","苫小牧市立北星小学校","苫小牧市桜木町３丁目８番６号","0530832","2020-12-22","","010502",""]
[{"$f":"INDEX(学校種!B:B,MATCH(D1107,学校種!A:A,0))","v":"小学校"},{"$f":"INDEX(_tmp2!B:B,MATCH(E1107,_tmp2!A:A,0))","v":"北海道"},"B101221300183","B1","01","2","1","苫小牧市立豊川小学校","苫小牧市豊川町４丁目７－１４","0530831","2020-12-22","","012875",""]
[{"$f":"INDEX(学校種!B:B,MATCH(D1108,学校種!A:A,0))","v":"小学校"},{"$f":"INDEX(_tmp2!B:B,MATCH(E1108,_tmp2!A:A,0))","v":"北海道"},"B101221300192","B1","01","2","1","苫小牧市立泉野小学校","苫小牧市川沿町４丁目５番１号","0530822","2020-12-22","","012920",""]
[{"$f":"INDEX(学校種!B:B,MATCH(D1109,学校種!A:A,0))","v":"小学校"},{"$f":"INDEX(_tmp2!B:B,MATCH(E1109,_tmp2!A:A,0))","v":"北海道"},"B101221300209","B1","01","2","1","苫小牧市立明野小学校","苫小牧市明野新町６－３－１","0530054","2020-12-22","","012980",""]
[{"$f":"INDEX(学校種!B:B,MATCH(D1110,学校種!A:A,0))","v":"小学校"},{"$f":"INDEX(_tmp2!B:B,MATCH(E1110,_tmp2!A:A,0))","v":"北海道"},"B101221300218","B1","01","2","1","苫小牧市立拓勇小学校","苫小牧市拓勇東町４丁目８番１号","0591303","2020-12-22","","013004",""]
[{"$f":"INDEX(学校種!B:B,MATCH(D1111,学校種!A:A,0))","v":"小学校"},{"$f":"INDEX(_tmp2!B:B,MATCH(E1111,_tmp2!A:A,0))","v":"北海道"},"B101221300227","B1","01","2","1","苫小牧市立ウトナイ小学校","苫小牧市ウトナイ北３丁目２番１号","0591306","2020-12-22","","013015",""]
[{"$f":"INDEX(学校種!B:B,MATCH(D1112,学校種!A:A,0))","v":"小学校"},{"$f":"INDEX(_tmp2!B:B,MATCH(E1112,_tmp2!A:A,0))","v":"北海道"},"B101221300236","B1","01","2","1","苫小牧市立拓進小学校","苫小牧市拓勇西町３丁目８番１号","0591302","2020-12-22","","013036",""]
[{"$f":"INDEX(学校種!B:B,MATCH(D1113,学校種!A:A,0))","v":"小学校"},{"$f":"INDEX(_tmp2!B:B,MATCH(E1113,_tmp2!A:A,0))","v":"北海道"},"B101221400011","B1","01","2","1","稚内市立稚内中央小学校","稚内市宝来４丁目１番３５号","0970024","2020-12-22","","010503",""]
[{"$f":"INDEX(学校種!B:B,MATCH(D1114,学校種!A:A,0))","v":"小学校"},{"$f":"INDEX(_tmp2!B:B,MATCH(E1114,_tmp2!A:A,0))","v":"北海道"},"B101221400020","B1","01","2","1","稚内市立稚内南小学校","稚内市緑１丁目１１番８号","0970004","2020-12-22","","010504",""]
[{"$f":"INDEX(学校種!B:B,MATCH(D1115,学校種!A:A,0))","v":"小学校"},{"$f":"INDEX(_tmp2!B:B,MATCH(E1115,_tmp2!A:A,0))","v":"北海道"},"B101221400039","B1","01","2","1","稚内市立稚内東小学校","稚内市潮見５丁目１番５号","0970002","2020-12-22","","010505",""]
[{"$f":"INDEX(学校種!B:B,MATCH(D1116,学校種!A:A,0))","v":"小学校"},{"$f":"INDEX(_tmp2!B:B,MATCH(E1116,_tmp2!A:A,0))","v":"北海道"},"B101221400048","B1","01","2","1","稚内市立声問小学校","稚内市声問５丁目７番２１号","0986642","2020-12-22","","010512",""]
[{"$f":"INDEX(学校種!B:B,MATCH(D1117,学校種!A:A,0))","v":"小学校"},{"$f":"INDEX(_tmp2!B:B,MATCH(E1117,_tmp2!A:A,0))","v":"北海道"},"B101221400057","B1","01","2","1","稚内市立増幌小学校","稚内市大字声問村字恵北","0986645","2020-12-22","","010520",""]
[{"$f":"INDEX(学校種!B:B,MATCH(D1118,学校種!A:A,0))","v":"小学校"},{"$f":"INDEX(_tmp2!B:B,MATCH(E1118,_tmp2!A:A,0))","v":"北海道"},"B101221400066","B1","01","2","1","稚内市立宗谷小学校","稚内市大字宗谷村字宗谷","0986755","2020-12-22","","010522",""]
[{"$f":"INDEX(学校種!B:B,MATCH(D1119,学校種!A:A,0))","v":"小学校"},{"$f":"INDEX(_tmp2!B:B,MATCH(E1119,_tmp2!A:A,0))","v":"北海道"},"B101221400075","B1","01","2","1","稚内市立大岬小学校","稚内市宗谷岬１２番１２号","0986758","2020-12-22","","010523",""]
[{"$f":"INDEX(学校種!B:B,MATCH(D1120,学校種!A:A,0))","v":"小学校"},{"$f":"INDEX(_tmp2!B:B,MATCH(E1120,_tmp2!A:A,0))","v":"北海道"},"B101221400084","B1","01","2","1","稚内市立富磯小学校","稚内市大字宗谷村字富磯","0986756","2020-12-22","","010524",""]
[{"$f":"INDEX(学校種!B:B,MATCH(D1121,学校種!A:A,0))","v":"小学校"},{"$f":"INDEX(_tmp2!B:B,MATCH(E1121,_tmp2!A:A,0))","v":"北海道"},"B101221400093","B1","01","2","1","稚内市立稚内港小学校","稚内市港４丁目９４","0970021","2020-12-22","","010528",""]
[{"$f":"INDEX(学校種!B:B,MATCH(D1122,学校種!A:A,0))","v":"小学校"},{"$f":"INDEX(_tmp2!B:B,MATCH(E1122,_tmp2!A:A,0))","v":"北海道"},"B101221400100","B1","01","2","1","稚内市立潮見が丘小学校","稚内市富岡４丁目３番３号","0970012","2020-12-22","","010529",""]
[{"$f":"INDEX(学校種!B:B,MATCH(D1123,学校種!A:A,0))","v":"小学校"},{"$f":"INDEX(_tmp2!B:B,MATCH(E1123,_tmp2!A:A,0))","v":"北海道"},"B101221400119","B1","01","2","1","稚内市立天北小学校","稚内市大字声問村字沼川","0906563","2020-12-22","","013002",""]
[{"$f":"INDEX(学校種!B:B,MATCH(D1124,学校種!A:A,0))","v":"小学校"},{"$f":"INDEX(_tmp2!B:B,MATCH(E1124,_tmp2!A:A,0))","v":"北海道"},"B101221500010","B1","01","2","9","美唄市立南美唄小学校","美唄市南美唄町下１８条３丁目","0720823","2020-12-22","2021-05-27","010537","B101221500038"]
[{"$f":"INDEX(学校種!B:B,MATCH(D1125,学校種!A:A,0))","v":"小学校"},{"$f":"INDEX(_tmp2!B:B,MATCH(E1125,_tmp2!A:A,0))","v":"北海道"},"B101221500029","B1","01","2","1","美唄市立中央小学校","美唄市西４条北１丁目３番２号","0720033","2020-12-22","","010553",""]
[{"$f":"INDEX(学校種!B:B,MATCH(D1126,学校種!A:A,0))","v":"小学校"},{"$f":"INDEX(_tmp2!B:B,MATCH(E1126,_tmp2!A:A,0))","v":"北海道"},"B101221500038","B1","01","2","1","美唄市立東小学校","美唄市東７条北１丁目３－１","0720801","2020-12-22","","010554",""]
[{"$f":"INDEX(学校種!B:B,MATCH(D1127,学校種!A:A,0))","v":"小学校"},{"$f":"INDEX(_tmp2!B:B,MATCH(E1127,_tmp2!A:A,0))","v":"北海道"},"B101221600019","B1","01","2","1","芦別市立芦別小学校","芦別市北２条東１丁目１番地","0750012","2020-12-22","","010558",""]
[{"$f":"INDEX(学校種!B:B,MATCH(D1128,学校種!A:A,0))","v":"小学校"},{"$f":"INDEX(_tmp2!B:B,MATCH(E1128,_tmp2!A:A,0))","v":"北海道"},"B101221600028","B1","01","2","1","芦別市立上芦別小学校","芦別市上芦別町７９番地","0791371","2020-12-22","","012927",""]
[{"$f":"INDEX(学校種!B:B,MATCH(D1129,学校種!A:A,0))","v":"小学校"},{"$f":"INDEX(_tmp2!B:B,MATCH(E1129,_tmp2!A:A,0))","v":"北海道"},"B101221700018","B1","01","2","1","江別市立江別第二小学校","江別市野幌代々木町３９番地","0690817","2020-12-22","","010581",""]
[{"$f":"INDEX(学校種!B:B,MATCH(D1130,学校種!A:A,0))","v":"小学校"},{"$f":"INDEX(_tmp2!B:B,MATCH(E1130,_tmp2!A:A,0))","v":"北海道"},"B101221700027","B1","01","2","1","江別市立豊幌小学校","江別市豊幌４１９番地","0670021","2020-12-22","","010586",""]
[{"$f":"INDEX(学校種!B:B,MATCH(D1131,学校種!A:A,0))","v":"小学校"},{"$f":"INDEX(_tmp2!B:B,MATCH(E1131,_tmp2!A:A,0))","v":"北海道"},"B101221700036","B1","01","2","1","江別市立江別太小学校","江別市朝日町２５番地","0670024","2020-12-22","","010588",""]
[{"$f":"INDEX(学校種!B:B,MATCH(D1132,学校種!A:A,0))","v":"小学校"},{"$f":"INDEX(_tmp2!B:B,MATCH(E1132,_tmp2!A:A,0))","v":"北海道"},"B101221700045","B1","01","2","1","江別市立大麻小学校","江別市大麻宮町２番地","0690855","2020-12-22","","010589",""]
[{"$f":"INDEX(学校種!B:B,MATCH(D1133,学校種!A:A,0))","v":"小学校"},{"$f":"INDEX(_tmp2!B:B,MATCH(E1133,_tmp2!A:A,0))","v":"北海道"},"B101221700054","B1","01","2","1","江別市立対雁小学校","江別市見晴台１７番地の１","0670042","2020-12-22","","010590",""]
[{"$f":"INDEX(学校種!B:B,MATCH(D1134,学校種!A:A,0))","v":"小学校"},{"$f":"INDEX(_tmp2!B:B,MATCH(E1134,_tmp2!A:A,0))","v":"北海道"},"B101221700063","B1","01","2","1","江別市立野幌小学校","江別市西野幌２５２番地","0690832","2020-12-22","","010591",""]
[{"$f":"INDEX(学校種!B:B,MATCH(D1135,学校種!A:A,0))","v":"小学校"},{"$f":"INDEX(_tmp2!B:B,MATCH(E1135,_tmp2!A:A,0))","v":"北海道"},"B101221700072","B1","01","2","1","江別市立東野幌小学校","江別市東野幌町４８番地","0690821","2020-12-22","","010594",""]
[{"$f":"INDEX(学校種!B:B,MATCH(D1136,学校種!A:A,0))","v":"小学校"},{"$f":"INDEX(_tmp2!B:B,MATCH(E1136,_tmp2!A:A,0))","v":"北海道"},"B101221700081","B1","01","2","1","江別市立大麻東小学校","江別市大麻東町３２番地","0690852","2020-12-22","","010595",""]
[{"$f":"INDEX(学校種!B:B,MATCH(D1137,学校種!A:A,0))","v":"小学校"},{"$f":"INDEX(_tmp2!B:B,MATCH(E1137,_tmp2!A:A,0))","v":"北海道"},"B101221700090","B1","01","2","1","江別市立大麻西小学校","江別市大麻扇町１番地","0690843","2020-12-22","","010596",""]
[{"$f":"INDEX(学校種!B:B,MATCH(D1138,学校種!A:A,0))","v":"小学校"},{"$f":"INDEX(_tmp2!B:B,MATCH(E1138,_tmp2!A:A,0))","v":"北海道"},"B101221700107","B1","01","2","1","江別市立中央小学校","江別市向ヶ丘５４番地","0670075","2020-12-22","","010597",""]
[{"$f":"INDEX(学校種!B:B,MATCH(D1139,学校種!A:A,0))","v":"小学校"},{"$f":"INDEX(_tmp2!B:B,MATCH(E1139,_tmp2!A:A,0))","v":"北海道"},"B101221700116","B1","01","2","1","江別市立大麻泉小学校","江別市大麻泉町２７番地","0690864","2020-12-22","","010598",""]
[{"$f":"INDEX(学校種!B:B,MATCH(D1140,学校種!A:A,0))","v":"小学校"},{"$f":"INDEX(_tmp2!B:B,MATCH(E1140,_tmp2!A:A,0))","v":"北海道"},"B101221700125","B1","01","2","1","江別市立野幌若葉小学校","江別市野幌若葉町５番地の３","0690831","2020-12-22","","012908",""]
[{"$f":"INDEX(学校種!B:B,MATCH(D1141,学校種!A:A,0))","v":"小学校"},{"$f":"INDEX(_tmp2!B:B,MATCH(E1141,_tmp2!A:A,0))","v":"北海道"},"B101221700134","B1","01","2","1","江別市立北光小学校","江別市篠津８０５番地の３","0670055","2020-12-22","","012925",""]
[{"$f":"INDEX(学校種!B:B,MATCH(D1142,学校種!A:A,0))","v":"小学校"},{"$f":"INDEX(_tmp2!B:B,MATCH(E1142,_tmp2!A:A,0))","v":"北海道"},"B101221700143","B1","01","2","1","江別市立文京台小学校","江別市文京台７０番地","0690833","2020-12-22","","012934",""]
[{"$f":"INDEX(学校種!B:B,MATCH(D1143,学校種!A:A,0))","v":"小学校"},{"$f":"INDEX(_tmp2!B:B,MATCH(E1143,_tmp2!A:A,0))","v":"北海道"},"B101221700152","B1","01","2","1","江別市立いずみ野小学校","江別市対雁１１３番地１","0670033","2020-12-22","","012990",""]
[{"$f":"INDEX(学校種!B:B,MATCH(D1144,学校種!A:A,0))","v":"小学校"},{"$f":"INDEX(_tmp2!B:B,MATCH(E1144,_tmp2!A:A,0))","v":"北海道"},"B101221700161","B1","01","2","1","江別市立上江別小学校","江別市ゆめみ野南町９番地の３","0670066","2020-12-22","","012996",""]
[{"$f":"INDEX(学校種!B:B,MATCH(D1145,学校種!A:A,0))","v":"小学校"},{"$f":"INDEX(_tmp2!B:B,MATCH(E1145,_tmp2!A:A,0))","v":"北海道"},"B101221700170","B1","01","2","1","江別市立江別第一小学校","江別市緑町西１丁目３７番地","0670002","2020-12-22","","013042",""]
[{"$f":"INDEX(学校種!B:B,MATCH(D1146,学校種!A:A,0))","v":"小学校"},{"$f":"INDEX(_tmp2!B:B,MATCH(E1146,_tmp2!A:A,0))","v":"北海道"},"B101221800017","B1","01","2","1","赤平市立茂尻小学校","赤平市茂尻本町１丁目４番地","0791263","2020-12-22","","010606",""]
[{"$f":"INDEX(学校種!B:B,MATCH(D1147,学校種!A:A,0))","v":"小学校"},{"$f":"INDEX(_tmp2!B:B,MATCH(E1147,_tmp2!A:A,0))","v":"北海道"},"B101221800026","B1","01","2","1","赤平市立豊里小学校","赤平市豊栄町５丁目１８番地","0791153","2020-12-22","","010608",""]
[{"$f":"INDEX(学校種!B:B,MATCH(D1148,学校種!A:A,0))","v":"小学校"},{"$f":"INDEX(_tmp2!B:B,MATCH(E1148,_tmp2!A:A,0))","v":"北海道"},"B101221800035","B1","01","2","1","赤平市立赤間小学校","赤平市字豊里３２番地","0791133","2020-12-22","","010609",""]
[{"$f":"INDEX(学校種!B:B,MATCH(D1149,学校種!A:A,0))","v":"小学校"},{"$f":"INDEX(_tmp2!B:B,MATCH(E1149,_tmp2!A:A,0))","v":"北海道"},"B101221900016","B1","01","2","1","紋別市立紋別小学校","紋別市花園町５丁目４番１５号","0940015","2020-12-22","","010620",""]
[{"$f":"INDEX(学校種!B:B,MATCH(D1150,学校種!A:A,0))","v":"小学校"},{"$f":"INDEX(_tmp2!B:B,MATCH(E1150,_tmp2!A:A,0))","v":"北海道"},"B101221900025","B1","01","2","1","紋別市立潮見小学校","紋別市潮見町３丁目８－１２","0940006","2020-12-22","","010621",""]
[{"$f":"INDEX(学校種!B:B,MATCH(D1151,学校種!A:A,0))","v":"小学校"},{"$f":"INDEX(_tmp2!B:B,MATCH(E1151,_tmp2!A:A,0))","v":"北海道"},"B101221900034","B1","01","2","1","紋別市立上渚滑小学校","紋別市上渚滑町６丁目","0995354","2020-12-22","","010623",""]
[{"$f":"INDEX(学校種!B:B,MATCH(D1152,学校種!A:A,0))","v":"小学校"},{"$f":"INDEX(_tmp2!B:B,MATCH(E1152,_tmp2!A:A,0))","v":"北海道"},"B101221900043","B1","01","2","1","紋別市立渚滑小学校","紋別市渚滑町八丁目１４番地","0995171","2020-12-22","","010624",""]
[{"$f":"INDEX(学校種!B:B,MATCH(D1153,学校種!A:A,0))","v":"小学校"},{"$f":"INDEX(_tmp2!B:B,MATCH(E1153,_tmp2!A:A,0))","v":"北海道"},"B101221900052","B1","01","2","1","紋別市立小向小学校","紋別市小向４２５７","0996132","2020-12-22","","010627",""]
[{"$f":"INDEX(学校種!B:B,MATCH(D1154,学校種!A:A,0))","v":"小学校"},{"$f":"INDEX(_tmp2!B:B,MATCH(E1154,_tmp2!A:A,0))","v":"北海道"},"B101221900061","B1","01","2","1","紋別市立南丘小学校","紋別市南が丘町７丁目５１－１","0940013","2020-12-22","","010642",""]
[{"$f":"INDEX(学校種!B:B,MATCH(D1155,学校種!A:A,0))","v":"小学校"},{"$f":"INDEX(_tmp2!B:B,MATCH(E1155,_tmp2!A:A,0))","v":"北海道"},"B101222000013","B1","01","2","1","士別市立士別小学校","士別市東３条北３丁目","0950003","2020-12-22","","010647",""]
[{"$f":"INDEX(学校種!B:B,MATCH(D1156,学校種!A:A,0))","v":"小学校"},{"$f":"INDEX(_tmp2!B:B,MATCH(E1156,_tmp2!A:A,0))","v":"北海道"},"B101222000022","B1","01","2","1","士別市立士別南小学校","士別市東４条１４丁目３１３０番地","0950014","2020-12-22","","010648",""]
[{"$f":"INDEX(学校種!B:B,MATCH(D1157,学校種!A:A,0))","v":"小学校"},{"$f":"INDEX(_tmp2!B:B,MATCH(E1157,_tmp2!A:A,0))","v":"北海道"},"B101222000031","B1","01","2","1","士別市立上士別小学校","士別市上士別町１６線南６番地","0950371","2020-12-22","","010655",""]
[{"$f":"INDEX(学校種!B:B,MATCH(D1158,学校種!A:A,0))","v":"小学校"},{"$f":"INDEX(_tmp2!B:B,MATCH(E1158,_tmp2!A:A,0))","v":"北海道"},"B101222000040","B1","01","2","1","士別市立多寄小学校","士別市多寄町３７線西１番地","0980475","2020-12-22","","010663",""]
[{"$f":"INDEX(学校種!B:B,MATCH(D1159,学校種!A:A,0))","v":"小学校"},{"$f":"INDEX(_tmp2!B:B,MATCH(E1159,_tmp2!A:A,0))","v":"北海道"},"B101222000059","B1","01","2","1","士別市立温根別小学校","士別市温根別町南１線","0950181","2020-12-22","","010666",""]
[{"$f":"INDEX(学校種!B:B,MATCH(D1160,学校種!A:A,0))","v":"小学校"},{"$f":"INDEX(_tmp2!B:B,MATCH(E1160,_tmp2!A:A,0))","v":"北海道"},"B101222000068","B1","01","2","1","士別市立糸魚小学校","士別市朝日町中央４０５０番地","0950401","2020-12-22","","011624",""]
[{"$f":"INDEX(学校種!B:B,MATCH(D1161,学校種!A:A,0))","v":"小学校"},{"$f":"INDEX(_tmp2!B:B,MATCH(E1161,_tmp2!A:A,0))","v":"北海道"},"B101222100012","B1","01","2","1","名寄市立名寄小学校","名寄市西１条南１丁目2番地","0960011","2020-12-22","","010678",""]
[{"$f":"INDEX(学校種!B:B,MATCH(D1162,学校種!A:A,0))","v":"小学校"},{"$f":"INDEX(_tmp2!B:B,MATCH(E1162,_tmp2!A:A,0))","v":"北海道"},"B101222100021","B1","01","2","1","名寄市立名寄南小学校","名寄市西６条南１２丁目","0960016","2020-12-22","","010679",""]
[{"$f":"INDEX(学校種!B:B,MATCH(D1163,学校種!A:A,0))","v":"小学校"},{"$f":"INDEX(_tmp2!B:B,MATCH(E1163,_tmp2!A:A,0))","v":"北海道"},"B101222100030","B1","01","2","1","名寄市立名寄東小学校","名寄市東３条南３丁目１１番地","0960003","2020-12-22","","010680",""]
[{"$f":"INDEX(学校種!B:B,MATCH(D1164,学校種!A:A,0))","v":"小学校"},{"$f":"INDEX(_tmp2!B:B,MATCH(E1164,_tmp2!A:A,0))","v":"北海道"},"B101222100049","B1","01","2","1","名寄市立名寄西小学校","名寄市西７条南１丁目１８番地","0960017","2020-12-22","","010682",""]
[{"$f":"INDEX(学校種!B:B,MATCH(D1165,学校種!A:A,0))","v":"小学校"},{"$f":"INDEX(_tmp2!B:B,MATCH(E1165,_tmp2!A:A,0))","v":"北海道"},"B101222100058","B1","01","2","1","名寄市立中名寄小学校","名寄市字日彰２８５番地","0960062","2020-12-22","","010683",""]
[{"$f":"INDEX(学校種!B:B,MATCH(D1166,学校種!A:A,0))","v":"小学校"},{"$f":"INDEX(_tmp2!B:B,MATCH(E1166,_tmp2!A:A,0))","v":"北海道"},"B101222100067","B1","01","2","1","名寄市立智恵文小学校","名寄市字智恵文１２線南３番地","0982181","2020-12-22","","010689",""]
[{"$f":"INDEX(学校種!B:B,MATCH(D1167,学校種!A:A,0))","v":"小学校"},{"$f":"INDEX(_tmp2!B:B,MATCH(E1167,_tmp2!A:A,0))","v":"北海道"},"B101222100076","B1","01","2","1","名寄市立風連中央小学校","名寄市風連町西町２０１番地","0980507","2020-12-22","","011638",""]
[{"$f":"INDEX(学校種!B:B,MATCH(D1168,学校種!A:A,0))","v":"小学校"},{"$f":"INDEX(_tmp2!B:B,MATCH(E1168,_tmp2!A:A,0))","v":"北海道"},"B101222200011","B1","01","2","1","三笠市立三笠小学校","三笠市本郷町４８５番地１","0682161","2020-12-22","","010700",""]
[{"$f":"INDEX(学校種!B:B,MATCH(D1169,学校種!A:A,0))","v":"小学校"},{"$f":"INDEX(_tmp2!B:B,MATCH(E1169,_tmp2!A:A,0))","v":"北海道"},"B101222200020","B1","01","2","1","三笠市立岡山小学校","三笠市岡山６０番地の２","0682165","2020-12-22","","010701",""]
[{"$f":"INDEX(学校種!B:B,MATCH(D1170,学校種!A:A,0))","v":"小学校"},{"$f":"INDEX(_tmp2!B:B,MATCH(E1170,_tmp2!A:A,0))","v":"北海道"},"B101222300010","B1","01","2","1","根室市立北斗小学校","根室市北斗町３丁目５番地","0870043","2020-12-22","","010714",""]
[{"$f":"INDEX(学校種!B:B,MATCH(D1171,学校種!A:A,0))","v":"小学校"},{"$f":"INDEX(_tmp2!B:B,MATCH(E1171,_tmp2!A:A,0))","v":"北海道"},"B101222300029","B1","01","2","1","根室市立花咲小学校","根室市栄町１丁目１番地","0870010","2020-12-22","","010715",""]
[{"$f":"INDEX(学校種!B:B,MATCH(D1172,学校種!A:A,0))","v":"小学校"},{"$f":"INDEX(_tmp2!B:B,MATCH(E1172,_tmp2!A:A,0))","v":"北海道"},"B101222300038","B1","01","2","1","根室市立花咲港小学校","根室市花咲港２０９番地","0870032","2020-12-22","","010716",""]
[{"$f":"INDEX(学校種!B:B,MATCH(D1173,学校種!A:A,0))","v":"小学校"},{"$f":"INDEX(_tmp2!B:B,MATCH(E1173,_tmp2!A:A,0))","v":"北海道"},"B101222300047","B1","01","2","1","根室市立落石小学校","根室市落石東１３５番地","0881782","2020-12-22","","010721",""]
[{"$f":"INDEX(学校種!B:B,MATCH(D1174,学校種!A:A,0))","v":"小学校"},{"$f":"INDEX(_tmp2!B:B,MATCH(E1174,_tmp2!A:A,0))","v":"北海道"},"B101222300056","B1","01","2","1","根室市立厚床小学校","根室市厚床１丁目２１８番地１","0860064","2020-12-22","","010725",""]
[{"$f":"INDEX(学校種!B:B,MATCH(D1175,学校種!A:A,0))","v":"小学校"},{"$f":"INDEX(_tmp2!B:B,MATCH(E1175,_tmp2!A:A,0))","v":"北海道"},"B101222300065","B1","01","2","1","根室市立成央小学校","根室市光洋町１丁目２５番地","0870004","2020-12-22","","010732",""]
[{"$f":"INDEX(学校種!B:B,MATCH(D1176,学校種!A:A,0))","v":"小学校"},{"$f":"INDEX(_tmp2!B:B,MATCH(E1176,_tmp2!A:A,0))","v":"北海道"},"B101222300074","B1","01","2","1","根室市立海星小学校","根室市西和田２１９番地","0870033","2020-12-22","","013012",""]
[{"$f":"INDEX(学校種!B:B,MATCH(D1177,学校種!A:A,0))","v":"小学校"},{"$f":"INDEX(_tmp2!B:B,MATCH(E1177,_tmp2!A:A,0))","v":"北海道"},"B101222300083","B1","01","2","1","伊達市立星の丘小学校","伊達市松ヶ枝町２４０番地５","0520012","2020-12-22","","013011",""]
[{"$f":"INDEX(学校種!B:B,MATCH(D1178,学校種!A:A,0))","v":"小学校"},{"$f":"INDEX(_tmp2!B:B,MATCH(E1178,_tmp2!A:A,0))","v":"北海道"},"B101222400019","B1","01","2","1","千歳市立千歳小学校","千歳市本町３丁目４－１","0660047","2020-12-22","","010738",""]
[{"$f":"INDEX(学校種!B:B,MATCH(D1179,学校種!A:A,0))","v":"小学校"},{"$f":"INDEX(_tmp2!B:B,MATCH(E1179,_tmp2!A:A,0))","v":"北海道"},"B101222400028","B1","01","2","1","千歳市立北進小学校","千歳市北栄１丁目２番６号","0660036","2020-12-22","","010739",""]
[{"$f":"INDEX(学校種!B:B,MATCH(D1180,学校種!A:A,0))","v":"小学校"},{"$f":"INDEX(_tmp2!B:B,MATCH(E1180,_tmp2!A:A,0))","v":"北海道"},"B101222400037","B1","01","2","1","千歳市立北栄小学校","千歳市北栄１丁目１０－２","0660036","2020-12-22","","010740",""]
[{"$f":"INDEX(学校種!B:B,MATCH(D1181,学校種!A:A,0))","v":"小学校"},{"$f":"INDEX(_tmp2!B:B,MATCH(E1181,_tmp2!A:A,0))","v":"北海道"},"B101222400046","B1","01","2","1","千歳市立末広小学校","千歳市富丘２丁目６番２号","0660034","2020-12-22","","010741",""]
[{"$f":"INDEX(学校種!B:B,MATCH(D1182,学校種!A:A,0))","v":"小学校"},{"$f":"INDEX(_tmp2!B:B,MATCH(E1182,_tmp2!A:A,0))","v":"北海道"},"B101222400055","B1","01","2","1","千歳市立緑小学校","千歳市緑町４丁目４番１号","0660074","2020-12-22","","010742",""]
[{"$f":"INDEX(学校種!B:B,MATCH(D1183,学校種!A:A,0))","v":"小学校"},{"$f":"INDEX(_tmp2!B:B,MATCH(E1183,_tmp2!A:A,0))","v":"北海道"},"B101222400064","B1","01","2","1","千歳市立千歳第二小学校","千歳市清流１丁目４番１号","0660081","2020-12-22","","010743",""]
[{"$f":"INDEX(学校種!B:B,MATCH(D1184,学校種!A:A,0))","v":"小学校"},{"$f":"INDEX(_tmp2!B:B,MATCH(E1184,_tmp2!A:A,0))","v":"北海道"},"B101222400073","B1","01","2","1","千歳市立駒里小学校","千歳市駒里９４５番地","0660011","2020-12-22","","010745",""]
[{"$f":"INDEX(学校種!B:B,MATCH(D1185,学校種!A:A,0))","v":"小学校"},{"$f":"INDEX(_tmp2!B:B,MATCH(E1185,_tmp2!A:A,0))","v":"北海道"},"B101222400082","B1","01","2","1","千歳市立支笏湖小学校","千歳市支笏湖温泉２番地","0660281","2020-12-22","","010753",""]
[{"$f":"INDEX(学校種!B:B,MATCH(D1186,学校種!A:A,0))","v":"小学校"},{"$f":"INDEX(_tmp2!B:B,MATCH(E1186,_tmp2!A:A,0))","v":"北海道"},"B101222400091","B1","01","2","1","千歳市立日の出小学校","千歳市日の出２丁目３番２０号","0660017","2020-12-22","","010755",""]
[{"$f":"INDEX(学校種!B:B,MATCH(D1187,学校種!A:A,0))","v":"小学校"},{"$f":"INDEX(_tmp2!B:B,MATCH(E1187,_tmp2!A:A,0))","v":"北海道"},"B101222400108","B1","01","2","1","千歳市立信濃小学校","千歳市信濃２丁目３４番１２号","0660038","2020-12-22","","010756",""]
[{"$f":"INDEX(学校種!B:B,MATCH(D1188,学校種!A:A,0))","v":"小学校"},{"$f":"INDEX(_tmp2!B:B,MATCH(E1188,_tmp2!A:A,0))","v":"北海道"},"B101222400117","B1","01","2","1","千歳市立高台小学校","千歳市富丘１丁目１９－４","0660034","2020-12-22","","010757",""]
[{"$f":"INDEX(学校種!B:B,MATCH(D1189,学校種!A:A,0))","v":"小学校"},{"$f":"INDEX(_tmp2!B:B,MATCH(E1189,_tmp2!A:A,0))","v":"北海道"},"B101222400126","B1","01","2","1","千歳市立東小学校","千歳市東丘８２４番地の３０","0691181","2020-12-22","","010758",""]
[{"$f":"INDEX(学校種!B:B,MATCH(D1190,学校種!A:A,0))","v":"小学校"},{"$f":"INDEX(_tmp2!B:B,MATCH(E1190,_tmp2!A:A,0))","v":"北海道"},"B101222400135","B1","01","2","1","千歳市立祝梅小学校","千歳市梅ヶ丘３丁目２番１号","0660025","2020-12-22","","010759",""]
[{"$f":"INDEX(学校種!B:B,MATCH(D1191,学校種!A:A,0))","v":"小学校"},{"$f":"INDEX(_tmp2!B:B,MATCH(E1191,_tmp2!A:A,0))","v":"北海道"},"B101222400144","B1","01","2","1","千歳市立桜木小学校","千歳市自由ヶ丘７丁目１番１号","0660072","2020-12-22","","010760",""]
[{"$f":"INDEX(学校種!B:B,MATCH(D1192,学校種!A:A,0))","v":"小学校"},{"$f":"INDEX(_tmp2!B:B,MATCH(E1192,_tmp2!A:A,0))","v":"北海道"},"B101222400153","B1","01","2","1","千歳市立向陽台小学校","千歳市若草５丁目１番地","0660057","2020-12-22","","012884",""]
[{"$f":"INDEX(学校種!B:B,MATCH(D1193,学校種!A:A,0))","v":"小学校"},{"$f":"INDEX(_tmp2!B:B,MATCH(E1193,_tmp2!A:A,0))","v":"北海道"},"B101222400162","B1","01","2","1","千歳市立北陽小学校","千歳市北陽３丁目９番１号","0660032","2020-12-22","","012981",""]
[{"$f":"INDEX(学校種!B:B,MATCH(D1194,学校種!A:A,0))","v":"小学校"},{"$f":"INDEX(_tmp2!B:B,MATCH(E1194,_tmp2!A:A,0))","v":"北海道"},"B101222400171","B1","01","2","1","千歳市立泉沢小学校","千歳市柏陽２丁目９番地","0660054","2020-12-22","","012991",""]
[{"$f":"INDEX(学校種!B:B,MATCH(D1195,学校種!A:A,0))","v":"小学校"},{"$f":"INDEX(_tmp2!B:B,MATCH(E1195,_tmp2!A:A,0))","v":"北海道"},"B101222500018","B1","01","2","1","滝川市立滝川第一小学校","滝川市一の坂町西２丁目１番７０号","0730017","2020-12-22","","010762",""]
[{"$f":"INDEX(学校種!B:B,MATCH(D1196,学校種!A:A,0))","v":"小学校"},{"$f":"INDEX(_tmp2!B:B,MATCH(E1196,_tmp2!A:A,0))","v":"北海道"},"B101222500027","B1","01","2","1","滝川市立滝川第二小学校","滝川市滝の川町東１丁目１番４５号","0730004","2020-12-22","","010763",""]
[{"$f":"INDEX(学校種!B:B,MATCH(D1197,学校種!A:A,0))","v":"小学校"},{"$f":"INDEX(_tmp2!B:B,MATCH(E1197,_tmp2!A:A,0))","v":"北海道"},"B101222500036","B1","01","2","1","滝川市立滝川第三小学校","滝川市花月町２丁目２－１２","0730036","2020-12-22","","010764",""]
[{"$f":"INDEX(学校種!B:B,MATCH(D1198,学校種!A:A,0))","v":"小学校"},{"$f":"INDEX(_tmp2!B:B,MATCH(E1198,_tmp2!A:A,0))","v":"北海道"},"B101222500045","B1","01","2","1","滝川市立西小学校","滝川市西町６丁目７－１７","0730044","2020-12-22","","010765",""]
[{"$f":"INDEX(学校種!B:B,MATCH(D1199,学校種!A:A,0))","v":"小学校"},{"$f":"INDEX(_tmp2!B:B,MATCH(E1199,_tmp2!A:A,0))","v":"北海道"},"B101222500054","B1","01","2","1","滝川市立東小学校","滝川市文京町２丁目１番１号","0730014","2020-12-22","","010767",""]
[{"$f":"INDEX(学校種!B:B,MATCH(D1200,学校種!A:A,0))","v":"小学校"},{"$f":"INDEX(_tmp2!B:B,MATCH(E1200,_tmp2!A:A,0))","v":"北海道"},"B101222500063","B1","01","2","1","滝川市立江部乙小学校","滝川市江部乙町東１３丁目１４２６番地","0790463","2020-12-22","","011371",""]
[{"$f":"INDEX(学校種!B:B,MATCH(D1201,学校種!A:A,0))","v":"小学校"},{"$f":"INDEX(_tmp2!B:B,MATCH(E1201,_tmp2!A:A,0))","v":"北海道"},"B101222600017","B1","01","2","1","砂川市立砂川小学校","砂川市西３条南８丁目１－１","0730143","2020-12-22","","010770",""]
[{"$f":"INDEX(学校種!B:B,MATCH(D1202,学校種!A:A,0))","v":"小学校"},{"$f":"INDEX(_tmp2!B:B,MATCH(E1202,_tmp2!A:A,0))","v":"北海道"},"B101222600026","B1","01","2","1","砂川市立豊沼小学校","砂川市東５条南１７丁目２２７番地","0730135","2020-12-22","","010771",""]
[{"$f":"INDEX(学校種!B:B,MATCH(D1203,学校種!A:A,0))","v":"小学校"},{"$f":"INDEX(_tmp2!B:B,MATCH(E1203,_tmp2!A:A,0))","v":"北海道"},"B101222600035","B1","01","2","1","砂川市立空知太小学校","砂川市空知太西５条６丁目３－１","0730175","2020-12-22","","010774",""]
[{"$f":"INDEX(学校種!B:B,MATCH(D1204,学校種!A:A,0))","v":"小学校"},{"$f":"INDEX(_tmp2!B:B,MATCH(E1204,_tmp2!A:A,0))","v":"北海道"},"B101222600044","B1","01","2","1","砂川市立北光小学校","砂川市北光２２２番地１","0730108","2020-12-22","","010775",""]
[{"$f":"INDEX(学校種!B:B,MATCH(D1205,学校種!A:A,0))","v":"小学校"},{"$f":"INDEX(_tmp2!B:B,MATCH(E1205,_tmp2!A:A,0))","v":"北海道"},"B101222600053","B1","01","2","1","砂川市立中央小学校","砂川市晴見１条北７丁目６９番地９","0730111","2020-12-22","","012965",""]
[{"$f":"INDEX(学校種!B:B,MATCH(D1206,学校種!A:A,0))","v":"小学校"},{"$f":"INDEX(_tmp2!B:B,MATCH(E1206,_tmp2!A:A,0))","v":"北海道"},"B101222700016","B1","01","2","9","歌志内市立歌志内小学校","歌志内市字東光６番地１","0730402","2020-12-22","2021-05-27","013024","C201222700013"]
[{"$f":"INDEX(学校種!B:B,MATCH(D1207,学校種!A:A,0))","v":"小学校"},{"$f":"INDEX(_tmp2!B:B,MATCH(E1207,_tmp2!A:A,0))","v":"北海道"},"B101222800015","B1","01","2","1","深川市立深川小学校","深川市西町２３番１８号","0740012","2020-12-22","","010791",""]
[{"$f":"INDEX(学校種!B:B,MATCH(D1208,学校種!A:A,0))","v":"小学校"},{"$f":"INDEX(_tmp2!B:B,MATCH(E1208,_tmp2!A:A,0))","v":"北海道"},"B101222800024","B1","01","2","1","深川市立一已小学校","深川市稲穂町２丁目１番９号","0740021","2020-12-22","","010797",""]
[{"$f":"INDEX(学校種!B:B,MATCH(D1209,学校種!A:A,0))","v":"小学校"},{"$f":"INDEX(_tmp2!B:B,MATCH(E1209,_tmp2!A:A,0))","v":"北海道"},"B101222800033","B1","01","2","1","深川市立北新小学校","深川市一已町字一已２０４６番地","0740028","2020-12-22","","010799",""]
[{"$f":"INDEX(学校種!B:B,MATCH(D1210,学校種!A:A,0))","v":"小学校"},{"$f":"INDEX(_tmp2!B:B,MATCH(E1210,_tmp2!A:A,0))","v":"北海道"},"B101222800042","B1","01","2","1","深川市立納内小学校","深川市納内町２丁目１３番１１号","0780151","2020-12-22","","010800",""]
[{"$f":"INDEX(学校種!B:B,MATCH(D1211,学校種!A:A,0))","v":"小学校"},{"$f":"INDEX(_tmp2!B:B,MATCH(E1211,_tmp2!A:A,0))","v":"北海道"},"B101222800051","B1","01","2","1","深川市立音江小学校","深川市音江町２丁目４番１号","0741273","2020-12-22","","012976",""]
[{"$f":"INDEX(学校種!B:B,MATCH(D1212,学校種!A:A,0))","v":"小学校"},{"$f":"INDEX(_tmp2!B:B,MATCH(E1212,_tmp2!A:A,0))","v":"北海道"},"B101222800060","B1","01","2","1","深川市立多度志小学校","深川市多度志１１６０番地","0740141","2020-12-22","","012993",""]
[{"$f":"INDEX(学校種!B:B,MATCH(D1213,学校種!A:A,0))","v":"小学校"},{"$f":"INDEX(_tmp2!B:B,MATCH(E1213,_tmp2!A:A,0))","v":"北海道"},"B101222900014","B1","01","2","1","富良野市立富良野小学校","富良野市若松町１０－１","0760032","2020-12-22","","010803",""]
[{"$f":"INDEX(学校種!B:B,MATCH(D1214,学校種!A:A,0))","v":"小学校"},{"$f":"INDEX(_tmp2!B:B,MATCH(E1214,_tmp2!A:A,0))","v":"北海道"},"B101222900023","B1","01","2","1","富良野市立扇山小学校","富良野市緑町８番２０号","0760021","2020-12-22","","010804",""]
[{"$f":"INDEX(学校種!B:B,MATCH(D1215,学校種!A:A,0))","v":"小学校"},{"$f":"INDEX(_tmp2!B:B,MATCH(E1215,_tmp2!A:A,0))","v":"北海道"},"B101222900032","B1","01","2","1","富良野市立麓郷小学校","富良野市南麓郷中３１番地","0760164","2020-12-22","","010805",""]
[{"$f":"INDEX(学校種!B:B,MATCH(D1216,学校種!A:A,0))","v":"小学校"},{"$f":"INDEX(_tmp2!B:B,MATCH(E1216,_tmp2!A:A,0))","v":"北海道"},"B101222900041","B1","01","2","1","富良野市立鳥沼小学校","富良野市字東鳥沼の１","0760041","2020-12-22","","010806",""]
[{"$f":"INDEX(学校種!B:B,MATCH(D1217,学校種!A:A,0))","v":"小学校"},{"$f":"INDEX(_tmp2!B:B,MATCH(E1217,_tmp2!A:A,0))","v":"北海道"},"B101222900050","B1","01","2","1","富良野市立布部小学校","富良野市上五区","0760014","2020-12-22","","010807",""]
[{"$f":"INDEX(学校種!B:B,MATCH(D1218,学校種!A:A,0))","v":"小学校"},{"$f":"INDEX(_tmp2!B:B,MATCH(E1218,_tmp2!A:A,0))","v":"北海道"},"B101222900069","B1","01","2","1","富良野市立布礼別小学校","富良野市字北布礼別","0760175","2020-12-22","","010809",""]
[{"$f":"INDEX(学校種!B:B,MATCH(D1219,学校種!A:A,0))","v":"小学校"},{"$f":"INDEX(_tmp2!B:B,MATCH(E1219,_tmp2!A:A,0))","v":"北海道"},"B101222900078","B1","01","2","1","富良野市立山部小学校","富良野市山部東町８番６４号","0791581","2020-12-22","","010817",""]
[{"$f":"INDEX(学校種!B:B,MATCH(D1220,学校種!A:A,0))","v":"小学校"},{"$f":"INDEX(_tmp2!B:B,MATCH(E1220,_tmp2!A:A,0))","v":"北海道"},"B101222900087","B1","01","2","1","富良野市立東小学校","富良野市北麻町８番１号","0760059","2020-12-22","","010820",""]
[{"$f":"INDEX(学校種!B:B,MATCH(D1221,学校種!A:A,0))","v":"小学校"},{"$f":"INDEX(_tmp2!B:B,MATCH(E1221,_tmp2!A:A,0))","v":"北海道"},"B101222900096","B1","01","2","1","富良野市立樹海小学校","富良野市字老節布南３線１番地","0760203","2020-12-22","","013013",""]
[{"$f":"INDEX(学校種!B:B,MATCH(D1222,学校種!A:A,0))","v":"小学校"},{"$f":"INDEX(_tmp2!B:B,MATCH(E1222,_tmp2!A:A,0))","v":"北海道"},"B101223000011","B1","01","2","1","登別市立青葉小学校","登別市青葉町３番地３","0590027","2020-12-22","","012124",""]
[{"$f":"INDEX(学校種!B:B,MATCH(D1223,学校種!A:A,0))","v":"小学校"},{"$f":"INDEX(_tmp2!B:B,MATCH(E1223,_tmp2!A:A,0))","v":"北海道"},"B101223000020","B1","01","2","1","登別市立幌別小学校","登別市中央町６丁目１９番地１","0590012","2020-12-22","","012168",""]
[{"$f":"INDEX(学校種!B:B,MATCH(D1224,学校種!A:A,0))","v":"小学校"},{"$f":"INDEX(_tmp2!B:B,MATCH(E1224,_tmp2!A:A,0))","v":"北海道"},"B101223000039","B1","01","2","1","登別市立幌別西小学校","登別市片倉町５丁目１３番地","0590016","2020-12-22","","012169",""]
[{"$f":"INDEX(学校種!B:B,MATCH(D1225,学校種!A:A,0))","v":"小学校"},{"$f":"INDEX(_tmp2!B:B,MATCH(E1225,_tmp2!A:A,0))","v":"北海道"},"B101223000048","B1","01","2","1","登別市立登別小学校","登別市登別本町３丁目２５－２","0590465","2020-12-22","","012170",""]
[{"$f":"INDEX(学校種!B:B,MATCH(D1226,学校種!A:A,0))","v":"小学校"},{"$f":"INDEX(_tmp2!B:B,MATCH(E1226,_tmp2!A:A,0))","v":"北海道"},"B101223000057","B1","01","2","1","登別市立鷲別小学校","登別市鷲別町４丁目３６番地２１","0590034","2020-12-22","","012171",""]
[{"$f":"INDEX(学校種!B:B,MATCH(D1227,学校種!A:A,0))","v":"小学校"},{"$f":"INDEX(_tmp2!B:B,MATCH(E1227,_tmp2!A:A,0))","v":"北海道"},"B101223000066","B1","01","2","1","登別市立富岸小学校","登別市富岸町２丁目１７番地４","0590028","2020-12-22","","012175",""]
[{"$f":"INDEX(学校種!B:B,MATCH(D1228,学校種!A:A,0))","v":"小学校"},{"$f":"INDEX(_tmp2!B:B,MATCH(E1228,_tmp2!A:A,0))","v":"北海道"},"B101223000075","B1","01","2","1","登別市立幌別東小学校","登別市幌別町８丁目１６－１","0590013","2020-12-22","","012177",""]
[{"$f":"INDEX(学校種!B:B,MATCH(D1229,学校種!A:A,0))","v":"小学校"},{"$f":"INDEX(_tmp2!B:B,MATCH(E1229,_tmp2!A:A,0))","v":"北海道"},"B101223000084","B1","01","2","1","登別市立若草小学校","登別市若草町１丁目１番地２","0590035","2020-12-22","","012178",""]
[{"$f":"INDEX(学校種!B:B,MATCH(D1230,学校種!A:A,0))","v":"小学校"},{"$f":"INDEX(_tmp2!B:B,MATCH(E1230,_tmp2!A:A,0))","v":"北海道"},"B101223100010","B1","01","2","1","恵庭市立恵庭小学校","恵庭市福住町２丁目９－１３","0611447","2020-12-22","","010890",""]
[{"$f":"INDEX(学校種!B:B,MATCH(D1231,学校種!A:A,0))","v":"小学校"},{"$f":"INDEX(_tmp2!B:B,MATCH(E1231,_tmp2!A:A,0))","v":"北海道"},"B101223100029","B1","01","2","1","恵庭市立島松小学校","恵庭市中島松４１８","0611362","2020-12-22","","010891",""]
[{"$f":"INDEX(学校種!B:B,MATCH(D1232,学校種!A:A,0))","v":"小学校"},{"$f":"INDEX(_tmp2!B:B,MATCH(E1232,_tmp2!A:A,0))","v":"北海道"},"B101223100038","B1","01","2","1","恵庭市立柏小学校","恵庭市文京町３丁目３－３","0611425","2020-12-22","","010895",""]
[{"$f":"INDEX(学校種!B:B,MATCH(D1233,学校種!A:A,0))","v":"小学校"},{"$f":"INDEX(_tmp2!B:B,MATCH(E1233,_tmp2!A:A,0))","v":"北海道"},"B101223100047","B1","01","2","1","恵庭市立和光小学校","恵庭市和光町２丁目１０番１号","0611406","2020-12-22","","010896",""]
[{"$f":"INDEX(学校種!B:B,MATCH(D1234,学校種!A:A,0))","v":"小学校"},{"$f":"INDEX(_tmp2!B:B,MATCH(E1234,_tmp2!A:A,0))","v":"北海道"},"B101223100056","B1","01","2","1","恵庭市立松恵小学校","恵庭市中央４５２番地の２","0611403","2020-12-22","","010897",""]
[{"$f":"INDEX(学校種!B:B,MATCH(D1235,学校種!A:A,0))","v":"小学校"},{"$f":"INDEX(_tmp2!B:B,MATCH(E1235,_tmp2!A:A,0))","v":"北海道"},"B101223100065","B1","01","2","1","恵庭市立若草小学校","恵庭市中島町４丁目５－１","0611435","2020-12-22","","010898",""]
[{"$f":"INDEX(学校種!B:B,MATCH(D1236,学校種!A:A,0))","v":"小学校"},{"$f":"INDEX(_tmp2!B:B,MATCH(E1236,_tmp2!A:A,0))","v":"北海道"},"B101223100074","B1","01","2","1","恵庭市立恵み野小学校","恵庭市恵み野南４丁目１番１","0611372","2020-12-22","","012883",""]
[{"$f":"INDEX(学校種!B:B,MATCH(D1237,学校種!A:A,0))","v":"小学校"},{"$f":"INDEX(_tmp2!B:B,MATCH(E1237,_tmp2!A:A,0))","v":"北海道"},"B101223100083","B1","01","2","1","恵庭市立恵み野旭小学校","恵庭市恵み野北４丁目１番１","0611374","2020-12-22","","012963",""]
[{"$f":"INDEX(学校種!B:B,MATCH(D1238,学校種!A:A,0))","v":"小学校"},{"$f":"INDEX(_tmp2!B:B,MATCH(E1238,_tmp2!A:A,0))","v":"北海道"},"B101223300018","B1","01","2","1","伊達市立伊達小学校","伊達市元町７８－１","0520023","2020-12-22","","012156",""]
[{"$f":"INDEX(学校種!B:B,MATCH(D1239,学校種!A:A,0))","v":"小学校"},{"$f":"INDEX(_tmp2!B:B,MATCH(E1239,_tmp2!A:A,0))","v":"北海道"},"B101223300027","B1","01","2","1","伊達市立伊達西小学校","伊達市末永町８番地２１","0520021","2020-12-22","","012157",""]
[{"$f":"INDEX(学校種!B:B,MATCH(D1240,学校種!A:A,0))","v":"小学校"},{"$f":"INDEX(_tmp2!B:B,MATCH(E1240,_tmp2!A:A,0))","v":"北海道"},"B101223300036","B1","01","2","1","伊達市立有珠小学校","伊達市向有珠町１９５－２","0590157","2020-12-22","","012158",""]
[{"$f":"INDEX(学校種!B:B,MATCH(D1241,学校種!A:A,0))","v":"小学校"},{"$f":"INDEX(_tmp2!B:B,MATCH(E1241,_tmp2!A:A,0))","v":"北海道"},"B101223300045","B1","01","2","1","伊達市立長和小学校","伊達市長和町４６２番地１","0520035","2020-12-22","","012159",""]
[{"$f":"INDEX(学校種!B:B,MATCH(D1242,学校種!A:A,0))","v":"小学校"},{"$f":"INDEX(_tmp2!B:B,MATCH(E1242,_tmp2!A:A,0))","v":"北海道"},"B101223300054","B1","01","2","1","伊達市立稀府小学校","伊達市中稀府町８５番地","0590274","2020-12-22","","012160",""]
[{"$f":"INDEX(学校種!B:B,MATCH(D1243,学校種!A:A,0))","v":"小学校"},{"$f":"INDEX(_tmp2!B:B,MATCH(E1243,_tmp2!A:A,0))","v":"北海道"},"B101223300063","B1","01","2","1","伊達市立関内小学校","伊達市東関内町７８－１","0520006","2020-12-22","","012161",""]
[{"$f":"INDEX(学校種!B:B,MATCH(D1244,学校種!A:A,0))","v":"小学校"},{"$f":"INDEX(_tmp2!B:B,MATCH(E1244,_tmp2!A:A,0))","v":"北海道"},"B101223300072","B1","01","2","1","伊達市立東小学校","伊達市弄月町２０７番地","0520013","2020-12-22","","012165",""]
[{"$f":"INDEX(学校種!B:B,MATCH(D1245,学校種!A:A,0))","v":"小学校"},{"$f":"INDEX(_tmp2!B:B,MATCH(E1245,_tmp2!A:A,0))","v":"北海道"},"B101223400017","B1","01","2","1","北広島市立東部小学校","北広島市中央４丁目４番地","0611121","2020-12-22","","010825",""]
[{"$f":"INDEX(学校種!B:B,MATCH(D1246,学校種!A:A,0))","v":"小学校"},{"$f":"INDEX(_tmp2!B:B,MATCH(E1246,_tmp2!A:A,0))","v":"北海道"},"B101223400026","B1","01","2","1","北広島市立西部小学校","北広島市輪厚５０８番地３","0611264","2020-12-22","","010827",""]
[{"$f":"INDEX(学校種!B:B,MATCH(D1247,学校種!A:A,0))","v":"小学校"},{"$f":"INDEX(_tmp2!B:B,MATCH(E1247,_tmp2!A:A,0))","v":"北海道"},"B101223400035","B1","01","2","1","北広島市立大曲小学校","北広島市大曲柏葉２丁目１４番地６","0611273","2020-12-22","","010828",""]
[{"$f":"INDEX(学校種!B:B,MATCH(D1248,学校種!A:A,0))","v":"小学校"},{"$f":"INDEX(_tmp2!B:B,MATCH(E1248,_tmp2!A:A,0))","v":"北海道"},"B101223400044","B1","01","2","1","北広島市立西の里小学校","北広島市西の里４０１番地","0611102","2020-12-22","","010829",""]
[{"$f":"INDEX(学校種!B:B,MATCH(D1249,学校種!A:A,0))","v":"小学校"},{"$f":"INDEX(_tmp2!B:B,MATCH(E1249,_tmp2!A:A,0))","v":"北海道"},"B101223400053","B1","01","2","1","北広島市立北の台小学校","北広島市共栄町４丁目６番地１","0611113","2020-12-22","","012957",""]
[{"$f":"INDEX(学校種!B:B,MATCH(D1250,学校種!A:A,0))","v":"小学校"},{"$f":"INDEX(_tmp2!B:B,MATCH(E1250,_tmp2!A:A,0))","v":"北海道"},"B101223400062","B1","01","2","1","北広島市立大曲東小学校","北広島市大曲光２丁目８番地","0611277","2020-12-22","","012970",""]
[{"$f":"INDEX(学校種!B:B,MATCH(D1251,学校種!A:A,0))","v":"小学校"},{"$f":"INDEX(_tmp2!B:B,MATCH(E1251,_tmp2!A:A,0))","v":"北海道"},"B101223400071","B1","01","2","2","北広島市立西の里小学校陽香分校","北広島市西の里１０１５番地","0611102","2020-12-22","","013027",""]
[{"$f":"INDEX(学校種!B:B,MATCH(D1252,学校種!A:A,0))","v":"小学校"},{"$f":"INDEX(_tmp2!B:B,MATCH(E1252,_tmp2!A:A,0))","v":"北海道"},"B101223400080","B1","01","2","1","北広島市立双葉小学校","北広島市若葉町３丁目１２番地","0611142","2020-12-22","","013033",""]
[{"$f":"INDEX(学校種!B:B,MATCH(D1253,学校種!A:A,0))","v":"小学校"},{"$f":"INDEX(_tmp2!B:B,MATCH(E1253,_tmp2!A:A,0))","v":"北海道"},"B101223400099","B1","01","2","1","北広島市立緑ヶ丘小学校","北広島市高台町２丁目１番地","0611146","2020-12-22","","013034",""]
[{"$f":"INDEX(学校種!B:B,MATCH(D1254,学校種!A:A,0))","v":"小学校"},{"$f":"INDEX(_tmp2!B:B,MATCH(E1254,_tmp2!A:A,0))","v":"北海道"},"B101223500016","B1","01","2","1","石狩市立花川小学校","石狩市花畔１条１丁目７番地","0613281","2020-12-22","","010835",""]
[{"$f":"INDEX(学校種!B:B,MATCH(D1255,学校種!A:A,0))","v":"小学校"},{"$f":"INDEX(_tmp2!B:B,MATCH(E1255,_tmp2!A:A,0))","v":"北海道"},"B101223500025","B1","01","2","1","石狩市立生振小学校","石狩市生振３７５番地１","0613245","2020-12-22","","010837",""]
[{"$f":"INDEX(学校種!B:B,MATCH(D1256,学校種!A:A,0))","v":"小学校"},{"$f":"INDEX(_tmp2!B:B,MATCH(E1256,_tmp2!A:A,0))","v":"北海道"},"B101223500034","B1","01","2","1","石狩市立南線小学校","石狩市花川南３条１丁目１８番地","0613203","2020-12-22","","010843",""]
[{"$f":"INDEX(学校種!B:B,MATCH(D1257,学校種!A:A,0))","v":"小学校"},{"$f":"INDEX(_tmp2!B:B,MATCH(E1257,_tmp2!A:A,0))","v":"北海道"},"B101223500043","B1","01","2","1","石狩市立双葉小学校","石狩市花川北４条３丁目１番地","0613214","2020-12-22","","010844",""]
[{"$f":"INDEX(学校種!B:B,MATCH(D1258,学校種!A:A,0))","v":"小学校"},{"$f":"INDEX(_tmp2!B:B,MATCH(E1258,_tmp2!A:A,0))","v":"北海道"},"B101223500052","B1","01","2","1","石狩市立浜益小学校","石狩市浜益区柏木１番地１７","0613107","2020-12-22","","010880",""]
[{"$f":"INDEX(学校種!B:B,MATCH(D1259,学校種!A:A,0))","v":"小学校"},{"$f":"INDEX(_tmp2!B:B,MATCH(E1259,_tmp2!A:A,0))","v":"北海道"},"B101223500061","B1","01","2","1","石狩市立花川南小学校","石狩市花川南６条５丁目１番地","0613206","2020-12-22","","012870",""]
[{"$f":"INDEX(学校種!B:B,MATCH(D1260,学校種!A:A,0))","v":"小学校"},{"$f":"INDEX(_tmp2!B:B,MATCH(E1260,_tmp2!A:A,0))","v":"北海道"},"B101223500070","B1","01","2","1","石狩市立紅南小学校","石狩市花川北１－６－１","0613211","2020-12-22","","012921",""]
[{"$f":"INDEX(学校種!B:B,MATCH(D1261,学校種!A:A,0))","v":"小学校"},{"$f":"INDEX(_tmp2!B:B,MATCH(E1261,_tmp2!A:A,0))","v":"北海道"},"B101223500089","B1","01","2","1","石狩市立緑苑台小学校","石狩市緑苑台中央３丁目６０３番地","0613230","2020-12-22","","013005",""]
[{"$f":"INDEX(学校種!B:B,MATCH(D1262,学校種!A:A,0))","v":"小学校"},{"$f":"INDEX(_tmp2!B:B,MATCH(E1262,_tmp2!A:A,0))","v":"北海道"},"B101223500098","B1","01","2","1","石狩市立石狩八幡小学校","石狩市八幡４丁目１６７番地","0613361","2020-12-22","","013055",""]
[{"$f":"INDEX(学校種!B:B,MATCH(D1263,学校種!A:A,0))","v":"小学校"},{"$f":"INDEX(_tmp2!B:B,MATCH(E1263,_tmp2!A:A,0))","v":"北海道"},"B101223600015","B1","01","2","1","北斗市立石別小学校","北斗市当別２丁目５番１号","0490282","2020-12-22","","010934",""]
[{"$f":"INDEX(学校種!B:B,MATCH(D1264,学校種!A:A,0))","v":"小学校"},{"$f":"INDEX(_tmp2!B:B,MATCH(E1264,_tmp2!A:A,0))","v":"北海道"},"B101223600024","B1","01","2","1","北斗市立茂辺地小学校","北斗市茂辺地３丁目４番１２号","0490281","2020-12-22","","010935",""]
[{"$f":"INDEX(学校種!B:B,MATCH(D1265,学校種!A:A,0))","v":"小学校"},{"$f":"INDEX(_tmp2!B:B,MATCH(E1265,_tmp2!A:A,0))","v":"北海道"},"B101223600033","B1","01","2","1","北斗市立谷川小学校","北斗市富川２丁目２番１号","0490131","2020-12-22","","010936",""]
[{"$f":"INDEX(学校種!B:B,MATCH(D1266,学校種!A:A,0))","v":"小学校"},{"$f":"INDEX(_tmp2!B:B,MATCH(E1266,_tmp2!A:A,0))","v":"北海道"},"B101223600042","B1","01","2","1","北斗市立沖川小学校","北斗市清川５９５番地","0490157","2020-12-22","","010937",""]
[{"$f":"INDEX(学校種!B:B,MATCH(D1267,学校種!A:A,0))","v":"小学校"},{"$f":"INDEX(_tmp2!B:B,MATCH(E1267,_tmp2!A:A,0))","v":"北海道"},"B101223600051","B1","01","2","1","北斗市立上磯小学校","北斗市中野通２００番地","0490156","2020-12-22","","010938",""]
[{"$f":"INDEX(学校種!B:B,MATCH(D1268,学校種!A:A,0))","v":"小学校"},{"$f":"INDEX(_tmp2!B:B,MATCH(E1268,_tmp2!A:A,0))","v":"北海道"},"B101223600060","B1","01","2","1","北斗市立浜分小学校","北斗市追分１丁目１１－３１","0490101","2020-12-22","","010939",""]
[{"$f":"INDEX(学校種!B:B,MATCH(D1269,学校種!A:A,0))","v":"小学校"},{"$f":"INDEX(_tmp2!B:B,MATCH(E1269,_tmp2!A:A,0))","v":"北海道"},"B101223600079","B1","01","2","1","北斗市立萩野小学校","北斗市開発３９３－９","0411213","2020-12-22","","010942",""]
[{"$f":"INDEX(学校種!B:B,MATCH(D1270,学校種!A:A,0))","v":"小学校"},{"$f":"INDEX(_tmp2!B:B,MATCH(E1270,_tmp2!A:A,0))","v":"北海道"},"B101223600088","B1","01","2","1","北斗市立島川小学校","北斗市一本木７７－１","0411223","2020-12-22","","010943",""]
[{"$f":"INDEX(学校種!B:B,MATCH(D1271,学校種!A:A,0))","v":"小学校"},{"$f":"INDEX(_tmp2!B:B,MATCH(E1271,_tmp2!A:A,0))","v":"北海道"},"B101223600097","B1","01","2","1","北斗市立大野小学校","北斗市本町２丁目１２番６号","0411201","2020-12-22","","010944",""]
[{"$f":"INDEX(学校種!B:B,MATCH(D1272,学校種!A:A,0))","v":"小学校"},{"$f":"INDEX(_tmp2!B:B,MATCH(E1272,_tmp2!A:A,0))","v":"北海道"},"B101223600104","B1","01","2","1","北斗市立市渡小学校","北斗市市渡２４２番地","0411242","2020-12-22","","010946",""]
[{"$f":"INDEX(学校種!B:B,MATCH(D1273,学校種!A:A,0))","v":"小学校"},{"$f":"INDEX(_tmp2!B:B,MATCH(E1273,_tmp2!A:A,0))","v":"北海道"},"B101223600113","B1","01","2","1","北斗市立久根別小学校","北斗市東浜１丁目１１番１号","0490122","2020-12-22","","012885",""]
[{"$f":"INDEX(学校種!B:B,MATCH(D1274,学校種!A:A,0))","v":"小学校"},{"$f":"INDEX(_tmp2!B:B,MATCH(E1274,_tmp2!A:A,0))","v":"北海道"},"B101230300013","B1","01","2","1","当別町立当別小学校","石狩郡当別町元町１０２番地","0610222","2020-12-22","","010847",""]
[{"$f":"INDEX(学校種!B:B,MATCH(D1275,学校種!A:A,0))","v":"小学校"},{"$f":"INDEX(_tmp2!B:B,MATCH(E1275,_tmp2!A:A,0))","v":"北海道"},"B101230300022","B1","01","2","1","当別町立西当別小学校","石狩郡当別町太美町１４８１番地","0613776","2020-12-22","","010858",""]
[{"$f":"INDEX(学校種!B:B,MATCH(D1276,学校種!A:A,0))","v":"小学校"},{"$f":"INDEX(_tmp2!B:B,MATCH(E1276,_tmp2!A:A,0))","v":"北海道"},"B101230400012","B1","01","2","1","新篠津村立新篠津小学校","石狩郡新篠津村第４６線北１０番地","0681100","2020-12-22","","010863",""]
[{"$f":"INDEX(学校種!B:B,MATCH(D1277,学校種!A:A,0))","v":"小学校"},{"$f":"INDEX(_tmp2!B:B,MATCH(E1277,_tmp2!A:A,0))","v":"北海道"},"B101233100019","B1","01","2","1","松前町立大島小学校","松前郡松前町字江良８１３番地の２","0491771","2020-12-22","","010900",""]
[{"$f":"INDEX(学校種!B:B,MATCH(D1278,学校種!A:A,0))","v":"小学校"},{"$f":"INDEX(_tmp2!B:B,MATCH(E1278,_tmp2!A:A,0))","v":"北海道"},"B101233100028","B1","01","2","1","松前町立小島小学校","松前郡松前町字赤神４０３番地","0491643","2020-12-22","","010902",""]
[{"$f":"INDEX(学校種!B:B,MATCH(D1279,学校種!A:A,0))","v":"小学校"},{"$f":"INDEX(_tmp2!B:B,MATCH(E1279,_tmp2!A:A,0))","v":"北海道"},"B101233100037","B1","01","2","1","松前町立松城小学校","松前郡松前町字唐津１１３番地の１","0491506","2020-12-22","","010904",""]
[{"$f":"INDEX(学校種!B:B,MATCH(D1280,学校種!A:A,0))","v":"小学校"},{"$f":"INDEX(_tmp2!B:B,MATCH(E1280,_tmp2!A:A,0))","v":"北海道"},"B101233200018","B1","01","2","1","福島町立吉岡小学校","松前郡福島町字吉岡２５２番地","0491453","2020-12-22","","010909",""]
[{"$f":"INDEX(学校種!B:B,MATCH(D1281,学校種!A:A,0))","v":"小学校"},{"$f":"INDEX(_tmp2!B:B,MATCH(E1281,_tmp2!A:A,0))","v":"北海道"},"B101233200027","B1","01","2","1","福島町立福島小学校","松前郡福島町字月崎３５７","0491321","2020-12-22","","010910",""]
[{"$f":"INDEX(学校種!B:B,MATCH(D1282,学校種!A:A,0))","v":"小学校"},{"$f":"INDEX(_tmp2!B:B,MATCH(E1282,_tmp2!A:A,0))","v":"北海道"},"B101233300017","B1","01","2","1","知内町立湯ノ里小学校","上磯郡知内町湯ノ里１５６－６１","0491221","2020-12-22","","010918",""]
[{"$f":"INDEX(学校種!B:B,MATCH(D1283,学校種!A:A,0))","v":"小学校"},{"$f":"INDEX(_tmp2!B:B,MATCH(E1283,_tmp2!A:A,0))","v":"北海道"},"B101233300026","B1","01","2","1","知内町立知内小学校","上磯郡知内町字重内１６番地７","0491103","2020-12-22","","010919",""]
[{"$f":"INDEX(学校種!B:B,MATCH(D1284,学校種!A:A,0))","v":"小学校"},{"$f":"INDEX(_tmp2!B:B,MATCH(E1284,_tmp2!A:A,0))","v":"北海道"},"B101233300035","B1","01","2","1","知内町立涌元小学校","上磯郡知内町字涌元２４７","0491104","2020-12-22","","010922",""]
[{"$f":"INDEX(学校種!B:B,MATCH(D1285,学校種!A:A,0))","v":"小学校"},{"$f":"INDEX(_tmp2!B:B,MATCH(E1285,_tmp2!A:A,0))","v":"北海道"},"B101233400016","B1","01","2","1","木古内町立木古内小学校","上磯郡木古内町字本町４９６番地の１","0490422","2020-12-22","","010928",""]
[{"$f":"INDEX(学校種!B:B,MATCH(D1286,学校種!A:A,0))","v":"小学校"},{"$f":"INDEX(_tmp2!B:B,MATCH(E1286,_tmp2!A:A,0))","v":"北海道"},"B101233700013","B1","01","2","1","七飯町立峠下小学校","亀田郡七飯町字峠下４２０番地１","0411102","2020-12-22","","010954",""]
[{"$f":"INDEX(学校種!B:B,MATCH(D1287,学校種!A:A,0))","v":"小学校"},{"$f":"INDEX(_tmp2!B:B,MATCH(E1287,_tmp2!A:A,0))","v":"北海道"},"B101233700022","B1","01","2","1","七飯町立七重小学校","亀田郡七飯町字本町６丁目２－１１","0411111","2020-12-22","","010955",""]
[{"$f":"INDEX(学校種!B:B,MATCH(D1288,学校種!A:A,0))","v":"小学校"},{"$f":"INDEX(_tmp2!B:B,MATCH(E1288,_tmp2!A:A,0))","v":"北海道"},"B101233700031","B1","01","2","1","七飯町立藤城小学校","亀田郡七飯町字藤城２６８","0411103","2020-12-22","","010956",""]
[{"$f":"INDEX(学校種!B:B,MATCH(D1289,学校種!A:A,0))","v":"小学校"},{"$f":"INDEX(_tmp2!B:B,MATCH(E1289,_tmp2!A:A,0))","v":"北海道"},"B101233700040","B1","01","2","1","七飯町立大中山小学校","亀田郡七飯町大中山２丁目１番５号","0411121","2020-12-22","","010958",""]
[{"$f":"INDEX(学校種!B:B,MATCH(D1290,学校種!A:A,0))","v":"小学校"},{"$f":"INDEX(_tmp2!B:B,MATCH(E1290,_tmp2!A:A,0))","v":"北海道"},"B101234300015","B1","01","2","1","鹿部町立鹿部小学校","茅部郡鹿部町字宮浜３１４－１","0411403","2020-12-22","","010992",""]
[{"$f":"INDEX(学校種!B:B,MATCH(D1291,学校種!A:A,0))","v":"小学校"},{"$f":"INDEX(_tmp2!B:B,MATCH(E1291,_tmp2!A:A,0))","v":"北海道"},"B101234500013","B1","01","2","1","森町立尾白内小学校","茅部郡森町字尾白内９４８","0492301","2020-12-22","","010998",""]
[{"$f":"INDEX(学校種!B:B,MATCH(D1292,学校種!A:A,0))","v":"小学校"},{"$f":"INDEX(_tmp2!B:B,MATCH(E1292,_tmp2!A:A,0))","v":"北海道"},"B101234500022","B1","01","2","1","森町立森小学校","茅部郡森町字清澄町２７番地の１","0492327","2020-12-22","","010999",""]
[{"$f":"INDEX(学校種!B:B,MATCH(D1293,学校種!A:A,0))","v":"小学校"},{"$f":"INDEX(_tmp2!B:B,MATCH(E1293,_tmp2!A:A,0))","v":"北海道"},"B101234500031","B1","01","2","1","森町立鷲ノ木小学校","茅部郡森町字鳥崎町１９５","0492323","2020-12-22","","011000",""]
[{"$f":"INDEX(学校種!B:B,MATCH(D1294,学校種!A:A,0))","v":"小学校"},{"$f":"INDEX(_tmp2!B:B,MATCH(E1294,_tmp2!A:A,0))","v":"北海道"},"B101234500040","B1","01","2","1","森町立駒ケ岳小学校","茅部郡森町字駒ヶ岳４５３","0492141","2020-12-22","","011002",""]
[{"$f":"INDEX(学校種!B:B,MATCH(D1295,学校種!A:A,0))","v":"小学校"},{"$f":"INDEX(_tmp2!B:B,MATCH(E1295,_tmp2!A:A,0))","v":"北海道"},"B101234500059","B1","01","2","1","森町立石谷小学校","茅部郡森町字蛯谷町１５３","0492465","2020-12-22","","011004",""]
[{"$f":"INDEX(学校種!B:B,MATCH(D1296,学校種!A:A,0))","v":"小学校"},{"$f":"INDEX(_tmp2!B:B,MATCH(E1296,_tmp2!A:A,0))","v":"北海道"},"B101234500068","B1","01","2","1","森町立石倉小学校","茅部郡森町字石倉町２８３","0492463","2020-12-22","","011005",""]
[{"$f":"INDEX(学校種!B:B,MATCH(D1297,学校種!A:A,0))","v":"小学校"},{"$f":"INDEX(_tmp2!B:B,MATCH(E1297,_tmp2!A:A,0))","v":"北海道"},"B101234500077","B1","01","2","1","森町立濁川小学校","茅部郡森町字濁川２０１番地","0492462","2020-12-22","","011006",""]
[{"$f":"INDEX(学校種!B:B,MATCH(D1298,学校種!A:A,0))","v":"小学校"},{"$f":"INDEX(_tmp2!B:B,MATCH(E1298,_tmp2!A:A,0))","v":"北海道"},"B101234500086","B1","01","2","1","森町立さわら小学校","茅部郡森町字砂原１丁目４１－１","0492222","2020-12-22","","012992",""]
[{"$f":"INDEX(学校種!B:B,MATCH(D1299,学校種!A:A,0))","v":"小学校"},{"$f":"INDEX(_tmp2!B:B,MATCH(E1299,_tmp2!A:A,0))","v":"北海道"},"B101234600012","B1","01","2","1","八雲町立落部小学校","二海郡八雲町落部３１３","0492562","2020-12-22","","011011",""]
[{"$f":"INDEX(学校種!B:B,MATCH(D1300,学校種!A:A,0))","v":"小学校"},{"$f":"INDEX(_tmp2!B:B,MATCH(E1300,_tmp2!A:A,0))","v":"北海道"},"B101234600021","B1","01","2","1","八雲町立東野小学校","二海郡八雲町東野４６９番地","0492673","2020-12-22","","011013",""]
[{"$f":"INDEX(学校種!B:B,MATCH(D1301,学校種!A:A,0))","v":"小学校"},{"$f":"INDEX(_tmp2!B:B,MATCH(E1301,_tmp2!A:A,0))","v":"北海道"},"B101234600030","B1","01","2","1","八雲町立山越小学校","二海郡八雲町山越４７４－２","0492671","2020-12-22","","011017",""]
[{"$f":"INDEX(学校種!B:B,MATCH(D1302,学校種!A:A,0))","v":"小学校"},{"$f":"INDEX(_tmp2!B:B,MATCH(E1302,_tmp2!A:A,0))","v":"北海道"},"B101234600049","B1","01","2","1","八雲町立野田生小学校","二海郡八雲町野田生４５７－２","0492672","2020-12-22","","011019",""]
[{"$f":"INDEX(学校種!B:B,MATCH(D1303,学校種!A:A,0))","v":"小学校"},{"$f":"INDEX(_tmp2!B:B,MATCH(E1303,_tmp2!A:A,0))","v":"北海道"},"B101234600058","B1","01","2","1","八雲町立浜松小学校","二海郡八雲町浜松２３９番地","0493124","2020-12-22","","011020",""]
[{"$f":"INDEX(学校種!B:B,MATCH(D1304,学校種!A:A,0))","v":"小学校"},{"$f":"INDEX(_tmp2!B:B,MATCH(E1304,_tmp2!A:A,0))","v":"北海道"},"B101234600067","B1","01","2","1","八雲町立八雲小学校","二海郡八雲町住初町１４０番地","0493111","2020-12-22","","011021",""]
[{"$f":"INDEX(学校種!B:B,MATCH(D1305,学校種!A:A,0))","v":"小学校"},{"$f":"INDEX(_tmp2!B:B,MATCH(E1305,_tmp2!A:A,0))","v":"北海道"},"B101234600076","B1","01","2","9","八雲町立山崎小学校","二海郡八雲町山崎３７５","0493342","2020-12-22","2021-05-27","011030","B101234600067"]
[{"$f":"INDEX(学校種!B:B,MATCH(D1306,学校種!A:A,0))","v":"小学校"},{"$f":"INDEX(_tmp2!B:B,MATCH(E1306,_tmp2!A:A,0))","v":"北海道"},"B101234600085","B1","01","2","1","八雲町立熊石小学校","二海郡八雲町熊石雲石町７４４番地","0430416","2020-12-22","","013047",""]
[{"$f":"INDEX(学校種!B:B,MATCH(D1307,学校種!A:A,0))","v":"小学校"},{"$f":"INDEX(_tmp2!B:B,MATCH(E1307,_tmp2!A:A,0))","v":"北海道"},"B101234700011","B1","01","2","1","長万部町立長万部小学校","山越郡長万部町字長万部３ー５","0493521","2020-12-22","","011039",""]
[{"$f":"INDEX(学校種!B:B,MATCH(D1308,学校種!A:A,0))","v":"小学校"},{"$f":"INDEX(_tmp2!B:B,MATCH(E1308,_tmp2!A:A,0))","v":"北海道"},"B101234700020","B1","01","2","1","長万部町立静狩小学校","山越郡長万部町字静狩１６６番地","0495141","2020-12-22","","011043",""]
[{"$f":"INDEX(学校種!B:B,MATCH(D1309,学校種!A:A,0))","v":"小学校"},{"$f":"INDEX(_tmp2!B:B,MATCH(E1309,_tmp2!A:A,0))","v":"北海道"},"B101236100012","B1","01","2","1","江差町立江差北小学校","檜山郡江差町字水堀町１４７","0430017","2020-12-22","","011049",""]
[{"$f":"INDEX(学校種!B:B,MATCH(D1310,学校種!A:A,0))","v":"小学校"},{"$f":"INDEX(_tmp2!B:B,MATCH(E1310,_tmp2!A:A,0))","v":"北海道"},"B101236100021","B1","01","2","1","江差町立江差小学校","檜山郡江差町字本町１７０番地","0430043","2020-12-22","","011050",""]
[{"$f":"INDEX(学校種!B:B,MATCH(D1311,学校種!A:A,0))","v":"小学校"},{"$f":"INDEX(_tmp2!B:B,MATCH(E1311,_tmp2!A:A,0))","v":"北海道"},"B101236100030","B1","01","2","1","江差町立南が丘小学校","檜山郡江差町字南浜町３７０","0430063","2020-12-22","","011051",""]
[{"$f":"INDEX(学校種!B:B,MATCH(D1312,学校種!A:A,0))","v":"小学校"},{"$f":"INDEX(_tmp2!B:B,MATCH(E1312,_tmp2!A:A,0))","v":"北海道"},"B101236200011","B1","01","2","1","上ノ国町立上ノ国小学校","檜山郡上ノ国町字大留７０番地","0490611","2020-12-22","","011055",""]
[{"$f":"INDEX(学校種!B:B,MATCH(D1313,学校種!A:A,0))","v":"小学校"},{"$f":"INDEX(_tmp2!B:B,MATCH(E1313,_tmp2!A:A,0))","v":"北海道"},"B101236200020","B1","01","2","1","上ノ国町立河北小学校","檜山郡上ノ国町字中須田９２０－６","0490624","2020-12-22","","011056",""]
[{"$f":"INDEX(学校種!B:B,MATCH(D1314,学校種!A:A,0))","v":"小学校"},{"$f":"INDEX(_tmp2!B:B,MATCH(E1314,_tmp2!A:A,0))","v":"北海道"},"B101236200039","B1","01","2","1","上ノ国町立滝沢小学校","檜山郡上ノ国町字木ノ子１９２番地","0490606","2020-12-22","","011059",""]
[{"$f":"INDEX(学校種!B:B,MATCH(D1315,学校種!A:A,0))","v":"小学校"},{"$f":"INDEX(_tmp2!B:B,MATCH(E1315,_tmp2!A:A,0))","v":"北海道"},"B101236300010","B1","01","2","1","厚沢部町立館小学校","檜山郡厚沢部町館町１８７－１","0431351","2020-12-22","","011068",""]
[{"$f":"INDEX(学校種!B:B,MATCH(D1316,学校種!A:A,0))","v":"小学校"},{"$f":"INDEX(_tmp2!B:B,MATCH(E1316,_tmp2!A:A,0))","v":"北海道"},"B101236300029","B1","01","2","1","厚沢部町立鶉小学校","檜山郡厚沢部町鶉町２１２－３","0431237","2020-12-22","","011071",""]
[{"$f":"INDEX(学校種!B:B,MATCH(D1317,学校種!A:A,0))","v":"小学校"},{"$f":"INDEX(_tmp2!B:B,MATCH(E1317,_tmp2!A:A,0))","v":"北海道"},"B101236300038","B1","01","2","1","厚沢部町立厚沢部小学校","檜山郡厚沢部町新町１０４番地","0431113","2020-12-22","","011077",""]
[{"$f":"INDEX(学校種!B:B,MATCH(D1318,学校種!A:A,0))","v":"小学校"},{"$f":"INDEX(_tmp2!B:B,MATCH(E1318,_tmp2!A:A,0))","v":"北海道"},"B101236400019","B1","01","2","1","乙部町立乙部小学校","爾志郡乙部町字緑町６４１番地","0430103","2020-12-22","","011081",""]
[{"$f":"INDEX(学校種!B:B,MATCH(D1319,学校種!A:A,0))","v":"小学校"},{"$f":"INDEX(_tmp2!B:B,MATCH(E1319,_tmp2!A:A,0))","v":"北海道"},"B101236400028","B1","01","2","1","乙部町立栄浜小学校","爾志郡乙部町字栄浜４７７番地１","0430113","2020-12-22","","011082",""]
[{"$f":"INDEX(学校種!B:B,MATCH(D1320,学校種!A:A,0))","v":"小学校"},{"$f":"INDEX(_tmp2!B:B,MATCH(E1320,_tmp2!A:A,0))","v":"北海道"},"B101236400037","B1","01","2","1","乙部町立明和小学校","爾志郡乙部町字潮見１８３番地","0430233","2020-12-22","","011084",""]
[{"$f":"INDEX(学校種!B:B,MATCH(D1321,学校種!A:A,0))","v":"小学校"},{"$f":"INDEX(_tmp2!B:B,MATCH(E1321,_tmp2!A:A,0))","v":"北海道"},"B101236700016","B1","01","2","1","奥尻町立奥尻小学校","奥尻郡奥尻町字宮津４０","0431404","2020-12-22","","011104",""]
[{"$f":"INDEX(学校種!B:B,MATCH(D1322,学校種!A:A,0))","v":"小学校"},{"$f":"INDEX(_tmp2!B:B,MATCH(E1322,_tmp2!A:A,0))","v":"北海道"},"B101236700025","B1","01","2","1","奥尻町立青苗小学校","奥尻郡奥尻町字富里３６番地","0431522","2020-12-22","","011105",""]
[{"$f":"INDEX(学校種!B:B,MATCH(D1323,学校種!A:A,0))","v":"小学校"},{"$f":"INDEX(_tmp2!B:B,MATCH(E1323,_tmp2!A:A,0))","v":"北海道"},"B101237000011","B1","01","2","1","今金町立種川小学校","瀬棚郡今金町字種川３６９","0494324","2020-12-22","","011138",""]
[{"$f":"INDEX(学校種!B:B,MATCH(D1324,学校種!A:A,0))","v":"小学校"},{"$f":"INDEX(_tmp2!B:B,MATCH(E1324,_tmp2!A:A,0))","v":"北海道"},"B101237000020","B1","01","2","1","今金町立今金小学校","瀬棚郡今金町字今金１０８番地","0494308","2020-12-22","","011141",""]
[{"$f":"INDEX(学校種!B:B,MATCH(D1325,学校種!A:A,0))","v":"小学校"},{"$f":"INDEX(_tmp2!B:B,MATCH(E1325,_tmp2!A:A,0))","v":"北海道"},"B101237100010","B1","01","2","1","せたな町立久遠小学校","久遠郡せたな町大成区都３６６番地","0430504","2020-12-22","","011099",""]
[{"$f":"INDEX(学校種!B:B,MATCH(D1326,学校種!A:A,0))","v":"小学校"},{"$f":"INDEX(_tmp2!B:B,MATCH(E1326,_tmp2!A:A,0))","v":"北海道"},"B101237100029","B1","01","2","1","せたな町立瀬棚小学校","久遠郡せたな町瀬棚区本町５１３－１","0494804","2020-12-22","","011115",""]
[{"$f":"INDEX(学校種!B:B,MATCH(D1327,学校種!A:A,0))","v":"小学校"},{"$f":"INDEX(_tmp2!B:B,MATCH(E1327,_tmp2!A:A,0))","v":"北海道"},"B101237100038","B1","01","2","1","せたな町立若松小学校","久遠郡せたな町北檜山区若松４６１","0494752","2020-12-22","","011129",""]
[{"$f":"INDEX(学校種!B:B,MATCH(D1328,学校種!A:A,0))","v":"小学校"},{"$f":"INDEX(_tmp2!B:B,MATCH(E1328,_tmp2!A:A,0))","v":"北海道"},"B101237100047","B1","01","2","1","せたな町立北檜山小学校","久遠郡せたな町北檜山区豊岡２００番地","0494514","2020-12-22","","011132",""]
[{"$f":"INDEX(学校種!B:B,MATCH(D1329,学校種!A:A,0))","v":"小学校"},{"$f":"INDEX(_tmp2!B:B,MATCH(E1329,_tmp2!A:A,0))","v":"北海道"},"B101239100016","B1","01","2","1","島牧村立島牧小学校","島牧郡島牧村字元町８４番地","0480632","2020-12-22","","012971",""]
[{"$f":"INDEX(学校種!B:B,MATCH(D1330,学校種!A:A,0))","v":"小学校"},{"$f":"INDEX(_tmp2!B:B,MATCH(E1330,_tmp2!A:A,0))","v":"北海道"},"B101239200015","B1","01","2","1","寿都町立寿都小学校","寿都郡寿都町字矢追町８０１番地１","0480402","2020-12-22","","011159",""]
[{"$f":"INDEX(学校種!B:B,MATCH(D1331,学校種!A:A,0))","v":"小学校"},{"$f":"INDEX(_tmp2!B:B,MATCH(E1331,_tmp2!A:A,0))","v":"北海道"},"B101239200024","B1","01","2","1","寿都町立潮路小学校","寿都郡寿都町字歌棄町歌棄１５５","0480415","2020-12-22","","012964",""]
[{"$f":"INDEX(学校種!B:B,MATCH(D1332,学校種!A:A,0))","v":"小学校"},{"$f":"INDEX(_tmp2!B:B,MATCH(E1332,_tmp2!A:A,0))","v":"北海道"},"B101239300014","B1","01","2","1","黒松内町立黒松内小学校","寿都郡黒松内町字黒松内３５７－１","0480101","2020-12-22","","011169",""]
[{"$f":"INDEX(学校種!B:B,MATCH(D1333,学校種!A:A,0))","v":"小学校"},{"$f":"INDEX(_tmp2!B:B,MATCH(E1333,_tmp2!A:A,0))","v":"北海道"},"B101239300023","B1","01","2","1","黒松内町立白井川小学校","寿都郡黒松内町字白井川１６番地３５","0480134","2020-12-22","","011170",""]
[{"$f":"INDEX(学校種!B:B,MATCH(D1334,学校種!A:A,0))","v":"小学校"},{"$f":"INDEX(_tmp2!B:B,MATCH(E1334,_tmp2!A:A,0))","v":"北海道"},"B101239400013","B1","01","2","1","蘭越町立蘭越小学校","磯谷郡蘭越町蘭越町２２６番地","0481301","2020-12-22","","011181",""]
[{"$f":"INDEX(学校種!B:B,MATCH(D1335,学校種!A:A,0))","v":"小学校"},{"$f":"INDEX(_tmp2!B:B,MATCH(E1335,_tmp2!A:A,0))","v":"北海道"},"B101239400022","B1","01","2","1","蘭越町立昆布小学校","磯谷郡蘭越町昆布町２１０番地","0481302","2020-12-22","","011192",""]
[{"$f":"INDEX(学校種!B:B,MATCH(D1336,学校種!A:A,0))","v":"小学校"},{"$f":"INDEX(_tmp2!B:B,MATCH(E1336,_tmp2!A:A,0))","v":"北海道"},"B101239500012","B1","01","2","1","ニセコ町立ニセコ小学校","虻田郡ニセコ町字富士見１２番地","0481501","2020-12-22","","011195",""]
[{"$f":"INDEX(学校種!B:B,MATCH(D1337,学校種!A:A,0))","v":"小学校"},{"$f":"INDEX(_tmp2!B:B,MATCH(E1337,_tmp2!A:A,0))","v":"北海道"},"B101239500021","B1","01","2","1","ニセコ町立近藤小学校","虻田郡ニセコ町字近藤２６６","0481542","2020-12-22","","011196",""]
[{"$f":"INDEX(学校種!B:B,MATCH(D1338,学校種!A:A,0))","v":"小学校"},{"$f":"INDEX(_tmp2!B:B,MATCH(E1338,_tmp2!A:A,0))","v":"北海道"},"B101239600011","B1","01","2","1","真狩村立真狩小学校","虻田郡真狩村字真狩５６番地","0481631","2020-12-22","","011203",""]
[{"$f":"INDEX(学校種!B:B,MATCH(D1339,学校種!A:A,0))","v":"小学校"},{"$f":"INDEX(_tmp2!B:B,MATCH(E1339,_tmp2!A:A,0))","v":"北海道"},"B101239600020","B1","01","2","1","真狩村立御保内小学校","虻田郡真狩村字加野４６","0481622","2020-12-22","","011204",""]
[{"$f":"INDEX(学校種!B:B,MATCH(D1340,学校種!A:A,0))","v":"小学校"},{"$f":"INDEX(_tmp2!B:B,MATCH(E1340,_tmp2!A:A,0))","v":"北海道"},"B101239700010","B1","01","2","1","留寿都村立留寿都小学校","虻田郡留寿都村字留寿都１７４番地","0481731","2020-12-22","","011211",""]
[{"$f":"INDEX(学校種!B:B,MATCH(D1341,学校種!A:A,0))","v":"小学校"},{"$f":"INDEX(_tmp2!B:B,MATCH(E1341,_tmp2!A:A,0))","v":"北海道"},"B101239800019","B1","01","2","1","喜茂別町立喜茂別小学校","虻田郡喜茂別町字喜茂別３３６番地","0440201","2020-12-22","","011218",""]
[{"$f":"INDEX(学校種!B:B,MATCH(D1342,学校種!A:A,0))","v":"小学校"},{"$f":"INDEX(_tmp2!B:B,MATCH(E1342,_tmp2!A:A,0))","v":"北海道"},"B101239800028","B1","01","2","1","喜茂別町立鈴川小学校","虻田郡喜茂別町字鈴川４２番地９","0440451","2020-12-22","","011220",""]
[{"$f":"INDEX(学校種!B:B,MATCH(D1343,学校種!A:A,0))","v":"小学校"},{"$f":"INDEX(_tmp2!B:B,MATCH(E1343,_tmp2!A:A,0))","v":"北海道"},"B101239900018","B1","01","2","1","京極町立京極小学校","虻田郡京極町字三崎９１番地","0440121","2020-12-22","","011227",""]
[{"$f":"INDEX(学校種!B:B,MATCH(D1344,学校種!A:A,0))","v":"小学校"},{"$f":"INDEX(_tmp2!B:B,MATCH(E1344,_tmp2!A:A,0))","v":"北海道"},"B101240000015","B1","01","2","1","倶知安町立倶知安小学校","虻田郡倶知安町南３条東３丁目","0440013","2020-12-22","","011236",""]
[{"$f":"INDEX(学校種!B:B,MATCH(D1345,学校種!A:A,0))","v":"小学校"},{"$f":"INDEX(_tmp2!B:B,MATCH(E1345,_tmp2!A:A,0))","v":"北海道"},"B101240000024","B1","01","2","1","倶知安町立北陽小学校","虻田郡倶知安町北６条西２丁目","0440056","2020-12-22","","011237",""]
[{"$f":"INDEX(学校種!B:B,MATCH(D1346,学校種!A:A,0))","v":"小学校"},{"$f":"INDEX(_tmp2!B:B,MATCH(E1346,_tmp2!A:A,0))","v":"北海道"},"B101240000033","B1","01","2","1","倶知安町立東小学校","虻田郡倶知安町北４条東９丁目","0440004","2020-12-22","","012909",""]
[{"$f":"INDEX(学校種!B:B,MATCH(D1347,学校種!A:A,0))","v":"小学校"},{"$f":"INDEX(_tmp2!B:B,MATCH(E1347,_tmp2!A:A,0))","v":"北海道"},"B101240000042","B1","01","2","1","倶知安町立西小学校","虻田郡倶知安町南６条西３丁目１３番地","0440036","2020-12-22","","012935",""]
[{"$f":"INDEX(学校種!B:B,MATCH(D1348,学校種!A:A,0))","v":"小学校"},{"$f":"INDEX(_tmp2!B:B,MATCH(E1348,_tmp2!A:A,0))","v":"北海道"},"B101240000051","B1","01","2","2","倶知安町立西小学校樺山分校","虻田郡倶知安町字樺山１０９番地","0440078","2020-12-22","","012936",""]
[{"$f":"INDEX(学校種!B:B,MATCH(D1349,学校種!A:A,0))","v":"小学校"},{"$f":"INDEX(_tmp2!B:B,MATCH(E1349,_tmp2!A:A,0))","v":"北海道"},"B101240100014","B1","01","2","1","共和町立東陽小学校","岩内郡共和町国富２０－２","0482143","2020-12-22","","012887",""]
[{"$f":"INDEX(学校種!B:B,MATCH(D1350,学校種!A:A,0))","v":"小学校"},{"$f":"INDEX(_tmp2!B:B,MATCH(E1350,_tmp2!A:A,0))","v":"北海道"},"B101240100023","B1","01","2","1","共和町立北辰小学校","岩内郡共和町発足２９００番地","0450122","2020-12-22","","012910",""]
[{"$f":"INDEX(学校種!B:B,MATCH(D1351,学校種!A:A,0))","v":"小学校"},{"$f":"INDEX(_tmp2!B:B,MATCH(E1351,_tmp2!A:A,0))","v":"北海道"},"B101240100032","B1","01","2","1","共和町立西陵小学校","岩内郡共和町梨野舞納４２番地３","0450031","2020-12-22","","012911",""]
[{"$f":"INDEX(学校種!B:B,MATCH(D1352,学校種!A:A,0))","v":"小学校"},{"$f":"INDEX(_tmp2!B:B,MATCH(E1352,_tmp2!A:A,0))","v":"北海道"},"B101240200013","B1","01","2","1","岩内町立岩内西小学校","岩内郡岩内町字野束１７２番地","0450024","2020-12-22","","011265",""]
[{"$f":"INDEX(学校種!B:B,MATCH(D1353,学校種!A:A,0))","v":"小学校"},{"$f":"INDEX(_tmp2!B:B,MATCH(E1353,_tmp2!A:A,0))","v":"北海道"},"B101240200022","B1","01","2","1","岩内町立岩内東小学校","岩内郡岩内町字東山１３０番地","0450002","2020-12-22","","011266",""]
[{"$f":"INDEX(学校種!B:B,MATCH(D1354,学校種!A:A,0))","v":"小学校"},{"$f":"INDEX(_tmp2!B:B,MATCH(E1354,_tmp2!A:A,0))","v":"北海道"},"B101240300012","B1","01","2","1","泊村立泊小学校","古宇郡泊村大字盃村１３４","0450204","2020-12-22","","012987",""]
[{"$f":"INDEX(学校種!B:B,MATCH(D1355,学校種!A:A,0))","v":"小学校"},{"$f":"INDEX(_tmp2!B:B,MATCH(E1355,_tmp2!A:A,0))","v":"北海道"},"B101240400011","B1","01","2","1","神恵内村立神恵内小学校","古宇郡神恵内村大字神恵内村字横澗１５４番地","0450301","2020-12-22","","011277",""]
[{"$f":"INDEX(学校種!B:B,MATCH(D1356,学校種!A:A,0))","v":"小学校"},{"$f":"INDEX(_tmp2!B:B,MATCH(E1356,_tmp2!A:A,0))","v":"北海道"},"B101240500010","B1","01","2","1","積丹町立美国小学校","積丹郡積丹町大字美国町大沢２１４","0460201","2020-12-22","","011283",""]
[{"$f":"INDEX(学校種!B:B,MATCH(D1357,学校種!A:A,0))","v":"小学校"},{"$f":"INDEX(_tmp2!B:B,MATCH(E1357,_tmp2!A:A,0))","v":"北海道"},"B101240500029","B1","01","2","1","積丹町立野塚小学校","積丹郡積丹町大字野塚町３２６番地","0460325","2020-12-22","","011285",""]
[{"$f":"INDEX(学校種!B:B,MATCH(D1358,学校種!A:A,0))","v":"小学校"},{"$f":"INDEX(_tmp2!B:B,MATCH(E1358,_tmp2!A:A,0))","v":"北海道"},"B101240500038","B1","01","2","1","積丹町立余別小学校","積丹郡積丹町大字余別町５４４番地","0460322","2020-12-22","","011286",""]
[{"$f":"INDEX(学校種!B:B,MATCH(D1359,学校種!A:A,0))","v":"小学校"},{"$f":"INDEX(_tmp2!B:B,MATCH(E1359,_tmp2!A:A,0))","v":"北海道"},"B101240500047","B1","01","2","1","積丹町立日司小学校","積丹郡積丹町大字日司町２３３－１","0460326","2020-12-22","","011291",""]
[{"$f":"INDEX(学校種!B:B,MATCH(D1360,学校種!A:A,0))","v":"小学校"},{"$f":"INDEX(_tmp2!B:B,MATCH(E1360,_tmp2!A:A,0))","v":"北海道"},"B101240600019","B1","01","2","1","古平町立古平小学校","古平郡古平町大字浜町３７０番地","0460121","2020-12-22","","011296",""]
[{"$f":"INDEX(学校種!B:B,MATCH(D1361,学校種!A:A,0))","v":"小学校"},{"$f":"INDEX(_tmp2!B:B,MATCH(E1361,_tmp2!A:A,0))","v":"北海道"},"B101240700018","B1","01","2","1","仁木町立仁木小学校","余市郡仁木町西町１丁目５２番地４","0482406","2020-12-22","","011299",""]
[{"$f":"INDEX(学校種!B:B,MATCH(D1362,学校種!A:A,0))","v":"小学校"},{"$f":"INDEX(_tmp2!B:B,MATCH(E1362,_tmp2!A:A,0))","v":"北海道"},"B101240700027","B1","01","2","1","仁木町立銀山小学校","余市郡仁木町銀山２丁目４４６番地","0482335","2020-12-22","","011300",""]
[{"$f":"INDEX(学校種!B:B,MATCH(D1363,学校種!A:A,0))","v":"小学校"},{"$f":"INDEX(_tmp2!B:B,MATCH(E1363,_tmp2!A:A,0))","v":"北海道"},"B101240800017","B1","01","2","1","余市町立黒川小学校","余市郡余市町黒川町９－１４７","0460003","2020-12-22","","011308",""]
[{"$f":"INDEX(学校種!B:B,MATCH(D1364,学校種!A:A,0))","v":"小学校"},{"$f":"INDEX(_tmp2!B:B,MATCH(E1364,_tmp2!A:A,0))","v":"北海道"},"B101240800026","B1","01","2","1","余市町立沢町小学校","余市郡余市町沢町４丁目２２番地","0460022","2020-12-22","","011309",""]
[{"$f":"INDEX(学校種!B:B,MATCH(D1365,学校種!A:A,0))","v":"小学校"},{"$f":"INDEX(_tmp2!B:B,MATCH(E1365,_tmp2!A:A,0))","v":"北海道"},"B101240800035","B1","01","2","1","余市町立大川小学校","余市郡余市町大川町１０丁目１番地","0460004","2020-12-22","","011310",""]
[{"$f":"INDEX(学校種!B:B,MATCH(D1366,学校種!A:A,0))","v":"小学校"},{"$f":"INDEX(_tmp2!B:B,MATCH(E1366,_tmp2!A:A,0))","v":"北海道"},"B101240800044","B1","01","2","1","余市町立登小学校","余市郡余市町登町１０１５番地","0460002","2020-12-22","","011313",""]
[{"$f":"INDEX(学校種!B:B,MATCH(D1367,学校種!A:A,0))","v":"小学校"},{"$f":"INDEX(_tmp2!B:B,MATCH(E1367,_tmp2!A:A,0))","v":"北海道"},"B101240900016","B1","01","2","1","赤井川村立赤井川小学校","余市郡赤井川村字赤井川７２","0460501","2020-12-22","","011319",""]
[{"$f":"INDEX(学校種!B:B,MATCH(D1368,学校種!A:A,0))","v":"小学校"},{"$f":"INDEX(_tmp2!B:B,MATCH(E1368,_tmp2!A:A,0))","v":"北海道"},"B101240900025","B1","01","2","1","赤井川村立都小学校","余市郡赤井川村字都１１３番地","0460541","2020-12-22","","011320",""]
[{"$f":"INDEX(学校種!B:B,MATCH(D1369,学校種!A:A,0))","v":"小学校"},{"$f":"INDEX(_tmp2!B:B,MATCH(E1369,_tmp2!A:A,0))","v":"北海道"},"B101242300018","B1","01","2","1","南幌町立南幌小学校","空知郡南幌町美園２丁目６番１号","0690234","2020-12-22","","013035",""]
[{"$f":"INDEX(学校種!B:B,MATCH(D1370,学校種!A:A,0))","v":"小学校"},{"$f":"INDEX(_tmp2!B:B,MATCH(E1370,_tmp2!A:A,0))","v":"北海道"},"B101242400017","B1","01","2","1","奈井江町立奈井江小学校","空知郡奈井江町字奈井江１６２番地","0790312","2020-12-22","","013038",""]
[{"$f":"INDEX(学校種!B:B,MATCH(D1371,学校種!A:A,0))","v":"小学校"},{"$f":"INDEX(_tmp2!B:B,MATCH(E1371,_tmp2!A:A,0))","v":"北海道"},"B101242500016","B1","01","2","1","上砂川町立中央小学校","空知郡上砂川町東鶉南１条４丁目１－１","0730211","2020-12-22","","012966",""]
[{"$f":"INDEX(学校種!B:B,MATCH(D1372,学校種!A:A,0))","v":"小学校"},{"$f":"INDEX(_tmp2!B:B,MATCH(E1372,_tmp2!A:A,0))","v":"北海道"},"B101242700014","B1","01","2","1","由仁町立由仁小学校","夕張郡由仁町新光１６２番地","0691204","2020-12-22","","013046",""]
[{"$f":"INDEX(学校種!B:B,MATCH(D1373,学校種!A:A,0))","v":"小学校"},{"$f":"INDEX(_tmp2!B:B,MATCH(E1373,_tmp2!A:A,0))","v":"北海道"},"B101242800013","B1","01","2","1","長沼町立長沼小学校","夕張郡長沼町銀座北１丁目３番１号","0691331","2020-12-22","","013053",""]
[{"$f":"INDEX(学校種!B:B,MATCH(D1374,学校種!A:A,0))","v":"小学校"},{"$f":"INDEX(_tmp2!B:B,MATCH(E1374,_tmp2!A:A,0))","v":"北海道"},"B101242900012","B1","01","2","1","栗山町立栗山小学校","夕張郡栗山町中央３丁目３１１番地","0691511","2020-12-22","","011393",""]
[{"$f":"INDEX(学校種!B:B,MATCH(D1375,学校種!A:A,0))","v":"小学校"},{"$f":"INDEX(_tmp2!B:B,MATCH(E1375,_tmp2!A:A,0))","v":"北海道"},"B101242900021","B1","01","2","1","栗山町立角田小学校","夕張郡栗山町角田１７－３","0691524","2020-12-22","","011398",""]
[{"$f":"INDEX(学校種!B:B,MATCH(D1376,学校種!A:A,0))","v":"小学校"},{"$f":"INDEX(_tmp2!B:B,MATCH(E1376,_tmp2!A:A,0))","v":"北海道"},"B101242900030","B1","01","2","1","栗山町立継立小学校","夕張郡栗山町字継立１９１－１","0680353","2020-12-22","","012874",""]
[{"$f":"INDEX(学校種!B:B,MATCH(D1377,学校種!A:A,0))","v":"小学校"},{"$f":"INDEX(_tmp2!B:B,MATCH(E1377,_tmp2!A:A,0))","v":"北海道"},"B101243000019","B1","01","2","1","月形町立月形小学校","樺戸郡月形町字神園１番地","0610500","2020-12-22","","011406",""]
[{"$f":"INDEX(学校種!B:B,MATCH(D1378,学校種!A:A,0))","v":"小学校"},{"$f":"INDEX(_tmp2!B:B,MATCH(E1378,_tmp2!A:A,0))","v":"北海道"},"B101243100018","B1","01","2","1","浦臼町立浦臼小学校","樺戸郡浦臼町字浦臼内１８３番地４","0610600","2020-12-22","","012985",""]
[{"$f":"INDEX(学校種!B:B,MATCH(D1379,学校種!A:A,0))","v":"小学校"},{"$f":"INDEX(_tmp2!B:B,MATCH(E1379,_tmp2!A:A,0))","v":"北海道"},"B101243200017","B1","01","2","1","新十津川町立新十津川小学校","樺戸郡新十津川町字中央５２０－１","0731103","2020-12-22","","011419",""]
[{"$f":"INDEX(学校種!B:B,MATCH(D1380,学校種!A:A,0))","v":"小学校"},{"$f":"INDEX(_tmp2!B:B,MATCH(E1380,_tmp2!A:A,0))","v":"北海道"},"B101243300016","B1","01","2","1","妹背牛町立妹背牛小学校","雨竜郡妹背牛町字妹背牛４３２","0790501","2020-12-22","","011434",""]
[{"$f":"INDEX(学校種!B:B,MATCH(D1381,学校種!A:A,0))","v":"小学校"},{"$f":"INDEX(_tmp2!B:B,MATCH(E1381,_tmp2!A:A,0))","v":"北海道"},"B101243400015","B1","01","2","1","秩父別町立秩父別小学校","雨竜郡秩父別町１８７４番地","0782102","2020-12-22","","011438",""]
[{"$f":"INDEX(学校種!B:B,MATCH(D1382,学校種!A:A,0))","v":"小学校"},{"$f":"INDEX(_tmp2!B:B,MATCH(E1382,_tmp2!A:A,0))","v":"北海道"},"B101243600013","B1","01","2","1","雨竜町立雨竜小学校","雨竜郡雨竜町字満寿２８番地２６","0782600","2020-12-22","","011444",""]
[{"$f":"INDEX(学校種!B:B,MATCH(D1383,学校種!A:A,0))","v":"小学校"},{"$f":"INDEX(_tmp2!B:B,MATCH(E1383,_tmp2!A:A,0))","v":"北海道"},"B101243700012","B1","01","2","1","北竜町立真竜小学校","雨竜郡北竜町字和１０－１","0782512","2020-12-22","","011452",""]
[{"$f":"INDEX(学校種!B:B,MATCH(D1384,学校種!A:A,0))","v":"小学校"},{"$f":"INDEX(_tmp2!B:B,MATCH(E1384,_tmp2!A:A,0))","v":"北海道"},"B101243800011","B1","01","2","1","沼田町立沼田小学校","雨竜郡沼田町本通６丁目３番２６号","0782203","2020-12-22","","011460",""]
[{"$f":"INDEX(学校種!B:B,MATCH(D1385,学校種!A:A,0))","v":"小学校"},{"$f":"INDEX(_tmp2!B:B,MATCH(E1385,_tmp2!A:A,0))","v":"北海道"},"B101245200012","B1","01","2","1","鷹栖町立鷹栖小学校","上川郡鷹栖町北１条１丁目４番地","0711211","2020-12-22","","011489",""]
[{"$f":"INDEX(学校種!B:B,MATCH(D1386,学校種!A:A,0))","v":"小学校"},{"$f":"INDEX(_tmp2!B:B,MATCH(E1386,_tmp2!A:A,0))","v":"北海道"},"B101245200021","B1","01","2","1","鷹栖町立北野小学校","上川郡鷹栖町１２線３号３番地","0711252","2020-12-22","","011490",""]
[{"$f":"INDEX(学校種!B:B,MATCH(D1387,学校種!A:A,0))","v":"小学校"},{"$f":"INDEX(_tmp2!B:B,MATCH(E1387,_tmp2!A:A,0))","v":"北海道"},"B101245300011","B1","01","2","1","東神楽町立東神楽小学校","上川郡東神楽町南３条東１丁目２番１号","0711505","2020-12-22","","011498",""]
[{"$f":"INDEX(学校種!B:B,MATCH(D1388,学校種!A:A,0))","v":"小学校"},{"$f":"INDEX(_tmp2!B:B,MATCH(E1388,_tmp2!A:A,0))","v":"北海道"},"B101245300020","B1","01","2","1","東神楽町立東聖小学校","上川郡東神楽町ひじり野南１条２丁目１番１号","0711523","2020-12-22","","011499",""]
[{"$f":"INDEX(学校種!B:B,MATCH(D1389,学校種!A:A,0))","v":"小学校"},{"$f":"INDEX(_tmp2!B:B,MATCH(E1389,_tmp2!A:A,0))","v":"北海道"},"B101245300039","B1","01","2","9","東神楽町立忠栄小学校","上川郡東神楽町１９号南５番地","0711549","2020-12-22","2021-05-27","011501","B101245300011"]
[{"$f":"INDEX(学校種!B:B,MATCH(D1390,学校種!A:A,0))","v":"小学校"},{"$f":"INDEX(_tmp2!B:B,MATCH(E1390,_tmp2!A:A,0))","v":"北海道"},"B101245300048","B1","01","2","1","東神楽町立志比内小学校","上川郡東神楽町字志比内７５番地","0711582","2020-12-22","","011502",""]
[{"$f":"INDEX(学校種!B:B,MATCH(D1391,学校種!A:A,0))","v":"小学校"},{"$f":"INDEX(_tmp2!B:B,MATCH(E1391,_tmp2!A:A,0))","v":"北海道"},"B101245400010","B1","01","2","1","当麻町立当麻小学校","上川郡当麻町３条東３丁目１３番１号","0781313","2020-12-22","","011505",""]
[{"$f":"INDEX(学校種!B:B,MATCH(D1392,学校種!A:A,0))","v":"小学校"},{"$f":"INDEX(_tmp2!B:B,MATCH(E1392,_tmp2!A:A,0))","v":"北海道"},"B101245400029","B1","01","2","1","当麻町立宇園別小学校","上川郡当麻町宇園別２区","0781332","2020-12-22","","011507",""]
[{"$f":"INDEX(学校種!B:B,MATCH(D1393,学校種!A:A,0))","v":"小学校"},{"$f":"INDEX(_tmp2!B:B,MATCH(E1393,_tmp2!A:A,0))","v":"北海道"},"B101245500019","B1","01","2","1","比布町立中央小学校","上川郡比布町寿町４丁目１番１号","0780349","2020-12-22","","011514",""]
[{"$f":"INDEX(学校種!B:B,MATCH(D1394,学校種!A:A,0))","v":"小学校"},{"$f":"INDEX(_tmp2!B:B,MATCH(E1394,_tmp2!A:A,0))","v":"北海道"},"B101245600018","B1","01","2","1","愛別町立愛別小学校","上川郡愛別町字北町３２７番地","0781404","2020-12-22","","011518",""]
[{"$f":"INDEX(学校種!B:B,MATCH(D1395,学校種!A:A,0))","v":"小学校"},{"$f":"INDEX(_tmp2!B:B,MATCH(E1395,_tmp2!A:A,0))","v":"北海道"},"B101245700017","B1","01","2","1","上川町立上川小学校","上川郡上川町新町３７９番地","0781762","2020-12-22","","011525",""]
[{"$f":"INDEX(学校種!B:B,MATCH(D1396,学校種!A:A,0))","v":"小学校"},{"$f":"INDEX(_tmp2!B:B,MATCH(E1396,_tmp2!A:A,0))","v":"北海道"},"B101245800016","B1","01","2","1","東川町立東川小学校","上川郡東川町西４号北８番地","0711404","2020-12-22","","011537",""]
[{"$f":"INDEX(学校種!B:B,MATCH(D1397,学校種!A:A,0))","v":"小学校"},{"$f":"INDEX(_tmp2!B:B,MATCH(E1397,_tmp2!A:A,0))","v":"北海道"},"B101245800025","B1","01","2","1","東川町立東川第一小学校","上川郡東川町西１０号北２４番地","0711410","2020-12-22","","011538",""]
[{"$f":"INDEX(学校種!B:B,MATCH(D1398,学校種!A:A,0))","v":"小学校"},{"$f":"INDEX(_tmp2!B:B,MATCH(E1398,_tmp2!A:A,0))","v":"北海道"},"B101245800034","B1","01","2","1","東川町立東川第二小学校","上川郡東川町西４号北３２番地","0711404","2020-12-22","","011539",""]
[{"$f":"INDEX(学校種!B:B,MATCH(D1399,学校種!A:A,0))","v":"小学校"},{"$f":"INDEX(_tmp2!B:B,MATCH(E1399,_tmp2!A:A,0))","v":"北海道"},"B101245800043","B1","01","2","1","東川町立東川第三小学校","上川郡東川町東８号南１","0711458","2020-12-22","","011540",""]
[{"$f":"INDEX(学校種!B:B,MATCH(D1400,学校種!A:A,0))","v":"小学校"},{"$f":"INDEX(_tmp2!B:B,MATCH(E1400,_tmp2!A:A,0))","v":"北海道"},"B101245900015","B1","01","2","1","美瑛町立美瑛小学校","上川郡美瑛町西町２丁目１番１号","0710203","2020-12-22","","011545",""]
[{"$f":"INDEX(学校種!B:B,MATCH(D1401,学校種!A:A,0))","v":"小学校"},{"$f":"INDEX(_tmp2!B:B,MATCH(E1401,_tmp2!A:A,0))","v":"北海道"},"B101245900024","B1","01","2","1","美瑛町立美馬牛小学校","上川郡美瑛町美馬牛南２丁目２－５８号","0710472","2020-12-22","","011547",""]
[{"$f":"INDEX(学校種!B:B,MATCH(D1402,学校種!A:A,0))","v":"小学校"},{"$f":"INDEX(_tmp2!B:B,MATCH(E1402,_tmp2!A:A,0))","v":"北海道"},"B101245900033","B1","01","2","1","美瑛町立美沢小学校","上川郡美瑛町字美沢中央","0710236","2020-12-22","","011548",""]
[{"$f":"INDEX(学校種!B:B,MATCH(D1403,学校種!A:A,0))","v":"小学校"},{"$f":"INDEX(_tmp2!B:B,MATCH(E1403,_tmp2!A:A,0))","v":"北海道"},"B101245900042","B1","01","2","1","美瑛町立明徳小学校","上川郡美瑛町字朗根内町内","0710352","2020-12-22","","011549",""]
[{"$f":"INDEX(学校種!B:B,MATCH(D1404,学校種!A:A,0))","v":"小学校"},{"$f":"INDEX(_tmp2!B:B,MATCH(E1404,_tmp2!A:A,0))","v":"北海道"},"B101245900051","B1","01","2","1","美瑛町立美瑛東小学校","上川郡美瑛町丸山２丁目８番１５号","0710201","2020-12-22","","011551",""]
[{"$f":"INDEX(学校種!B:B,MATCH(D1405,学校種!A:A,0))","v":"小学校"},{"$f":"INDEX(_tmp2!B:B,MATCH(E1405,_tmp2!A:A,0))","v":"北海道"},"B101245900060","B1","01","2","1","美瑛町立宇莫別小学校","上川郡美瑛町字中宇莫別第２","0710228","2020-12-22","","011557",""]
[{"$f":"INDEX(学校種!B:B,MATCH(D1406,学校種!A:A,0))","v":"小学校"},{"$f":"INDEX(_tmp2!B:B,MATCH(E1406,_tmp2!A:A,0))","v":"北海道"},"B101245900079","B1","01","2","1","美瑛町立五稜小学校","上川郡美瑛町字五稜第５","0710223","2020-12-22","","011558",""]
[{"$f":"INDEX(学校種!B:B,MATCH(D1407,学校種!A:A,0))","v":"小学校"},{"$f":"INDEX(_tmp2!B:B,MATCH(E1407,_tmp2!A:A,0))","v":"北海道"},"B101246000012","B1","01","2","1","上富良野町立上富良野小学校","空知郡上富良野町宮町１丁目３－１３","0710552","2020-12-22","","011567",""]
[{"$f":"INDEX(学校種!B:B,MATCH(D1408,学校種!A:A,0))","v":"小学校"},{"$f":"INDEX(_tmp2!B:B,MATCH(E1408,_tmp2!A:A,0))","v":"北海道"},"B101246000021","B1","01","2","1","上富良野町立東中小学校","空知郡上富良野町東８線北１８号","0710528","2020-12-22","","011568",""]
[{"$f":"INDEX(学校種!B:B,MATCH(D1409,学校種!A:A,0))","v":"小学校"},{"$f":"INDEX(_tmp2!B:B,MATCH(E1409,_tmp2!A:A,0))","v":"北海道"},"B101246000030","B1","01","2","1","上富良野町立上富良野西小学校","空知郡上富良野町扇町３丁目","0710548","2020-12-22","","011573",""]
[{"$f":"INDEX(学校種!B:B,MATCH(D1410,学校種!A:A,0))","v":"小学校"},{"$f":"INDEX(_tmp2!B:B,MATCH(E1410,_tmp2!A:A,0))","v":"北海道"},"B101246100011","B1","01","2","1","中富良野町立中富良野小学校","空知郡中富良野町北町８番８号","0710751","2020-12-22","","011576",""]
[{"$f":"INDEX(学校種!B:B,MATCH(D1411,学校種!A:A,0))","v":"小学校"},{"$f":"INDEX(_tmp2!B:B,MATCH(E1411,_tmp2!A:A,0))","v":"北海道"},"B101246100020","B1","01","2","1","中富良野町立旭中小学校","空知郡中富良野町東９線北１２号","0710779","2020-12-22","","011577",""]
[{"$f":"INDEX(学校種!B:B,MATCH(D1412,学校種!A:A,0))","v":"小学校"},{"$f":"INDEX(_tmp2!B:B,MATCH(E1412,_tmp2!A:A,0))","v":"北海道"},"B101246100039","B1","01","2","1","中富良野町立宇文小学校","空知郡中富良野町東４線北７号","0710774","2020-12-22","","011578",""]
[{"$f":"INDEX(学校種!B:B,MATCH(D1413,学校種!A:A,0))","v":"小学校"},{"$f":"INDEX(_tmp2!B:B,MATCH(E1413,_tmp2!A:A,0))","v":"北海道"},"B101246100048","B1","01","2","1","中富良野町立西中小学校","空知郡中富良野町東１線北１８号","0710771","2020-12-22","","011579",""]
[{"$f":"INDEX(学校種!B:B,MATCH(D1414,学校種!A:A,0))","v":"小学校"},{"$f":"INDEX(_tmp2!B:B,MATCH(E1414,_tmp2!A:A,0))","v":"北海道"},"B101246200010","B1","01","2","1","南富良野町立南富良野小学校","空知郡南富良野町幾寅８４４番地","0792400","2020-12-22","","013039",""]
[{"$f":"INDEX(学校種!B:B,MATCH(D1415,学校種!A:A,0))","v":"小学校"},{"$f":"INDEX(_tmp2!B:B,MATCH(E1415,_tmp2!A:A,0))","v":"北海道"},"B101246200029","B1","01","2","1","南富良野町立南富良野西小学校","空知郡南富良野町字下金山９９４番地","0792132","2020-12-22","","013045",""]
[{"$f":"INDEX(学校種!B:B,MATCH(D1416,学校種!A:A,0))","v":"小学校"},{"$f":"INDEX(_tmp2!B:B,MATCH(E1416,_tmp2!A:A,0))","v":"北海道"},"B101246300019","B1","01","2","1","占冠村立占冠中央小学校","勇払郡占冠村字中央","0792201","2020-12-22","","011594",""]
[{"$f":"INDEX(学校種!B:B,MATCH(D1417,学校種!A:A,0))","v":"小学校"},{"$f":"INDEX(_tmp2!B:B,MATCH(E1417,_tmp2!A:A,0))","v":"北海道"},"B101246400018","B1","01","2","1","和寒町立和寒小学校","上川郡和寒町字北町４２番地","0980133","2020-12-22","","011603",""]
[{"$f":"INDEX(学校種!B:B,MATCH(D1418,学校種!A:A,0))","v":"小学校"},{"$f":"INDEX(_tmp2!B:B,MATCH(E1418,_tmp2!A:A,0))","v":"北海道"},"B101246500017","B1","01","2","1","剣淵町立剣淵小学校","上川郡剣淵町西町２０番１号","0980331","2020-12-22","","011616",""]
[{"$f":"INDEX(学校種!B:B,MATCH(D1419,学校種!A:A,0))","v":"小学校"},{"$f":"INDEX(_tmp2!B:B,MATCH(E1419,_tmp2!A:A,0))","v":"北海道"},"B101246800014","B1","01","2","1","下川町立下川小学校","上川郡下川町西町４０番地","0981205","2020-12-22","","011640",""]
[{"$f":"INDEX(学校種!B:B,MATCH(D1420,学校種!A:A,0))","v":"小学校"},{"$f":"INDEX(_tmp2!B:B,MATCH(E1420,_tmp2!A:A,0))","v":"北海道"},"B101246900013","B1","01","2","1","美深町立美深小学校","中川郡美深町字敷島１０８番地","0982214","2020-12-22","","011650",""]
[{"$f":"INDEX(学校種!B:B,MATCH(D1421,学校種!A:A,0))","v":"小学校"},{"$f":"INDEX(_tmp2!B:B,MATCH(E1421,_tmp2!A:A,0))","v":"北海道"},"B101246900022","B1","01","2","1","美深町立仁宇布小学校","中川郡美深町字仁宇布２５２","0982208","2020-12-22","","011652",""]
[{"$f":"INDEX(学校種!B:B,MATCH(D1422,学校種!A:A,0))","v":"小学校"},{"$f":"INDEX(_tmp2!B:B,MATCH(E1422,_tmp2!A:A,0))","v":"北海道"},"B101247000010","B1","01","2","1","音威子府村立音威子府小学校","中川郡音威子府村字音威子府４５１","0982501","2020-12-22","","011661",""]
[{"$f":"INDEX(学校種!B:B,MATCH(D1423,学校種!A:A,0))","v":"小学校"},{"$f":"INDEX(_tmp2!B:B,MATCH(E1423,_tmp2!A:A,0))","v":"北海道"},"B101247100019","B1","01","2","1","中川町立中央小学校","中川郡中川町字中川２２１番地１","0982802","2020-12-22","","011669",""]
[{"$f":"INDEX(学校種!B:B,MATCH(D1424,学校種!A:A,0))","v":"小学校"},{"$f":"INDEX(_tmp2!B:B,MATCH(E1424,_tmp2!A:A,0))","v":"北海道"},"B101247200018","B1","01","2","1","幌加内町立幌加内小学校","雨竜郡幌加内町字幌加内","0740411","2020-12-22","","011472",""]
[{"$f":"INDEX(学校種!B:B,MATCH(D1425,学校種!A:A,0))","v":"小学校"},{"$f":"INDEX(_tmp2!B:B,MATCH(E1425,_tmp2!A:A,0))","v":"北海道"},"B101247200027","B1","01","2","1","幌加内町立朱鞠内小学校","雨竜郡幌加内町字朱鞠内","0740742","2020-12-22","","011479",""]
[{"$f":"INDEX(学校種!B:B,MATCH(D1426,学校種!A:A,0))","v":"小学校"},{"$f":"INDEX(_tmp2!B:B,MATCH(E1426,_tmp2!A:A,0))","v":"北海道"},"B101248100017","B1","01","2","1","増毛町立増毛小学校","増毛郡増毛町暑寒町２丁目３８番地","0770225","2020-12-22","","011678",""]
[{"$f":"INDEX(学校種!B:B,MATCH(D1427,学校種!A:A,0))","v":"小学校"},{"$f":"INDEX(_tmp2!B:B,MATCH(E1427,_tmp2!A:A,0))","v":"北海道"},"B101248200016","B1","01","2","1","小平町立小平小学校","留萌郡小平町小平町３６６－１","0783301","2020-12-22","","011690",""]
[{"$f":"INDEX(学校種!B:B,MATCH(D1428,学校種!A:A,0))","v":"小学校"},{"$f":"INDEX(_tmp2!B:B,MATCH(E1428,_tmp2!A:A,0))","v":"北海道"},"B101248200025","B1","01","2","1","小平町立鬼鹿小学校","留萌郡小平町鬼鹿田代64の１","0783442","2020-12-22","","011699",""]
[{"$f":"INDEX(学校種!B:B,MATCH(D1429,学校種!A:A,0))","v":"小学校"},{"$f":"INDEX(_tmp2!B:B,MATCH(E1429,_tmp2!A:A,0))","v":"北海道"},"B101248300015","B1","01","2","1","苫前町立苫前小学校","苫前郡苫前町字苫前３８５番地の１","0783701","2020-12-22","","011705",""]
[{"$f":"INDEX(学校種!B:B,MATCH(D1430,学校種!A:A,0))","v":"小学校"},{"$f":"INDEX(_tmp2!B:B,MATCH(E1430,_tmp2!A:A,0))","v":"北海道"},"B101248300024","B1","01","2","1","苫前町立古丹別小学校","苫前郡苫前町字古丹別４３０番地の３","0783621","2020-12-22","","011706",""]
[{"$f":"INDEX(学校種!B:B,MATCH(D1431,学校種!A:A,0))","v":"小学校"},{"$f":"INDEX(_tmp2!B:B,MATCH(E1431,_tmp2!A:A,0))","v":"北海道"},"B101248400014","B1","01","2","1","羽幌町立羽幌小学校","苫前郡羽幌町南５条５丁目１番地","0784105","2020-12-22","","011717",""]
[{"$f":"INDEX(学校種!B:B,MATCH(D1432,学校種!A:A,0))","v":"小学校"},{"$f":"INDEX(_tmp2!B:B,MATCH(E1432,_tmp2!A:A,0))","v":"北海道"},"B101248400023","B1","01","2","1","羽幌町立天売小学校","苫前郡羽幌町大字天売字和浦１２１番地","0783953","2020-12-22","","011726",""]
[{"$f":"INDEX(学校種!B:B,MATCH(D1433,学校種!A:A,0))","v":"小学校"},{"$f":"INDEX(_tmp2!B:B,MATCH(E1433,_tmp2!A:A,0))","v":"北海道"},"B101248400032","B1","01","2","1","羽幌町立焼尻小学校","苫前郡羽幌町大字焼尻字豊崎１０５番地","0783871","2020-12-22","","011727",""]
[{"$f":"INDEX(学校種!B:B,MATCH(D1434,学校種!A:A,0))","v":"小学校"},{"$f":"INDEX(_tmp2!B:B,MATCH(E1434,_tmp2!A:A,0))","v":"北海道"},"B101248500013","B1","01","2","1","初山別村立初山別小学校","苫前郡初山別村字初山別１７３番地","0784421","2020-12-22","","011730",""]
[{"$f":"INDEX(学校種!B:B,MATCH(D1435,学校種!A:A,0))","v":"小学校"},{"$f":"INDEX(_tmp2!B:B,MATCH(E1435,_tmp2!A:A,0))","v":"北海道"},"B101248600012","B1","01","2","1","遠別町立遠別小学校","天塩郡遠別町本町５丁目１５番地","0983543","2020-12-22","","011739",""]
[{"$f":"INDEX(学校種!B:B,MATCH(D1436,学校種!A:A,0))","v":"小学校"},{"$f":"INDEX(_tmp2!B:B,MATCH(E1436,_tmp2!A:A,0))","v":"北海道"},"B101248700011","B1","01","2","1","天塩町立天塩小学校","天塩郡天塩町新栄通４丁目１１５８番地の１","0983303","2020-12-22","","011753",""]
[{"$f":"INDEX(学校種!B:B,MATCH(D1437,学校種!A:A,0))","v":"小学校"},{"$f":"INDEX(_tmp2!B:B,MATCH(E1437,_tmp2!A:A,0))","v":"北海道"},"B101248700020","B1","01","2","1","天塩町立啓徳小学校","天塩郡天塩町オヌプナイ３４７０－１","0983133","2020-12-22","","011754",""]
[{"$f":"INDEX(学校種!B:B,MATCH(D1438,学校種!A:A,0))","v":"小学校"},{"$f":"INDEX(_tmp2!B:B,MATCH(E1438,_tmp2!A:A,0))","v":"北海道"},"B101251100011","B1","01","2","1","猿払村立鬼志別小学校","宗谷郡猿払村鬼志別北町１７８番地","0986234","2020-12-22","","011778",""]
[{"$f":"INDEX(学校種!B:B,MATCH(D1439,学校種!A:A,0))","v":"小学校"},{"$f":"INDEX(_tmp2!B:B,MATCH(E1439,_tmp2!A:A,0))","v":"北海道"},"B101251100020","B1","01","2","1","猿払村立知来別小学校","宗谷郡猿払村知来別１０８１番地","0986341","2020-12-22","","011779",""]
[{"$f":"INDEX(学校種!B:B,MATCH(D1440,学校種!A:A,0))","v":"小学校"},{"$f":"INDEX(_tmp2!B:B,MATCH(E1440,_tmp2!A:A,0))","v":"北海道"},"B101251100039","B1","01","2","1","猿払村立浜鬼志別小学校","宗谷郡猿払村浜鬼志別２７８番地１","0986222","2020-12-22","","011781",""]
[{"$f":"INDEX(学校種!B:B,MATCH(D1441,学校種!A:A,0))","v":"小学校"},{"$f":"INDEX(_tmp2!B:B,MATCH(E1441,_tmp2!A:A,0))","v":"北海道"},"B101251100048","B1","01","2","1","猿払村立浅茅野小学校","宗谷郡猿払村浅茅野３３６番１","0986101","2020-12-22","","011787",""]
[{"$f":"INDEX(学校種!B:B,MATCH(D1442,学校種!A:A,0))","v":"小学校"},{"$f":"INDEX(_tmp2!B:B,MATCH(E1442,_tmp2!A:A,0))","v":"北海道"},"B101251200010","B1","01","2",1,"浜頓別町立浜頓別小学校","枝幸郡浜頓別町旭ヶ丘３丁目１５番地","0985741","2020-12-22","","011792",""]
[{"$f":"INDEX(学校種!B:B,MATCH(D1443,学校種!A:A,0))","v":"小学校"},{"$f":"INDEX(_tmp2!B:B,MATCH(E1443,_tmp2!A:A,0))","v":"北海道"},"B101251300019","B1","01","2","1","中頓別町立中頓別小学校","枝幸郡中頓別町字中頓別９９８番地","0985551","2020-12-22","","011805",""]
[{"$f":"INDEX(学校種!B:B,MATCH(D1444,学校種!A:A,0))","v":"小学校"},{"$f":"INDEX(_tmp2!B:B,MATCH(E1444,_tmp2!A:A,0))","v":"北海道"},"B101251400018","B1","01","2","1","枝幸町立枝幸小学校","枝幸郡枝幸町新栄町６２７","0985825","2020-12-22","","011815",""]
[{"$f":"INDEX(学校種!B:B,MATCH(D1445,学校種!A:A,0))","v":"小学校"},{"$f":"INDEX(_tmp2!B:B,MATCH(E1445,_tmp2!A:A,0))","v":"北海道"},"B101251400027","B1","01","2","1","枝幸町立目梨泊小学校","枝幸郡枝幸町目梨泊６０８９","0985816","2020-12-22","","011816",""]
[{"$f":"INDEX(学校種!B:B,MATCH(D1446,学校種!A:A,0))","v":"小学校"},{"$f":"INDEX(_tmp2!B:B,MATCH(E1446,_tmp2!A:A,0))","v":"北海道"},"B101251400036","B1","01","2","1","枝幸町立岡島小学校","枝幸郡枝幸町岡島４８００番地","0985802","2020-12-22","","011819",""]
[{"$f":"INDEX(学校種!B:B,MATCH(D1447,学校種!A:A,0))","v":"小学校"},{"$f":"INDEX(_tmp2!B:B,MATCH(E1447,_tmp2!A:A,0))","v":"北海道"},"B101251400045","B1","01","2","1","枝幸町立山臼小学校","枝幸郡枝幸町山臼４７７０番地","0985951","2020-12-22","","011821",""]
[{"$f":"INDEX(学校種!B:B,MATCH(D1448,学校種!A:A,0))","v":"小学校"},{"$f":"INDEX(_tmp2!B:B,MATCH(E1448,_tmp2!A:A,0))","v":"北海道"},"B101251400054","B1","01","2","9","枝幸町立乙忠部小学校","枝幸郡枝幸町乙忠部２４８番地１","0985952","2020-12-22","2021-05-27","011822","B101251500071"]
[{"$f":"INDEX(学校種!B:B,MATCH(D1449,学校種!A:A,0))","v":"小学校"},{"$f":"INDEX(_tmp2!B:B,MATCH(E1449,_tmp2!A:A,0))","v":"北海道"},"B101251400081","B1","01","2","1","枝幸町立歌登小学校","枝幸郡枝幸町歌登西町","0985206","2020-12-22","","011828",""]
[{"$f":"INDEX(学校種!B:B,MATCH(D1450,学校種!A:A,0))","v":"小学校"},{"$f":"INDEX(_tmp2!B:B,MATCH(E1450,_tmp2!A:A,0))","v":"北海道"},"B101251500062","B1","01","2","1","枝幸町立風烈布小学校","枝幸郡枝幸町風烈布６２８番地","0985953","2020-12-22","","011823",""]
[{"$f":"INDEX(学校種!B:B,MATCH(D1451,学校種!A:A,0))","v":"小学校"},{"$f":"INDEX(_tmp2!B:B,MATCH(E1451,_tmp2!A:A,0))","v":"北海道"},"B101251500071","B1","01","2","1","枝幸町立音標小学校","枝幸郡枝幸町音標１５３番地１","0985955","2020-12-22","","011824",""]
[{"$f":"INDEX(学校種!B:B,MATCH(D1452,学校種!A:A,0))","v":"小学校"},{"$f":"INDEX(_tmp2!B:B,MATCH(E1452,_tmp2!A:A,0))","v":"北海道"},"B101251600016","B1","01","2","1","豊富町立豊富小学校","天塩郡豊富町大通１丁目","0984110","2020-12-22","","011842",""]
[{"$f":"INDEX(学校種!B:B,MATCH(D1453,学校種!A:A,0))","v":"小学校"},{"$f":"INDEX(_tmp2!B:B,MATCH(E1453,_tmp2!A:A,0))","v":"北海道"},"B101251600025","B1","01","2","1","豊富町立兜沼小学校","天塩郡豊富町字兜沼","0984451","2020-12-22","","011844",""]
[{"$f":"INDEX(学校種!B:B,MATCH(D1454,学校種!A:A,0))","v":"小学校"},{"$f":"INDEX(_tmp2!B:B,MATCH(E1454,_tmp2!A:A,0))","v":"北海道"},"B101251700015","B1","01","2","1","礼文町立礼文小学校","礼文郡礼文町大字香深村字トンナイ９１４番地","0971201","2020-12-22","","011858",""]
[{"$f":"INDEX(学校種!B:B,MATCH(D1455,学校種!A:A,0))","v":"小学校"},{"$f":"INDEX(_tmp2!B:B,MATCH(E1455,_tmp2!A:A,0))","v":"北海道"},"B101251700024","B1","01","2","1","礼文町立香深井小学校","礼文郡礼文町大字香深村字カフカイ３０１番地","0971201","2020-12-22","","011859",""]
[{"$f":"INDEX(学校種!B:B,MATCH(D1456,学校種!A:A,0))","v":"小学校"},{"$f":"INDEX(_tmp2!B:B,MATCH(E1456,_tmp2!A:A,0))","v":"北海道"},"B101251700033","B1","01","2","1","礼文町立船泊小学校","礼文郡礼文町大字船泊村字大備３９３番地","0971111","2020-12-22","","011863",""]
[{"$f":"INDEX(学校種!B:B,MATCH(D1457,学校種!A:A,0))","v":"小学校"},{"$f":"INDEX(_tmp2!B:B,MATCH(E1457,_tmp2!A:A,0))","v":"北海道"},"B101251800014","B1","01","2","1","利尻町立沓形小学校","利尻郡利尻町沓形字日出町６３番地","0970401","2020-12-22","","011868",""]
[{"$f":"INDEX(学校種!B:B,MATCH(D1458,学校種!A:A,0))","v":"小学校"},{"$f":"INDEX(_tmp2!B:B,MATCH(E1458,_tmp2!A:A,0))","v":"北海道"},"B101251800023","B1","01","2","1","利尻町立仙法志小学校","利尻郡利尻町仙法志字本町","0970311","2020-12-22","","011871",""]
[{"$f":"INDEX(学校種!B:B,MATCH(D1459,学校種!A:A,0))","v":"小学校"},{"$f":"INDEX(_tmp2!B:B,MATCH(E1459,_tmp2!A:A,0))","v":"北海道"},"B101251900013","B1","01","2","1","利尻富士町立鴛泊小学校","利尻郡利尻富士町鴛泊字本町９２番地","0970101","2020-12-22","","011875",""]
[{"$f":"INDEX(学校種!B:B,MATCH(D1460,学校種!A:A,0))","v":"小学校"},{"$f":"INDEX(_tmp2!B:B,MATCH(E1460,_tmp2!A:A,0))","v":"北海道"},"B101251900022","B1","01","2","1","利尻富士町立利尻小学校","利尻郡利尻富士町鬼脇字鬼脇３１８番地","0970211","2020-12-22","","011878",""]
[{"$f":"INDEX(学校種!B:B,MATCH(D1461,学校種!A:A,0))","v":"小学校"},{"$f":"INDEX(_tmp2!B:B,MATCH(E1461,_tmp2!A:A,0))","v":"北海道"},"B101252000010","B1","01","2","1","幌延町立幌延小学校","天塩郡幌延町東町２５番地","0983222","2020-12-22","","011766",""]
[{"$f":"INDEX(学校種!B:B,MATCH(D1462,学校種!A:A,0))","v":"小学校"},{"$f":"INDEX(_tmp2!B:B,MATCH(E1462,_tmp2!A:A,0))","v":"北海道"},"B101252000029","B1","01","2","1","幌延町立問寒別小学校","天塩郡幌延町字問寒別１３０番地","0982943","2020-12-22","","011767",""]
[{"$f":"INDEX(学校種!B:B,MATCH(D1463,学校種!A:A,0))","v":"小学校"},{"$f":"INDEX(_tmp2!B:B,MATCH(E1463,_tmp2!A:A,0))","v":"北海道"},"B101254300013","B1","01","2","1","美幌町立美幌小学校","網走郡美幌町字西２条北４丁目1番地","0920062","2020-12-22","","011900",""]
[{"$f":"INDEX(学校種!B:B,MATCH(D1464,学校種!A:A,0))","v":"小学校"},{"$f":"INDEX(_tmp2!B:B,MATCH(E1464,_tmp2!A:A,0))","v":"北海道"},"B101254300022","B1","01","2","1","美幌町立東陽小学校","網走郡美幌町字栄町３丁目６番地","0920012","2020-12-22","","011901",""]
[{"$f":"INDEX(学校種!B:B,MATCH(D1465,学校種!A:A,0))","v":"小学校"},{"$f":"INDEX(_tmp2!B:B,MATCH(E1465,_tmp2!A:A,0))","v":"北海道"},"B101254300031","B1","01","2","1","美幌町立旭小学校","網走郡美幌町字稲美１４０－２","0920027","2020-12-22","","012889",""]
[{"$f":"INDEX(学校種!B:B,MATCH(D1466,学校種!A:A,0))","v":"小学校"},{"$f":"INDEX(_tmp2!B:B,MATCH(E1466,_tmp2!A:A,0))","v":"北海道"},"B101254400012","B1","01","2","1","津別町立津別小学校","網走郡津別町幸町６８番地","0920235","2020-12-22","","011915",""]
[{"$f":"INDEX(学校種!B:B,MATCH(D1467,学校種!A:A,0))","v":"小学校"},{"$f":"INDEX(_tmp2!B:B,MATCH(E1467,_tmp2!A:A,0))","v":"北海道"},"B101254500011","B1","01","2","1","斜里町立斜里小学校","斜里郡斜里町文光町２９番地２","0994116","2020-12-22","","011929",""]
[{"$f":"INDEX(学校種!B:B,MATCH(D1468,学校種!A:A,0))","v":"小学校"},{"$f":"INDEX(_tmp2!B:B,MATCH(E1468,_tmp2!A:A,0))","v":"北海道"},"B101254500020","B1","01","2","1","斜里町立朝日小学校","斜里郡斜里町朝日町６番地２","0994114","2020-12-22","","012945",""]
[{"$f":"INDEX(学校種!B:B,MATCH(D1469,学校種!A:A,0))","v":"小学校"},{"$f":"INDEX(_tmp2!B:B,MATCH(E1469,_tmp2!A:A,0))","v":"北海道"},"B101254600010","B1","01","2","1","清里町立清里小学校","斜里郡清里町羽衣町３３番地","0994405","2020-12-22","","011945",""]
[{"$f":"INDEX(学校種!B:B,MATCH(D1470,学校種!A:A,0))","v":"小学校"},{"$f":"INDEX(_tmp2!B:B,MATCH(E1470,_tmp2!A:A,0))","v":"北海道"},"B101254700019","B1","01","2","1","小清水町立小清水小学校","斜里郡小清水町南町１丁目２２番５号","0993642","2020-12-22","","011954",""]
[{"$f":"INDEX(学校種!B:B,MATCH(D1471,学校種!A:A,0))","v":"小学校"},{"$f":"INDEX(_tmp2!B:B,MATCH(E1471,_tmp2!A:A,0))","v":"北海道"},"B101254900017","B1","01","2","1","訓子府町立訓子府小学校","常呂郡訓子府町仲町６５番地","0991433","2020-12-22","","011973",""]
[{"$f":"INDEX(学校種!B:B,MATCH(D1472,学校種!A:A,0))","v":"小学校"},{"$f":"INDEX(_tmp2!B:B,MATCH(E1472,_tmp2!A:A,0))","v":"北海道"},"B101254900026","B1","01","2","1","訓子府町立居武士小学校","常呂郡訓子府町大谷５番地２","0991411","2020-12-22","","011974",""]
[{"$f":"INDEX(学校種!B:B,MATCH(D1473,学校種!A:A,0))","v":"小学校"},{"$f":"INDEX(_tmp2!B:B,MATCH(E1473,_tmp2!A:A,0))","v":"北海道"},"B101255000013","B1","01","2","1","置戸町立置戸小学校","常呂郡置戸町置戸２５８－１","0991100","2020-12-22","","011982",""]
[{"$f":"INDEX(学校種!B:B,MATCH(D1474,学校種!A:A,0))","v":"小学校"},{"$f":"INDEX(_tmp2!B:B,MATCH(E1474,_tmp2!A:A,0))","v":"北海道"},"B101255200011","B1","01","2","1","佐呂間町立佐呂間小学校","常呂郡佐呂間町幸町１－１","0930503","2020-12-22","","011999",""]
[{"$f":"INDEX(学校種!B:B,MATCH(D1475,学校種!A:A,0))","v":"小学校"},{"$f":"INDEX(_tmp2!B:B,MATCH(E1475,_tmp2!A:A,0))","v":"北海道"},"B101255200020","B1","01","2","1","佐呂間町立若佐小学校","常呂郡佐呂間町字中園３８－１","0910555","2020-12-22","","012000",""]
[{"$f":"INDEX(学校種!B:B,MATCH(D1476,学校種!A:A,0))","v":"小学校"},{"$f":"INDEX(_tmp2!B:B,MATCH(E1476,_tmp2!A:A,0))","v":"北海道"},"B101255200039","B1","01","2","1","佐呂間町立浜佐呂間小学校","常呂郡佐呂間町字浜佐呂間１６７","0930423","2020-12-22","","012001",""]
[{"$f":"INDEX(学校種!B:B,MATCH(D1477,学校種!A:A,0))","v":"小学校"},{"$f":"INDEX(_tmp2!B:B,MATCH(E1477,_tmp2!A:A,0))","v":"北海道"},"B101255500018","B1","01","2","1","遠軽町立生田原小学校","紋別郡遠軽町生田原７１０－１","0990701","2020-12-22","","012022",""]
[{"$f":"INDEX(学校種!B:B,MATCH(D1478,学校種!A:A,0))","v":"小学校"},{"$f":"INDEX(_tmp2!B:B,MATCH(E1478,_tmp2!A:A,0))","v":"北海道"},"B101255500027","B1","01","2","1","遠軽町立安国小学校","紋別郡遠軽町生田原安国２７１番地１","0990622","2020-12-22","","012023",""]
[{"$f":"INDEX(学校種!B:B,MATCH(D1479,学校種!A:A,0))","v":"小学校"},{"$f":"INDEX(_tmp2!B:B,MATCH(E1479,_tmp2!A:A,0))","v":"北海道"},"B101255500036","B1","01","2","1","遠軽町立遠軽小学校","紋別郡遠軽町西町３丁目３番地１５","0990428","2020-12-22","","012026",""]
[{"$f":"INDEX(学校種!B:B,MATCH(D1480,学校種!A:A,0))","v":"小学校"},{"$f":"INDEX(_tmp2!B:B,MATCH(E1480,_tmp2!A:A,0))","v":"北海道"},"B101255500045","B1","01","2","1","遠軽町立東小学校","紋別郡遠軽町１条通北５丁目","0990403","2020-12-22","","012027",""]
[{"$f":"INDEX(学校種!B:B,MATCH(D1481,学校種!A:A,0))","v":"小学校"},{"$f":"INDEX(_tmp2!B:B,MATCH(E1481,_tmp2!A:A,0))","v":"北海道"},"B101255500054","B1","01","2","1","遠軽町立南小学校","紋別郡遠軽町南町３丁目４","0990414","2020-12-22","","012028",""]
[{"$f":"INDEX(学校種!B:B,MATCH(D1482,学校種!A:A,0))","v":"小学校"},{"$f":"INDEX(_tmp2!B:B,MATCH(E1482,_tmp2!A:A,0))","v":"北海道"},"B101255500063","B1","01","2","9","遠軽町立瀬戸瀬小学校","紋別郡遠軽町瀬戸瀬東町１２５番地","0990341","2020-12-22","2021-05-27","012029","B101255500054"]
[{"$f":"INDEX(学校種!B:B,MATCH(D1483,学校種!A:A,0))","v":"小学校"},{"$f":"INDEX(_tmp2!B:B,MATCH(E1483,_tmp2!A:A,0))","v":"北海道"},"B101255500072","B1","01","2","1","遠軽町立丸瀬布小学校","紋別郡遠軽町丸瀬布東町１１３番地","0990205","2020-12-22","","012035",""]
[{"$f":"INDEX(学校種!B:B,MATCH(D1484,学校種!A:A,0))","v":"小学校"},{"$f":"INDEX(_tmp2!B:B,MATCH(E1484,_tmp2!A:A,0))","v":"北海道"},"B101255500081","B1","01","2","1","遠軽町立白滝小学校","紋別郡遠軽町白滝９４２番地","0990111","2020-12-22","","012041",""]
[{"$f":"INDEX(学校種!B:B,MATCH(D1485,学校種!A:A,0))","v":"小学校"},{"$f":"INDEX(_tmp2!B:B,MATCH(E1485,_tmp2!A:A,0))","v":"北海道"},"B101255500090","B1","01","2","2","遠軽町立東小学校望の岡分校","紋別郡遠軽町留岡３４","0990408","2020-12-22","","013023",""]
[{"$f":"INDEX(学校種!B:B,MATCH(D1486,学校種!A:A,0))","v":"小学校"},{"$f":"INDEX(_tmp2!B:B,MATCH(E1486,_tmp2!A:A,0))","v":"北海道"},"B101255900014","B1","01","2","1","湧別町立上湧別小学校","紋別郡湧別町上湧別屯田市街地９８番地の１","0996501","2020-12-22","","012045",""]
[{"$f":"INDEX(学校種!B:B,MATCH(D1487,学校種!A:A,0))","v":"小学校"},{"$f":"INDEX(_tmp2!B:B,MATCH(E1487,_tmp2!A:A,0))","v":"北海道"},"B101255900023","B1","01","2","1","湧別町立中湧別小学校","紋別郡湧別町中湧別南町９１４番地","0996328","2020-12-22","","012046",""]
[{"$f":"INDEX(学校種!B:B,MATCH(D1488,学校種!A:A,0))","v":"小学校"},{"$f":"INDEX(_tmp2!B:B,MATCH(E1488,_tmp2!A:A,0))","v":"北海道"},"B101255900032","B1","01","2","1","湧別町立開盛小学校","紋別郡湧別町開盛４６２番地の３","0996503","2020-12-22","","012047",""]
[{"$f":"INDEX(学校種!B:B,MATCH(D1489,学校種!A:A,0))","v":"小学校"},{"$f":"INDEX(_tmp2!B:B,MATCH(E1489,_tmp2!A:A,0))","v":"北海道"},"B101255900041","B1","01","2","1","湧別町立富美小学校","紋別郡湧別町富美５６８","0996505","2020-12-22","","012048",""]
[{"$f":"INDEX(学校種!B:B,MATCH(D1490,学校種!A:A,0))","v":"小学校"},{"$f":"INDEX(_tmp2!B:B,MATCH(E1490,_tmp2!A:A,0))","v":"北海道"},"B101255900050","B1","01","2","1","湧別町立湧別小学校","紋別郡湧別町錦町２１１番地１","0996414","2020-12-22","","012052",""]
[{"$f":"INDEX(学校種!B:B,MATCH(D1491,学校種!A:A,0))","v":"小学校"},{"$f":"INDEX(_tmp2!B:B,MATCH(E1491,_tmp2!A:A,0))","v":"北海道"},"B101256000011","B1","01","2","1","滝上町立滝上小学校","紋別郡滝上町滝見町","0995603","2020-12-22","","012065",""]
[{"$f":"INDEX(学校種!B:B,MATCH(D1492,学校種!A:A,0))","v":"小学校"},{"$f":"INDEX(_tmp2!B:B,MATCH(E1492,_tmp2!A:A,0))","v":"北海道"},"B101256000020","B1","01","2","1","滝上町立濁川小学校","紋別郡滝上町新町","0995543","2020-12-22","","012066",""]
[{"$f":"INDEX(学校種!B:B,MATCH(D1493,学校種!A:A,0))","v":"小学校"},{"$f":"INDEX(_tmp2!B:B,MATCH(E1493,_tmp2!A:A,0))","v":"北海道"},"B101256100010","B1","01","2","1","興部町立興部小学校","紋別郡興部町字興部緑ヶ丘７４５番地","0981605","2020-12-22","","012079",""]
[{"$f":"INDEX(学校種!B:B,MATCH(D1494,学校種!A:A,0))","v":"小学校"},{"$f":"INDEX(_tmp2!B:B,MATCH(E1494,_tmp2!A:A,0))","v":"北海道"},"B101256100029","B1","01","2","1","興部町立沙留小学校","紋別郡興部町字沙留３２８番地","0981941","2020-12-22","","012080",""]
[{"$f":"INDEX(学校種!B:B,MATCH(D1495,学校種!A:A,0))","v":"小学校"},{"$f":"INDEX(_tmp2!B:B,MATCH(E1495,_tmp2!A:A,0))","v":"北海道"},"B101256200019","B1","01","2","1","西興部村立西興部小学校","紋別郡西興部村字西興部２４０番地","0981501","2020-12-22","","012090",""]
[{"$f":"INDEX(学校種!B:B,MATCH(D1496,学校種!A:A,0))","v":"小学校"},{"$f":"INDEX(_tmp2!B:B,MATCH(E1496,_tmp2!A:A,0))","v":"北海道"},"B101256200028","B1","01","2","1","西興部村立上興部小学校","紋別郡西興部村字上興部１１２番地","0981421","2020-12-22","","012091",""]
[{"$f":"INDEX(学校種!B:B,MATCH(D1497,学校種!A:A,0))","v":"小学校"},{"$f":"INDEX(_tmp2!B:B,MATCH(E1497,_tmp2!A:A,0))","v":"北海道"},"B101256300018","B1","01","2","1","雄武町立雄武小学校","紋別郡雄武町字雄武１３８１番地の１","0981702","2020-12-22","","012098",""]
[{"$f":"INDEX(学校種!B:B,MATCH(D1498,学校種!A:A,0))","v":"小学校"},{"$f":"INDEX(_tmp2!B:B,MATCH(E1498,_tmp2!A:A,0))","v":"北海道"},"B101256300027","B1","01","2","1","雄武町立沢木小学校","紋別郡雄武町字沢木５３３番地","0981703","2020-12-22","","012099",""]
[{"$f":"INDEX(学校種!B:B,MATCH(D1499,学校種!A:A,0))","v":"小学校"},{"$f":"INDEX(_tmp2!B:B,MATCH(E1499,_tmp2!A:A,0))","v":"北海道"},"B101256300036","B1","01","2","1","雄武町立豊丘小学校","紋別郡雄武町字北雄武４０１番地の１","0981701","2020-12-22","","012101",""]
[{"$f":"INDEX(学校種!B:B,MATCH(D1500,学校種!A:A,0))","v":"小学校"},{"$f":"INDEX(_tmp2!B:B,MATCH(E1500,_tmp2!A:A,0))","v":"北海道"},"B101256300045","B1","01","2","1","雄武町立共栄小学校","紋別郡雄武町字南雄武１０３９番地","0981705","2020-12-22","","012107",""]
[{"$f":"INDEX(学校種!B:B,MATCH(D1501,学校種!A:A,0))","v":"小学校"},{"$f":"INDEX(_tmp2!B:B,MATCH(E1501,_tmp2!A:A,0))","v":"北海道"},"B101256400017","B1","01","2","1","大空町立東藻琴小学校","網走郡大空町東藻琴２６８番地","0993214","2020-12-22","","011884",""]
[{"$f":"INDEX(学校種!B:B,MATCH(D1502,学校種!A:A,0))","v":"小学校"},{"$f":"INDEX(_tmp2!B:B,MATCH(E1502,_tmp2!A:A,0))","v":"北海道"},"B101256400026","B1","01","2","1","大空町立女満別小学校","網走郡大空町女満別夕陽台１丁目１番１号","0992355","2020-12-22","","011893",""]
[{"$f":"INDEX(学校種!B:B,MATCH(D1503,学校種!A:A,0))","v":"小学校"},{"$f":"INDEX(_tmp2!B:B,MATCH(E1503,_tmp2!A:A,0))","v":"北海道"},"B101257100018","B1","01","2","1","豊浦町立豊浦小学校","虻田郡豊浦町字船見町９５番地３","0495416","2020-12-22","","012112",""]
[{"$f":"INDEX(学校種!B:B,MATCH(D1504,学校種!A:A,0))","v":"小学校"},{"$f":"INDEX(_tmp2!B:B,MATCH(E1504,_tmp2!A:A,0))","v":"北海道"},"B101257100027","B1","01","2","1","豊浦町立大岸小学校","虻田郡豊浦町字大岸９１番地１","0495332","2020-12-22","","012113",""]
[{"$f":"INDEX(学校種!B:B,MATCH(D1505,学校種!A:A,0))","v":"小学校"},{"$f":"INDEX(_tmp2!B:B,MATCH(E1505,_tmp2!A:A,0))","v":"北海道"},"B101257100036","B1","01","2","1","豊浦町立礼文華小学校","虻田郡豊浦町字礼文華１６９番地","0495333","2020-12-22","","012115",""]
[{"$f":"INDEX(学校種!B:B,MATCH(D1506,学校種!A:A,0))","v":"小学校"},{"$f":"INDEX(_tmp2!B:B,MATCH(E1506,_tmp2!A:A,0))","v":"北海道"},"B101257500014","B1","01","2","1","壮瞥町立壮瞥小学校","有珠郡壮瞥町字滝之町４３５番地","0520101","2020-12-22","","012147",""]
[{"$f":"INDEX(学校種!B:B,MATCH(D1507,学校種!A:A,0))","v":"小学校"},{"$f":"INDEX(_tmp2!B:B,MATCH(E1507,_tmp2!A:A,0))","v":"北海道"},"B101257500023","B1","01","2","1","壮瞥町立久保内小学校","有珠郡壮瞥町字南久保内１４２","0520116","2020-12-22","","012148",""]
[{"$f":"INDEX(学校種!B:B,MATCH(D1508,学校種!A:A,0))","v":"小学校"},{"$f":"INDEX(_tmp2!B:B,MATCH(E1508,_tmp2!A:A,0))","v":"北海道"},"B101257800011","B1","01","2","1","白老町立白老小学校","白老郡白老町緑丘３丁目１番１号","0590908","2020-12-22","","012179",""]
[{"$f":"INDEX(学校種!B:B,MATCH(D1509,学校種!A:A,0))","v":"小学校"},{"$f":"INDEX(_tmp2!B:B,MATCH(E1509,_tmp2!A:A,0))","v":"北海道"},"B101257800020","B1","01","2","1","白老町立虎杖小学校","白老郡白老町字虎杖浜１７４","0590641","2020-12-22","","012180",""]
[{"$f":"INDEX(学校種!B:B,MATCH(D1510,学校種!A:A,0))","v":"小学校"},{"$f":"INDEX(_tmp2!B:B,MATCH(E1510,_tmp2!A:A,0))","v":"北海道"},"B101257800039","B1","01","2","1","白老町立竹浦小学校","白老郡白老町字竹浦１９８番地８","0590642","2020-12-22","","012181",""]
[{"$f":"INDEX(学校種!B:B,MATCH(D1511,学校種!A:A,0))","v":"小学校"},{"$f":"INDEX(_tmp2!B:B,MATCH(E1511,_tmp2!A:A,0))","v":"北海道"},"B101257800048","B1","01","2","1","白老町立萩野小学校","白老郡白老町字萩野２８６番地","0590922","2020-12-22","","012183",""]
[{"$f":"INDEX(学校種!B:B,MATCH(D1512,学校種!A:A,0))","v":"小学校"},{"$f":"INDEX(_tmp2!B:B,MATCH(E1512,_tmp2!A:A,0))","v":"北海道"},"B101258100016","B1","01","2","1","厚真町立厚真中央小学校","勇払郡厚真町字新町９２番地","0591623","2020-12-22","","012199",""]
[{"$f":"INDEX(学校種!B:B,MATCH(D1513,学校種!A:A,0))","v":"小学校"},{"$f":"INDEX(_tmp2!B:B,MATCH(E1513,_tmp2!A:A,0))","v":"北海道"},"B101258100025","B1","01","2","1","厚真町立上厚真小学校","勇払郡厚真町字厚和５９番地の３","0591748","2020-12-22","","012200",""]
[{"$f":"INDEX(学校種!B:B,MATCH(D1514,学校種!A:A,0))","v":"小学校"},{"$f":"INDEX(_tmp2!B:B,MATCH(E1514,_tmp2!A:A,0))","v":"北海道"},"B101258400013","B1","01","2","1","洞爺湖町立虻田小学校","虻田郡洞爺湖町栄町５９番地","0495604","2020-12-22","","012125",""]
[{"$f":"INDEX(学校種!B:B,MATCH(D1515,学校種!A:A,0))","v":"小学校"},{"$f":"INDEX(_tmp2!B:B,MATCH(E1515,_tmp2!A:A,0))","v":"北海道"},"B101258400022","B1","01","2","1","洞爺湖町立洞爺湖温泉小学校","虻田郡洞爺湖町月浦４４－４０","0495723","2020-12-22","","012126",""]
[{"$f":"INDEX(学校種!B:B,MATCH(D1516,学校種!A:A,0))","v":"小学校"},{"$f":"INDEX(_tmp2!B:B,MATCH(E1516,_tmp2!A:A,0))","v":"北海道"},"B101258400031","B1","01","2","1","洞爺湖町立とうや小学校","虻田郡洞爺湖町洞爺町５９－７","0495802","2020-12-22","","012131",""]
[{"$f":"INDEX(学校種!B:B,MATCH(D1517,学校種!A:A,0))","v":"小学校"},{"$f":"INDEX(_tmp2!B:B,MATCH(E1517,_tmp2!A:A,0))","v":"北海道"},"B101258500012","B1","01","2","1","安平町立早来小学校","勇払郡安平町早来大町１５９番地","0591501","2020-12-22","","012188",""]
[{"$f":"INDEX(学校種!B:B,MATCH(D1518,学校種!A:A,0))","v":"小学校"},{"$f":"INDEX(_tmp2!B:B,MATCH(E1518,_tmp2!A:A,0))","v":"北海道"},"B101258500021","B1","01","2","1","安平町立安平小学校","勇払郡安平町安平１６６","0591511","2020-12-22","","012189",""]
[{"$f":"INDEX(学校種!B:B,MATCH(D1519,学校種!A:A,0))","v":"小学校"},{"$f":"INDEX(_tmp2!B:B,MATCH(E1519,_tmp2!A:A,0))","v":"北海道"},"B101258500030","B1","01","2","1","安平町立遠浅小学校","勇払郡安平町遠浅５８０番地","0591433","2020-12-22","","012190",""]
[{"$f":"INDEX(学校種!B:B,MATCH(D1520,学校種!A:A,0))","v":"小学校"},{"$f":"INDEX(_tmp2!B:B,MATCH(E1520,_tmp2!A:A,0))","v":"北海道"},"B101258500049","B1","01","2","1","安平町立追分小学校","勇払郡安平町追分柏が丘２２番地","0591921","2020-12-22","","012196",""]
[{"$f":"INDEX(学校種!B:B,MATCH(D1521,学校種!A:A,0))","v":"小学校"},{"$f":"INDEX(_tmp2!B:B,MATCH(E1521,_tmp2!A:A,0))","v":"北海道"},"B101258600011","B1","01","2","1","むかわ町立鵡川中央小学校","勇払郡むかわ町花園１丁目１４番地","0540022","2020-12-22","","012212",""]
[{"$f":"INDEX(学校種!B:B,MATCH(D1522,学校種!A:A,0))","v":"小学校"},{"$f":"INDEX(_tmp2!B:B,MATCH(E1522,_tmp2!A:A,0))","v":"北海道"},"B101258600020","B1","01","2","1","むかわ町立宮戸小学校","勇払郡むかわ町宮戸２８０番地２","0540016","2020-12-22","","012213",""]
[{"$f":"INDEX(学校種!B:B,MATCH(D1523,学校種!A:A,0))","v":"小学校"},{"$f":"INDEX(_tmp2!B:B,MATCH(E1523,_tmp2!A:A,0))","v":"北海道"},"B101258600039","B1","01","2","1","むかわ町立穂別小学校","勇払郡むかわ町穂別１１４－２","0540211","2020-12-22","","012221",""]
[{"$f":"INDEX(学校種!B:B,MATCH(D1524,学校種!A:A,0))","v":"小学校"},{"$f":"INDEX(_tmp2!B:B,MATCH(E1524,_tmp2!A:A,0))","v":"北海道"},"B101260100012","B1","01","2","1","日高町立日高小学校","沙流郡日高町松風町２丁目２５４－１","0552307","2020-12-22","","012233",""]
[{"$f":"INDEX(学校種!B:B,MATCH(D1525,学校種!A:A,0))","v":"小学校"},{"$f":"INDEX(_tmp2!B:B,MATCH(E1525,_tmp2!A:A,0))","v":"北海道"},"B101260100021","B1","01","2","1","日高町立厚賀小学校","沙流郡日高町字厚賀町１３９番地の２","0592243","2020-12-22","","012255",""]
[{"$f":"INDEX(学校種!B:B,MATCH(D1526,学校種!A:A,0))","v":"小学校"},{"$f":"INDEX(_tmp2!B:B,MATCH(E1526,_tmp2!A:A,0))","v":"北海道"},"B101260100030","B1","01","2","1","日高町立富川小学校","沙流郡日高町富川東１丁目１番１号","0550004","2020-12-22","","012257",""]
[{"$f":"INDEX(学校種!B:B,MATCH(D1527,学校種!A:A,0))","v":"小学校"},{"$f":"INDEX(_tmp2!B:B,MATCH(E1527,_tmp2!A:A,0))","v":"北海道"},"B101260100049","B1","01","2","1","日高町立門別小学校","沙流郡日高町字緑町２６","0592122","2020-12-22","","012260",""]
[{"$f":"INDEX(学校種!B:B,MATCH(D1528,学校種!A:A,0))","v":"小学校"},{"$f":"INDEX(_tmp2!B:B,MATCH(E1528,_tmp2!A:A,0))","v":"北海道"},"B101260200011","B1","01","2","1","平取町立平取小学校","沙流郡平取町本町１０５番地６","0550107","2020-12-22","","012239",""]
[{"$f":"INDEX(学校種!B:B,MATCH(D1529,学校種!A:A,0))","v":"小学校"},{"$f":"INDEX(_tmp2!B:B,MATCH(E1529,_tmp2!A:A,0))","v":"北海道"},"B101260200020","B1","01","2","1","平取町立紫雲古津小学校","沙流郡平取町字紫雲古津３８番地５","0550104","2020-12-22","","012240",""]
[{"$f":"INDEX(学校種!B:B,MATCH(D1530,学校種!A:A,0))","v":"小学校"},{"$f":"INDEX(_tmp2!B:B,MATCH(E1530,_tmp2!A:A,0))","v":"北海道"},"B101260200039","B1","01","2","1","平取町立振内小学校","沙流郡平取町振内町３０－２","0550411","2020-12-22","","012241",""]
[{"$f":"INDEX(学校種!B:B,MATCH(D1531,学校種!A:A,0))","v":"小学校"},{"$f":"INDEX(_tmp2!B:B,MATCH(E1531,_tmp2!A:A,0))","v":"北海道"},"B101260200048","B1","01","2","1","平取町立貫気別小学校","沙流郡平取町字貫気別９１－６","0550321","2020-12-22","","012244",""]
[{"$f":"INDEX(学校種!B:B,MATCH(D1532,学校種!A:A,0))","v":"小学校"},{"$f":"INDEX(_tmp2!B:B,MATCH(E1532,_tmp2!A:A,0))","v":"北海道"},"B101260200057","B1","01","2","1","平取町立二風谷小学校","沙流郡平取町字二風谷２８－１","0550101","2020-12-22","","012249",""]
[{"$f":"INDEX(学校種!B:B,MATCH(D1533,学校種!A:A,0))","v":"小学校"},{"$f":"INDEX(_tmp2!B:B,MATCH(E1533,_tmp2!A:A,0))","v":"北海道"},"B101260400019","B1","01","2","1","新冠町立新冠小学校","新冠郡新冠町字中央町２０－１","0592402","2020-12-22","","012271",""]
[{"$f":"INDEX(学校種!B:B,MATCH(D1534,学校種!A:A,0))","v":"小学校"},{"$f":"INDEX(_tmp2!B:B,MATCH(E1534,_tmp2!A:A,0))","v":"北海道"},"B101260400028","B1","01","2","1","新冠町立朝日小学校","新冠郡新冠町字朝日２９５番地の４","0592414","2020-12-22","","012276",""]
[{"$f":"INDEX(学校種!B:B,MATCH(D1535,学校種!A:A,0))","v":"小学校"},{"$f":"INDEX(_tmp2!B:B,MATCH(E1535,_tmp2!A:A,0))","v":"北海道"},"B101260700016","B1","01","2","1","浦河町立浦河小学校","浦河郡浦河町常盤町１４","0570012","2020-12-22","","012301",""]
[{"$f":"INDEX(学校種!B:B,MATCH(D1536,学校種!A:A,0))","v":"小学校"},{"$f":"INDEX(_tmp2!B:B,MATCH(E1536,_tmp2!A:A,0))","v":"北海道"},"B101260700025","B1","01","2","1","浦河町立堺町小学校","浦河郡浦河町堺町西３丁目４－１","0570034","2020-12-22","","012302",""]
[{"$f":"INDEX(学校種!B:B,MATCH(D1537,学校種!A:A,0))","v":"小学校"},{"$f":"INDEX(_tmp2!B:B,MATCH(E1537,_tmp2!A:A,0))","v":"北海道"},"B101260700034","B1","01","2","1","浦河町立荻伏小学校","浦河郡浦河町荻伏町３５６","0593451","2020-12-22","","012310",""]
[{"$f":"INDEX(学校種!B:B,MATCH(D1538,学校種!A:A,0))","v":"小学校"},{"$f":"INDEX(_tmp2!B:B,MATCH(E1538,_tmp2!A:A,0))","v":"北海道"},"B101260700043","B1","01","2","1","浦河町立浦河東部小学校","浦河郡浦河町字西幌別３３","0570002","2020-12-22","","012313",""]
[{"$f":"INDEX(学校種!B:B,MATCH(D1539,学校種!A:A,0))","v":"小学校"},{"$f":"INDEX(_tmp2!B:B,MATCH(E1539,_tmp2!A:A,0))","v":"北海道"},"B101260800015","B1","01","2","1","様似町立様似小学校","様似郡様似町栄町２１５","0580023","2020-12-22","","012315",""]
[{"$f":"INDEX(学校種!B:B,MATCH(D1540,学校種!A:A,0))","v":"小学校"},{"$f":"INDEX(_tmp2!B:B,MATCH(E1540,_tmp2!A:A,0))","v":"北海道"},"B101260900014","B1","01","2","1","えりも町立えりも小学校","幌泉郡えりも町字新浜２４２－１","0580203","2020-12-22","","012324",""]
[{"$f":"INDEX(学校種!B:B,MATCH(D1541,学校種!A:A,0))","v":"小学校"},{"$f":"INDEX(_tmp2!B:B,MATCH(E1541,_tmp2!A:A,0))","v":"北海道"},"B101260900023","B1","01","2","9","えりも町立東洋小学校","幌泉郡えりも町字東洋１８９番地","0580343","2020-12-22","2021-05-27","012325","B101260900014"]
[{"$f":"INDEX(学校種!B:B,MATCH(D1542,学校種!A:A,0))","v":"小学校"},{"$f":"INDEX(_tmp2!B:B,MATCH(E1542,_tmp2!A:A,0))","v":"北海道"},"B101260900032","B1","01","2","1","えりも町立笛舞小学校","幌泉郡えりも町字笛舞４７８－１","0580206","2020-12-22","","012326",""]
[{"$f":"INDEX(学校種!B:B,MATCH(D1543,学校種!A:A,0))","v":"小学校"},{"$f":"INDEX(_tmp2!B:B,MATCH(E1543,_tmp2!A:A,0))","v":"北海道"},"B101260900041","B1","01","2","1","えりも町立えりも岬小学校","幌泉郡えりも町字えりも岬２３９番地","0580342","2020-12-22","","012328",""]
[{"$f":"INDEX(学校種!B:B,MATCH(D1544,学校種!A:A,0))","v":"小学校"},{"$f":"INDEX(_tmp2!B:B,MATCH(E1544,_tmp2!A:A,0))","v":"北海道"},"B101260900050","B1","01","2","1","えりも町立庶野小学校","幌泉郡えりも町字庶野５０６番地の３","0580421","2020-12-22","","012330",""]
[{"$f":"INDEX(学校種!B:B,MATCH(D1545,学校種!A:A,0))","v":"小学校"},{"$f":"INDEX(_tmp2!B:B,MATCH(E1545,_tmp2!A:A,0))","v":"北海道"},"B101261000011","B1","01","2","1","新ひだか町立高静小学校","日高郡新ひだか町静内こうせい町２丁目９番１号","0560005","2020-12-22","","012282",""]
[{"$f":"INDEX(学校種!B:B,MATCH(D1546,学校種!A:A,0))","v":"小学校"},{"$f":"INDEX(_tmp2!B:B,MATCH(E1546,_tmp2!A:A,0))","v":"北海道"},"B101261000020","B1","01","2","1","新ひだか町立静内小学校","日高郡新ひだか町静内緑町３丁目５番１号","0560004","2020-12-22","","012283",""]
[{"$f":"INDEX(学校種!B:B,MATCH(D1547,学校種!A:A,0))","v":"小学校"},{"$f":"INDEX(_tmp2!B:B,MATCH(E1547,_tmp2!A:A,0))","v":"北海道"},"B101261000039","B1","01","2","1","新ひだか町立東静内小学校","日高郡新ひだか町東静内３２８","0592561","2020-12-22","","012285",""]
[{"$f":"INDEX(学校種!B:B,MATCH(D1548,学校種!A:A,0))","v":"小学校"},{"$f":"INDEX(_tmp2!B:B,MATCH(E1548,_tmp2!A:A,0))","v":"北海道"},"B101261000048","B1","01","2","1","新ひだか町立山手小学校","日高郡新ひだか町静内山手町５丁目１６番１号","0560024","2020-12-22","","012291",""]
[{"$f":"INDEX(学校種!B:B,MATCH(D1549,学校種!A:A,0))","v":"小学校"},{"$f":"INDEX(_tmp2!B:B,MATCH(E1549,_tmp2!A:A,0))","v":"北海道"},"B101261000057","B1","01","2","1","新ひだか町立三石小学校","日高郡新ひだか町三石本町２２２番地の１","0593108","2020-12-22","","012293",""]
[{"$f":"INDEX(学校種!B:B,MATCH(D1550,学校種!A:A,0))","v":"小学校"},{"$f":"INDEX(_tmp2!B:B,MATCH(E1550,_tmp2!A:A,0))","v":"北海道"},"B101261000066","B1","01","2","1","新ひだか町立桜丘小学校","日高郡新ひだか町静内田原５６２－２","0560144","2020-12-22","","012929",""]
[{"$f":"INDEX(学校種!B:B,MATCH(D1551,学校種!A:A,0))","v":"小学校"},{"$f":"INDEX(_tmp2!B:B,MATCH(E1551,_tmp2!A:A,0))","v":"北海道"},"B101263100016","B1","01","2","1","音更町立音更小学校","河東郡音更町元町１番地","0800103","2020-12-22","","012334",""]
[{"$f":"INDEX(学校種!B:B,MATCH(D1552,学校種!A:A,0))","v":"小学校"},{"$f":"INDEX(_tmp2!B:B,MATCH(E1552,_tmp2!A:A,0))","v":"北海道"},"B101263100025","B1","01","2","1","音更町立下音更小学校","河東郡音更町木野西通１２丁目８","0800302","2020-12-22","","012335",""]
[{"$f":"INDEX(学校種!B:B,MATCH(D1553,学校種!A:A,0))","v":"小学校"},{"$f":"INDEX(_tmp2!B:B,MATCH(E1553,_tmp2!A:A,0))","v":"北海道"},"B101263100034","B1","01","2","1","音更町立駒場小学校","河東郡音更町駒場北町２番地","0800564","2020-12-22","","012336",""]
[{"$f":"INDEX(学校種!B:B,MATCH(D1554,学校種!A:A,0))","v":"小学校"},{"$f":"INDEX(_tmp2!B:B,MATCH(E1554,_tmp2!A:A,0))","v":"北海道"},"B101263100043","B1","01","2","1","音更町立下士幌小学校","河東郡音更町字下士幌北２線東５１番地","0800272","2020-12-22","","012337",""]
[{"$f":"INDEX(学校種!B:B,MATCH(D1555,学校種!A:A,0))","v":"小学校"},{"$f":"INDEX(_tmp2!B:B,MATCH(E1555,_tmp2!A:A,0))","v":"北海道"},"B101263100052","B1","01","2","1","音更町立西中音更小学校","河東郡音更町字西中音更北１５線７番地","0800577","2020-12-22","","012338",""]
[{"$f":"INDEX(学校種!B:B,MATCH(D1556,学校種!A:A,0))","v":"小学校"},{"$f":"INDEX(_tmp2!B:B,MATCH(E1556,_tmp2!A:A,0))","v":"北海道"},"B101263100061","B1","01","2","1","音更町立東士狩小学校","河東郡音更町字東士狩西７線５２番地","0800343","2020-12-22","","012340",""]
[{"$f":"INDEX(学校種!B:B,MATCH(D1557,学校種!A:A,0))","v":"小学校"},{"$f":"INDEX(_tmp2!B:B,MATCH(E1557,_tmp2!A:A,0))","v":"北海道"},"B101263100070","B1","01","2","1","音更町立東士幌小学校","河東郡音更町字東音更東４線１５番地","0800562","2020-12-22","","012341",""]
[{"$f":"INDEX(学校種!B:B,MATCH(D1558,学校種!A:A,0))","v":"小学校"},{"$f":"INDEX(_tmp2!B:B,MATCH(E1558,_tmp2!A:A,0))","v":"北海道"},"B101263100089","B1","01","2","9","音更町立南中音更小学校","河東郡音更町字南中音更北４線８番地","0800576","2020-12-22","2021-05-27","012352","B101263100034"]
[{"$f":"INDEX(学校種!B:B,MATCH(D1559,学校種!A:A,0))","v":"小学校"},{"$f":"INDEX(_tmp2!B:B,MATCH(E1559,_tmp2!A:A,0))","v":"北海道"},"B101263100098","B1","01","2","1","音更町立木野東小学校","河東郡音更町木野東通５丁目６番地","0800112","2020-12-22","","012353",""]
[{"$f":"INDEX(学校種!B:B,MATCH(D1560,学校種!A:A,0))","v":"小学校"},{"$f":"INDEX(_tmp2!B:B,MATCH(E1560,_tmp2!A:A,0))","v":"北海道"},"B101263100105","B1","01","2","1","音更町立柳町小学校","河東郡音更町柳町南区１４番地","0800123","2020-12-22","","012354",""]
[{"$f":"INDEX(学校種!B:B,MATCH(D1561,学校種!A:A,0))","v":"小学校"},{"$f":"INDEX(_tmp2!B:B,MATCH(E1561,_tmp2!A:A,0))","v":"北海道"},"B101263100114","B1","01","2","1","音更町立緑陽台小学校","河東郡音更町字下音更北７線西７番地","0800342","2020-12-22","","012892",""]
[{"$f":"INDEX(学校種!B:B,MATCH(D1562,学校種!A:A,0))","v":"小学校"},{"$f":"INDEX(_tmp2!B:B,MATCH(E1562,_tmp2!A:A,0))","v":"北海道"},"B101263100123","B1","01","2","1","音更町立鈴蘭小学校","河東郡音更町すずらん台北町２丁目１番地","0800361","2020-12-22","","012953",""]
[{"$f":"INDEX(学校種!B:B,MATCH(D1563,学校種!A:A,0))","v":"小学校"},{"$f":"INDEX(_tmp2!B:B,MATCH(E1563,_tmp2!A:A,0))","v":"北海道"},"B101263200015","B1","01","2","1","士幌町立士幌小学校","河東郡士幌町字士幌西２線１６４番地","0801200","2020-12-22","","012355",""]
[{"$f":"INDEX(学校種!B:B,MATCH(D1564,学校種!A:A,0))","v":"小学校"},{"$f":"INDEX(_tmp2!B:B,MATCH(E1564,_tmp2!A:A,0))","v":"北海道"},"B101263200024","B1","01","2","1","士幌町立中士幌小学校","河東郡士幌町字中士幌西２線８８番地","0801189","2020-12-22","","012356",""]
[{"$f":"INDEX(学校種!B:B,MATCH(D1565,学校種!A:A,0))","v":"小学校"},{"$f":"INDEX(_tmp2!B:B,MATCH(E1565,_tmp2!A:A,0))","v":"北海道"},"B101263200033","B1","01","2","1","士幌町立上居辺小学校","河東郡士幌町字士幌東７線１７５番地","0801200","2020-12-22","","012357",""]
[{"$f":"INDEX(学校種!B:B,MATCH(D1566,学校種!A:A,0))","v":"小学校"},{"$f":"INDEX(_tmp2!B:B,MATCH(E1566,_tmp2!A:A,0))","v":"北海道"},"B101263300014","B1","01","2","1","上士幌町立上士幌小学校","河東郡上士幌町字上士幌東１線２３３番地","0801408","2020-12-22","","012366",""]
[{"$f":"INDEX(学校種!B:B,MATCH(D1567,学校種!A:A,0))","v":"小学校"},{"$f":"INDEX(_tmp2!B:B,MATCH(E1567,_tmp2!A:A,0))","v":"北海道"},"B101263400013","B1","01","2","1","鹿追町立鹿追小学校","河東郡鹿追町東町３丁目２番地","0810342","2020-12-22","","012380",""]
[{"$f":"INDEX(学校種!B:B,MATCH(D1568,学校種!A:A,0))","v":"小学校"},{"$f":"INDEX(_tmp2!B:B,MATCH(E1568,_tmp2!A:A,0))","v":"北海道"},"B101263400022","B1","01","2","1","鹿追町立瓜幕小学校","河東郡鹿追町瓜幕東３丁目８番地","0810342","2020-12-22","","012381",""]
[{"$f":"INDEX(学校種!B:B,MATCH(D1569,学校種!A:A,0))","v":"小学校"},{"$f":"INDEX(_tmp2!B:B,MATCH(E1569,_tmp2!A:A,0))","v":"北海道"},"B101263400031","B1","01","2","1","鹿追町立通明小学校","河東郡鹿追町中瓜幕西２０線２５番地","0810345","2020-12-22","","012382",""]
[{"$f":"INDEX(学校種!B:B,MATCH(D1570,学校種!A:A,0))","v":"小学校"},{"$f":"INDEX(_tmp2!B:B,MATCH(E1570,_tmp2!A:A,0))","v":"北海道"},"B101263400040","B1","01","2","1","鹿追町立上幌内小学校","河東郡鹿追町上幌内４線南３番地１７","0810226","2020-12-22","","012383",""]
[{"$f":"INDEX(学校種!B:B,MATCH(D1571,学校種!A:A,0))","v":"小学校"},{"$f":"INDEX(_tmp2!B:B,MATCH(E1571,_tmp2!A:A,0))","v":"北海道"},"B101263400059","B1","01","2","1","鹿追町立笹川小学校","河東郡鹿追町笹川北９線１０番地３１","0810204","2020-12-22","","012384",""]
[{"$f":"INDEX(学校種!B:B,MATCH(D1572,学校種!A:A,0))","v":"小学校"},{"$f":"INDEX(_tmp2!B:B,MATCH(E1572,_tmp2!A:A,0))","v":"北海道"},"B101263500012","B1","01","2","1","新得町立新得小学校","上川郡新得町西２条北１丁目１番地","0810022","2020-12-22","","012391",""]
[{"$f":"INDEX(学校種!B:B,MATCH(D1573,学校種!A:A,0))","v":"小学校"},{"$f":"INDEX(_tmp2!B:B,MATCH(E1573,_tmp2!A:A,0))","v":"北海道"},"B101263500021","B1","01","2","1","新得町立屈足南小学校","上川郡新得町屈足柏町２丁目６３番地","0810161","2020-12-22","","012393",""]
[{"$f":"INDEX(学校種!B:B,MATCH(D1574,学校種!A:A,0))","v":"小学校"},{"$f":"INDEX(_tmp2!B:B,MATCH(E1574,_tmp2!A:A,0))","v":"北海道"},"B101263500030","B1","01","2","1","新得町立富村牛小学校","上川郡新得町字屈足トムラウシ２５７番地","0810154","2020-12-22","","012398",""]
[{"$f":"INDEX(学校種!B:B,MATCH(D1575,学校種!A:A,0))","v":"小学校"},{"$f":"INDEX(_tmp2!B:B,MATCH(E1575,_tmp2!A:A,0))","v":"北海道"},"B101263600011","B1","01","2","1","清水町立清水小学校","上川郡清水町字清水第２線７１番地","0890103","2020-12-22","","012403",""]
[{"$f":"INDEX(学校種!B:B,MATCH(D1576,学校種!A:A,0))","v":"小学校"},{"$f":"INDEX(_tmp2!B:B,MATCH(E1576,_tmp2!A:A,0))","v":"北海道"},"B101263600020","B1","01","2","1","清水町立御影小学校","上川郡清水町御影東２条３丁目１","0890372","2020-12-22","","012413",""]
[{"$f":"INDEX(学校種!B:B,MATCH(D1577,学校種!A:A,0))","v":"小学校"},{"$f":"INDEX(_tmp2!B:B,MATCH(E1577,_tmp2!A:A,0))","v":"北海道"},"B101263700010","B1","01","2","1","芽室町立芽室小学校","河西郡芽室町東４条南２丁目１番地","0820054","2020-12-22","","012420",""]
[{"$f":"INDEX(学校種!B:B,MATCH(D1578,学校種!A:A,0))","v":"小学校"},{"$f":"INDEX(_tmp2!B:B,MATCH(E1578,_tmp2!A:A,0))","v":"北海道"},"B101263700029","B1","01","2","1","芽室町立上美生小学校","河西郡芽室町上美生４線３８番地","0820384","2020-12-22","","012432",""]
[{"$f":"INDEX(学校種!B:B,MATCH(D1579,学校種!A:A,0))","v":"小学校"},{"$f":"INDEX(_tmp2!B:B,MATCH(E1579,_tmp2!A:A,0))","v":"北海道"},"B101263700038","B1","01","2","1","芽室町立芽室西小学校","河西郡芽室町西３条６丁目２番地","0820033","2020-12-22","","012437",""]
[{"$f":"INDEX(学校種!B:B,MATCH(D1580,学校種!A:A,0))","v":"小学校"},{"$f":"INDEX(_tmp2!B:B,MATCH(E1580,_tmp2!A:A,0))","v":"北海道"},"B101263700047","B1","01","2","1","芽室町立芽室南小学校","河西郡芽室町新生南６線２５番地","0820081","2020-12-22","","012946",""]
[{"$f":"INDEX(学校種!B:B,MATCH(D1581,学校種!A:A,0))","v":"小学校"},{"$f":"INDEX(_tmp2!B:B,MATCH(E1581,_tmp2!A:A,0))","v":"北海道"},"B101263800019","B1","01","2","1","中札内村立中札内小学校","河西郡中札内村東１条南７丁目２","0891341","2020-12-22","","012439",""]
[{"$f":"INDEX(学校種!B:B,MATCH(D1582,学校種!A:A,0))","v":"小学校"},{"$f":"INDEX(_tmp2!B:B,MATCH(E1582,_tmp2!A:A,0))","v":"北海道"},"B101263800028","B1","01","2","1","中札内村立上札内小学校","河西郡中札内村上札内１３４番地","0891371","2020-12-22","","012440",""]
[{"$f":"INDEX(学校種!B:B,MATCH(D1583,学校種!A:A,0))","v":"小学校"},{"$f":"INDEX(_tmp2!B:B,MATCH(E1583,_tmp2!A:A,0))","v":"北海道"},"B101263900018","B1","01","2","1","更別村立更別小学校","河西郡更別村緑町","0891532","2020-12-22","","012442",""]
[{"$f":"INDEX(学校種!B:B,MATCH(D1584,学校種!A:A,0))","v":"小学校"},{"$f":"INDEX(_tmp2!B:B,MATCH(E1584,_tmp2!A:A,0))","v":"北海道"},"B101263900027","B1","01","2","1","更別村立上更別小学校","河西郡更別村字上更別南１３線１０３番地","0891581","2020-12-22","","012444",""]
[{"$f":"INDEX(学校種!B:B,MATCH(D1585,学校種!A:A,0))","v":"小学校"},{"$f":"INDEX(_tmp2!B:B,MATCH(E1585,_tmp2!A:A,0))","v":"北海道"},"B101264100014","B1","01","2","1","大樹町立大樹小学校","広尾郡大樹町東本通５４番地","0892134","2020-12-22","","012456",""]
[{"$f":"INDEX(学校種!B:B,MATCH(D1586,学校種!A:A,0))","v":"小学校"},{"$f":"INDEX(_tmp2!B:B,MATCH(E1586,_tmp2!A:A,0))","v":"北海道"},"B101264200013","B1","01","2","1","広尾町立広尾小学校","広尾郡広尾町公園通南４丁目９番地","0892622","2020-12-22","","012472",""]
[{"$f":"INDEX(学校種!B:B,MATCH(D1587,学校種!A:A,0))","v":"小学校"},{"$f":"INDEX(_tmp2!B:B,MATCH(E1587,_tmp2!A:A,0))","v":"北海道"},"B101264200022","B1","01","2","1","広尾町立豊似小学校","広尾郡広尾町字紋別１８線５０番地","0892446","2020-12-22","","012473",""]
[{"$f":"INDEX(学校種!B:B,MATCH(D1588,学校種!A:A,0))","v":"小学校"},{"$f":"INDEX(_tmp2!B:B,MATCH(E1588,_tmp2!A:A,0))","v":"北海道"},"B101264300012","B1","01","2","1","幕別町立幕別小学校","中川郡幕別町緑町２６","0890614","2020-12-22","","012479",""]
[{"$f":"INDEX(学校種!B:B,MATCH(D1589,学校種!A:A,0))","v":"小学校"},{"$f":"INDEX(_tmp2!B:B,MATCH(E1589,_tmp2!A:A,0))","v":"北海道"},"B101264300021","B1","01","2","1","幕別町立糠内小学校","中川郡幕別町字糠内２７２番地","0890786","2020-12-22","","012480",""]
[{"$f":"INDEX(学校種!B:B,MATCH(D1590,学校種!A:A,0))","v":"小学校"},{"$f":"INDEX(_tmp2!B:B,MATCH(E1590,_tmp2!A:A,0))","v":"北海道"},"B101264300030","B1","01","2","1","幕別町立古舞小学校","中川郡幕別町字古舞６９４番地","0890576","2020-12-22","","012482",""]
[{"$f":"INDEX(学校種!B:B,MATCH(D1591,学校種!A:A,0))","v":"小学校"},{"$f":"INDEX(_tmp2!B:B,MATCH(E1591,_tmp2!A:A,0))","v":"北海道"},"B101264300049","B1","01","2","1","幕別町立明倫小学校","中川郡幕別町明倫３８番地","0890787","2020-12-22","","012491",""]
[{"$f":"INDEX(学校種!B:B,MATCH(D1592,学校種!A:A,0))","v":"小学校"},{"$f":"INDEX(_tmp2!B:B,MATCH(E1592,_tmp2!A:A,0))","v":"北海道"},"B101264300058","B1","01","2","1","幕別町立途別小学校","中川郡幕別町字途別２２２番地１","0890573","2020-12-22","","012494",""]
[{"$f":"INDEX(学校種!B:B,MATCH(D1593,学校種!A:A,0))","v":"小学校"},{"$f":"INDEX(_tmp2!B:B,MATCH(E1593,_tmp2!A:A,0))","v":"北海道"},"B101264300067","B1","01","2","1","幕別町立白人小学校","中川郡幕別町札内青葉町１８５番地","0890541","2020-12-22","","012495",""]
[{"$f":"INDEX(学校種!B:B,MATCH(D1594,学校種!A:A,0))","v":"小学校"},{"$f":"INDEX(_tmp2!B:B,MATCH(E1594,_tmp2!A:A,0))","v":"北海道"},"B101264300076","B1","01","2","1","幕別町立札内南小学校","中川郡幕別町札内文京町２９番地","0890553","2020-12-22","","012496",""]
[{"$f":"INDEX(学校種!B:B,MATCH(D1595,学校種!A:A,0))","v":"小学校"},{"$f":"INDEX(_tmp2!B:B,MATCH(E1595,_tmp2!A:A,0))","v":"北海道"},"B101264300085","B1","01","2","1","幕別町立札内北小学校","中川郡幕別町札内北町１１７番地の１","0890534","2020-12-22","","012873",""]
[{"$f":"INDEX(学校種!B:B,MATCH(D1596,学校種!A:A,0))","v":"小学校"},{"$f":"INDEX(_tmp2!B:B,MATCH(E1596,_tmp2!A:A,0))","v":"北海道"},"B101264300094","B1","01","2","1","幕別町立忠類小学校","中川郡幕別町忠類白銀町４２６番地","0891701","2020-12-22","","012450",""]
[{"$f":"INDEX(学校種!B:B,MATCH(D1597,学校種!A:A,0))","v":"小学校"},{"$f":"INDEX(_tmp2!B:B,MATCH(E1597,_tmp2!A:A,0))","v":"北海道"},"B101264400011","B1","01","2","1","池田町立池田小学校","中川郡池田町字西３条７丁目３番地","0830023","2020-12-22","","012498",""]
[{"$f":"INDEX(学校種!B:B,MATCH(D1598,学校種!A:A,0))","v":"小学校"},{"$f":"INDEX(_tmp2!B:B,MATCH(E1598,_tmp2!A:A,0))","v":"北海道"},"B101264400020","B1","01","2","1","池田町立高島小学校","中川郡池田町字高島１３７番地の３","0893152","2020-12-22","","012499",""]
[{"$f":"INDEX(学校種!B:B,MATCH(D1599,学校種!A:A,0))","v":"小学校"},{"$f":"INDEX(_tmp2!B:B,MATCH(E1599,_tmp2!A:A,0))","v":"北海道"},"B101264400039","B1","01","2","1","池田町立利別小学校","中川郡池田町字利別西町２０番地","0830031","2020-12-22","","012861",""]
[{"$f":"INDEX(学校種!B:B,MATCH(D1600,学校種!A:A,0))","v":"小学校"},{"$f":"INDEX(_tmp2!B:B,MATCH(E1600,_tmp2!A:A,0))","v":"北海道"},"B101264500010","B1","01","2","1","豊頃町立大津小学校","中川郡豊頃町大津幸町１０１番地","0895462","2020-12-22","","012520",""]
[{"$f":"INDEX(学校種!B:B,MATCH(D1601,学校種!A:A,0))","v":"小学校"},{"$f":"INDEX(_tmp2!B:B,MATCH(E1601,_tmp2!A:A,0))","v":"北海道"},"B101264500029","B1","01","2","1","豊頃町立豊頃小学校","中川郡豊頃町中央若葉町２２番地","0895235","2020-12-22","","013016",""]
[{"$f":"INDEX(学校種!B:B,MATCH(D1602,学校種!A:A,0))","v":"小学校"},{"$f":"INDEX(_tmp2!B:B,MATCH(E1602,_tmp2!A:A,0))","v":"北海道"},"B101264600019","B1","01","2","1","本別町立本別中央小学校","中川郡本別町弥生町２２番地１","0893308","2020-12-22","","012526",""]
[{"$f":"INDEX(学校種!B:B,MATCH(D1603,学校種!A:A,0))","v":"小学校"},{"$f":"INDEX(_tmp2!B:B,MATCH(E1603,_tmp2!A:A,0))","v":"北海道"},"B101264600028","B1","01","2","1","本別町立勇足小学校","中川郡本別町勇足１５０番地１","0893282","2020-12-22","","012527",""]
[{"$f":"INDEX(学校種!B:B,MATCH(D1604,学校種!A:A,0))","v":"小学校"},{"$f":"INDEX(_tmp2!B:B,MATCH(E1604,_tmp2!A:A,0))","v":"北海道"},"B101264600037","B1","01","2","1","本別町立仙美里小学校","中川郡本別町仙美里元町８０番地","0893664","2020-12-22","","012528",""]
[{"$f":"INDEX(学校種!B:B,MATCH(D1605,学校種!A:A,0))","v":"小学校"},{"$f":"INDEX(_tmp2!B:B,MATCH(E1605,_tmp2!A:A,0))","v":"北海道"},"B101264700018","B1","01","2","1","足寄町立大誉地小学校","足寄郡足寄町大誉地本町２－５","0894252","2020-12-22","","012545",""]
[{"$f":"INDEX(学校種!B:B,MATCH(D1606,学校種!A:A,0))","v":"小学校"},{"$f":"INDEX(_tmp2!B:B,MATCH(E1606,_tmp2!A:A,0))","v":"北海道"},"B101264700027","B1","01","2","1","足寄町立芽登小学校","足寄郡足寄町芽登本町１９６番地","0893871","2020-12-22","","012547",""]
[{"$f":"INDEX(学校種!B:B,MATCH(D1607,学校種!A:A,0))","v":"小学校"},{"$f":"INDEX(_tmp2!B:B,MATCH(E1607,_tmp2!A:A,0))","v":"北海道"},"B101264700036","B1","01","2","1","足寄町立螺湾小学校","足寄郡足寄町螺湾本町６５番地","0893966","2020-12-22","","012553",""]
[{"$f":"INDEX(学校種!B:B,MATCH(D1608,学校種!A:A,0))","v":"小学校"},{"$f":"INDEX(_tmp2!B:B,MATCH(E1608,_tmp2!A:A,0))","v":"北海道"},"B101264700045","B1","01","2","1","足寄町立足寄小学校","足寄郡足寄町南６条３丁目１番地","0893716","2020-12-22","","012999",""]
[{"$f":"INDEX(学校種!B:B,MATCH(D1609,学校種!A:A,0))","v":"小学校"},{"$f":"INDEX(_tmp2!B:B,MATCH(E1609,_tmp2!A:A,0))","v":"北海道"},"B101264800017","B1","01","2","1","陸別町立陸別小学校","足寄郡陸別町字陸別原野基線３３１番地","0894312","2020-12-22","","012568",""]
[{"$f":"INDEX(学校種!B:B,MATCH(D1610,学校種!A:A,0))","v":"小学校"},{"$f":"INDEX(_tmp2!B:B,MATCH(E1610,_tmp2!A:A,0))","v":"北海道"},"B101264900016","B1","01","2","1","浦幌町立浦幌小学校","十勝郡浦幌町字住吉町１番地の１","0895606","2020-12-22","","012577",""]
[{"$f":"INDEX(学校種!B:B,MATCH(D1611,学校種!A:A,0))","v":"小学校"},{"$f":"INDEX(_tmp2!B:B,MATCH(E1611,_tmp2!A:A,0))","v":"北海道"},"B101264900025","B1","01","2","1","浦幌町立上浦幌中央小学校","十勝郡浦幌町字宝生１７１番地","0893578","2020-12-22","","012928",""]
[{"$f":"INDEX(学校種!B:B,MATCH(D1612,学校種!A:A,0))","v":"小学校"},{"$f":"INDEX(_tmp2!B:B,MATCH(E1612,_tmp2!A:A,0))","v":"北海道"},"B101266100019","B1","01","2","1","釧路町立別保小学校","釧路郡釧路町別保１０丁目２４番地１","0880604","2020-12-22","","012600",""]
[{"$f":"INDEX(学校種!B:B,MATCH(D1613,学校種!A:A,0))","v":"小学校"},{"$f":"INDEX(_tmp2!B:B,MATCH(E1613,_tmp2!A:A,0))","v":"北海道"},"B101266100028","B1","01","2","1","釧路町立遠矢小学校","釧路郡釧路町南陽台１０丁目１番地","0882152","2020-12-22","","012603",""]
[{"$f":"INDEX(学校種!B:B,MATCH(D1614,学校種!A:A,0))","v":"小学校"},{"$f":"INDEX(_tmp2!B:B,MATCH(E1614,_tmp2!A:A,0))","v":"北海道"},"B101266100037","B1","01","2","1","釧路町立昆布森小学校","釧路郡釧路町昆布森３丁目１０６番地","0852272","2020-12-22","","012605",""]
[{"$f":"INDEX(学校種!B:B,MATCH(D1615,学校種!A:A,0))","v":"小学校"},{"$f":"INDEX(_tmp2!B:B,MATCH(E1615,_tmp2!A:A,0))","v":"北海道"},"B101266100046","B1","01","2","1","釧路町立知方学小学校","釧路郡釧路町大字仙鳳趾村字知方学４１番地","0880832","2020-12-22","","012608",""]
[{"$f":"INDEX(学校種!B:B,MATCH(D1616,学校種!A:A,0))","v":"小学校"},{"$f":"INDEX(_tmp2!B:B,MATCH(E1616,_tmp2!A:A,0))","v":"北海道"},"B101266100055","B1","01","2","1","釧路町立富原小学校","釧路郡釧路町富原２番地","0880618","2020-12-22","","012610",""]
[{"$f":"INDEX(学校種!B:B,MATCH(D1617,学校種!A:A,0))","v":"小学校"},{"$f":"INDEX(_tmp2!B:B,MATCH(E1617,_tmp2!A:A,0))","v":"北海道"},"B101266200018","B1","01","2","1","厚岸町立厚岸小学校","厚岸郡厚岸町梅香町２丁目３番地","0881115","2020-12-22","","012612",""]
[{"$f":"INDEX(学校種!B:B,MATCH(D1618,学校種!A:A,0))","v":"小学校"},{"$f":"INDEX(_tmp2!B:B,MATCH(E1618,_tmp2!A:A,0))","v":"北海道"},"B101266200027","B1","01","2","1","厚岸町立真龍小学校","厚岸郡厚岸町字真栄２丁目１番地","0881151","2020-12-22","","012613",""]
[{"$f":"INDEX(学校種!B:B,MATCH(D1619,学校種!A:A,0))","v":"小学校"},{"$f":"INDEX(_tmp2!B:B,MATCH(E1619,_tmp2!A:A,0))","v":"北海道"},"B101266200036","B1","01","2","1","厚岸町立太田小学校","厚岸郡厚岸町太田４の通り３２番地１","0881144","2020-12-22","","012616",""]
[{"$f":"INDEX(学校種!B:B,MATCH(D1620,学校種!A:A,0))","v":"小学校"},{"$f":"INDEX(_tmp2!B:B,MATCH(E1620,_tmp2!A:A,0))","v":"北海道"},"B101266200045","B1","01","2","1","厚岸町立高知小学校","厚岸郡厚岸町若松３０７番地","0881101","2020-12-22","","012622",""]
[{"$f":"INDEX(学校種!B:B,MATCH(D1621,学校種!A:A,0))","v":"小学校"},{"$f":"INDEX(_tmp2!B:B,MATCH(E1621,_tmp2!A:A,0))","v":"北海道"},"B101266300017","B1","01","2","1","浜中町立霧多布小学校","厚岸郡浜中町霧多布東４条１丁目１３番地","0881514","2020-12-22","","012628",""]
[{"$f":"INDEX(学校種!B:B,MATCH(D1622,学校種!A:A,0))","v":"小学校"},{"$f":"INDEX(_tmp2!B:B,MATCH(E1622,_tmp2!A:A,0))","v":"北海道"},"B101266300026","B1","01","2","1","浜中町立散布小学校","厚岸郡浜中町火散布１３３番地","0881536","2020-12-22","","012630",""]
[{"$f":"INDEX(学校種!B:B,MATCH(D1623,学校種!A:A,0))","v":"小学校"},{"$f":"INDEX(_tmp2!B:B,MATCH(E1623,_tmp2!A:A,0))","v":"北海道"},"B101266300035","B1","01","2","1","浜中町立浜中小学校","厚岸郡浜中町浜中桜西７６番地","0881485","2020-12-22","","012636",""]
[{"$f":"INDEX(学校種!B:B,MATCH(D1624,学校種!A:A,0))","v":"小学校"},{"$f":"INDEX(_tmp2!B:B,MATCH(E1624,_tmp2!A:A,0))","v":"北海道"},"B101266300044","B1","01","2","1","浜中町立茶内小学校","厚岸郡浜中町茶内橋北西３９番地","0881366","2020-12-22","","012637",""]
[{"$f":"INDEX(学校種!B:B,MATCH(D1625,学校種!A:A,0))","v":"小学校"},{"$f":"INDEX(_tmp2!B:B,MATCH(E1625,_tmp2!A:A,0))","v":"北海道"},"B101266400016","B1","01","2","1","標茶町立標茶小学校","川上郡標茶町川上１丁目２４番地","0882312","2020-12-22","","012646",""]
[{"$f":"INDEX(学校種!B:B,MATCH(D1626,学校種!A:A,0))","v":"小学校"},{"$f":"INDEX(_tmp2!B:B,MATCH(E1626,_tmp2!A:A,0))","v":"北海道"},"B101266400025","B1","01","2","1","標茶町立磯分内小学校","川上郡標茶町字熊牛原野１５線西３番地１","0883145","2020-12-22","","012650",""]
[{"$f":"INDEX(学校種!B:B,MATCH(D1627,学校種!A:A,0))","v":"小学校"},{"$f":"INDEX(_tmp2!B:B,MATCH(E1627,_tmp2!A:A,0))","v":"北海道"},"B101266400034","B1","01","2","1","標茶町立虹別小学校","川上郡標茶町字虹別原野６７線１０８番地","0882461","2020-12-22","","012654",""]
[{"$f":"INDEX(学校種!B:B,MATCH(D1628,学校種!A:A,0))","v":"小学校"},{"$f":"INDEX(_tmp2!B:B,MATCH(E1628,_tmp2!A:A,0))","v":"北海道"},"B101266400043","B1","01","2","1","標茶町立中茶安別小学校","川上郡標茶町中チャンベツ原野基線３５番地２","0882322","2020-12-22","","012659",""]
[{"$f":"INDEX(学校種!B:B,MATCH(D1629,学校種!A:A,0))","v":"小学校"},{"$f":"INDEX(_tmp2!B:B,MATCH(E1629,_tmp2!A:A,0))","v":"北海道"},"B101266400052","B1","01","2","1","標茶町立塘路小学校","川上郡標茶町塘路８番地１","0882261","2020-12-22","","012665",""]
[{"$f":"INDEX(学校種!B:B,MATCH(D1630,学校種!A:A,0))","v":"小学校"},{"$f":"INDEX(_tmp2!B:B,MATCH(E1630,_tmp2!A:A,0))","v":"北海道"},"B101266400061","B1","01","2","1","標茶町立沼幌小学校","川上郡標茶町字ヌマオロ原野６０番地１","0851385","2020-12-22","","012671",""]
[{"$f":"INDEX(学校種!B:B,MATCH(D1631,学校種!A:A,0))","v":"小学校"},{"$f":"INDEX(_tmp2!B:B,MATCH(E1631,_tmp2!A:A,0))","v":"北海道"},"B101266500015","B1","01","2","1","弟子屈町立弟子屈小学校","川上郡弟子屈町中央２－１－１","0883211","2020-12-22","","012676",""]
[{"$f":"INDEX(学校種!B:B,MATCH(D1632,学校種!A:A,0))","v":"小学校"},{"$f":"INDEX(_tmp2!B:B,MATCH(E1632,_tmp2!A:A,0))","v":"北海道"},"B101266500024","B1","01","2","1","弟子屈町立川湯小学校","川上郡弟子屈町川湯温泉４丁目１５番１０号","0883465","2020-12-22","","012677",""]
[{"$f":"INDEX(学校種!B:B,MATCH(D1633,学校種!A:A,0))","v":"小学校"},{"$f":"INDEX(_tmp2!B:B,MATCH(E1633,_tmp2!A:A,0))","v":"北海道"},"B101266500033","B1","01","2","1","弟子屈町立和琴小学校","川上郡弟子屈町字屈斜路２６０番地","0883341","2020-12-22","","012678",""]
[{"$f":"INDEX(学校種!B:B,MATCH(D1634,学校種!A:A,0))","v":"小学校"},{"$f":"INDEX(_tmp2!B:B,MATCH(E1634,_tmp2!A:A,0))","v":"北海道"},"B101266500042","B1","01","2","1","弟子屈町立美留和小学校","川上郡弟子屈町字美留和５５線８２番地","0883331","2020-12-22","","012679",""]
[{"$f":"INDEX(学校種!B:B,MATCH(D1635,学校種!A:A,0))","v":"小学校"},{"$f":"INDEX(_tmp2!B:B,MATCH(E1635,_tmp2!A:A,0))","v":"北海道"},"B101266500051","B1","01","2","9","弟子屈町立奥春別小学校","川上郡弟子屈町字奥春別２２線西１０号６１番地","0883228","2020-12-22","2021-05-27","012681","B101266500015"]
[{"$f":"INDEX(学校種!B:B,MATCH(D1636,学校種!A:A,0))","v":"小学校"},{"$f":"INDEX(_tmp2!B:B,MATCH(E1636,_tmp2!A:A,0))","v":"北海道"},"B101266700013","B1","01","2","1","鶴居村立鶴居小学校","阿寒郡鶴居村鶴居西２丁目２７番地","0851200","2020-12-22","","012699",""]
[{"$f":"INDEX(学校種!B:B,MATCH(D1637,学校種!A:A,0))","v":"小学校"},{"$f":"INDEX(_tmp2!B:B,MATCH(E1637,_tmp2!A:A,0))","v":"北海道"},"B101266700022","B1","01","2","1","鶴居村立幌呂小学校","阿寒郡鶴居村幌呂東４－１４","0851142","2020-12-22","","012700",""]
[{"$f":"INDEX(学校種!B:B,MATCH(D1638,学校種!A:A,0))","v":"小学校"},{"$f":"INDEX(_tmp2!B:B,MATCH(E1638,_tmp2!A:A,0))","v":"北海道"},"B101266700031","B1","01","2","1","鶴居村立下幌呂小学校","阿寒郡鶴居村字幌呂原野４５５番２","0851144","2020-12-22","","012705",""]
[{"$f":"INDEX(学校種!B:B,MATCH(D1639,学校種!A:A,0))","v":"小学校"},{"$f":"INDEX(_tmp2!B:B,MATCH(E1639,_tmp2!A:A,0))","v":"北海道"},"B101266800012","B1","01","2","1","白糠町立白糠小学校","白糠郡白糠町西２条南３丁目１番地１","0880312","2020-12-22","","012711",""]
[{"$f":"INDEX(学校種!B:B,MATCH(D1640,学校種!A:A,0))","v":"小学校"},{"$f":"INDEX(_tmp2!B:B,MATCH(E1640,_tmp2!A:A,0))","v":"北海道"},"B101266800021","B1","01","2","1","白糠町立茶路小学校","白糠郡白糠町マカヨ１番地１","0880300","2020-12-22","","012714",""]
[{"$f":"INDEX(学校種!B:B,MATCH(D1641,学校種!A:A,0))","v":"小学校"},{"$f":"INDEX(_tmp2!B:B,MATCH(E1641,_tmp2!A:A,0))","v":"北海道"},"B101269100013","B1","01","2","1","別海町立野付小学校","野付郡別海町尾岱沼潮見町２１７番地","0861644","2020-12-22","","012734",""]
[{"$f":"INDEX(学校種!B:B,MATCH(D1642,学校種!A:A,0))","v":"小学校"},{"$f":"INDEX(_tmp2!B:B,MATCH(E1642,_tmp2!A:A,0))","v":"北海道"},"B101269100022","B1","01","2","1","別海町立上風連小学校","野付郡別海町上風連１８１番地の４","0860131","2020-12-22","","012735",""]
[{"$f":"INDEX(学校種!B:B,MATCH(D1643,学校種!A:A,0))","v":"小学校"},{"$f":"INDEX(_tmp2!B:B,MATCH(E1643,_tmp2!A:A,0))","v":"北海道"},"B101269100031","B1","01","2","1","別海町立中西別小学校","野付郡別海町中西別光町４８番地","0860343","2020-12-22","","012741",""]
[{"$f":"INDEX(学校種!B:B,MATCH(D1644,学校種!A:A,0))","v":"小学校"},{"$f":"INDEX(_tmp2!B:B,MATCH(E1644,_tmp2!A:A,0))","v":"北海道"},"B101269100040","B1","01","2","1","別海町立別海中央小学校","野付郡別海町別海旭町４３１番地","0860202","2020-12-22","","012745",""]
[{"$f":"INDEX(学校種!B:B,MATCH(D1645,学校種!A:A,0))","v":"小学校"},{"$f":"INDEX(_tmp2!B:B,MATCH(E1645,_tmp2!A:A,0))","v":"北海道"},"B101269100059","B1","01","2","1","別海町立中春別小学校","野付郡別海町中春別西町３４","0860653","2020-12-22","","012749",""]
[{"$f":"INDEX(学校種!B:B,MATCH(D1646,学校種!A:A,0))","v":"小学校"},{"$f":"INDEX(_tmp2!B:B,MATCH(E1646,_tmp2!A:A,0))","v":"北海道"},"B101269100068","B1","01","2","1","別海町立西春別小学校","野付郡別海町西春別宮園町５０番地","0882575","2020-12-22","","012756",""]
[{"$f":"INDEX(学校種!B:B,MATCH(D1647,学校種!A:A,0))","v":"小学校"},{"$f":"INDEX(_tmp2!B:B,MATCH(E1647,_tmp2!A:A,0))","v":"北海道"},"B101269100077","B1","01","2","1","別海町立上西春別小学校","野付郡別海町西春別駅前西町２番地","0882564","2020-12-22","","012758",""]
[{"$f":"INDEX(学校種!B:B,MATCH(D1648,学校種!A:A,0))","v":"小学校"},{"$f":"INDEX(_tmp2!B:B,MATCH(E1648,_tmp2!A:A,0))","v":"北海道"},"B101269100086","B1","01","2","1","別海町立上春別小学校","野付郡別海町上春別１２３","0882725","2020-12-22","","012763",""]
[{"$f":"INDEX(学校種!B:B,MATCH(D1649,学校種!A:A,0))","v":"小学校"},{"$f":"INDEX(_tmp2!B:B,MATCH(E1649,_tmp2!A:A,0))","v":"北海道"},"B101269200012","B1","01","2","1","中標津町立中標津小学校","標津郡中標津町西９条北１丁目２番地","0861129","2020-12-22","","012770",""]
[{"$f":"INDEX(学校種!B:B,MATCH(D1650,学校種!A:A,0))","v":"小学校"},{"$f":"INDEX(_tmp2!B:B,MATCH(E1650,_tmp2!A:A,0))","v":"北海道"},"B101269200021","B1","01","2","1","中標津町立中標津東小学校","標津郡中標津町東７条南７丁目１５番地","0861007","2020-12-22","","012784",""]
[{"$f":"INDEX(学校種!B:B,MATCH(D1651,学校種!A:A,0))","v":"小学校"},{"$f":"INDEX(_tmp2!B:B,MATCH(E1651,_tmp2!A:A,0))","v":"北海道"},"B101269200030","B1","01","2","1","中標津町立丸山小学校","標津郡中標津町丸山２丁目４番地","0861164","2020-12-22","","012893",""]
[{"$f":"INDEX(学校種!B:B,MATCH(D1652,学校種!A:A,0))","v":"小学校"},{"$f":"INDEX(_tmp2!B:B,MATCH(E1652,_tmp2!A:A,0))","v":"北海道"},"B101269300011","B1","01","2","1","標津町立標津小学校","標津郡標津町南１条西３丁目１番地４ー１号","0861651","2020-12-22","","012786",""]
[{"$f":"INDEX(学校種!B:B,MATCH(D1653,学校種!A:A,0))","v":"小学校"},{"$f":"INDEX(_tmp2!B:B,MATCH(E1653,_tmp2!A:A,0))","v":"北海道"},"B101269300020","B1","01","2","1","標津町立川北小学校","標津郡標津町字川北基線１３番地１","0861451","2020-12-22","","012792",""]
[{"$f":"INDEX(学校種!B:B,MATCH(D1654,学校種!A:A,0))","v":"小学校"},{"$f":"INDEX(_tmp2!B:B,MATCH(E1654,_tmp2!A:A,0))","v":"北海道"},"B101269400010","B1","01","2","1","羅臼町立羅臼小学校","目梨郡羅臼町本町４１番地","0861833","2020-12-22","","012796",""]
[{"$f":"INDEX(学校種!B:B,MATCH(D1655,学校種!A:A,0))","v":"小学校"},{"$f":"INDEX(_tmp2!B:B,MATCH(E1655,_tmp2!A:A,0))","v":"北海道"},"B101269400029","B1","01","2","1","羅臼町立春松小学校","目梨郡羅臼町八木浜町１９０番地","0861841","2020-12-22","","012797",""]
[{"$f":"INDEX(学校種!B:B,MATCH(D1656,学校種!A:A,0))","v":"小学校"},{"$f":"INDEX(_tmp2!B:B,MATCH(E1656,_tmp2!A:A,0))","v":"北海道"},"B101310200014","B1","01","3","1","札幌三育小学校","札幌市北区拓北４条１丁目１４－１","0028064","2020-12-22","","010125",""]
[{"$f":"INDEX(学校種!B:B,MATCH(D1657,学校種!A:A,0))","v":"小学校"},{"$f":"INDEX(_tmp2!B:B,MATCH(E1657,_tmp2!A:A,0))","v":"北海道"},"B101320200503","B1","01","3","1","函館三育小学校","函館市桔梗５丁目２６番１号","0410808","2020-12-22","","012863",""]
[{"$f":"INDEX(学校種!B:B,MATCH(D1658,学校種!A:A,0))","v":"小学校"},{"$f":"INDEX(_tmp2!B:B,MATCH(E1658,_tmp2!A:A,0))","v":"北海道"},"B101357100105","B1","01","3","1","北海道シュタイナー学園いずみの学校初等部","虻田郡豊浦町東雲町８３番地２","0495411","2020-12-22","","013020",""]
[{"$f":"INDEX(学校種!B:B,MATCH(D1659,学校種!A:A,0))","v":"中学校"},{"$f":"INDEX(_tmp2!B:B,MATCH(E1659,_tmp2!A:A,0))","v":"北海道"},"C101110000018","C1","01","1","1","北海道教育大学附属札幌中学校","札幌市北区あいの里５－３－１－１１","0028075","2020-12-22","","013501",""]
[{"$f":"INDEX(学校種!B:B,MATCH(D1660,学校種!A:A,0))","v":"中学校"},{"$f":"INDEX(_tmp2!B:B,MATCH(E1660,_tmp2!A:A,0))","v":"北海道"},"C101110000027","C1","01","1","1","北海道教育大学附属函館中学校","函館市美原３－４８－６","0410806","2020-12-22","","013502",""]
[{"$f":"INDEX(学校種!B:B,MATCH(D1661,学校種!A:A,0))","v":"中学校"},{"$f":"INDEX(_tmp2!B:B,MATCH(E1661,_tmp2!A:A,0))","v":"北海道"},"C101110000036","C1","01","1","1","北海道教育大学附属旭川中学校","旭川市春光４－２－１－１","0700874","2020-12-22","","013503",""]
[{"$f":"INDEX(学校種!B:B,MATCH(D1662,学校種!A:A,0))","v":"中学校"},{"$f":"INDEX(_tmp2!B:B,MATCH(E1662,_tmp2!A:A,0))","v":"北海道"},"C101110000045","C1","01","1","9","北海道教育大学附属釧路中学校","釧路市桜ヶ岡７－１２－２","0850805","2020-12-22","2021-05-27","013504",""]
[{"$f":"INDEX(学校種!B:B,MATCH(D1663,学校種!A:A,0))","v":"中学校"},{"$f":"INDEX(_tmp2!B:B,MATCH(E1663,_tmp2!A:A,0))","v":"北海道"},"C101210110013","C1","01","2","1","札幌市立柏中学校","札幌市中央区南２１条西５丁目１番２号","0640921","2020-12-22","","013512",""]
[{"$f":"INDEX(学校種!B:B,MATCH(D1664,学校種!A:A,0))","v":"中学校"},{"$f":"INDEX(_tmp2!B:B,MATCH(E1664,_tmp2!A:A,0))","v":"北海道"},"C101210110022","C1","01","2","1","札幌市立中央中学校","札幌市中央区北４条東３丁目","0600034","2020-12-22","","013513",""]
[{"$f":"INDEX(学校種!B:B,MATCH(D1665,学校種!A:A,0))","v":"中学校"},{"$f":"INDEX(_tmp2!B:B,MATCH(E1665,_tmp2!A:A,0))","v":"北海道"},"C101210110031","C1","01","2","1","札幌市立中島中学校","札幌市中央区南１２条西７丁目２番１号","0640912","2020-12-22","","013514",""]
[{"$f":"INDEX(学校種!B:B,MATCH(D1666,学校種!A:A,0))","v":"中学校"},{"$f":"INDEX(_tmp2!B:B,MATCH(E1666,_tmp2!A:A,0))","v":"北海道"},"C101210110040","C1","01","2","1","札幌市立啓明中学校","札幌市中央区南９条西２２丁目２－１","0640809","2020-12-22","","013515",""]
[{"$f":"INDEX(学校種!B:B,MATCH(D1667,学校種!A:A,0))","v":"中学校"},{"$f":"INDEX(_tmp2!B:B,MATCH(E1667,_tmp2!A:A,0))","v":"北海道"},"C101210110059","C1","01","2","1","札幌市立向陵中学校","札幌市中央区北４条西２８丁目１－３０","0640824","2020-12-22","","013516",""]
[{"$f":"INDEX(学校種!B:B,MATCH(D1668,学校種!A:A,0))","v":"中学校"},{"$f":"INDEX(_tmp2!B:B,MATCH(E1668,_tmp2!A:A,0))","v":"北海道"},"C101210110068","C1","01","2","1","札幌市立伏見中学校","札幌市中央区南１６条西１７丁目１－３５","0640916","2020-12-22","","013534",""]
[{"$f":"INDEX(学校種!B:B,MATCH(D1669,学校種!A:A,0))","v":"中学校"},{"$f":"INDEX(_tmp2!B:B,MATCH(E1669,_tmp2!A:A,0))","v":"北海道"},"C101210110077","C1","01","2","1","札幌市立宮の森中学校","札幌市中央区宮の森１条１６丁目５番１号","0640951","2020-12-22","","015267",""]
[{"$f":"INDEX(学校種!B:B,MATCH(D1670,学校種!A:A,0))","v":"中学校"},{"$f":"INDEX(_tmp2!B:B,MATCH(E1670,_tmp2!A:A,0))","v":"北海道"},"C101210110086","C1","01","2","1","札幌市立山鼻中学校","札幌市中央区南２３条西１３丁目１－１","0640923","2020-12-22","","015296",""]
[{"$f":"INDEX(学校種!B:B,MATCH(D1671,学校種!A:A,0))","v":"中学校"},{"$f":"INDEX(_tmp2!B:B,MATCH(E1671,_tmp2!A:A,0))","v":"北海道"},"C101210220010","C1","01","2","1","札幌市立北辰中学校","札幌市北区北１８条西２丁目２－１","0010018","2020-12-22","","013511",""]
[{"$f":"INDEX(学校種!B:B,MATCH(D1672,学校種!A:A,0))","v":"中学校"},{"$f":"INDEX(_tmp2!B:B,MATCH(E1672,_tmp2!A:A,0))","v":"北海道"},"C101210220029","C1","01","2","1","札幌市立新琴似中学校","札幌市北区新琴似７条４丁目１－１","0010907","2020-12-22","","013529",""]
[{"$f":"INDEX(学校種!B:B,MATCH(D1673,学校種!A:A,0))","v":"中学校"},{"$f":"INDEX(_tmp2!B:B,MATCH(E1673,_tmp2!A:A,0))","v":"北海道"},"C101210220038","C1","01","2","1","札幌市立篠路中学校","札幌市北区篠路町篠路３６８番地","0028053","2020-12-22","","013531",""]
[{"$f":"INDEX(学校種!B:B,MATCH(D1674,学校種!A:A,0))","v":"中学校"},{"$f":"INDEX(_tmp2!B:B,MATCH(E1674,_tmp2!A:A,0))","v":"北海道"},"C101210220047","C1","01","2","1","札幌市立北陽中学校","札幌市北区北３４条西７丁目３－１","0010034","2020-12-22","","013550",""]
[{"$f":"INDEX(学校種!B:B,MATCH(D1675,学校種!A:A,0))","v":"中学校"},{"$f":"INDEX(_tmp2!B:B,MATCH(E1675,_tmp2!A:A,0))","v":"北海道"},"C101210220056","C1","01","2","1","札幌市立新琴似北中学校","札幌市北区新琴似１０条１０丁目２番４６号","0010910","2020-12-22","","013562",""]
[{"$f":"INDEX(学校種!B:B,MATCH(D1676,学校種!A:A,0))","v":"中学校"},{"$f":"INDEX(_tmp2!B:B,MATCH(E1676,_tmp2!A:A,0))","v":"北海道"},"C101210220065","C1","01","2","1","札幌市立新川中学校","札幌市北区新川４条３丁目１番１号","0010924","2020-12-22","","013566",""]
[{"$f":"INDEX(学校種!B:B,MATCH(D1677,学校種!A:A,0))","v":"中学校"},{"$f":"INDEX(_tmp2!B:B,MATCH(E1677,_tmp2!A:A,0))","v":"北海道"},"C101210220074","C1","01","2","1","札幌市立光陽中学校","札幌市北区新琴似４条１１丁目７番１号","0010904","2020-12-22","","013572",""]
[{"$f":"INDEX(学校種!B:B,MATCH(D1678,学校種!A:A,0))","v":"中学校"},{"$f":"INDEX(_tmp2!B:B,MATCH(E1678,_tmp2!A:A,0))","v":"北海道"},"C101210220083","C1","01","2","1","札幌市立太平中学校","札幌市北区太平８条２丁目１番１号","0028008","2020-12-22","","013573",""]
[{"$f":"INDEX(学校種!B:B,MATCH(D1679,学校種!A:A,0))","v":"中学校"},{"$f":"INDEX(_tmp2!B:B,MATCH(E1679,_tmp2!A:A,0))","v":"北海道"},"C101210220092","C1","01","2","1","札幌市立屯田中央中学校","札幌市北区屯田６条８丁目１－１","0020856","2020-12-22","","015230",""]
[{"$f":"INDEX(学校種!B:B,MATCH(D1680,学校種!A:A,0))","v":"中学校"},{"$f":"INDEX(_tmp2!B:B,MATCH(E1680,_tmp2!A:A,0))","v":"北海道"},"C101210220109","C1","01","2","1","札幌市立篠路西中学校","札幌市北区篠路６条２丁目１番５０号","0028026","2020-12-22","","015276",""]
[{"$f":"INDEX(学校種!B:B,MATCH(D1681,学校種!A:A,0))","v":"中学校"},{"$f":"INDEX(_tmp2!B:B,MATCH(E1681,_tmp2!A:A,0))","v":"北海道"},"C101210220118","C1","01","2","1","札幌市立新川西中学校","札幌市北区新川４条１５丁目１番１号","0010924","2020-12-22","","015277",""]
[{"$f":"INDEX(学校種!B:B,MATCH(D1682,学校種!A:A,0))","v":"中学校"},{"$f":"INDEX(_tmp2!B:B,MATCH(E1682,_tmp2!A:A,0))","v":"北海道"},"C101210220127","C1","01","2","1","札幌市立上篠路中学校","札幌市北区篠路町上篠路１１６番地１４","0028052","2020-12-22","","015288",""]
[{"$f":"INDEX(学校種!B:B,MATCH(D1683,学校種!A:A,0))","v":"中学校"},{"$f":"INDEX(_tmp2!B:B,MATCH(E1683,_tmp2!A:A,0))","v":"北海道"},"C101210220136","C1","01","2","1","札幌市立あいの里東中学校","札幌市北区あいの里２条７丁目１４番１号","0028072","2020-12-22","","015308",""]
[{"$f":"INDEX(学校種!B:B,MATCH(D1684,学校種!A:A,0))","v":"中学校"},{"$f":"INDEX(_tmp2!B:B,MATCH(E1684,_tmp2!A:A,0))","v":"北海道"},"C101210220145","C1","01","2","1","札幌市立屯田北中学校","札幌市北区屯田９条４丁目２－１","0020859","2020-12-22","","015326",""]
[{"$f":"INDEX(学校種!B:B,MATCH(D1685,学校種!A:A,0))","v":"中学校"},{"$f":"INDEX(_tmp2!B:B,MATCH(E1685,_tmp2!A:A,0))","v":"北海道"},"C101210220813","C1","01","2","2","札幌市立北辰中学校ひまわり分校","札幌市北区北１４条西５丁目","0600014","2020-12-22","","015347",""]
[{"$f":"INDEX(学校種!B:B,MATCH(D1686,学校種!A:A,0))","v":"中学校"},{"$f":"INDEX(_tmp2!B:B,MATCH(E1686,_tmp2!A:A,0))","v":"北海道"},"C101210330017","C1","01","2","1","札幌市立美香保中学校","札幌市東区北１７条東６丁目１番１号","0650017","2020-12-22","","013518",""]
[{"$f":"INDEX(学校種!B:B,MATCH(D1687,学校種!A:A,0))","v":"中学校"},{"$f":"INDEX(_tmp2!B:B,MATCH(E1687,_tmp2!A:A,0))","v":"北海道"},"C101210330026","C1","01","2","1","札幌市立北栄中学校","札幌市東区北３３条東２丁目１－１","0650033","2020-12-22","","013521",""]
[{"$f":"INDEX(学校種!B:B,MATCH(D1688,学校種!A:A,0))","v":"中学校"},{"$f":"INDEX(_tmp2!B:B,MATCH(E1688,_tmp2!A:A,0))","v":"北海道"},"C101210330035","C1","01","2","1","札幌市立札幌中学校","札幌市東区伏古８条１丁目１－２８","0070868","2020-12-22","","013530",""]
[{"$f":"INDEX(学校種!B:B,MATCH(D1689,学校種!A:A,0))","v":"中学校"},{"$f":"INDEX(_tmp2!B:B,MATCH(E1689,_tmp2!A:A,0))","v":"北海道"},"C101210330044","C1","01","2","1","札幌市立福移中学校","札幌市東区中沼町２４０番地","0070890","2020-12-22","","013532",""]
[{"$f":"INDEX(学校種!B:B,MATCH(D1690,学校種!A:A,0))","v":"中学校"},{"$f":"INDEX(_tmp2!B:B,MATCH(E1690,_tmp2!A:A,0))","v":"北海道"},"C101210330053","C1","01","2","1","札幌市立東栄中学校","札幌市東区本町１条７丁目２番７号","0650041","2020-12-22","","013533",""]
[{"$f":"INDEX(学校種!B:B,MATCH(D1691,学校種!A:A,0))","v":"中学校"},{"$f":"INDEX(_tmp2!B:B,MATCH(E1691,_tmp2!A:A,0))","v":"北海道"},"C101210330062","C1","01","2","1","札幌市立明園中学校","札幌市東区北２２条東１２丁目１番１号","0650022","2020-12-22","","013537",""]
[{"$f":"INDEX(学校種!B:B,MATCH(D1692,学校種!A:A,0))","v":"中学校"},{"$f":"INDEX(_tmp2!B:B,MATCH(E1692,_tmp2!A:A,0))","v":"北海道"},"C101210330071","C1","01","2","1","札幌市立栄中学校","札幌市東区北４６条東６丁目１番１号","0070846","2020-12-22","","013553",""]
[{"$f":"INDEX(学校種!B:B,MATCH(D1693,学校種!A:A,0))","v":"中学校"},{"$f":"INDEX(_tmp2!B:B,MATCH(E1693,_tmp2!A:A,0))","v":"北海道"},"C101210330080","C1","01","2","1","札幌市立札苗中学校","札幌市東区東苗穂７条１丁目１番１号","0070807","2020-12-22","","013567",""]
[{"$f":"INDEX(学校種!B:B,MATCH(D1694,学校種!A:A,0))","v":"中学校"},{"$f":"INDEX(_tmp2!B:B,MATCH(E1694,_tmp2!A:A,0))","v":"北海道"},"C101210330099","C1","01","2","1","札幌市立栄南中学校","札幌市東区北３６条東１６丁目１番１号","0070836","2020-12-22","","013569",""]
[{"$f":"INDEX(学校種!B:B,MATCH(D1695,学校種!A:A,0))","v":"中学校"},{"$f":"INDEX(_tmp2!B:B,MATCH(E1695,_tmp2!A:A,0))","v":"北海道"},"C101210330106","C1","01","2","1","札幌市立元町中学校","札幌市東区北２８条東２０丁目１番１号","0650028","2020-12-22","","015217",""]
[{"$f":"INDEX(学校種!B:B,MATCH(D1696,学校種!A:A,0))","v":"中学校"},{"$f":"INDEX(_tmp2!B:B,MATCH(E1696,_tmp2!A:A,0))","v":"北海道"},"C101210330115","C1","01","2","1","札幌市立丘珠中学校","札幌市東区丘珠町６７４番地","0070880","2020-12-22","","015261",""]
[{"$f":"INDEX(学校種!B:B,MATCH(D1697,学校種!A:A,0))","v":"中学校"},{"$f":"INDEX(_tmp2!B:B,MATCH(E1697,_tmp2!A:A,0))","v":"北海道"},"C101210330124","C1","01","2","1","札幌市立栄町中学校","札幌市東区北３６条東１４丁目１番１号","0070836","2020-12-22","","015268",""]
[{"$f":"INDEX(学校種!B:B,MATCH(D1698,学校種!A:A,0))","v":"中学校"},{"$f":"INDEX(_tmp2!B:B,MATCH(E1698,_tmp2!A:A,0))","v":"北海道"},"C101210330133","C1","01","2","1","札幌市立札苗北中学校","札幌市東区東苗穂１０条３丁目１６番２０号","0070810","2020-12-22","","015269",""]
[{"$f":"INDEX(学校種!B:B,MATCH(D1699,学校種!A:A,0))","v":"中学校"},{"$f":"INDEX(_tmp2!B:B,MATCH(E1699,_tmp2!A:A,0))","v":"北海道"},"C101210440014","C1","01","2","1","札幌市立幌東中学校","札幌市白石区菊水６条３丁目２－５１","0030806","2020-12-22","","013517",""]
[{"$f":"INDEX(学校種!B:B,MATCH(D1700,学校種!A:A,0))","v":"中学校"},{"$f":"INDEX(_tmp2!B:B,MATCH(E1700,_tmp2!A:A,0))","v":"北海道"},"C101210440023","C1","01","2","1","札幌市立白石中学校","札幌市白石区本郷通６丁目南１－１","0030024","2020-12-22","","013523",""]
[{"$f":"INDEX(学校種!B:B,MATCH(D1701,学校種!A:A,0))","v":"中学校"},{"$f":"INDEX(_tmp2!B:B,MATCH(E1701,_tmp2!A:A,0))","v":"北海道"},"C101210440041","C1","01","2","1","札幌市立日章中学校","札幌市白石区東札幌４条５丁目１番１号","0030004","2020-12-22","","013535",""]
[{"$f":"INDEX(学校種!B:B,MATCH(D1702,学校種!A:A,0))","v":"中学校"},{"$f":"INDEX(_tmp2!B:B,MATCH(E1702,_tmp2!A:A,0))","v":"北海道"},"C101210440050","C1","01","2","1","札幌市立柏丘中学校","札幌市白石区平和通８丁目北３番１号","0030029","2020-12-22","","013538",""]
[{"$f":"INDEX(学校種!B:B,MATCH(D1703,学校種!A:A,0))","v":"中学校"},{"$f":"INDEX(_tmp2!B:B,MATCH(E1703,_tmp2!A:A,0))","v":"北海道"},"C101210440069","C1","01","2","1","札幌市立東白石中学校","札幌市白石区南郷通１５丁目北４番１号","0030023","2020-12-22","","013551",""]
[{"$f":"INDEX(学校種!B:B,MATCH(D1704,学校種!A:A,0))","v":"中学校"},{"$f":"INDEX(_tmp2!B:B,MATCH(E1704,_tmp2!A:A,0))","v":"北海道"},"C101210440078","C1","01","2","1","札幌市立北白石中学校","札幌市白石区北郷６条３丁目５番１号","0030836","2020-12-22","","013559",""]
[{"$f":"INDEX(学校種!B:B,MATCH(D1705,学校種!A:A,0))","v":"中学校"},{"$f":"INDEX(_tmp2!B:B,MATCH(E1705,_tmp2!A:A,0))","v":"北海道"},"C101210440087","C1","01","2","1","札幌市立北都中学校","札幌市白石区川下７４９番地５６","0030869","2020-12-22","","013574",""]
[{"$f":"INDEX(学校種!B:B,MATCH(D1706,学校種!A:A,0))","v":"中学校"},{"$f":"INDEX(_tmp2!B:B,MATCH(E1706,_tmp2!A:A,0))","v":"北海道"},"C101210440096","C1","01","2","1","札幌市立米里中学校","札幌市白石区米里１条４丁目５番１号","0030871","2020-12-22","","015278",""]
[{"$f":"INDEX(学校種!B:B,MATCH(D1707,学校種!A:A,0))","v":"中学校"},{"$f":"INDEX(_tmp2!B:B,MATCH(E1707,_tmp2!A:A,0))","v":"北海道"},"C101210550010","C1","01","2","1","札幌市立八条中学校","札幌市豊平区豊平８条１３丁目２番１号","0620908","2020-12-22","","013520",""]
[{"$f":"INDEX(学校種!B:B,MATCH(D1708,学校種!A:A,0))","v":"中学校"},{"$f":"INDEX(_tmp2!B:B,MATCH(E1708,_tmp2!A:A,0))","v":"北海道"},"C101210550029","C1","01","2","1","札幌市立月寒中学校","札幌市豊平区月寒東２条２丁目４－５４","0620052","2020-12-22","","013540",""]
[{"$f":"INDEX(学校種!B:B,MATCH(D1709,学校種!A:A,0))","v":"中学校"},{"$f":"INDEX(_tmp2!B:B,MATCH(E1709,_tmp2!A:A,0))","v":"北海道"},"C101210550038","C1","01","2","1","札幌市立平岸中学校","札幌市豊平区平岸１条２１丁目３－１","0620931","2020-12-22","","013541",""]
[{"$f":"INDEX(学校種!B:B,MATCH(D1710,学校種!A:A,0))","v":"中学校"},{"$f":"INDEX(_tmp2!B:B,MATCH(E1710,_tmp2!A:A,0))","v":"北海道"},"C101210550047","C1","01","2","1","札幌市立陵陽中学校","札幌市豊平区平岸６条１１丁目１番２５号","0620936","2020-12-22","","013549",""]
[{"$f":"INDEX(学校種!B:B,MATCH(D1711,学校種!A:A,0))","v":"中学校"},{"$f":"INDEX(_tmp2!B:B,MATCH(E1711,_tmp2!A:A,0))","v":"北海道"},"C101210550056","C1","01","2","1","札幌市立羊丘中学校","札幌市豊平区福住１条３丁目１６番１号","0620041","2020-12-22","","013558",""]
[{"$f":"INDEX(学校種!B:B,MATCH(D1712,学校種!A:A,0))","v":"中学校"},{"$f":"INDEX(_tmp2!B:B,MATCH(E1712,_tmp2!A:A,0))","v":"北海道"},"C101210550065","C1","01","2","1","札幌市立東月寒中学校","札幌市豊平区月寒東３条１８丁目１番７２号","0620053","2020-12-22","","015218",""]
[{"$f":"INDEX(学校種!B:B,MATCH(D1713,学校種!A:A,0))","v":"中学校"},{"$f":"INDEX(_tmp2!B:B,MATCH(E1713,_tmp2!A:A,0))","v":"北海道"},"C101210550074","C1","01","2","1","札幌市立西岡中学校","札幌市豊平区西岡３条１２丁目１番１号","0620033","2020-12-22","","015231",""]
[{"$f":"INDEX(学校種!B:B,MATCH(D1714,学校種!A:A,0))","v":"中学校"},{"$f":"INDEX(_tmp2!B:B,MATCH(E1714,_tmp2!A:A,0))","v":"北海道"},"C101210550083","C1","01","2","1","札幌市立中の島中学校","札幌市豊平区中の島２条３丁目９－１","0620922","2020-12-22","","015279",""]
[{"$f":"INDEX(学校種!B:B,MATCH(D1715,学校種!A:A,0))","v":"中学校"},{"$f":"INDEX(_tmp2!B:B,MATCH(E1715,_tmp2!A:A,0))","v":"北海道"},"C101210550092","C1","01","2","1","札幌市立西岡北中学校","札幌市豊平区西岡３条８丁目１番１号","0620033","2020-12-22","","015284",""]
[{"$f":"INDEX(学校種!B:B,MATCH(D1716,学校種!A:A,0))","v":"中学校"},{"$f":"INDEX(_tmp2!B:B,MATCH(E1716,_tmp2!A:A,0))","v":"北海道"},"C101210550109","C1","01","2","1","札幌市立あやめ野中学校","札幌市豊平区月寒東３条１１丁目１５番１号","0620053","2020-12-22","","015290",""]
[{"$f":"INDEX(学校種!B:B,MATCH(D1717,学校種!A:A,0))","v":"中学校"},{"$f":"INDEX(_tmp2!B:B,MATCH(E1717,_tmp2!A:A,0))","v":"北海道"},"C101210550813","C1","01","2","2","札幌市立平岸中学校のぞみ分校","札幌市豊平区平岸４条１８丁目１番２５号","0620934","2020-12-22","","015306",""]
[{"$f":"INDEX(学校種!B:B,MATCH(D1718,学校種!A:A,0))","v":"中学校"},{"$f":"INDEX(_tmp2!B:B,MATCH(E1718,_tmp2!A:A,0))","v":"北海道"},"C101210660017","C1","01","2","1","札幌市立藻岩中学校","札幌市南区川沿７条３丁目４番ー１","0050807","2020-12-22","","013522",""]
[{"$f":"INDEX(学校種!B:B,MATCH(D1719,学校種!A:A,0))","v":"中学校"},{"$f":"INDEX(_tmp2!B:B,MATCH(E1719,_tmp2!A:A,0))","v":"北海道"},"C101210660026","C1","01","2","1","札幌市立石山中学校","札幌市南区石山２条８丁目７－１","0050842","2020-12-22","","013542",""]
[{"$f":"INDEX(学校種!B:B,MATCH(D1720,学校種!A:A,0))","v":"中学校"},{"$f":"INDEX(_tmp2!B:B,MATCH(E1720,_tmp2!A:A,0))","v":"北海道"},"C101210660035","C1","01","2","1","札幌市立定山渓中学校","札幌市南区定山渓温泉西１丁目３１番地","0612303","2020-12-22","","013543",""]
[{"$f":"INDEX(学校種!B:B,MATCH(D1721,学校種!A:A,0))","v":"中学校"},{"$f":"INDEX(_tmp2!B:B,MATCH(E1721,_tmp2!A:A,0))","v":"北海道"},"C101210660044","C1","01","2","1","札幌市立簾舞中学校","札幌市南区簾舞３条３丁目３番３３号","0612263","2020-12-22","","013544",""]
[{"$f":"INDEX(学校種!B:B,MATCH(D1722,学校種!A:A,0))","v":"中学校"},{"$f":"INDEX(_tmp2!B:B,MATCH(E1722,_tmp2!A:A,0))","v":"北海道"},"C101210660062","C1","01","2","1","札幌市立常盤中学校","札幌市南区常盤２条２丁目２１番１号","0050852","2020-12-22","","013547",""]
[{"$f":"INDEX(学校種!B:B,MATCH(D1723,学校種!A:A,0))","v":"中学校"},{"$f":"INDEX(_tmp2!B:B,MATCH(E1723,_tmp2!A:A,0))","v":"北海道"},"C101210660071","C1","01","2","1","札幌市立真駒内中学校","札幌市南区真駒内幸町３丁目１番１号","0050014","2020-12-22","","013554",""]
[{"$f":"INDEX(学校種!B:B,MATCH(D1724,学校種!A:A,0))","v":"中学校"},{"$f":"INDEX(_tmp2!B:B,MATCH(E1724,_tmp2!A:A,0))","v":"北海道"},"C101210660080","C1","01","2","1","札幌市立澄川中学校","札幌市南区澄川６条６丁目１番１０号","0050006","2020-12-22","","013560",""]
[{"$f":"INDEX(学校種!B:B,MATCH(D1725,学校種!A:A,0))","v":"中学校"},{"$f":"INDEX(_tmp2!B:B,MATCH(E1725,_tmp2!A:A,0))","v":"北海道"},"C101210660099","C1","01","2","1","札幌市立真駒内曙中学校","札幌市南区真駒内曙町２丁目１－２","0050018","2020-12-22","","013561",""]
[{"$f":"INDEX(学校種!B:B,MATCH(D1726,学校種!A:A,0))","v":"中学校"},{"$f":"INDEX(_tmp2!B:B,MATCH(E1726,_tmp2!A:A,0))","v":"北海道"},"C101210660106","C1","01","2","1","札幌市立藤野中学校","札幌市南区藤野５条６丁目３番１号","0612285","2020-12-22","","015246",""]
[{"$f":"INDEX(学校種!B:B,MATCH(D1727,学校種!A:A,0))","v":"中学校"},{"$f":"INDEX(_tmp2!B:B,MATCH(E1727,_tmp2!A:A,0))","v":"北海道"},"C101210660115","C1","01","2","1","札幌市立南が丘中学校","札幌市南区南沢２条１丁目１７－１","0050822","2020-12-22","","015256",""]
[{"$f":"INDEX(学校種!B:B,MATCH(D1728,学校種!A:A,0))","v":"中学校"},{"$f":"INDEX(_tmp2!B:B,MATCH(E1728,_tmp2!A:A,0))","v":"北海道"},"C101210770014","C1","01","2","1","札幌市立琴似中学校","札幌市西区山の手４条２丁目１番１号","0630004","2020-12-22","","013527",""]
[{"$f":"INDEX(学校種!B:B,MATCH(D1729,学校種!A:A,0))","v":"中学校"},{"$f":"INDEX(_tmp2!B:B,MATCH(E1729,_tmp2!A:A,0))","v":"北海道"},"C101210770023","C1","01","2","1","札幌市立陵北中学校","札幌市西区二十四軒２条３丁目１－２３","0630802","2020-12-22","","013536",""]
[{"$f":"INDEX(学校種!B:B,MATCH(D1730,学校種!A:A,0))","v":"中学校"},{"$f":"INDEX(_tmp2!B:B,MATCH(E1730,_tmp2!A:A,0))","v":"北海道"},"C101210770032","C1","01","2","1","札幌市立八軒中学校","札幌市西区八軒８条西８丁目１番１号","0630848","2020-12-22","","013539",""]
[{"$f":"INDEX(学校種!B:B,MATCH(D1731,学校種!A:A,0))","v":"中学校"},{"$f":"INDEX(_tmp2!B:B,MATCH(E1731,_tmp2!A:A,0))","v":"北海道"},"C101210770041","C1","01","2","1","札幌市立手稲東中学校","札幌市西区西野２条５丁目３番１号","0630032","2020-12-22","","013556",""]
[{"$f":"INDEX(学校種!B:B,MATCH(D1732,学校種!A:A,0))","v":"中学校"},{"$f":"INDEX(_tmp2!B:B,MATCH(E1732,_tmp2!A:A,0))","v":"北海道"},"C101210770050","C1","01","2","1","札幌市立発寒中学校","札幌市西区発寒５条７丁目１番１号","0630825","2020-12-22","","013552",""]
[{"$f":"INDEX(学校種!B:B,MATCH(D1733,学校種!A:A,0))","v":"中学校"},{"$f":"INDEX(_tmp2!B:B,MATCH(E1733,_tmp2!A:A,0))","v":"北海道"},"C101210770069","C1","01","2","1","札幌市立西陵中学校","札幌市西区発寒１５条２丁目５番１号","0630835","2020-12-22","","013564",""]
[{"$f":"INDEX(学校種!B:B,MATCH(D1734,学校種!A:A,0))","v":"中学校"},{"$f":"INDEX(_tmp2!B:B,MATCH(E1734,_tmp2!A:A,0))","v":"北海道"},"C101210770078","C1","01","2","1","札幌市立西野中学校","札幌市西区西野８条７丁目５番１号","0630038","2020-12-22","","013568",""]
[{"$f":"INDEX(学校種!B:B,MATCH(D1735,学校種!A:A,0))","v":"中学校"},{"$f":"INDEX(_tmp2!B:B,MATCH(E1735,_tmp2!A:A,0))","v":"北海道"},"C101210770087","C1","01","2","1","札幌市立八軒東中学校","札幌市西区八軒２条東３丁目１番２０号","0630862","2020-12-22","","015247",""]
[{"$f":"INDEX(学校種!B:B,MATCH(D1736,学校種!A:A,0))","v":"中学校"},{"$f":"INDEX(_tmp2!B:B,MATCH(E1736,_tmp2!A:A,0))","v":"北海道"},"C101210770096","C1","01","2","1","札幌市立宮の丘中学校","札幌市西区西野３条１０丁目９－１","0630033","2020-12-22","","015248",""]
[{"$f":"INDEX(学校種!B:B,MATCH(D1737,学校種!A:A,0))","v":"中学校"},{"$f":"INDEX(_tmp2!B:B,MATCH(E1737,_tmp2!A:A,0))","v":"北海道"},"C101210770103","C1","01","2","1","札幌市立福井野中学校","札幌市西区福井６丁目１２番１０号","0630012","2020-12-22","","015249",""]
[{"$f":"INDEX(学校種!B:B,MATCH(D1738,学校種!A:A,0))","v":"中学校"},{"$f":"INDEX(_tmp2!B:B,MATCH(E1738,_tmp2!A:A,0))","v":"北海道"},"C101210845015","C1","01","2","1","札幌市立信濃中学校","札幌市厚別区厚別中央３条２丁目３番１号","0040053","2020-12-22","","013525",""]
[{"$f":"INDEX(学校種!B:B,MATCH(D1739,学校種!A:A,0))","v":"中学校"},{"$f":"INDEX(_tmp2!B:B,MATCH(E1739,_tmp2!A:A,0))","v":"北海道"},"C101210845024","C1","01","2","1","札幌市立もみじ台中学校","札幌市厚別区もみじ台西１丁目1番地","0040013","2020-12-22","","013565",""]
[{"$f":"INDEX(学校種!B:B,MATCH(D1740,学校種!A:A,0))","v":"中学校"},{"$f":"INDEX(_tmp2!B:B,MATCH(E1740,_tmp2!A:A,0))","v":"北海道"},"C101210845033","C1","01","2","1","札幌市立もみじ台南中学校","札幌市厚別区もみじ台南７丁目３番地","0040012","2020-12-22","","013575",""]
[{"$f":"INDEX(学校種!B:B,MATCH(D1741,学校種!A:A,0))","v":"中学校"},{"$f":"INDEX(_tmp2!B:B,MATCH(E1741,_tmp2!A:A,0))","v":"北海道"},"C101210845042","C1","01","2","1","札幌市立青葉中学校","札幌市厚別区青葉町１０丁目１－１","0040021","2020-12-22","","015232",""]
[{"$f":"INDEX(学校種!B:B,MATCH(D1742,学校種!A:A,0))","v":"中学校"},{"$f":"INDEX(_tmp2!B:B,MATCH(E1742,_tmp2!A:A,0))","v":"北海道"},"C101210845051","C1","01","2","1","札幌市立厚別中学校","札幌市厚別区厚別東３条５丁目１－１","0040003","2020-12-22","","015255",""]
[{"$f":"INDEX(学校種!B:B,MATCH(D1743,学校種!A:A,0))","v":"中学校"},{"$f":"INDEX(_tmp2!B:B,MATCH(E1743,_tmp2!A:A,0))","v":"北海道"},"C101210845060","C1","01","2","1","札幌市立厚別南中学校","札幌市厚別区大谷地東７丁目１－１","0040041","2020-12-22","","015283",""]
[{"$f":"INDEX(学校種!B:B,MATCH(D1744,学校種!A:A,0))","v":"中学校"},{"$f":"INDEX(_tmp2!B:B,MATCH(E1744,_tmp2!A:A,0))","v":"北海道"},"C101210845079","C1","01","2","1","札幌市立上野幌中学校","札幌市厚別区上野幌２条３丁目１０番１号","0040032","2020-12-22","","015289",""]
[{"$f":"INDEX(学校種!B:B,MATCH(D1745,学校種!A:A,0))","v":"中学校"},{"$f":"INDEX(_tmp2!B:B,MATCH(E1745,_tmp2!A:A,0))","v":"北海道"},"C101210845088","C1","01","2","1","札幌市立厚別北中学校","札幌市厚別区厚別町小野幌７７４番地５","0040006","2020-12-22","","015312",""]
[{"$f":"INDEX(学校種!B:B,MATCH(D1746,学校種!A:A,0))","v":"中学校"},{"$f":"INDEX(_tmp2!B:B,MATCH(E1746,_tmp2!A:A,0))","v":"北海道"},"C101210975017","C1","01","2","1","札幌市立手稲中学校","札幌市手稲区富丘３条５丁目２番１号","0060013","2020-12-22","","013555",""]
[{"$f":"INDEX(学校種!B:B,MATCH(D1747,学校種!A:A,0))","v":"中学校"},{"$f":"INDEX(_tmp2!B:B,MATCH(E1747,_tmp2!A:A,0))","v":"北海道"},"C101210975026","C1","01","2","1","札幌市立手稲西中学校","札幌市手稲区金山３条２丁目８－７","0060043","2020-12-22","","013557",""]
[{"$f":"INDEX(学校種!B:B,MATCH(D1748,学校種!A:A,0))","v":"中学校"},{"$f":"INDEX(_tmp2!B:B,MATCH(E1748,_tmp2!A:A,0))","v":"北海道"},"C101210975035","C1","01","2","1","札幌市立稲陵中学校","札幌市手稲区曙７条２丁目６－５０","0060837","2020-12-22","","013571",""]
[{"$f":"INDEX(学校種!B:B,MATCH(D1749,学校種!A:A,0))","v":"中学校"},{"$f":"INDEX(_tmp2!B:B,MATCH(E1749,_tmp2!A:A,0))","v":"北海道"},"C101210975044","C1","01","2","1","札幌市立前田中学校","札幌市手稲区前田７条１３丁目１番１号","0060817","2020-12-22","","015233",""]
[{"$f":"INDEX(学校種!B:B,MATCH(D1750,学校種!A:A,0))","v":"中学校"},{"$f":"INDEX(_tmp2!B:B,MATCH(E1750,_tmp2!A:A,0))","v":"北海道"},"C101210975053","C1","01","2","1","札幌市立稲積中学校","札幌市手稲区前田４条５丁目２番１号","0060814","2020-12-22","","015270",""]
[{"$f":"INDEX(学校種!B:B,MATCH(D1751,学校種!A:A,0))","v":"中学校"},{"$f":"INDEX(_tmp2!B:B,MATCH(E1751,_tmp2!A:A,0))","v":"北海道"},"C101210975062","C1","01","2","1","札幌市立稲穂中学校","札幌市手稲区稲穂４条２丁目１８番１０号","0060034","2020-12-22","","015297",""]
[{"$f":"INDEX(学校種!B:B,MATCH(D1752,学校種!A:A,0))","v":"中学校"},{"$f":"INDEX(_tmp2!B:B,MATCH(E1752,_tmp2!A:A,0))","v":"北海道"},"C101210975071","C1","01","2","1","札幌市立新陵中学校","札幌市手稲区新発寒５条４丁目４－１","0060805","2020-12-22","","015299",""]
[{"$f":"INDEX(学校種!B:B,MATCH(D1753,学校種!A:A,0))","v":"中学校"},{"$f":"INDEX(_tmp2!B:B,MATCH(E1753,_tmp2!A:A,0))","v":"北海道"},"C101210975080","C1","01","2","1","札幌市立前田北中学校","札幌市手稲区前田１０条１５丁目８番１号","0060820","2020-12-22","","015307",""]
[{"$f":"INDEX(学校種!B:B,MATCH(D1754,学校種!A:A,0))","v":"中学校"},{"$f":"INDEX(_tmp2!B:B,MATCH(E1754,_tmp2!A:A,0))","v":"北海道"},"C101210975099","C1","01","2","1","札幌市立星置中学校","札幌市手稲区星置３条５丁目１３番１号","0060853","2020-12-22","","015317",""]
[{"$f":"INDEX(学校種!B:B,MATCH(D1755,学校種!A:A,0))","v":"中学校"},{"$f":"INDEX(_tmp2!B:B,MATCH(E1755,_tmp2!A:A,0))","v":"北海道"},"C101211055018","C1","01","2","1","札幌市立清田中学校","札幌市清田区清田３条３丁目７番１号","0040843","2020-12-22","","013545",""]
[{"$f":"INDEX(学校種!B:B,MATCH(D1756,学校種!A:A,0))","v":"中学校"},{"$f":"INDEX(_tmp2!B:B,MATCH(E1756,_tmp2!A:A,0))","v":"北海道"},"C101211055027","C1","01","2","1","札幌市立北野中学校","札幌市清田区北野２条３丁目７番３０号","0040862","2020-12-22","","013570",""]
[{"$f":"INDEX(学校種!B:B,MATCH(D1757,学校種!A:A,0))","v":"中学校"},{"$f":"INDEX(_tmp2!B:B,MATCH(E1757,_tmp2!A:A,0))","v":"北海道"},"C101211055036","C1","01","2","1","札幌市立平岡中学校","札幌市清田区平岡２条５丁目４番１０号","0040872","2020-12-22","","015262",""]
[{"$f":"INDEX(学校種!B:B,MATCH(D1758,学校種!A:A,0))","v":"中学校"},{"$f":"INDEX(_tmp2!B:B,MATCH(E1758,_tmp2!A:A,0))","v":"北海道"},"C101211055045","C1","01","2","1","札幌市立北野台中学校","札幌市清田区北野４条４丁目１３－１","0040864","2020-12-22","","015285",""]
[{"$f":"INDEX(学校種!B:B,MATCH(D1759,学校種!A:A,0))","v":"中学校"},{"$f":"INDEX(_tmp2!B:B,MATCH(E1759,_tmp2!A:A,0))","v":"北海道"},"C101211055054","C1","01","2","1","札幌市立真栄中学校","札幌市清田区美しが丘１条１丁目２番１０号","0040811","2020-12-22","","015293",""]
[{"$f":"INDEX(学校種!B:B,MATCH(D1760,学校種!A:A,0))","v":"中学校"},{"$f":"INDEX(_tmp2!B:B,MATCH(E1760,_tmp2!A:A,0))","v":"北海道"},"C101211055063","C1","01","2","1","札幌市立平岡中央中学校","札幌市清田区平岡５条４丁目７番１号","0040875","2020-12-22","","015298",""]
[{"$f":"INDEX(学校種!B:B,MATCH(D1761,学校種!A:A,0))","v":"中学校"},{"$f":"INDEX(_tmp2!B:B,MATCH(E1761,_tmp2!A:A,0))","v":"北海道"},"C101211055072","C1","01","2","1","札幌市立平岡緑中学校","札幌市清田区平岡公園東９丁目１１番１号","0040882","2020-12-22","","015314",""]
[{"$f":"INDEX(学校種!B:B,MATCH(D1762,学校種!A:A,0))","v":"中学校"},{"$f":"INDEX(_tmp2!B:B,MATCH(E1762,_tmp2!A:A,0))","v":"北海道"},"C101220200013","C1","01","2","1","函館市立青柳中学校","函館市青柳町１０番７号","0400044","2020-12-22","","015354",""]
[{"$f":"INDEX(学校種!B:B,MATCH(D1763,学校種!A:A,0))","v":"中学校"},{"$f":"INDEX(_tmp2!B:B,MATCH(E1763,_tmp2!A:A,0))","v":"北海道"},"C101220200022","C1","01","2","1","函館市立港中学校","函館市港町２丁目１０番１号","0410821","2020-12-22","","013603",""]
[{"$f":"INDEX(学校種!B:B,MATCH(D1764,学校種!A:A,0))","v":"中学校"},{"$f":"INDEX(_tmp2!B:B,MATCH(E1764,_tmp2!A:A,0))","v":"北海道"},"C101220200031","C1","01","2","1","函館市立巴中学校","函館市的場町１２番７号","0400021","2020-12-22","","015355",""]
[{"$f":"INDEX(学校種!B:B,MATCH(D1765,学校種!A:A,0))","v":"中学校"},{"$f":"INDEX(_tmp2!B:B,MATCH(E1765,_tmp2!A:A,0))","v":"北海道"},"C101220200040","C1","01","2","1","函館市立深堀中学校","函館市深堀町２８番１号","0420941","2020-12-22","","013600",""]
[{"$f":"INDEX(学校種!B:B,MATCH(D1766,学校種!A:A,0))","v":"中学校"},{"$f":"INDEX(_tmp2!B:B,MATCH(E1766,_tmp2!A:A,0))","v":"北海道"},"C101220200059","C1","01","2","1","函館市立湯川中学校","函館市湯川町２丁目４１番１号","0420932","2020-12-22","","013604",""]
[{"$f":"INDEX(学校種!B:B,MATCH(D1767,学校種!A:A,0))","v":"中学校"},{"$f":"INDEX(_tmp2!B:B,MATCH(E1767,_tmp2!A:A,0))","v":"北海道"},"C101220200068","C1","01","2","1","函館市立戸倉中学校","函館市戸倉町２６番１号","0420953","2020-12-22","","013609",""]
[{"$f":"INDEX(学校種!B:B,MATCH(D1768,学校種!A:A,0))","v":"中学校"},{"$f":"INDEX(_tmp2!B:B,MATCH(E1768,_tmp2!A:A,0))","v":"北海道"},"C101220200077","C1","01","2","1","函館市立旭岡中学校","函館市西旭岡町３丁目５番地","0420915","2020-12-22","","015228",""]
[{"$f":"INDEX(学校種!B:B,MATCH(D1769,学校種!A:A,0))","v":"中学校"},{"$f":"INDEX(_tmp2!B:B,MATCH(E1769,_tmp2!A:A,0))","v":"北海道"},"C101220200086","C1","01","2","1","函館市立鱒川中学校","函館市鱒川町９１番地","0420907","2020-12-22","","013606",""]
[{"$f":"INDEX(学校種!B:B,MATCH(D1770,学校種!A:A,0))","v":"中学校"},{"$f":"INDEX(_tmp2!B:B,MATCH(E1770,_tmp2!A:A,0))","v":"北海道"},"C101220200095","C1","01","2","1","函館市立銭亀沢中学校","函館市豊原町１４０番３０号","0410263","2020-12-22","","013608",""]
[{"$f":"INDEX(学校種!B:B,MATCH(D1771,学校種!A:A,0))","v":"中学校"},{"$f":"INDEX(_tmp2!B:B,MATCH(E1771,_tmp2!A:A,0))","v":"北海道"},"C101220200102","C1","01","2","1","函館市立赤川中学校","函館市赤川町１２５番地","0410804","2020-12-22","","015220",""]
[{"$f":"INDEX(学校種!B:B,MATCH(D1772,学校種!A:A,0))","v":"中学校"},{"$f":"INDEX(_tmp2!B:B,MATCH(E1772,_tmp2!A:A,0))","v":"北海道"},"C101220200111","C1","01","2","1","函館市立桔梗中学校","函館市桔梗町４２９番地の４","0410801","2020-12-22","","015257",""]
[{"$f":"INDEX(学校種!B:B,MATCH(D1773,学校種!A:A,0))","v":"中学校"},{"$f":"INDEX(_tmp2!B:B,MATCH(E1773,_tmp2!A:A,0))","v":"北海道"},"C101220200120","C1","01","2","1","函館市立亀田中学校","函館市美原３丁目３０番３号","0410806","2020-12-22","","014102",""]
[{"$f":"INDEX(学校種!B:B,MATCH(D1774,学校種!A:A,0))","v":"中学校"},{"$f":"INDEX(_tmp2!B:B,MATCH(E1774,_tmp2!A:A,0))","v":"北海道"},"C101220200139","C1","01","2","1","函館市立五稜郭中学校","函館市富岡町１丁目１８番２号","0410811","2020-12-22","","015349",""]
[{"$f":"INDEX(学校種!B:B,MATCH(D1775,学校種!A:A,0))","v":"中学校"},{"$f":"INDEX(_tmp2!B:B,MATCH(E1775,_tmp2!A:A,0))","v":"北海道"},"C101220200148","C1","01","2","1","函館市立本通中学校","函館市本通２丁目５６番７号","0410851","2020-12-22","","013610",""]
[{"$f":"INDEX(学校種!B:B,MATCH(D1776,学校種!A:A,0))","v":"中学校"},{"$f":"INDEX(_tmp2!B:B,MATCH(E1776,_tmp2!A:A,0))","v":"北海道"},"C101220200157","C1","01","2","1","函館市立北中学校","函館市山の手３丁目５８番１号","0410836","2020-12-22","","015234",""]
[{"$f":"INDEX(学校種!B:B,MATCH(D1777,学校種!A:A,0))","v":"中学校"},{"$f":"INDEX(_tmp2!B:B,MATCH(E1777,_tmp2!A:A,0))","v":"北海道"},"C101220200166","C1","01","2","9","函館市立潮光中学校","函館市釜谷町２２７番地","0410252","2020-12-22","2021-05-27","014106","C201220200012"]
[{"$f":"INDEX(学校種!B:B,MATCH(D1778,学校種!A:A,0))","v":"中学校"},{"$f":"INDEX(_tmp2!B:B,MATCH(E1778,_tmp2!A:A,0))","v":"北海道"},"C101220200175","C1","01","2","9","函館市立日新中学校","函館市泊町１２６番地","0410304","2020-12-22","2021-05-27","014107","C201220200012"]
[{"$f":"INDEX(学校種!B:B,MATCH(D1779,学校種!A:A,0))","v":"中学校"},{"$f":"INDEX(_tmp2!B:B,MATCH(E1779,_tmp2!A:A,0))","v":"北海道"},"C101220200184","C1","01","2","1","函館市立恵山中学校","函館市柏野９番地","0410523","2020-12-22","","014111",""]
[{"$f":"INDEX(学校種!B:B,MATCH(D1780,学校種!A:A,0))","v":"中学校"},{"$f":"INDEX(_tmp2!B:B,MATCH(E1780,_tmp2!A:A,0))","v":"北海道"},"C101220200193","C1","01","2","1","函館市立椴法華中学校","函館市新浜町１５１番地１","0410611","2020-12-22","","014114",""]
[{"$f":"INDEX(学校種!B:B,MATCH(D1781,学校種!A:A,0))","v":"中学校"},{"$f":"INDEX(_tmp2!B:B,MATCH(E1781,_tmp2!A:A,0))","v":"北海道"},"C101220200200","C1","01","2","1","函館市立尾札部中学校","函館市尾札部町２０２３番地","0411603","2020-12-22","","014116",""]
[{"$f":"INDEX(学校種!B:B,MATCH(D1782,学校種!A:A,0))","v":"中学校"},{"$f":"INDEX(_tmp2!B:B,MATCH(E1782,_tmp2!A:A,0))","v":"北海道"},"C101220200219","C1","01","2","1","函館市立臼尻中学校","函館市豊崎町２０５番地","0411621","2020-12-22","","014117",""]
[{"$f":"INDEX(学校種!B:B,MATCH(D1783,学校種!A:A,0))","v":"中学校"},{"$f":"INDEX(_tmp2!B:B,MATCH(E1783,_tmp2!A:A,0))","v":"北海道"},"C101220300012","C1","01","2","1","小樽市立長橋中学校","小樽市長橋４丁目１６番１号","0470036","2020-12-22","","013620",""]
[{"$f":"INDEX(学校種!B:B,MATCH(D1784,学校種!A:A,0))","v":"中学校"},{"$f":"INDEX(_tmp2!B:B,MATCH(E1784,_tmp2!A:A,0))","v":"北海道"},"C101220300021","C1","01","2","1","小樽市立潮見台中学校","小樽市潮見台１丁目１７番１号","0470002","2020-12-22","","013622",""]
[{"$f":"INDEX(学校種!B:B,MATCH(D1785,学校種!A:A,0))","v":"中学校"},{"$f":"INDEX(_tmp2!B:B,MATCH(E1785,_tmp2!A:A,0))","v":"北海道"},"C101220300030","C1","01","2","1","小樽市立菁園中学校","小樽市花園５－４－２","0470024","2020-12-22","","013623",""]
[{"$f":"INDEX(学校種!B:B,MATCH(D1786,学校種!A:A,0))","v":"中学校"},{"$f":"INDEX(_tmp2!B:B,MATCH(E1786,_tmp2!A:A,0))","v":"北海道"},"C101220300049","C1","01","2","1","小樽市立西陵中学校","小樽市富岡２丁目２６－１","0470033","2020-12-22","","013624",""]
[{"$f":"INDEX(学校種!B:B,MATCH(D1787,学校種!A:A,0))","v":"中学校"},{"$f":"INDEX(_tmp2!B:B,MATCH(E1787,_tmp2!A:A,0))","v":"北海道"},"C101220300058","C1","01","2","1","小樽市立松ヶ枝中学校","小樽市最上１丁目３１番１号","0470023","2020-12-22","","013625",""]
[{"$f":"INDEX(学校種!B:B,MATCH(D1788,学校種!A:A,0))","v":"中学校"},{"$f":"INDEX(_tmp2!B:B,MATCH(E1788,_tmp2!A:A,0))","v":"北海道"},"C101220300067","C1","01","2","1","小樽市立向陽中学校","小樽市天神１丁目７番１１号","0470011","2020-12-22","","013630",""]
[{"$f":"INDEX(学校種!B:B,MATCH(D1789,学校種!A:A,0))","v":"中学校"},{"$f":"INDEX(_tmp2!B:B,MATCH(E1789,_tmp2!A:A,0))","v":"北海道"},"C101220300076","C1","01","2","1","小樽市立朝里中学校","小樽市新光３丁目７番１号","0470152","2020-12-22","","013631",""]
[{"$f":"INDEX(学校種!B:B,MATCH(D1790,学校種!A:A,0))","v":"中学校"},{"$f":"INDEX(_tmp2!B:B,MATCH(E1790,_tmp2!A:A,0))","v":"北海道"},"C101220300085","C1","01","2","1","小樽市立桜町中学校","小樽市桜１丁目２９番１号","0470156","2020-12-22","","013632",""]
[{"$f":"INDEX(学校種!B:B,MATCH(D1791,学校種!A:A,0))","v":"中学校"},{"$f":"INDEX(_tmp2!B:B,MATCH(E1791,_tmp2!A:A,0))","v":"北海道"},"C101220300094","C1","01","2","1","小樽市立銭函中学校","小樽市見晴町２番１２号","0470263","2020-12-22","","013633",""]
[{"$f":"INDEX(学校種!B:B,MATCH(D1792,学校種!A:A,0))","v":"中学校"},{"$f":"INDEX(_tmp2!B:B,MATCH(E1792,_tmp2!A:A,0))","v":"北海道"},"C101220300101","C1","01","2","1","小樽市立忍路中学校","小樽市蘭島１－２８－１","0482562","2020-12-22","","013635",""]
[{"$f":"INDEX(学校種!B:B,MATCH(D1793,学校種!A:A,0))","v":"中学校"},{"$f":"INDEX(_tmp2!B:B,MATCH(E1793,_tmp2!A:A,0))","v":"北海道"},"C101220300110","C1","01","2","1","小樽市立望洋台中学校","小樽市望洋台３丁目６番１号","0470155","2020-12-22","","015294",""]
[{"$f":"INDEX(学校種!B:B,MATCH(D1794,学校種!A:A,0))","v":"中学校"},{"$f":"INDEX(_tmp2!B:B,MATCH(E1794,_tmp2!A:A,0))","v":"北海道"},"C101220300129","C1","01","2","1","小樽市立北陵中学校","小樽市清水町５番１号","0470045","2020-12-22","","015350",""]
[{"$f":"INDEX(学校種!B:B,MATCH(D1795,学校種!A:A,0))","v":"中学校"},{"$f":"INDEX(_tmp2!B:B,MATCH(E1795,_tmp2!A:A,0))","v":"北海道"},"C101220400011","C1","01","2","1","旭川市立明星中学校","旭川市東５条１丁目１番１０号","0700025","2020-12-22","","013640",""]
[{"$f":"INDEX(学校種!B:B,MATCH(D1796,学校種!A:A,0))","v":"中学校"},{"$f":"INDEX(_tmp2!B:B,MATCH(E1796,_tmp2!A:A,0))","v":"北海道"},"C101220400020","C1","01","2","1","旭川市立光陽中学校","旭川市豊岡３条１丁目３番５号","0788233","2020-12-22","","013641",""]
[{"$f":"INDEX(学校種!B:B,MATCH(D1797,学校種!A:A,0))","v":"中学校"},{"$f":"INDEX(_tmp2!B:B,MATCH(E1797,_tmp2!A:A,0))","v":"北海道"},"C101220400039","C1","01","2","1","旭川市立北星中学校","旭川市住吉５条１丁目２番１号","0700865","2020-12-22","","013642",""]
[{"$f":"INDEX(学校種!B:B,MATCH(D1798,学校種!A:A,0))","v":"中学校"},{"$f":"INDEX(_tmp2!B:B,MATCH(E1798,_tmp2!A:A,0))","v":"北海道"},"C101220400048","C1","01","2","1","旭川市立六合中学校","旭川市末広３条２丁目","0718133","2020-12-22","","013646",""]
[{"$f":"INDEX(学校種!B:B,MATCH(D1799,学校種!A:A,0))","v":"中学校"},{"$f":"INDEX(_tmp2!B:B,MATCH(E1799,_tmp2!A:A,0))","v":"北海道"},"C101220400057","C1","01","2","1","旭川市立北門中学校","旭川市錦町１５丁目","0700824","2020-12-22","","013647",""]
[{"$f":"INDEX(学校種!B:B,MATCH(D1800,学校種!A:A,0))","v":"中学校"},{"$f":"INDEX(_tmp2!B:B,MATCH(E1800,_tmp2!A:A,0))","v":"北海道"},"C101220400066","C1","01","2","1","旭川市立東光中学校","旭川市東光８条２丁目","0788348","2020-12-22","","013648",""]
[{"$f":"INDEX(学校種!B:B,MATCH(D1801,学校種!A:A,0))","v":"中学校"},{"$f":"INDEX(_tmp2!B:B,MATCH(E1801,_tmp2!A:A,0))","v":"北海道"},"C101220400075","C1","01","2","1","旭川市立神居中学校","旭川市神居４条５丁目１番８号","0708014","2020-12-22","","013649",""]
[{"$f":"INDEX(学校種!B:B,MATCH(D1802,学校種!A:A,0))","v":"中学校"},{"$f":"INDEX(_tmp2!B:B,MATCH(E1802,_tmp2!A:A,0))","v":"北海道"},"C101220400084","C1","01","2","1","旭川市立江丹別中学校","旭川市江丹別町中央","0711173","2020-12-22","","013653",""]
[{"$f":"INDEX(学校種!B:B,MATCH(D1803,学校種!A:A,0))","v":"中学校"},{"$f":"INDEX(_tmp2!B:B,MATCH(E1803,_tmp2!A:A,0))","v":"北海道"},"C101220400093","C1","01","2","1","旭川市立嵐山中学校","旭川市江丹別町嵐山１４３番地","0708051","2020-12-22","","013654",""]
[{"$f":"INDEX(学校種!B:B,MATCH(D1804,学校種!A:A,0))","v":"中学校"},{"$f":"INDEX(_tmp2!B:B,MATCH(E1804,_tmp2!A:A,0))","v":"北海道"},"C101220400100","C1","01","2","1","旭川市立永山中学校","旭川市永山７条１９丁目１番１号","0798417","2020-12-22","","013655",""]
[{"$f":"INDEX(学校種!B:B,MATCH(D1805,学校種!A:A,0))","v":"中学校"},{"$f":"INDEX(_tmp2!B:B,MATCH(E1805,_tmp2!A:A,0))","v":"北海道"},"C101220400119","C1","01","2","1","旭川市立旭川中学校","旭川市東旭川南１条６丁目１－２６","0788261","2020-12-22","","013656",""]
[{"$f":"INDEX(学校種!B:B,MATCH(D1806,学校種!A:A,0))","v":"中学校"},{"$f":"INDEX(_tmp2!B:B,MATCH(E1806,_tmp2!A:A,0))","v":"北海道"},"C101220400128","C1","01","2","1","旭川市立桜岡中学校","旭川市東旭川町東桜岡７２","0788201","2020-12-22","","013659",""]
[{"$f":"INDEX(学校種!B:B,MATCH(D1807,学校種!A:A,0))","v":"中学校"},{"$f":"INDEX(_tmp2!B:B,MATCH(E1807,_tmp2!A:A,0))","v":"北海道"},"C101220400137","C1","01","2","1","旭川市立神楽中学校","旭川市神楽６条１２丁目","0708006","2020-12-22","","013661",""]
[{"$f":"INDEX(学校種!B:B,MATCH(D1808,学校種!A:A,0))","v":"中学校"},{"$f":"INDEX(_tmp2!B:B,MATCH(E1808,_tmp2!A:A,0))","v":"北海道"},"C101220400146","C1","01","2","1","旭川市立西神楽中学校","旭川市西神楽南２条４丁目","0710172","2020-12-22","","013662",""]
[{"$f":"INDEX(学校種!B:B,MATCH(D1809,学校種!A:A,0))","v":"中学校"},{"$f":"INDEX(_tmp2!B:B,MATCH(E1809,_tmp2!A:A,0))","v":"北海道"},"C101220400155","C1","01","2","1","旭川市立啓北中学校","旭川市春光２条７丁目","0700872","2020-12-22","","013664",""]
[{"$f":"INDEX(学校種!B:B,MATCH(D1810,学校種!A:A,0))","v":"中学校"},{"$f":"INDEX(_tmp2!B:B,MATCH(E1810,_tmp2!A:A,0))","v":"北海道"},"C101220400164","C1","01","2","1","旭川市立東陽中学校","旭川市豊岡２条７丁目３番地","0788232","2020-12-22","","013665",""]
[{"$f":"INDEX(学校種!B:B,MATCH(D1811,学校種!A:A,0))","v":"中学校"},{"$f":"INDEX(_tmp2!B:B,MATCH(E1811,_tmp2!A:A,0))","v":"北海道"},"C101220400173","C1","01","2","1","旭川市立緑が丘中学校","旭川市緑が丘３条４丁目２番地","0788303","2020-12-22","","013666",""]
[{"$f":"INDEX(学校種!B:B,MATCH(D1812,学校種!A:A,0))","v":"中学校"},{"$f":"INDEX(_tmp2!B:B,MATCH(E1812,_tmp2!A:A,0))","v":"北海道"},"C101220400182","C1","01","2","1","旭川市立春光台中学校","旭川市春光台５条３丁目１２番地","0718145","2020-12-22","","013667",""]
[{"$f":"INDEX(学校種!B:B,MATCH(D1813,学校種!A:A,0))","v":"中学校"},{"$f":"INDEX(_tmp2!B:B,MATCH(E1813,_tmp2!A:A,0))","v":"北海道"},"C101220400191","C1","01","2","1","旭川市立東鷹栖中学校","旭川市東鷹栖４条５丁目６３９番地３","0718104","2020-12-22","","014443",""]
[{"$f":"INDEX(学校種!B:B,MATCH(D1814,学校種!A:A,0))","v":"中学校"},{"$f":"INDEX(_tmp2!B:B,MATCH(E1814,_tmp2!A:A,0))","v":"北海道"},"C101220400208","C1","01","2","1","旭川市立神居東中学校","旭川市神居４条１９丁目７０番地の３","0708014","2020-12-22","","015236",""]
[{"$f":"INDEX(学校種!B:B,MATCH(D1815,学校種!A:A,0))","v":"中学校"},{"$f":"INDEX(_tmp2!B:B,MATCH(E1815,_tmp2!A:A,0))","v":"北海道"},"C101220400217","C1","01","2","1","旭川市立永山南中学校","旭川市永山町５丁目１１８番地","0798431","2020-12-22","","015237",""]
[{"$f":"INDEX(学校種!B:B,MATCH(D1816,学校種!A:A,0))","v":"中学校"},{"$f":"INDEX(_tmp2!B:B,MATCH(E1816,_tmp2!A:A,0))","v":"北海道"},"C101220400226","C1","01","2","1","旭川市立広陵中学校","旭川市末広２条７丁目２－４１","0718132","2020-12-22","","015258",""]
[{"$f":"INDEX(学校種!B:B,MATCH(D1817,学校種!A:A,0))","v":"中学校"},{"$f":"INDEX(_tmp2!B:B,MATCH(E1817,_tmp2!A:A,0))","v":"北海道"},"C101220400235","C1","01","2","1","旭川市立東明中学校","旭川市東光１６条７丁目１番１号","0788356","2020-12-22","","015259",""]
[{"$f":"INDEX(学校種!B:B,MATCH(D1818,学校種!A:A,0))","v":"中学校"},{"$f":"INDEX(_tmp2!B:B,MATCH(E1818,_tmp2!A:A,0))","v":"北海道"},"C101220400244","C1","01","2","1","旭川市立愛宕中学校","旭川市豊岡８条１０丁目","0788238","2020-12-22","","015287",""]
[{"$f":"INDEX(学校種!B:B,MATCH(D1819,学校種!A:A,0))","v":"中学校"},{"$f":"INDEX(_tmp2!B:B,MATCH(E1819,_tmp2!A:A,0))","v":"北海道"},"C101220400253","C1","01","2","1","旭川市立忠和中学校","旭川市忠和１条４丁目","0708041","2020-12-22","","015292",""]
[{"$f":"INDEX(学校種!B:B,MATCH(D1820,学校種!A:A,0))","v":"中学校"},{"$f":"INDEX(_tmp2!B:B,MATCH(E1820,_tmp2!A:A,0))","v":"北海道"},"C101220400262","C1","01","2","1","旭川市立中央中学校","旭川市１０条通１１丁目","0700040","2020-12-22","","015348",""]
[{"$f":"INDEX(学校種!B:B,MATCH(D1821,学校種!A:A,0))","v":"中学校"},{"$f":"INDEX(_tmp2!B:B,MATCH(E1821,_tmp2!A:A,0))","v":"北海道"},"C101220500010","C1","01","2","1","室蘭市立港北中学校","室蘭市柏木町３６１番地１","0500064","2020-12-22","","013681",""]
[{"$f":"INDEX(学校種!B:B,MATCH(D1822,学校種!A:A,0))","v":"中学校"},{"$f":"INDEX(_tmp2!B:B,MATCH(E1822,_tmp2!A:A,0))","v":"北海道"},"C101220500029","C1","01","2","1","室蘭市立本室蘭中学校","室蘭市白鳥台２丁目５番１号","0500054","2020-12-22","","013683",""]
[{"$f":"INDEX(学校種!B:B,MATCH(D1823,学校種!A:A,0))","v":"中学校"},{"$f":"INDEX(_tmp2!B:B,MATCH(E1823,_tmp2!A:A,0))","v":"北海道"},"C101220500038","C1","01","2","1","室蘭市立東明中学校","室蘭市高砂町４丁目９番１号","0500072","2020-12-22","","013686",""]
[{"$f":"INDEX(学校種!B:B,MATCH(D1824,学校種!A:A,0))","v":"中学校"},{"$f":"INDEX(_tmp2!B:B,MATCH(E1824,_tmp2!A:A,0))","v":"北海道"},"C101220500047","C1","01","2","1","室蘭市立星蘭中学校","室蘭市母恋南町１丁目３２番地２２","0510003","2020-12-22","","015329",""]
[{"$f":"INDEX(学校種!B:B,MATCH(D1825,学校種!A:A,0))","v":"中学校"},{"$f":"INDEX(_tmp2!B:B,MATCH(E1825,_tmp2!A:A,0))","v":"北海道"},"C101220500056","C1","01","2","1","室蘭市立翔陽中学校","室蘭市東町５丁目11番１号","0500083","2020-12-22","","015338",""]
[{"$f":"INDEX(学校種!B:B,MATCH(D1826,学校種!A:A,0))","v":"中学校"},{"$f":"INDEX(_tmp2!B:B,MATCH(E1826,_tmp2!A:A,0))","v":"北海道"},"C101220500065","C1","01","2","1","室蘭市立桜蘭中学校","室蘭市知利別町１－１１－３","0691204","2020-12-22","","015340",""]
[{"$f":"INDEX(学校種!B:B,MATCH(D1827,学校種!A:A,0))","v":"中学校"},{"$f":"INDEX(_tmp2!B:B,MATCH(E1827,_tmp2!A:A,0))","v":"北海道"},"C101220500074","C1","01","2","1","室蘭市立室蘭西中学校","室蘭市山手町２丁目１０番地１","0510012","2020-12-22","","015343",""]
[{"$f":"INDEX(学校種!B:B,MATCH(D1828,学校種!A:A,0))","v":"中学校"},{"$f":"INDEX(_tmp2!B:B,MATCH(E1828,_tmp2!A:A,0))","v":"北海道"},"C101220600019","C1","01","2","1","釧路市立北中学校","釧路市喜多町１番２３号","0850043","2020-12-22","","013702",""]
[{"$f":"INDEX(学校種!B:B,MATCH(D1829,学校種!A:A,0))","v":"中学校"},{"$f":"INDEX(_tmp2!B:B,MATCH(E1829,_tmp2!A:A,0))","v":"北海道"},"C101220600028","C1","01","2","1","釧路市立春採中学校","釧路市春採５－１－１９","0850813","2020-12-22","","013703",""]
[{"$f":"INDEX(学校種!B:B,MATCH(D1830,学校種!A:A,0))","v":"中学校"},{"$f":"INDEX(_tmp2!B:B,MATCH(E1830,_tmp2!A:A,0))","v":"北海道"},"C101220600037","C1","01","2","1","釧路市立鳥取中学校","釧路市昭和町２－５－５３","0840903","2020-12-22","","013704",""]
[{"$f":"INDEX(学校種!B:B,MATCH(D1831,学校種!A:A,0))","v":"中学校"},{"$f":"INDEX(_tmp2!B:B,MATCH(E1831,_tmp2!A:A,0))","v":"北海道"},"C101220600046","C1","01","2","1","釧路市立共栄中学校","釧路市花園町９番４０号","0850038","2020-12-22","","013705",""]
[{"$f":"INDEX(学校種!B:B,MATCH(D1832,学校種!A:A,0))","v":"中学校"},{"$f":"INDEX(_tmp2!B:B,MATCH(E1832,_tmp2!A:A,0))","v":"北海道"},"C101220600055","C1","01","2","1","釧路市立景雲中学校","釧路市東川町１６番１号","0850056","2020-12-22","","013706",""]
[{"$f":"INDEX(学校種!B:B,MATCH(D1833,学校種!A:A,0))","v":"中学校"},{"$f":"INDEX(_tmp2!B:B,MATCH(E1833,_tmp2!A:A,0))","v":"北海道"},"C101220600064","C1","01","2","1","釧路市立山花中学校","釧路市山花１４線１３２番地","0840928","2020-12-22","","013708",""]
[{"$f":"INDEX(学校種!B:B,MATCH(D1834,学校種!A:A,0))","v":"中学校"},{"$f":"INDEX(_tmp2!B:B,MATCH(E1834,_tmp2!A:A,0))","v":"北海道"},"C101220600073","C1","01","2","1","釧路市立大楽毛中学校","釧路市大楽毛１丁目１０番１","0840917","2020-12-22","","013711",""]
[{"$f":"INDEX(学校種!B:B,MATCH(D1835,学校種!A:A,0))","v":"中学校"},{"$f":"INDEX(_tmp2!B:B,MATCH(E1835,_tmp2!A:A,0))","v":"北海道"},"C101220600082","C1","01","2","1","釧路市立桜が丘中学校","釧路市桜ヶ岡６丁目２７番１２号","0850805","2020-12-22","","013712",""]
[{"$f":"INDEX(学校種!B:B,MATCH(D1836,学校種!A:A,0))","v":"中学校"},{"$f":"INDEX(_tmp2!B:B,MATCH(E1836,_tmp2!A:A,0))","v":"北海道"},"C101220600091","C1","01","2","1","釧路市立阿寒中学校","釧路市阿寒町北新町２丁目４番１号","0850126","2020-12-22","","015147",""]
[{"$f":"INDEX(学校種!B:B,MATCH(D1837,学校種!A:A,0))","v":"中学校"},{"$f":"INDEX(_tmp2!B:B,MATCH(E1837,_tmp2!A:A,0))","v":"北海道"},"C101220600108","C1","01","2","9","釧路市立阿寒湖中学校","釧路市阿寒湖温泉６丁目４番１号","0850467","2020-12-22","2021-05-27","015151","C201220600018"]
[{"$f":"INDEX(学校種!B:B,MATCH(D1838,学校種!A:A,0))","v":"中学校"},{"$f":"INDEX(_tmp2!B:B,MATCH(E1838,_tmp2!A:A,0))","v":"北海道"},"C101220600117","C1","01","2","1","釧路市立音別中学校","釧路市音別町中園２－２","0880116","2020-12-22","","015173",""]
[{"$f":"INDEX(学校種!B:B,MATCH(D1839,学校種!A:A,0))","v":"中学校"},{"$f":"INDEX(_tmp2!B:B,MATCH(E1839,_tmp2!A:A,0))","v":"北海道"},"C101220600126","C1","01","2","1","釧路市立美原中学校","釧路市美原４丁目７番１号","0850065","2020-12-22","","015241",""]
[{"$f":"INDEX(学校種!B:B,MATCH(D1840,学校種!A:A,0))","v":"中学校"},{"$f":"INDEX(_tmp2!B:B,MATCH(E1840,_tmp2!A:A,0))","v":"北海道"},"C101220600135","C1","01","2","1","釧路市立鳥取西中学校","釧路市鳥取北９丁目７番１号","0840907","2020-12-22","","015250",""]
[{"$f":"INDEX(学校種!B:B,MATCH(D1841,学校種!A:A,0))","v":"中学校"},{"$f":"INDEX(_tmp2!B:B,MATCH(E1841,_tmp2!A:A,0))","v":"北海道"},"C101220600144","C1","01","2","1","釧路市立幣舞中学校","釧路市春湖台１番３号","0850822","2020-12-22","","015323",""]
[{"$f":"INDEX(学校種!B:B,MATCH(D1842,学校種!A:A,0))","v":"中学校"},{"$f":"INDEX(_tmp2!B:B,MATCH(E1842,_tmp2!A:A,0))","v":"北海道"},"C101220600153","C1","01","2","1","釧路市立青陵中学校","釧路市緑ヶ岡６丁目９番４２号","0850814","2020-12-22","","015324",""]
[{"$f":"INDEX(学校種!B:B,MATCH(D1843,学校種!A:A,0))","v":"中学校"},{"$f":"INDEX(_tmp2!B:B,MATCH(E1843,_tmp2!A:A,0))","v":"北海道"},"C101220700018","C1","01","2","1","帯広市立川西中学校","帯広市川西町西３線６０番地","0891182","2020-12-22","","013720",""]
[{"$f":"INDEX(学校種!B:B,MATCH(D1844,学校種!A:A,0))","v":"中学校"},{"$f":"INDEX(_tmp2!B:B,MATCH(E1844,_tmp2!A:A,0))","v":"北海道"},"C101220700027","C1","01","2","1","帯広市立清川中学校","帯広市清川町西２線１２６番地","0802103","2020-12-22","","013721",""]
[{"$f":"INDEX(学校種!B:B,MATCH(D1845,学校種!A:A,0))","v":"中学校"},{"$f":"INDEX(_tmp2!B:B,MATCH(E1845,_tmp2!A:A,0))","v":"北海道"},"C101220700036","C1","01","2","1","帯広市立八千代中学校","帯広市広野町西１線１４９番地","0802335","2020-12-22","","013724",""]
[{"$f":"INDEX(学校種!B:B,MATCH(D1846,学校種!A:A,0))","v":"中学校"},{"$f":"INDEX(_tmp2!B:B,MATCH(E1846,_tmp2!A:A,0))","v":"北海道"},"C101220700045","C1","01","2","1","帯広市立帯広第二中学校","帯広市西２４条南１丁目７番地","0802474","2020-12-22","","013725",""]
[{"$f":"INDEX(学校種!B:B,MATCH(D1847,学校種!A:A,0))","v":"中学校"},{"$f":"INDEX(_tmp2!B:B,MATCH(E1847,_tmp2!A:A,0))","v":"北海道"},"C101220700054","C1","01","2","1","帯広市立帯広第七中学校","帯広市大正町４４４番地の２","0891242","2020-12-22","","013726",""]
[{"$f":"INDEX(学校種!B:B,MATCH(D1848,学校種!A:A,0))","v":"中学校"},{"$f":"INDEX(_tmp2!B:B,MATCH(E1848,_tmp2!A:A,0))","v":"北海道"},"C101220700063","C1","01","2","1","帯広市立帯広第一中学校","帯広市西１３条北７丁目１番地","0800043","2020-12-22","","013727",""]
[{"$f":"INDEX(学校種!B:B,MATCH(D1849,学校種!A:A,0))","v":"中学校"},{"$f":"INDEX(_tmp2!B:B,MATCH(E1849,_tmp2!A:A,0))","v":"北海道"},"C101220700072","C1","01","2","1","帯広市立帯広第四中学校","帯広市西５条南２５丁目１番地","0800015","2020-12-22","","013729",""]
[{"$f":"INDEX(学校種!B:B,MATCH(D1850,学校種!A:A,0))","v":"中学校"},{"$f":"INDEX(_tmp2!B:B,MATCH(E1850,_tmp2!A:A,0))","v":"北海道"},"C101220700081","C1","01","2","1","帯広市立帯広第五中学校","帯広市西１６条南４丁目２９番４２号","0800026","2020-12-22","","013730",""]
[{"$f":"INDEX(学校種!B:B,MATCH(D1851,学校種!A:A,0))","v":"中学校"},{"$f":"INDEX(_tmp2!B:B,MATCH(E1851,_tmp2!A:A,0))","v":"北海道"},"C101220700090","C1","01","2","1","帯広市立帯広第八中学校","帯広市西１７条南６丁目１番地","0800027","2020-12-22","","013732",""]
[{"$f":"INDEX(学校種!B:B,MATCH(D1852,学校種!A:A,0))","v":"中学校"},{"$f":"INDEX(_tmp2!B:B,MATCH(E1852,_tmp2!A:A,0))","v":"北海道"},"C101220700107","C1","01","2","1","帯広市立大空中学校","帯広市大空町１１丁目４番地","0800838","2020-12-22","","013733",""]
[{"$f":"INDEX(学校種!B:B,MATCH(D1853,学校種!A:A,0))","v":"中学校"},{"$f":"INDEX(_tmp2!B:B,MATCH(E1853,_tmp2!A:A,0))","v":"北海道"},"C101220700116","C1","01","2","1","帯広市立南町中学校","帯広市西１７条南３５丁目１番１号","0800027","2020-12-22","","013734",""]
[{"$f":"INDEX(学校種!B:B,MATCH(D1854,学校種!A:A,0))","v":"中学校"},{"$f":"INDEX(_tmp2!B:B,MATCH(E1854,_tmp2!A:A,0))","v":"北海道"},"C101220700125","C1","01","2","1","帯広市立西陵中学校","帯広市西１８条南２丁目２番地","0800028","2020-12-22","","013735",""]
[{"$f":"INDEX(学校種!B:B,MATCH(D1855,学校種!A:A,0))","v":"中学校"},{"$f":"INDEX(_tmp2!B:B,MATCH(E1855,_tmp2!A:A,0))","v":"北海道"},"C101220700134","C1","01","2","1","帯広市立緑園中学校","帯広市西２２条南４丁目２番地","0802472","2020-12-22","","015300",""]
[{"$f":"INDEX(学校種!B:B,MATCH(D1856,学校種!A:A,0))","v":"中学校"},{"$f":"INDEX(_tmp2!B:B,MATCH(E1856,_tmp2!A:A,0))","v":"北海道"},"C101220700143","C1","01","2","1","帯広市立翔陽中学校","帯広市東６条南１２丁目２番地","0800806","2020-12-22","","015339",""]
[{"$f":"INDEX(学校種!B:B,MATCH(D1857,学校種!A:A,0))","v":"中学校"},{"$f":"INDEX(_tmp2!B:B,MATCH(E1857,_tmp2!A:A,0))","v":"北海道"},"C101220700152","C1","01","2","1","北見市立北光中学校","北見市北光３２８番地","0900824","2020-12-22","","015263",""]
[{"$f":"INDEX(学校種!B:B,MATCH(D1858,学校種!A:A,0))","v":"中学校"},{"$f":"INDEX(_tmp2!B:B,MATCH(E1858,_tmp2!A:A,0))","v":"北海道"},"C101220800017","C1","01","2","1","北見市立東陵中学校","北見市東陵町１７３番地","0900061","2020-12-22","","013740",""]
[{"$f":"INDEX(学校種!B:B,MATCH(D1859,学校種!A:A,0))","v":"中学校"},{"$f":"INDEX(_tmp2!B:B,MATCH(E1859,_tmp2!A:A,0))","v":"北海道"},"C101220800026","C1","01","2","1","北見市立南中学校","北見市南町１丁目２番６４号","0980806","2020-12-22","","013741",""]
[{"$f":"INDEX(学校種!B:B,MATCH(D1860,学校種!A:A,0))","v":"中学校"},{"$f":"INDEX(_tmp2!B:B,MATCH(E1860,_tmp2!A:A,0))","v":"北海道"},"C101220800035","C1","01","2","1","北見市立北中学校","北見市美山町３１番地","0900062","2020-12-22","","013742",""]
[{"$f":"INDEX(学校種!B:B,MATCH(D1861,学校種!A:A,0))","v":"中学校"},{"$f":"INDEX(_tmp2!B:B,MATCH(E1861,_tmp2!A:A,0))","v":"北海道"},"C101220800044","C1","01","2","1","北見市立光西中学校","北見市光西町１８３番地","0900835","2020-12-22","","013743",""]
[{"$f":"INDEX(学校種!B:B,MATCH(D1862,学校種!A:A,0))","v":"中学校"},{"$f":"INDEX(_tmp2!B:B,MATCH(E1862,_tmp2!A:A,0))","v":"北海道"},"C101220800053","C1","01","2","1","北見市立上常呂中学校","北見市広郷１９５","0991586","2020-12-22","","013744",""]
[{"$f":"INDEX(学校種!B:B,MATCH(D1863,学校種!A:A,0))","v":"中学校"},{"$f":"INDEX(_tmp2!B:B,MATCH(E1863,_tmp2!A:A,0))","v":"北海道"},"C101220800062","C1","01","2","1","北見市立相内中学校","北見市相内町１５番地","0990871","2020-12-22","","013745",""]
[{"$f":"INDEX(学校種!B:B,MATCH(D1864,学校種!A:A,0))","v":"中学校"},{"$f":"INDEX(_tmp2!B:B,MATCH(E1864,_tmp2!A:A,0))","v":"北海道"},"C101220800071","C1","01","2","1","北見市立東相内中学校","北見市東相内町２５番地","0990878","2020-12-22","","013748",""]
[{"$f":"INDEX(学校種!B:B,MATCH(D1865,学校種!A:A,0))","v":"中学校"},{"$f":"INDEX(_tmp2!B:B,MATCH(E1865,_tmp2!A:A,0))","v":"北海道"},"C101220800080","C1","01","2","1","北見市立高栄中学校","北見市高栄西町１０丁目１２番１号","0900058","2020-12-22","","013750",""]
[{"$f":"INDEX(学校種!B:B,MATCH(D1866,学校種!A:A,0))","v":"中学校"},{"$f":"INDEX(_tmp2!B:B,MATCH(E1866,_tmp2!A:A,0))","v":"北海道"},"C101220800099","C1","01","2","1","北見市立小泉中学校","北見市田端町３２番地２６","0900802","2020-12-22","","013751",""]
[{"$f":"INDEX(学校種!B:B,MATCH(D1867,学校種!A:A,0))","v":"中学校"},{"$f":"INDEX(_tmp2!B:B,MATCH(E1867,_tmp2!A:A,0))","v":"北海道"},"C101220800106","C1","01","2","1","北見市立端野中学校","北見市端野町３区１０４５番地３","0992103","2020-12-22","","014707",""]
[{"$f":"INDEX(学校種!B:B,MATCH(D1868,学校種!A:A,0))","v":"中学校"},{"$f":"INDEX(_tmp2!B:B,MATCH(E1868,_tmp2!A:A,0))","v":"北海道"},"C101220800115","C1","01","2","1","北見市立留辺蘂中学校","北見市留辺蘂町旭西１９３","0910027","2020-12-22","","014722",""]
[{"$f":"INDEX(学校種!B:B,MATCH(D1869,学校種!A:A,0))","v":"中学校"},{"$f":"INDEX(_tmp2!B:B,MATCH(E1869,_tmp2!A:A,0))","v":"北海道"},"C101220800124","C1","01","2","1","北見市立常呂中学校","北見市常呂町字土佐４０番地１","0930213","2020-12-22","","014736",""]
[{"$f":"INDEX(学校種!B:B,MATCH(D1870,学校種!A:A,0))","v":"中学校"},{"$f":"INDEX(_tmp2!B:B,MATCH(E1870,_tmp2!A:A,0))","v":"北海道"},"C101220900016","C1","01","2","1","夕張市立夕張中学校","夕張市南清水沢３丁目６３番地","0680536","2020-12-22","","015336",""]
[{"$f":"INDEX(学校種!B:B,MATCH(D1871,学校種!A:A,0))","v":"中学校"},{"$f":"INDEX(_tmp2!B:B,MATCH(E1871,_tmp2!A:A,0))","v":"北海道"},"C101221000013","C1","01","2","1","岩見沢市立東光中学校","岩見沢市５条東１４丁目","0680005","2020-12-22","","013770",""]
[{"$f":"INDEX(学校種!B:B,MATCH(D1872,学校種!A:A,0))","v":"中学校"},{"$f":"INDEX(_tmp2!B:B,MATCH(E1872,_tmp2!A:A,0))","v":"北海道"},"C101221000022","C1","01","2","1","岩見沢市立光陵中学校","岩見沢市春日町１丁目１０番３７号","0680827","2020-12-22","","013771",""]
[{"$f":"INDEX(学校種!B:B,MATCH(D1873,学校種!A:A,0))","v":"中学校"},{"$f":"INDEX(_tmp2!B:B,MATCH(E1873,_tmp2!A:A,0))","v":"北海道"},"C101221000031","C1","01","2","1","岩見沢市立緑中学校","岩見沢市北本町西２丁目２－１","0680053","2020-12-22","","013772",""]
[{"$f":"INDEX(学校種!B:B,MATCH(D1874,学校種!A:A,0))","v":"中学校"},{"$f":"INDEX(_tmp2!B:B,MATCH(E1874,_tmp2!A:A,0))","v":"北海道"},"C101221000040","C1","01","2","1","岩見沢市立豊中学校","岩見沢市幌向南２条１丁目５９番地","0690372","2020-12-22","","013773",""]
[{"$f":"INDEX(学校種!B:B,MATCH(D1875,学校種!A:A,0))","v":"中学校"},{"$f":"INDEX(_tmp2!B:B,MATCH(E1875,_tmp2!A:A,0))","v":"北海道"},"C101221000059","C1","01","2","1","岩見沢市立上幌向中学校","岩見沢市上幌向北１条４丁目７４２","0690361","2020-12-22","","013777",""]
[{"$f":"INDEX(学校種!B:B,MATCH(D1876,学校種!A:A,0))","v":"中学校"},{"$f":"INDEX(_tmp2!B:B,MATCH(E1876,_tmp2!A:A,0))","v":"北海道"},"C101221000068","C1","01","2","1","岩見沢市立北村中学校","岩見沢市北村中央２０２－４","0681212","2020-12-22","","014339",""]
[{"$f":"INDEX(学校種!B:B,MATCH(D1877,学校種!A:A,0))","v":"中学校"},{"$f":"INDEX(_tmp2!B:B,MATCH(E1877,_tmp2!A:A,0))","v":"北海道"},"C101221000077","C1","01","2","1","岩見沢市立栗沢中学校","岩見沢市栗沢町南幸穂２７番地","0680132","2020-12-22","","014345",""]
[{"$f":"INDEX(学校種!B:B,MATCH(D1878,学校種!A:A,0))","v":"中学校"},{"$f":"INDEX(_tmp2!B:B,MATCH(E1878,_tmp2!A:A,0))","v":"北海道"},"C101221000086","C1","01","2","1","岩見沢市立清園中学校","岩見沢市志文町９２７番地","0680833","2020-12-22","","015243",""]
[{"$f":"INDEX(学校種!B:B,MATCH(D1879,学校種!A:A,0))","v":"中学校"},{"$f":"INDEX(_tmp2!B:B,MATCH(E1879,_tmp2!A:A,0))","v":"北海道"},"C101221000095","C1","01","2","1","岩見沢市立明成中学校","岩見沢市かえで町１丁目１－１","0680829","2020-12-22","","015264",""]
[{"$f":"INDEX(学校種!B:B,MATCH(D1880,学校種!A:A,0))","v":"中学校"},{"$f":"INDEX(_tmp2!B:B,MATCH(E1880,_tmp2!A:A,0))","v":"北海道"},"C101221100012","C1","01","2","1","網走市立第一中学校","網走市台町１丁目１３番地の１","0930031","2020-12-22","","013780",""]
[{"$f":"INDEX(学校種!B:B,MATCH(D1881,学校種!A:A,0))","v":"中学校"},{"$f":"INDEX(_tmp2!B:B,MATCH(E1881,_tmp2!A:A,0))","v":"北海道"},"C101221100021","C1","01","2","1","網走市立第二中学校","網走市向陽ヶ丘６丁目１番１号","0930084","2020-12-22","","013781",""]
[{"$f":"INDEX(学校種!B:B,MATCH(D1882,学校種!A:A,0))","v":"中学校"},{"$f":"INDEX(_tmp2!B:B,MATCH(E1882,_tmp2!A:A,0))","v":"北海道"},"C101221100030","C1","01","2","1","網走市立呼人中学校","網走市字呼人３３９番地の３","0992421","2020-12-22","","013787",""]
[{"$f":"INDEX(学校種!B:B,MATCH(D1883,学校種!A:A,0))","v":"中学校"},{"$f":"INDEX(_tmp2!B:B,MATCH(E1883,_tmp2!A:A,0))","v":"北海道"},"C101221100049","C1","01","2","1","網走市立第三中学校","網走市潮見１８８番地","0930042","2020-12-22","","013795",""]
[{"$f":"INDEX(学校種!B:B,MATCH(D1884,学校種!A:A,0))","v":"中学校"},{"$f":"INDEX(_tmp2!B:B,MATCH(E1884,_tmp2!A:A,0))","v":"北海道"},"C101221100058","C1","01","2","1","網走市立第四中学校","網走市字藻琴３５番地","0993111","2020-12-22","","015271",""]
[{"$f":"INDEX(学校種!B:B,MATCH(D1885,学校種!A:A,0))","v":"中学校"},{"$f":"INDEX(_tmp2!B:B,MATCH(E1885,_tmp2!A:A,0))","v":"北海道"},"C101221100067","C1","01","2","1","網走市立第五中学校","網走市字卯原内４１番地","0930135","2020-12-22","","015301",""]
[{"$f":"INDEX(学校種!B:B,MATCH(D1886,学校種!A:A,0))","v":"中学校"},{"$f":"INDEX(_tmp2!B:B,MATCH(E1886,_tmp2!A:A,0))","v":"北海道"},"C101221200011","C1","01","2","1","留萌市立留萌中学校","留萌市千鳥町３丁目","0770024","2020-12-22","","013800",""]
[{"$f":"INDEX(学校種!B:B,MATCH(D1887,学校種!A:A,0))","v":"中学校"},{"$f":"INDEX(_tmp2!B:B,MATCH(E1887,_tmp2!A:A,0))","v":"北海道"},"C101221200020","C1","01","2","1","留萌市立港南中学校","留萌市沖見町２丁目１４１","0770037","2020-12-22","","013801",""]
[{"$f":"INDEX(学校種!B:B,MATCH(D1888,学校種!A:A,0))","v":"中学校"},{"$f":"INDEX(_tmp2!B:B,MATCH(E1888,_tmp2!A:A,0))","v":"北海道"},"C101221300010","C1","01","2","1","苫小牧市立苫小牧東中学校","苫小牧市旭町１丁目７番１０号","0530018","2020-12-22","","013810",""]
[{"$f":"INDEX(学校種!B:B,MATCH(D1889,学校種!A:A,0))","v":"中学校"},{"$f":"INDEX(_tmp2!B:B,MATCH(E1889,_tmp2!A:A,0))","v":"北海道"},"C101221300029","C1","01","2","1","苫小牧市立勇払中学校","苫小牧市勇払１３２番地","0591372","2020-12-22","","013812",""]
[{"$f":"INDEX(学校種!B:B,MATCH(D1890,学校種!A:A,0))","v":"中学校"},{"$f":"INDEX(_tmp2!B:B,MATCH(E1890,_tmp2!A:A,0))","v":"北海道"},"C101221300038","C1","01","2","1","苫小牧市立光洋中学校","苫小牧市光洋町２丁目５番２号","0530811","2020-12-22","","013813",""]
[{"$f":"INDEX(学校種!B:B,MATCH(D1891,学校種!A:A,0))","v":"中学校"},{"$f":"INDEX(_tmp2!B:B,MATCH(E1891,_tmp2!A:A,0))","v":"北海道"},"C101221300047","C1","01","2","1","苫小牧市立啓北中学校","苫小牧市啓北町２丁目１２番１１号","0530854","2020-12-22","","013814",""]
[{"$f":"INDEX(学校種!B:B,MATCH(D1892,学校種!A:A,0))","v":"中学校"},{"$f":"INDEX(_tmp2!B:B,MATCH(E1892,_tmp2!A:A,0))","v":"北海道"},"C101221300056","C1","01","2","1","苫小牧市立和光中学校","苫小牧市双葉町１丁目１１番３号","0530045","2020-12-22","","013815",""]
[{"$f":"INDEX(学校種!B:B,MATCH(D1893,学校種!A:A,0))","v":"中学校"},{"$f":"INDEX(_tmp2!B:B,MATCH(E1893,_tmp2!A:A,0))","v":"北海道"},"C101221300065","C1","01","2","1","苫小牧市立凌雲中学校","苫小牧市青雲町２丁目１５番３号","0591263","2020-12-22","","013816",""]
[{"$f":"INDEX(学校種!B:B,MATCH(D1894,学校種!A:A,0))","v":"中学校"},{"$f":"INDEX(_tmp2!B:B,MATCH(E1894,_tmp2!A:A,0))","v":"北海道"},"C101221300074","C1","01","2","1","苫小牧市立植苗中学校","苫小牧市字植苗５０番地","0591365","2020-12-22","","013817",""]
[{"$f":"INDEX(学校種!B:B,MATCH(D1895,学校種!A:A,0))","v":"中学校"},{"$f":"INDEX(_tmp2!B:B,MATCH(E1895,_tmp2!A:A,0))","v":"北海道"},"C101221300083","C1","01","2","1","苫小牧市立沼ノ端中学校","苫小牧市東開町６－１－２","0591301","2020-12-22","","013818",""]
[{"$f":"INDEX(学校種!B:B,MATCH(D1896,学校種!A:A,0))","v":"中学校"},{"$f":"INDEX(_tmp2!B:B,MATCH(E1896,_tmp2!A:A,0))","v":"北海道"},"C101221300092","C1","01","2","1","苫小牧市立開成中学校","苫小牧市清水町２丁目９番２号","0530034","2020-12-22","","013819",""]
[{"$f":"INDEX(学校種!B:B,MATCH(D1897,学校種!A:A,0))","v":"中学校"},{"$f":"INDEX(_tmp2!B:B,MATCH(E1897,_tmp2!A:A,0))","v":"北海道"},"C101221300109","C1","01","2","2","苫小牧市立啓北中学校山なみ分校","苫小牧市有珠の沢町３丁目９番７号","0530842","2020-12-22","","013820",""]
[{"$f":"INDEX(学校種!B:B,MATCH(D1898,学校種!A:A,0))","v":"中学校"},{"$f":"INDEX(_tmp2!B:B,MATCH(E1898,_tmp2!A:A,0))","v":"北海道"},"C101221300118","C1","01","2","1","苫小牧市立明倫中学校","苫小牧市日新町３丁目５番１３号","0530833","2020-12-22","","013822",""]
[{"$f":"INDEX(学校種!B:B,MATCH(D1899,学校種!A:A,0))","v":"中学校"},{"$f":"INDEX(_tmp2!B:B,MATCH(E1899,_tmp2!A:A,0))","v":"北海道"},"C101221300127","C1","01","2","1","苫小牧市立啓明中学校","苫小牧市はまなす町２丁目２番２号","0591276","2020-12-22","","015238",""]
[{"$f":"INDEX(学校種!B:B,MATCH(D1900,学校種!A:A,0))","v":"中学校"},{"$f":"INDEX(_tmp2!B:B,MATCH(E1900,_tmp2!A:A,0))","v":"北海道"},"C101221300136","C1","01","2","1","苫小牧市立明野中学校","苫小牧市明野新町３丁目１３番１号","0530054","2020-12-22","","015302",""]
[{"$f":"INDEX(学校種!B:B,MATCH(D1901,学校種!A:A,0))","v":"中学校"},{"$f":"INDEX(_tmp2!B:B,MATCH(E1901,_tmp2!A:A,0))","v":"北海道"},"C101221300145","C1","01","2","1","苫小牧市立緑陵中学校","苫小牧市のぞみ町３丁目１０番１号","0591272","2020-12-22","","015313",""]
[{"$f":"INDEX(学校種!B:B,MATCH(D1902,学校種!A:A,0))","v":"中学校"},{"$f":"INDEX(_tmp2!B:B,MATCH(E1902,_tmp2!A:A,0))","v":"北海道"},"C101221300154","C1","01","2","1","苫小牧市立青翔中学校","苫小牧市択勇東町６丁目１５番１号","0591303","2020-12-22","","015335",""]
[{"$f":"INDEX(学校種!B:B,MATCH(D1903,学校種!A:A,0))","v":"中学校"},{"$f":"INDEX(_tmp2!B:B,MATCH(E1903,_tmp2!A:A,0))","v":"北海道"},"C101221300163","C1","01","2","1","苫小牧市立ウトナイ中学校","苫小牧市ウトナイ北２丁目５番","0591306","2020-12-22","","015359",""]
[{"$f":"INDEX(学校種!B:B,MATCH(D1904,学校種!A:A,0))","v":"中学校"},{"$f":"INDEX(_tmp2!B:B,MATCH(E1904,_tmp2!A:A,0))","v":"北海道"},"C101221400019","C1","01","2","1","稚内市立稚内中学校","稚内市宝来５丁目７番３１号","0970024","2020-12-22","","013830",""]
[{"$f":"INDEX(学校種!B:B,MATCH(D1905,学校種!A:A,0))","v":"中学校"},{"$f":"INDEX(_tmp2!B:B,MATCH(E1905,_tmp2!A:A,0))","v":"北海道"},"C101221400028","C1","01","2","1","稚内市立稚内南中学校","稚内市緑１丁目２５６１番地","0970004","2020-12-22","","013831",""]
[{"$f":"INDEX(学校種!B:B,MATCH(D1906,学校種!A:A,0))","v":"中学校"},{"$f":"INDEX(_tmp2!B:B,MATCH(E1906,_tmp2!A:A,0))","v":"北海道"},"C101221400037","C1","01","2","1","稚内市立稚内東中学校","稚内市潮見５丁目１番２９号","0970002","2020-12-22","","013838",""]
[{"$f":"INDEX(学校種!B:B,MATCH(D1907,学校種!A:A,0))","v":"中学校"},{"$f":"INDEX(_tmp2!B:B,MATCH(E1907,_tmp2!A:A,0))","v":"北海道"},"C101221400046","C1","01","2","1","稚内市立増幌中学校","稚内市大字声間村字恵北","0986645","2020-12-22","","013845",""]
[{"$f":"INDEX(学校種!B:B,MATCH(D1908,学校種!A:A,0))","v":"中学校"},{"$f":"INDEX(_tmp2!B:B,MATCH(E1908,_tmp2!A:A,0))","v":"北海道"},"C101221400055","C1","01","2","1","稚内市立宗谷中学校","稚内市大字宗谷村字清浜","0986754","2020-12-22","","013846",""]
[{"$f":"INDEX(学校種!B:B,MATCH(D1909,学校種!A:A,0))","v":"中学校"},{"$f":"INDEX(_tmp2!B:B,MATCH(E1909,_tmp2!A:A,0))","v":"北海道"},"C101221400064","C1","01","2","1","稚内市立潮見が丘中学校","稚内市若葉台１丁目２２９０番地７","0970013","2020-12-22","","015245",""]
[{"$f":"INDEX(学校種!B:B,MATCH(D1910,学校種!A:A,0))","v":"中学校"},{"$f":"INDEX(_tmp2!B:B,MATCH(E1910,_tmp2!A:A,0))","v":"北海道"},"C101221400073","C1","01","2","1","稚内市立天北中学校","稚内市大字声問村字沼川","0986563","2020-12-22","","015319",""]
[{"$f":"INDEX(学校種!B:B,MATCH(D1911,学校種!A:A,0))","v":"中学校"},{"$f":"INDEX(_tmp2!B:B,MATCH(E1911,_tmp2!A:A,0))","v":"北海道"},"C101221500018","C1","01","2","1","美唄市立美唄中学校","美唄市西４条北３丁目３番１号","0720033","2020-12-22","","013856",""]
[{"$f":"INDEX(学校種!B:B,MATCH(D1912,学校種!A:A,0))","v":"中学校"},{"$f":"INDEX(_tmp2!B:B,MATCH(E1912,_tmp2!A:A,0))","v":"北海道"},"C101221500027","C1","01","2","9","美唄市立南美唄中学校","美唄市南美唄町下１８条２丁目","0720823","2020-12-22","2021-05-27","013859","C101221500036"]
[{"$f":"INDEX(学校種!B:B,MATCH(D1913,学校種!A:A,0))","v":"中学校"},{"$f":"INDEX(_tmp2!B:B,MATCH(E1913,_tmp2!A:A,0))","v":"北海道"},"C101221500036","C1","01","2","1","美唄市立東中学校","美唄市東７条北２丁目１－１","0720801","2020-12-22","","013860",""]
[{"$f":"INDEX(学校種!B:B,MATCH(D1914,学校種!A:A,0))","v":"中学校"},{"$f":"INDEX(_tmp2!B:B,MATCH(E1914,_tmp2!A:A,0))","v":"北海道"},"C101221600017","C1","01","2","1","芦別市立芦別中学校","芦別市北６条東１丁目７番地","0750016","2020-12-22","","013866",""]
[{"$f":"INDEX(学校種!B:B,MATCH(D1915,学校種!A:A,0))","v":"中学校"},{"$f":"INDEX(_tmp2!B:B,MATCH(E1915,_tmp2!A:A,0))","v":"北海道"},"C101221600026","C1","01","2","1","芦別市立啓成中学校","芦別市上芦別町２６３番地","0791371","2020-12-22","","015224",""]
[{"$f":"INDEX(学校種!B:B,MATCH(D1916,学校種!A:A,0))","v":"中学校"},{"$f":"INDEX(_tmp2!B:B,MATCH(E1916,_tmp2!A:A,0))","v":"北海道"},"C101221700016","C1","01","2","1","江別市立江別第一中学校","江別市上江別西町４０番地","0670063","2020-12-22","","013880",""]
[{"$f":"INDEX(学校種!B:B,MATCH(D1917,学校種!A:A,0))","v":"中学校"},{"$f":"INDEX(_tmp2!B:B,MATCH(E1917,_tmp2!A:A,0))","v":"北海道"},"C101221700025","C1","01","2","1","江別市立江別第二中学校","江別市野幌代々木町５３番地","0690817","2020-12-22","","013881",""]
[{"$f":"INDEX(学校種!B:B,MATCH(D1918,学校種!A:A,0))","v":"中学校"},{"$f":"INDEX(_tmp2!B:B,MATCH(E1918,_tmp2!A:A,0))","v":"北海道"},"C101221700034","C1","01","2","1","江別市立江別第三中学校","江別市牧場町２１番地","0670005","2020-12-22","","013882",""]
[{"$f":"INDEX(学校種!B:B,MATCH(D1919,学校種!A:A,0))","v":"中学校"},{"$f":"INDEX(_tmp2!B:B,MATCH(E1919,_tmp2!A:A,0))","v":"北海道"},"C101221700043","C1","01","2","1","江別市立野幌中学校","江別市西野幌９２番地の３","0690832","2020-12-22","","013883",""]
[{"$f":"INDEX(学校種!B:B,MATCH(D1920,学校種!A:A,0))","v":"中学校"},{"$f":"INDEX(_tmp2!B:B,MATCH(E1920,_tmp2!A:A,0))","v":"北海道"},"C101221700052","C1","01","2","1","江別市立大麻中学校","江別市大麻宮町１番地","0690855","2020-12-22","","013886",""]
[{"$f":"INDEX(学校種!B:B,MATCH(D1921,学校種!A:A,0))","v":"中学校"},{"$f":"INDEX(_tmp2!B:B,MATCH(E1921,_tmp2!A:A,0))","v":"北海道"},"C101221700061","C1","01","2","1","江別市立大麻東中学校","江別市大麻６９７番地","0690845","2020-12-22","","013887",""]
[{"$f":"INDEX(学校種!B:B,MATCH(D1922,学校種!A:A,0))","v":"中学校"},{"$f":"INDEX(_tmp2!B:B,MATCH(E1922,_tmp2!A:A,0))","v":"北海道"},"C101221700070","C1","01","2","1","江別市立江陽中学校","江別市萌えぎ野中央１０番地の２","0670058","2020-12-22","","015254",""]
[{"$f":"INDEX(学校種!B:B,MATCH(D1923,学校種!A:A,0))","v":"中学校"},{"$f":"INDEX(_tmp2!B:B,MATCH(E1923,_tmp2!A:A,0))","v":"北海道"},"C101221700089","C1","01","2","1","江別市立中央中学校","江別市新栄台５７番地","0690806","2020-12-22","","015305",""]
[{"$f":"INDEX(学校種!B:B,MATCH(D1924,学校種!A:A,0))","v":"中学校"},{"$f":"INDEX(_tmp2!B:B,MATCH(E1924,_tmp2!A:A,0))","v":"北海道"},"C101221800015","C1","01","2","1","赤平市立赤平中学校","赤平市北文京町１丁目２番地","0791121","2020-12-22","","013890",""]
[{"$f":"INDEX(学校種!B:B,MATCH(D1925,学校種!A:A,0))","v":"中学校"},{"$f":"INDEX(_tmp2!B:B,MATCH(E1925,_tmp2!A:A,0))","v":"北海道"},"C101221900014","C1","01","2","1","紋別市立紋別中学校","紋別市南が丘町２丁目１番地５３号","0940013","2020-12-22","","013900",""]
[{"$f":"INDEX(学校種!B:B,MATCH(D1926,学校種!A:A,0))","v":"中学校"},{"$f":"INDEX(_tmp2!B:B,MATCH(E1926,_tmp2!A:A,0))","v":"北海道"},"C101221900023","C1","01","2","1","紋別市立潮見中学校","紋別市落石町１丁目２１の３","0940007","2020-12-22","","013901",""]
[{"$f":"INDEX(学校種!B:B,MATCH(D1927,学校種!A:A,0))","v":"中学校"},{"$f":"INDEX(_tmp2!B:B,MATCH(E1927,_tmp2!A:A,0))","v":"北海道"},"C101221900032","C1","01","2","1","紋別市立渚滑中学校","紋別市渚滑町８丁目６番地の１","0995171","2020-12-22","","013904",""]
[{"$f":"INDEX(学校種!B:B,MATCH(D1928,学校種!A:A,0))","v":"中学校"},{"$f":"INDEX(_tmp2!B:B,MATCH(E1928,_tmp2!A:A,0))","v":"北海道"},"C101222000011","C1","01","2","1","士別市立士別中学校","士別市東６条北９丁目","0950006","2020-12-22","","013916",""]
[{"$f":"INDEX(学校種!B:B,MATCH(D1929,学校種!A:A,0))","v":"中学校"},{"$f":"INDEX(_tmp2!B:B,MATCH(E1929,_tmp2!A:A,0))","v":"北海道"},"C101222000020","C1","01","2","1","士別市立士別南中学校","士別市東４条１７丁目","0950014","2020-12-22","","013917",""]
[{"$f":"INDEX(学校種!B:B,MATCH(D1930,学校種!A:A,0))","v":"中学校"},{"$f":"INDEX(_tmp2!B:B,MATCH(E1930,_tmp2!A:A,0))","v":"北海道"},"C101222000039","C1","01","2","1","士別市立上士別中学校","士別市上士別町１６線南２番地","0950371","2020-12-22","","013920",""]
[{"$f":"INDEX(学校種!B:B,MATCH(D1931,学校種!A:A,0))","v":"中学校"},{"$f":"INDEX(_tmp2!B:B,MATCH(E1931,_tmp2!A:A,0))","v":"北海道"},"C101222000048","C1","01","2","1","士別市立朝日中学校","士別市朝日中央４０５０","0950401","2020-12-22","","014503",""]
[{"$f":"INDEX(学校種!B:B,MATCH(D1932,学校種!A:A,0))","v":"中学校"},{"$f":"INDEX(_tmp2!B:B,MATCH(E1932,_tmp2!A:A,0))","v":"北海道"},"C101222100010","C1","01","2","1","名寄市立名寄中学校","名寄市字豊栄１０１番地","0960072","2020-12-22","","013931",""]
[{"$f":"INDEX(学校種!B:B,MATCH(D1933,学校種!A:A,0))","v":"中学校"},{"$f":"INDEX(_tmp2!B:B,MATCH(E1933,_tmp2!A:A,0))","v":"北海道"},"C101222100029","C1","01","2","1","名寄市立名寄東中学校","名寄市西２条北８丁目１番地３","0960032","2020-12-22","","013932",""]
[{"$f":"INDEX(学校種!B:B,MATCH(D1934,学校種!A:A,0))","v":"中学校"},{"$f":"INDEX(_tmp2!B:B,MATCH(E1934,_tmp2!A:A,0))","v":"北海道"},"C101222100038","C1","01","2","1","名寄市立智恵文中学校","名寄市字智恵文１１線北２番地","0982181","2020-12-22","","013934",""]
[{"$f":"INDEX(学校種!B:B,MATCH(D1935,学校種!A:A,0))","v":"中学校"},{"$f":"INDEX(_tmp2!B:B,MATCH(E1935,_tmp2!A:A,0))","v":"北海道"},"C101222100047","C1","01","2","1","名寄市立風連中学校","名寄市風連町新生町１６７番地１","0980511","2020-12-22","","014507",""]
[{"$f":"INDEX(学校種!B:B,MATCH(D1936,学校種!A:A,0))","v":"中学校"},{"$f":"INDEX(_tmp2!B:B,MATCH(E1936,_tmp2!A:A,0))","v":"北海道"},"C101222200019","C1","01","2","1","三笠市立三笠中学校","三笠市本郷町４８４","0682161","2020-12-22","","013940",""]
[{"$f":"INDEX(学校種!B:B,MATCH(D1937,学校種!A:A,0))","v":"中学校"},{"$f":"INDEX(_tmp2!B:B,MATCH(E1937,_tmp2!A:A,0))","v":"北海道"},"C101222200028","C1","01","2","1","三笠市立萱野中学校","三笠市萱野１９２","0682166","2020-12-22","","013941",""]
[{"$f":"INDEX(学校種!B:B,MATCH(D1938,学校種!A:A,0))","v":"中学校"},{"$f":"INDEX(_tmp2!B:B,MATCH(E1938,_tmp2!A:A,0))","v":"北海道"},"C101222300018","C1","01","2","1","根室市立光洋中学校","根室市光洋町２丁目１２番地","0870004","2020-12-22","","013950",""]
[{"$f":"INDEX(学校種!B:B,MATCH(D1939,学校種!A:A,0))","v":"中学校"},{"$f":"INDEX(_tmp2!B:B,MATCH(E1939,_tmp2!A:A,0))","v":"北海道"},"C101222300027","C1","01","2","1","根室市立柏陵中学校","根室市西浜町４丁目１番地","0870025","2020-12-22","","013951",""]
[{"$f":"INDEX(学校種!B:B,MATCH(D1940,学校種!A:A,0))","v":"中学校"},{"$f":"INDEX(_tmp2!B:B,MATCH(E1940,_tmp2!A:A,0))","v":"北海道"},"C101222300036","C1","01","2","1","根室市立海星中学校","根室市西和田２１９番地","0870033","2020-12-22","","013952",""]
[{"$f":"INDEX(学校種!B:B,MATCH(D1941,学校種!A:A,0))","v":"中学校"},{"$f":"INDEX(_tmp2!B:B,MATCH(E1941,_tmp2!A:A,0))","v":"北海道"},"C101222300045","C1","01","2","1","根室市立落石中学校","根室市落石東１80番地","0881782","2020-12-22","","013953",""]
[{"$f":"INDEX(学校種!B:B,MATCH(D1942,学校種!A:A,0))","v":"中学校"},{"$f":"INDEX(_tmp2!B:B,MATCH(E1942,_tmp2!A:A,0))","v":"北海道"},"C101222300054","C1","01","2","1","根室市立厚床中学校","根室市厚床１丁目２１８番地","0860064","2020-12-22","","013955",""]
[{"$f":"INDEX(学校種!B:B,MATCH(D1943,学校種!A:A,0))","v":"中学校"},{"$f":"INDEX(_tmp2!B:B,MATCH(E1943,_tmp2!A:A,0))","v":"北海道"},"C101222300063","C1","01","2","9","根室市立啓雲中学校","根室市駒場町２丁目１２番地","0870012","2020-12-22","2021-05-27","013959","C101222300018"]
[{"$f":"INDEX(学校種!B:B,MATCH(D1944,学校種!A:A,0))","v":"中学校"},{"$f":"INDEX(_tmp2!B:B,MATCH(E1944,_tmp2!A:A,0))","v":"北海道"},"C101222400017","C1","01","2","1","千歳市立千歳中学校","千歳市栄町４丁目３５番地","0660061","2020-12-22","","013966",""]
[{"$f":"INDEX(学校種!B:B,MATCH(D1945,学校種!A:A,0))","v":"中学校"},{"$f":"INDEX(_tmp2!B:B,MATCH(E1945,_tmp2!A:A,0))","v":"北海道"},"C101222400026","C1","01","2","1","千歳市立北進中学校","千歳市北栄１丁目２番６号","0660036","2020-12-22","","013967",""]
[{"$f":"INDEX(学校種!B:B,MATCH(D1946,学校種!A:A,0))","v":"中学校"},{"$f":"INDEX(_tmp2!B:B,MATCH(E1946,_tmp2!A:A,0))","v":"北海道"},"C101222400035","C1","01","2","1","千歳市立青葉中学校","千歳市豊里４丁目１番１号","0660022","2020-12-22","","013968",""]
[{"$f":"INDEX(学校種!B:B,MATCH(D1947,学校種!A:A,0))","v":"中学校"},{"$f":"INDEX(_tmp2!B:B,MATCH(E1947,_tmp2!A:A,0))","v":"北海道"},"C101222400044","C1","01","2","1","千歳市立東千歳中学校","千歳市幌加７３１番地の１１７","0691183","2020-12-22","","013969",""]
[{"$f":"INDEX(学校種!B:B,MATCH(D1948,学校種!A:A,0))","v":"中学校"},{"$f":"INDEX(_tmp2!B:B,MATCH(E1948,_tmp2!A:A,0))","v":"北海道"},"C101222400053","C1","01","2","1","千歳市立駒里中学校","千歳市駒里９４５番地","0660011","2020-12-22","","013974",""]
[{"$f":"INDEX(学校種!B:B,MATCH(D1949,学校種!A:A,0))","v":"中学校"},{"$f":"INDEX(_tmp2!B:B,MATCH(E1949,_tmp2!A:A,0))","v":"北海道"},"C101222400062","C1","01","2","1","千歳市立富丘中学校","千歳市あずさ１丁目２番１号","0660076","2020-12-22","","013976",""]
[{"$f":"INDEX(学校種!B:B,MATCH(D1950,学校種!A:A,0))","v":"中学校"},{"$f":"INDEX(_tmp2!B:B,MATCH(E1950,_tmp2!A:A,0))","v":"北海道"},"C101222400071","C1","01","2","1","千歳市立北斗中学校","千歳市北斗５丁目１番１号","0660073","2020-12-22","","015260",""]
[{"$f":"INDEX(学校種!B:B,MATCH(D1951,学校種!A:A,0))","v":"中学校"},{"$f":"INDEX(_tmp2!B:B,MATCH(E1951,_tmp2!A:A,0))","v":"北海道"},"C101222400080","C1","01","2","1","千歳市立向陽台中学校","千歳市若草５－５","0660057","2020-12-22","","015280",""]
[{"$f":"INDEX(学校種!B:B,MATCH(D1952,学校種!A:A,0))","v":"中学校"},{"$f":"INDEX(_tmp2!B:B,MATCH(E1952,_tmp2!A:A,0))","v":"北海道"},"C101222400099","C1","01","2","1","千歳市立勇舞中学校","千歳市勇舞１丁目４番地１","0660078","2020-12-22","","015341",""]
[{"$f":"INDEX(学校種!B:B,MATCH(D1953,学校種!A:A,0))","v":"中学校"},{"$f":"INDEX(_tmp2!B:B,MATCH(E1953,_tmp2!A:A,0))","v":"北海道"},"C101222500016","C1","01","2","1","滝川市立江陵中学校","滝川市黄金町西１丁目７番１８号","0730011","2020-12-22","","013980",""]
[{"$f":"INDEX(学校種!B:B,MATCH(D1954,学校種!A:A,0))","v":"中学校"},{"$f":"INDEX(_tmp2!B:B,MATCH(E1954,_tmp2!A:A,0))","v":"北海道"},"C101222500025","C1","01","2","1","滝川市立明苑中学校","滝川市新町４丁目９番１号","0730033","2020-12-22","","013981",""]
[{"$f":"INDEX(学校種!B:B,MATCH(D1955,学校種!A:A,0))","v":"中学校"},{"$f":"INDEX(_tmp2!B:B,MATCH(E1955,_tmp2!A:A,0))","v":"北海道"},"C101222500034","C1","01","2","1","滝川市立開西中学校","滝川市西町３丁目７番１２号","0730044","2020-12-22","","013983",""]
[{"$f":"INDEX(学校種!B:B,MATCH(D1956,学校種!A:A,0))","v":"中学校"},{"$f":"INDEX(_tmp2!B:B,MATCH(E1956,_tmp2!A:A,0))","v":"北海道"},"C101222500043","C1","01","2","1","滝川市立江部乙中学校","滝川市江部乙町１１１８番地１","0790461","2020-12-22","","014368",""]
[{"$f":"INDEX(学校種!B:B,MATCH(D1957,学校種!A:A,0))","v":"中学校"},{"$f":"INDEX(_tmp2!B:B,MATCH(E1957,_tmp2!A:A,0))","v":"北海道"},"C101222600015","C1","01","2","1","砂川市立石山中学校","砂川市空知太東３条１丁目５番１号","0730103","2020-12-22","","013988",""]
[{"$f":"INDEX(学校種!B:B,MATCH(D1958,学校種!A:A,0))","v":"中学校"},{"$f":"INDEX(_tmp2!B:B,MATCH(E1958,_tmp2!A:A,0))","v":"北海道"},"C101222600024","C1","01","2","1","砂川市立砂川中学校","砂川市吉野２条南５丁目１番１号","0730122","2020-12-22","","015310",""]
[{"$f":"INDEX(学校種!B:B,MATCH(D1959,学校種!A:A,0))","v":"中学校"},{"$f":"INDEX(_tmp2!B:B,MATCH(E1959,_tmp2!A:A,0))","v":"北海道"},"C101222700014","C1","01","2","9","歌志内市立歌志内中学校","歌志内市字文殊２００番","0730407","2020-12-22","2021-05-27","013996","C201222700013"]
[{"$f":"INDEX(学校種!B:B,MATCH(D1960,学校種!A:A,0))","v":"中学校"},{"$f":"INDEX(_tmp2!B:B,MATCH(E1960,_tmp2!A:A,0))","v":"北海道"},"C101222800013","C1","01","2","1","深川市立深川中学校","深川市文光町１３番３号","0740013","2020-12-22","","014004",""]
[{"$f":"INDEX(学校種!B:B,MATCH(D1961,学校種!A:A,0))","v":"中学校"},{"$f":"INDEX(_tmp2!B:B,MATCH(E1961,_tmp2!A:A,0))","v":"北海道"},"C101222800022","C1","01","2","1","深川市立一已中学校","深川市稲穂町１丁目８番３号","0740021","2020-12-22","","014005",""]
[{"$f":"INDEX(学校種!B:B,MATCH(D1962,学校種!A:A,0))","v":"中学校"},{"$f":"INDEX(_tmp2!B:B,MATCH(E1962,_tmp2!A:A,0))","v":"北海道"},"C101222900012","C1","01","2","1","富良野市立富良野東中学校","富良野市瑞穂町１－３０","0760056","2020-12-22","","014010",""]
[{"$f":"INDEX(学校種!B:B,MATCH(D1963,学校種!A:A,0))","v":"中学校"},{"$f":"INDEX(_tmp2!B:B,MATCH(E1963,_tmp2!A:A,0))","v":"北海道"},"C101222900021","C1","01","2","1","富良野市立富良野西中学校","富良野市桂木町１番１号","0760038","2020-12-22","","014011",""]
[{"$f":"INDEX(学校種!B:B,MATCH(D1964,学校種!A:A,0))","v":"中学校"},{"$f":"INDEX(_tmp2!B:B,MATCH(E1964,_tmp2!A:A,0))","v":"北海道"},"C101222900030","C1","01","2","1","富良野市立麓郷中学校","富良野市字南麓郷","0760164","2020-12-22","","014012",""]
[{"$f":"INDEX(学校種!B:B,MATCH(D1965,学校種!A:A,0))","v":"中学校"},{"$f":"INDEX(_tmp2!B:B,MATCH(E1965,_tmp2!A:A,0))","v":"北海道"},"C101222900049","C1","01","2","1","富良野市立布部中学校","富良野市字上五区","0760014","2020-12-22","","014014",""]
[{"$f":"INDEX(学校種!B:B,MATCH(D1966,学校種!A:A,0))","v":"中学校"},{"$f":"INDEX(_tmp2!B:B,MATCH(E1966,_tmp2!A:A,0))","v":"北海道"},"C101222900058","C1","01","2","1","富良野市立樹海中学校","富良野市字東山共栄","0760202","2020-12-22","","015226",""]
[{"$f":"INDEX(学校種!B:B,MATCH(D1967,学校種!A:A,0))","v":"中学校"},{"$f":"INDEX(_tmp2!B:B,MATCH(E1967,_tmp2!A:A,0))","v":"北海道"},"C101223000019","C1","01","2","1","登別市立幌別中学校","登別市千歳町３丁目１－３","0590003","2020-12-22","","014837",""]
[{"$f":"INDEX(学校種!B:B,MATCH(D1968,学校種!A:A,0))","v":"中学校"},{"$f":"INDEX(_tmp2!B:B,MATCH(E1968,_tmp2!A:A,0))","v":"北海道"},"C101223000028","C1","01","2","1","登別市立鷲別中学校","登別市鷲別町４－３６－６","0590034","2020-12-22","","014838",""]
[{"$f":"INDEX(学校種!B:B,MATCH(D1969,学校種!A:A,0))","v":"中学校"},{"$f":"INDEX(_tmp2!B:B,MATCH(E1969,_tmp2!A:A,0))","v":"北海道"},"C101223000037","C1","01","2","1","登別市立登別中学校","登別市登別本町１丁目１番地１","0590465","2020-12-22","","014839",""]
[{"$f":"INDEX(学校種!B:B,MATCH(D1970,学校種!A:A,0))","v":"中学校"},{"$f":"INDEX(_tmp2!B:B,MATCH(E1970,_tmp2!A:A,0))","v":"北海道"},"C101223000046","C1","01","2","1","登別市立西陵中学校","登別市片倉町５丁目１２番地１","0590016","2020-12-22","","014843",""]
[{"$f":"INDEX(学校種!B:B,MATCH(D1971,学校種!A:A,0))","v":"中学校"},{"$f":"INDEX(_tmp2!B:B,MATCH(E1971,_tmp2!A:A,0))","v":"北海道"},"C101223000055","C1","01","2","1","登別市立緑陽中学校","登別市富岸町１丁目１１番地１","0590028","2020-12-22","","015251",""]
[{"$f":"INDEX(学校種!B:B,MATCH(D1972,学校種!A:A,0))","v":"中学校"},{"$f":"INDEX(_tmp2!B:B,MATCH(E1972,_tmp2!A:A,0))","v":"北海道"},"C101223100018","C1","01","2","1","恵庭市立恵庭中学校","恵庭市文京町３丁目４番５号","0611425","2020-12-22","","014064",""]
[{"$f":"INDEX(学校種!B:B,MATCH(D1973,学校種!A:A,0))","v":"中学校"},{"$f":"INDEX(_tmp2!B:B,MATCH(E1973,_tmp2!A:A,0))","v":"北海道"},"C101223100027","C1","01","2","1","恵庭市立恵北中学校","恵庭市中島松２３０番地","0611362","2020-12-22","","014065",""]
[{"$f":"INDEX(学校種!B:B,MATCH(D1974,学校種!A:A,0))","v":"中学校"},{"$f":"INDEX(_tmp2!B:B,MATCH(E1974,_tmp2!A:A,0))","v":"北海道"},"C101223100036","C1","01","2","1","恵庭市立恵明中学校","恵庭市黄金北４丁目１番地の１","0611407","2020-12-22","","014066",""]
[{"$f":"INDEX(学校種!B:B,MATCH(D1975,学校種!A:A,0))","v":"中学校"},{"$f":"INDEX(_tmp2!B:B,MATCH(E1975,_tmp2!A:A,0))","v":"北海道"},"C101223100045","C1","01","2","1","恵庭市立柏陽中学校","恵庭市柏陽町３丁目２６５番地","0611434","2020-12-22","","015227",""]
[{"$f":"INDEX(学校種!B:B,MATCH(D1976,学校種!A:A,0))","v":"中学校"},{"$f":"INDEX(_tmp2!B:B,MATCH(E1976,_tmp2!A:A,0))","v":"北海道"},"C101223100054","C1","01","2","1","恵庭市立恵み野中学校","恵庭市恵み野東１丁目１の２","0611371","2020-12-22","","015291",""]
[{"$f":"INDEX(学校種!B:B,MATCH(D1977,学校種!A:A,0))","v":"中学校"},{"$f":"INDEX(_tmp2!B:B,MATCH(E1977,_tmp2!A:A,0))","v":"北海道"},"C101223300016","C1","01","2","1","伊達市立伊達中学校","伊達市舟岡町２２６－１２","0520014","2020-12-22","","014830",""]
[{"$f":"INDEX(学校種!B:B,MATCH(D1978,学校種!A:A,0))","v":"中学校"},{"$f":"INDEX(_tmp2!B:B,MATCH(E1978,_tmp2!A:A,0))","v":"北海道"},"C101223300025","C1","01","2","1","伊達市立光陵中学校","伊達市館山町４９－１","0520031","2020-12-22","","014836",""]
[{"$f":"INDEX(学校種!B:B,MATCH(D1979,学校種!A:A,0))","v":"中学校"},{"$f":"INDEX(_tmp2!B:B,MATCH(E1979,_tmp2!A:A,0))","v":"北海道"},"C101223300034","C1","01","2","1","伊達市立星の丘中学校","伊達市松ヶ枝町２４０番地５","0520012","2020-12-22","","015330",""]
[{"$f":"INDEX(学校種!B:B,MATCH(D1980,学校種!A:A,0))","v":"中学校"},{"$f":"INDEX(_tmp2!B:B,MATCH(E1980,_tmp2!A:A,0))","v":"北海道"},"C101223400015","C1","01","2","1","北広島市立東部中学校","北広島市美咲き野１丁目１２番地１","0611115","2020-12-22","","014021",""]
[{"$f":"INDEX(学校種!B:B,MATCH(D1981,学校種!A:A,0))","v":"中学校"},{"$f":"INDEX(_tmp2!B:B,MATCH(E1981,_tmp2!A:A,0))","v":"北海道"},"C101223400024","C1","01","2","1","北広島市立西部中学校","北広島市輪厚中央１丁目１２－１","0611268","2020-12-22","","014023",""]
[{"$f":"INDEX(学校種!B:B,MATCH(D1982,学校種!A:A,0))","v":"中学校"},{"$f":"INDEX(_tmp2!B:B,MATCH(E1982,_tmp2!A:A,0))","v":"北海道"},"C101223400033","C1","01","2","1","北広島市立西の里中学校","北広島市西の里７９０番地","0611102","2020-12-22","","014024",""]
[{"$f":"INDEX(学校種!B:B,MATCH(D1983,学校種!A:A,0))","v":"中学校"},{"$f":"INDEX(_tmp2!B:B,MATCH(E1983,_tmp2!A:A,0))","v":"北海道"},"C101223400042","C1","01","2","1","北広島市立大曲中学校","北広島市大曲中央２丁目４番地１","0611271","2020-12-22","","014025",""]
[{"$f":"INDEX(学校種!B:B,MATCH(D1984,学校種!A:A,0))","v":"中学校"},{"$f":"INDEX(_tmp2!B:B,MATCH(E1984,_tmp2!A:A,0))","v":"北海道"},"C101223400051","C1","01","2","1","北広島市立広葉中学校","北広島市広葉町５丁目１番地","0611134","2020-12-22","","014026",""]
[{"$f":"INDEX(学校種!B:B,MATCH(D1985,学校種!A:A,0))","v":"中学校"},{"$f":"INDEX(_tmp2!B:B,MATCH(E1985,_tmp2!A:A,0))","v":"北海道"},"C101223400060","C1","01","2","1","北広島市立緑陽中学校","北広島市緑陽町３丁目４番地","0611137","2020-12-22","","014027",""]
[{"$f":"INDEX(学校種!B:B,MATCH(D1986,学校種!A:A,0))","v":"中学校"},{"$f":"INDEX(_tmp2!B:B,MATCH(E1986,_tmp2!A:A,0))","v":"北海道"},"C101223400079","C1","01","2","2","北広島市立西の里中学校陽香分校","北広島市西の里１０１５","0611102","2020-12-22","","015332",""]
[{"$f":"INDEX(学校種!B:B,MATCH(D1987,学校種!A:A,0))","v":"中学校"},{"$f":"INDEX(_tmp2!B:B,MATCH(E1987,_tmp2!A:A,0))","v":"北海道"},"C101223500014","C1","01","2","1","石狩市立石狩中学校","石狩市志美２９３番地３０","0613220","2020-12-22","","014031",""]
[{"$f":"INDEX(学校種!B:B,MATCH(D1988,学校種!A:A,0))","v":"中学校"},{"$f":"INDEX(_tmp2!B:B,MATCH(E1988,_tmp2!A:A,0))","v":"北海道"},"C101223500023","C1","01","2","1","石狩市立花川南中学校","石狩市花川南９－４－９４","0613209","2020-12-22","","014036",""]
[{"$f":"INDEX(学校種!B:B,MATCH(D1989,学校種!A:A,0))","v":"中学校"},{"$f":"INDEX(_tmp2!B:B,MATCH(E1989,_tmp2!A:A,0))","v":"北海道"},"C101223500032","C1","01","2","1","石狩市立浜益中学校","石狩市浜益区浜益５０番地２２","0613101","2020-12-22","","014057",""]
[{"$f":"INDEX(学校種!B:B,MATCH(D1990,学校種!A:A,0))","v":"中学校"},{"$f":"INDEX(_tmp2!B:B,MATCH(E1990,_tmp2!A:A,0))","v":"北海道"},"C101223500041","C1","01","2","1","石狩市立花川北中学校","石狩市花川北３条４丁目１３０番地","0613213","2020-12-22","","015219",""]
[{"$f":"INDEX(学校種!B:B,MATCH(D1991,学校種!A:A,0))","v":"中学校"},{"$f":"INDEX(_tmp2!B:B,MATCH(E1991,_tmp2!A:A,0))","v":"北海道"},"C101223500050","C1","01","2","1","石狩市立花川中学校","石狩市花川北４条１丁目２番地１","0613214","2020-12-22","","015281",""]
[{"$f":"INDEX(学校種!B:B,MATCH(D1992,学校種!A:A,0))","v":"中学校"},{"$f":"INDEX(_tmp2!B:B,MATCH(E1992,_tmp2!A:A,0))","v":"北海道"},"C101223500069","C1","01","2","1","石狩市立樽川中学校","石狩市樽川６条３丁目６００","0613256","2020-12-22","","015309",""]
[{"$f":"INDEX(学校種!B:B,MATCH(D1993,学校種!A:A,0))","v":"中学校"},{"$f":"INDEX(_tmp2!B:B,MATCH(E1993,_tmp2!A:A,0))","v":"北海道"},"C101223600013","C1","01","2","1","北斗市立石別中学校","北斗市三ツ石２７０番地","0490283","2020-12-22","","014086",""]
[{"$f":"INDEX(学校種!B:B,MATCH(D1994,学校種!A:A,0))","v":"中学校"},{"$f":"INDEX(_tmp2!B:B,MATCH(E1994,_tmp2!A:A,0))","v":"北海道"},"C101223600022","C1","01","2","1","北斗市立茂辺地中学校","北斗市茂辺地３丁目４番１２号","0490281","2020-12-22","","014087",""]
[{"$f":"INDEX(学校種!B:B,MATCH(D1995,学校種!A:A,0))","v":"中学校"},{"$f":"INDEX(_tmp2!B:B,MATCH(E1995,_tmp2!A:A,0))","v":"北海道"},"C101223600031","C1","01","2","1","北斗市立上磯中学校","北斗市中野通３２０－４","0490156","2020-12-22","","014088",""]
[{"$f":"INDEX(学校種!B:B,MATCH(D1996,学校種!A:A,0))","v":"中学校"},{"$f":"INDEX(_tmp2!B:B,MATCH(E1996,_tmp2!A:A,0))","v":"北海道"},"C101223600040","C1","01","2","1","北斗市立浜分中学校","北斗市追分１丁目１７番１号","0490101","2020-12-22","","014089",""]
[{"$f":"INDEX(学校種!B:B,MATCH(D1997,学校種!A:A,0))","v":"中学校"},{"$f":"INDEX(_tmp2!B:B,MATCH(E1997,_tmp2!A:A,0))","v":"北海道"},"C101223600059","C1","01","2","1","北斗市立大野中学校","北斗市本町５５４－１","0411201","2020-12-22","","014093",""]
[{"$f":"INDEX(学校種!B:B,MATCH(D1998,学校種!A:A,0))","v":"中学校"},{"$f":"INDEX(_tmp2!B:B,MATCH(E1998,_tmp2!A:A,0))","v":"北海道"},"C101230300011","C1","01","2","1","当別町立当別中学校","石狩郡当別町下川町１２５番地","0610205","2020-12-22","","014038",""]
[{"$f":"INDEX(学校種!B:B,MATCH(D1999,学校種!A:A,0))","v":"中学校"},{"$f":"INDEX(_tmp2!B:B,MATCH(E1999,_tmp2!A:A,0))","v":"北海道"},"C101230300020","C1","01","2","1","当別町立西当別中学校","石狩郡当別町獅子内５１３４番地１","0613772","2020-12-22","","014039",""]
[{"$f":"INDEX(学校種!B:B,MATCH(D2000,学校種!A:A,0))","v":"中学校"},{"$f":"INDEX(_tmp2!B:B,MATCH(E2000,_tmp2!A:A,0))","v":"北海道"},"C101230400010","C1","01","2","1","新篠津村立新篠津中学校","石狩郡新篠津村第４７線北７番地","0681100","2020-12-22","","014048",""]
[{"$f":"INDEX(学校種!B:B,MATCH(D2007,学校種!A:A,0))","v":"中学校"},{"$f":"INDEX(_tmp2!B:B,MATCH(E2007,_tmp2!A:A,0))","v":"北海道"},"C101234300013","C1","01","2","1","鹿部町立鹿部中学校","茅部郡鹿部町宮浜２８１","0411403","2020-12-22","","014120",""]
[{"$f":"INDEX(学校種!B:B,MATCH(D2030,学校種!A:A,0))","v":"中学校"},{"$f":"INDEX(_tmp2!B:B,MATCH(E2030,_tmp2!A:A,0))","v":"北海道"},"C101239500010","C1","01","2","1","ニセコ町立ニセコ中学校","虻田郡ニセコ町字富士見１４３番地","0481501","2020-12-22","","014262",""]
[{"$f":"INDEX(学校種!B:B,MATCH(D2072,学校種!A:A,0))","v":"中学校"},{"$f":"INDEX(_tmp2!B:B,MATCH(E2072,_tmp2!A:A,0))","v":"北海道"},"C101246100019","C1","01","2","1","中富良野町立中富良野中学校","空知郡中富良野町南町９番１９号","0710753","2020-12-22","","014480",""]
[{"$f":"INDEX(学校種!B:B,MATCH(D2091,学校種!A:A,0))","v":"中学校"},{"$f":"INDEX(_tmp2!B:B,MATCH(E2091,_tmp2!A:A,0))","v":"北海道"},"C101248500011","C1","01","2","1","初山別村立初山別中学校","苫前郡初山別村初山別１７３の１","0784421","2020-12-22","","014568",""]
[{"$f":"INDEX(学校種!B:B,MATCH(D2137,学校種!A:A,0))","v":"中学校"},{"$f":"INDEX(_tmp2!B:B,MATCH(E2137,_tmp2!A:A,0))","v":"北海道"},"C101258100014","C1","01","2","1","厚真町立厚真中学校","勇払郡厚真町新町４６４番地","0591623","2020-12-22","","014860",""]
[{"$f":"INDEX(学校種!B:B,MATCH(D2148,学校種!A:A,0))","v":"中学校"},{"$f":"INDEX(_tmp2!B:B,MATCH(E2148,_tmp2!A:A,0))","v":"北海道"},"C101260100047","C1","01","2","1","日高町立門別中学校","沙流郡日高町門別本町２３９－１","0592121","2020-12-22","","014897",""]
[{"$f":"INDEX(学校種!B:B,MATCH(D2175,学校種!A:A,0))","v":"中学校"},{"$f":"INDEX(_tmp2!B:B,MATCH(E2175,_tmp2!A:A,0))","v":"北海道"},"C101263700027","C1","01","2","1","芽室町立上美生中学校","河西郡芽室町上美生５線３１番地５","0820384","2020-12-22","","014983",""]
[{"$f":"INDEX(学校種!B:B,MATCH(D2209,学校種!A:A,0))","v":"中学校"},{"$f":"INDEX(_tmp2!B:B,MATCH(E2209,_tmp2!A:A,0))","v":"北海道"},"C101266700020","C1","01","2","1","鶴居村立幌呂中学校","阿寒郡鶴居村幌呂東２丁目２１番地","0851142","2020-12-22","","015156",""]
[{"$f":"INDEX(学校種!B:B,MATCH(D2240,学校種!A:A,0))","v":"中学校"},{"$f":"INDEX(_tmp2!B:B,MATCH(E2240,_tmp2!A:A,0))","v":"北海道"},"C101320500107","C1","01","3","1","海星学院中学校","室蘭市高砂町３－７－７","0500072","2020-12-22","","013697",""]
[{"$f":"INDEX(学校種!B:B,MATCH(D2270,学校種!A:A,0))","v":"高等学校"},{"$f":"INDEX(_tmp2!B:B,MATCH(E2270,_tmp2!A:A,0))","v":"北海道"},"D101210200076","D1","01","2","1","市立札幌新川高等学校","札幌市北区新川５条１４丁目１－１","0010925","2020-12-22","","015919",""]
[{"$f":"INDEX(学校種!B:B,MATCH(D2283,学校種!A:A,0))","v":"高等学校"},{"$f":"INDEX(_tmp2!B:B,MATCH(E2283,_tmp2!A:A,0))","v":"北海道"},"D101210700026","D1","01","2","1","北海道札幌琴似工業高等学校","札幌市西区発寒１３条１１丁目３番１号","0630833","2020-12-22","","015519",""]
[{"$f":"INDEX(学校種!B:B,MATCH(D2303,学校種!A:A,0))","v":"高等学校"},{"$f":"INDEX(_tmp2!B:B,MATCH(E2303,_tmp2!A:A,0))","v":"北海道"},"D101220300047","D1","01","2","1","北海道小樽水産高等学校","小樽市若竹町９－１","0470001","2020-12-22","","015529",""]
[{"$f":"INDEX(学校種!B:B,MATCH(D2348,学校種!A:A,0))","v":"高等学校"},{"$f":"INDEX(_tmp2!B:B,MATCH(E2348,_tmp2!A:A,0))","v":"北海道"},"D101221300054","D1","01","2","1","北海道苫小牧総合経済高等学校","苫小牧市新開町４－７－２","0530052","2020-12-22","","015976",""]
[{"$f":"INDEX(学校種!B:B,MATCH(D2360,学校種!A:A,0))","v":"高等学校"},{"$f":"INDEX(_tmp2!B:B,MATCH(E2360,_tmp2!A:A,0))","v":"北海道"},"D101222100027","D1","01","2","1","北海道名寄産業高等学校","名寄市西５条北５－１","0960035","2020-12-22","","016000",""]
[{"$f":"INDEX(学校種!B:B,MATCH(D2386,学校種!A:A,0))","v":"高等学校"},{"$f":"INDEX(_tmp2!B:B,MATCH(E2386,_tmp2!A:A,0))","v":"北海道"},"D101230300019","D1","01","2","1","北海道当別高等学校","石狩郡当別町春日町８４番地","0610296","2020-12-22","","015598",""]
[{"$f":"INDEX(学校種!B:B,MATCH(D2421,学校種!A:A,0))","v":"高等学校"},{"$f":"INDEX(_tmp2!B:B,MATCH(E2421,_tmp2!A:A,0))","v":"北海道"},"D101246900019","D1","01","2","1","北海道美深高等学校","中川郡美深町字西町４０番地","0982252","2020-12-22","","015633",""]
[{"$f":"INDEX(学校種!B:B,MATCH(D2451,学校種!A:A,0))","v":"高等学校"},{"$f":"INDEX(_tmp2!B:B,MATCH(E2451,_tmp2!A:A,0))","v":"北海道"},"D101258400019","D1","01","2","1","北海道虻田高等学校","虻田郡洞爺湖町高砂町１２７ー５","0495605","2020-12-22","","015655",""]
[{"$f":"INDEX(学校種!B:B,MATCH(D2482,学校種!A:A,0))","v":"高等学校"},{"$f":"INDEX(_tmp2!B:B,MATCH(E2482,_tmp2!A:A,0))","v":"北海道"},"D101269100019","D1","01","2","1","北海道別海高等学校","野付郡別海町別海緑町７０－１","0860214","2020-12-22","","015782",""]
[{"$f":"INDEX(学校種!B:B,MATCH(D2521,学校種!A:A,0))","v":"高等学校"},{"$f":"INDEX(_tmp2!B:B,MATCH(E2521,_tmp2!A:A,0))","v":"北海道"},"D101320400124","D1","01","3","1","旭川龍谷高等学校","旭川市豊岡５条４丁目４番１号","0788235","2020-12-22","","015827",""]
[{"$f":"INDEX(学校種!B:B,MATCH(D2543,学校種!A:A,0))","v":"中等教育学校"},{"$f":"INDEX(_tmp2!B:B,MATCH(E2543,_tmp2!A:A,0))","v":"北海道"},"D201210300010","D2","01","2","1","市立札幌開成中等教育学校","札幌市東区北２２条東２１丁目１番１号","0658558","2020-12-22","","019782",""]
[{"$f":"INDEX(学校種!B:B,MATCH(D2572,学校種!A:A,0))","v":"特別支援学校"},{"$f":"INDEX(_tmp2!B:B,MATCH(E2572,_tmp2!A:A,0))","v":"北海道"},"E101220300026","E1","01","2","1","北海道小樽高等支援学校","小樽市銭函１丁目10番１号","0470261","2020-12-22","","019965",""]
[{"$f":"INDEX(学校種!B:B,MATCH(D2603,学校種!A:A,0))","v":"特別支援学校"},{"$f":"INDEX(_tmp2!B:B,MATCH(E2603,_tmp2!A:A,0))","v":"北海道"},"E101239300017","E1","01","2","2","北海道余市養護学校しりべし学園分校","寿都郡黒松内町字黒松内５６４","0480101","2020-12-22","","019935",""]
[{"$f":"INDEX(学校種!B:B,MATCH(D2633,学校種!A:A,0))","v":"専修学校"},{"$f":"INDEX(_tmp2!B:B,MATCH(E2633,_tmp2!A:A,0))","v":"北海道"},"H101222600014","H1","01","2","1","砂川市立病院附属看護専門学校","砂川市西４条北１丁目１番５号","0730164","2020-12-22","","018739",""]
[{"$f":"INDEX(学校種!B:B,MATCH(D2646,学校種!A:A,0))","v":"専修学校"},{"$f":"INDEX(_tmp2!B:B,MATCH(E2646,_tmp2!A:A,0))","v":"北海道"},"H101310100085","H1","01","3","1","公益社団法人北海道柔道整復師会附属北海道柔道整復専門学校","札幌市中央区大通西１８丁目１－１５","0600042","2020-12-22","","018536",""]
[{"$f":"INDEX(学校種!B:B,MATCH(D2666,学校種!A:A,0))","v":"専修学校"},{"$f":"INDEX(_tmp2!B:B,MATCH(E2666,_tmp2!A:A,0))","v":"北海道"},"H101310100281","H1","01","3","1","札幌スポーツアンドメディカル専門学校","札幌市中央区南１条西８丁目１１－１","0600061","2020-12-22","","018779",""]
[{"$f":"INDEX(学校種!B:B,MATCH(D2711,学校種!A:A,0))","v":"専修学校"},{"$f":"INDEX(_tmp2!B:B,MATCH(E2711,_tmp2!A:A,0))","v":"北海道"},"H101310600062","H1","01","3","1","経専北海道観光専門学校","札幌市南区澄川3条６丁目４－３","0050003","2020-12-22","","018791",""]
[{"$f":"INDEX(学校種!B:B,MATCH(D2723,学校種!A:A,0))","v":"専修学校"},{"$f":"INDEX(_tmp2!B:B,MATCH(E2723,_tmp2!A:A,0))","v":"北海道"},"H101320200083","H1","01","3","1","函館臨床福祉専門学校","函館市美原１丁目１５－１","0410806","2020-12-22","","018751",""]
[{"$f":"INDEX(学校種!B:B,MATCH(D2749,学校種!A:A,0))","v":"専修学校"},{"$f":"INDEX(_tmp2!B:B,MATCH(E2749,_tmp2!A:A,0))","v":"北海道"},"H101320600098","H1","01","3","1","釧路孝仁会看護専門学校","釧路市愛国１９１－２１２","0850062","2020-12-22","","018800",""]
[{"$f":"INDEX(学校種!B:B,MATCH(D2784,学校種!A:A,0))","v":"各種学校"},{"$f":"INDEX(_tmp2!B:B,MATCH(E2784,_tmp2!A:A,0))","v":"北海道"},"H201310100039","H2","01","3","1","中村編物技芸学園","札幌市中央区南４条西１４丁目","0640804","2020-12-22","","019150",""]
[{"$f":"INDEX(学校種!B:B,MATCH(D2814,学校種!A:A,0))","v":"各種学校"},{"$f":"INDEX(_tmp2!B:B,MATCH(E2814,_tmp2!A:A,0))","v":"北海道"},"H201321700012","H2","01","3","1","北海道農業協同組合学校","江別市文京台東町４３番地の１","0690834","2020-12-22","","019318",""]
[{"$f":"INDEX(学校種!B:B,MATCH(D2845,学校種!A:A,0))","v":"幼稚園(幼稚園型認定こども園を含む)"},{"$f":"INDEX(_tmp2!B:B,MATCH(E2845,_tmp2!A:A,0))","v":"青森県"},"A102310000133","A1","02","3","1","呉竹幼稚園","青森市松原２－１５－２","0300813","2020-12-22","","026560",""]
[{"$f":"INDEX(学校種!B:B,MATCH(D2857,学校種!A:A,0))","v":"幼稚園(幼稚園型認定こども園を含む)"},{"$f":"INDEX(_tmp2!B:B,MATCH(E2857,_tmp2!A:A,0))","v":"青森県"},"A102310000259","A1","02","3","1","柴田幼稚園","弘前市清原１－１－１","0368163","2020-12-22","","026770",""]
[{"$f":"INDEX(学校種!B:B,MATCH(D2906,学校種!A:A,0))","v":"幼稚園(幼稚園型認定こども園を含む)"},{"$f":"INDEX(_tmp2!B:B,MATCH(E2906,_tmp2!A:A,0))","v":"青森県"},"A102310000749","A1","02","3","1","野辺地カトリック幼稚園","上北郡野辺地町野辺地３１８－１","0393131","2020-12-22","","027660",""]
[{"$f":"INDEX(学校種!B:B,MATCH(D2922,学校種!A:A,0))","v":"幼保連携型認定こども園"},{"$f":"INDEX(_tmp2!B:B,MATCH(E2922,_tmp2!A:A,0))","v":"青森県"},"A202310000043","A2","02","3","1","こどものくに","青森市千刈４－４－８","0380015","2020-12-22","","02A029",""]
[{"$f":"INDEX(学校種!B:B,MATCH(D2963,学校種!A:A,0))","v":"幼保連携型認定こども園"},{"$f":"INDEX(_tmp2!B:B,MATCH(E2963,_tmp2!A:A,0))","v":"青森県"},"A202310000454","A2","02","3","1","城西こども園","弘前市西大工町３８－１","0368365","2020-12-22","","02A091",""]
[{"$f":"INDEX(学校種!B:B,MATCH(D2987,学校種!A:A,0))","v":"幼保連携型認定こども園"},{"$f":"INDEX(_tmp2!B:B,MATCH(E2987,_tmp2!A:A,0))","v":"青森県"},"A202310000695","A2","02","3","1","認定こども園すぎのこ保育園","八戸市下長６－１４－２６","0391164","2020-12-22","","02A129",""]
[{"$f":"INDEX(学校種!B:B,MATCH(D2996,学校種!A:A,0))","v":"幼保連携型認定こども園"},{"$f":"INDEX(_tmp2!B:B,MATCH(E2996,_tmp2!A:A,0))","v":"青森県"},"A202310000784","A2","02","3","1","認定こども園さめ保育園","八戸市鮫町字上盲久保７－１","0310841","2020-12-22","","02A143",""]
[{"$f":"INDEX(学校種!B:B,MATCH(D3025,学校種!A:A,0))","v":"幼保連携型認定こども園"},{"$f":"INDEX(_tmp2!B:B,MATCH(E3025,_tmp2!A:A,0))","v":"青森県"},"A202310001079","A2","02","3","1","認定こども園緑と太陽の保育園","十和田市東一番町１０－１８","0340012","2020-12-22","","02A195",""]
[{"$f":"INDEX(学校種!B:B,MATCH(D3057,学校種!A:A,0))","v":"幼保連携型認定こども園"},{"$f":"INDEX(_tmp2!B:B,MATCH(E3057,_tmp2!A:A,0))","v":"青森県"},"A202310001391","A2","02","3","1","幼保連携型認定こども園蓬田保育園","東津軽郡蓬田村中沢字浪返４８－２","0301214","2020-12-22","","02A311",""]
[{"$f":"INDEX(学校種!B:B,MATCH(D3086,学校種!A:A,0))","v":"幼保連携型認定こども園"},{"$f":"INDEX(_tmp2!B:B,MATCH(E3086,_tmp2!A:A,0))","v":"青森県"},"A202310001685","A2","02","3","1","幼保連携型認定こども園錦ヶ丘保育園","上北郡おいらせ町瓢１６５－３２","0392173","2020-12-22","","02A483",""]
[{"$f":"INDEX(学校種!B:B,MATCH(D3112,学校種!A:A,0))","v":"幼保連携型認定こども園"},{"$f":"INDEX(_tmp2!B:B,MATCH(E3112,_tmp2!A:A,0))","v":"青森県"},"A202310001943","A2","02","3","1","認定こども園弘前大谷幼稚園","弘前市新寺町１５６－２","0368214","2020-12-22","","02A611",""]
[{"$f":"INDEX(学校種!B:B,MATCH(D3147,学校種!A:A,0))","v":"幼保連携型認定こども園"},{"$f":"INDEX(_tmp2!B:B,MATCH(E3147,_tmp2!A:A,0))","v":"青森県"},"A202310002292","A2","02","3","1","幼保連携型認定こども園ふじこども園","南津軽郡藤崎町藤崎字若松３１－２","0383802","2020-12-22","","02B023",""]
[{"$f":"INDEX(学校種!B:B,MATCH(D3177,学校種!A:A,0))","v":"小学校"},{"$f":"INDEX(_tmp2!B:B,MATCH(E3177,_tmp2!A:A,0))","v":"青森県"},"B102210000142","B1","02","2","1","青森市立沖館小学校","青森市沖館５－３－１","0380002","2020-12-22","","020024",""]
[{"$f":"INDEX(学校種!B:B,MATCH(D3208,学校種!A:A,0))","v":"小学校"},{"$f":"INDEX(_tmp2!B:B,MATCH(E3208,_tmp2!A:A,0))","v":"青森県"},"B102210000455","B1","02","2","1","弘前市立致遠小学校","弘前市浜の町北１－７－１","0368325","2020-12-22","","020137",""]
[{"$f":"INDEX(学校種!B:B,MATCH(D3220,学校種!A:A,0))","v":"小学校"},{"$f":"INDEX(_tmp2!B:B,MATCH(E3220,_tmp2!A:A,0))","v":"青森県"},"B102210000570","B1","02","2","1","弘前市立時敏小学校","弘前市宮園１－５－１","0368063","2020-12-22","","020149",""]
[{"$f":"INDEX(学校種!B:B,MATCH(D3241,学校種!A:A,0))","v":"小学校"},{"$f":"INDEX(_tmp2!B:B,MATCH(E3241,_tmp2!A:A,0))","v":"青森県"},"B102210000785","B1","02","2","1","八戸市立白銀小学校","八戸市白銀町字大久保道１－１","0310822","2020-12-22","","020249",""]
[{"$f":"INDEX(学校種!B:B,MATCH(D3285,学校種!A:A,0))","v":"小学校"},{"$f":"INDEX(_tmp2!B:B,MATCH(E3285,_tmp2!A:A,0))","v":"青森県"},"B102210001221","B1","02","2","1","十和田市立三本木小学校","十和田市東三番町３６－１","0340031","2020-12-22","","020470",""]
[{"$f":"INDEX(学校種!B:B,MATCH(D3298,学校種!A:A,0))","v":"小学校"},{"$f":"INDEX(_tmp2!B:B,MATCH(E3298,_tmp2!A:A,0))","v":"青森県"},"B102210001356","B1","02","2","1","三沢市立古間木小学校","三沢市古間木１－１５２－１３９","0330051","2020-12-22","","020530",""]
[{"$f":"INDEX(学校種!B:B,MATCH(D3323,学校種!A:A,0))","v":"小学校"},{"$f":"INDEX(_tmp2!B:B,MATCH(E3323,_tmp2!A:A,0))","v":"青森県"},"B102210001604","B1","02","2","1","西目屋村立西目屋小学校","中津軽郡西目屋村田代字稲元１２１－１","0361411","2020-12-22","","020880",""]
[{"$f":"INDEX(学校種!B:B,MATCH(D3359,学校種!A:A,0))","v":"小学校"},{"$f":"INDEX(_tmp2!B:B,MATCH(E3359,_tmp2!A:A,0))","v":"青森県"},"B102210001962","B1","02","2","1","板柳町立板柳南小学校","北津軽郡板柳町辻字岸田７５－１","0383645","2020-12-22","","021403",""]
[{"$f":"INDEX(学校種!B:B,MATCH(D3388,学校種!A:A,0))","v":"小学校"},{"$f":"INDEX(_tmp2!B:B,MATCH(E3388,_tmp2!A:A,0))","v":"青森県"},"B102210002257","B1","02","2","1","七戸町立天間林小学校","上北郡七戸町森ノ上１８０－１","0392827","2020-12-22","","021740",""]
[{"$f":"INDEX(学校種!B:B,MATCH(D3420,学校種!A:A,0))","v":"小学校"},{"$f":"INDEX(_tmp2!B:B,MATCH(E3420,_tmp2!A:A,0))","v":"青森県"},"B102210002578","B1","02","2","1","階上町立道仏小学校","三戸郡階上町道仏字外窪２１－１","0391201","2020-12-22","","022111",""]
[{"$f":"INDEX(学校種!B:B,MATCH(D3458,学校種!A:A,0))","v":"中学校"},{"$f":"INDEX(_tmp2!B:B,MATCH(E3458,_tmp2!A:A,0))","v":"青森県"},"C102210000257","C1","02","2","1","弘前市立第四中学校","弘前市樹木５－２－６","0368228","2020-12-22","","023598",""]
[{"$f":"INDEX(学校種!B:B,MATCH(D3481,学校種!A:A,0))","v":"中学校"},{"$f":"INDEX(_tmp2!B:B,MATCH(E3481,_tmp2!A:A,0))","v":"青森県"},"C102210000480","C1","02","2","1","八戸市立大館中学校","八戸市新井田字市子林１７－１","0310813","2020-12-22","","023667",""]
[{"$f":"INDEX(学校種!B:B,MATCH(D3496,学校種!A:A,0))","v":"中学校"},{"$f":"INDEX(_tmp2!B:B,MATCH(E3496,_tmp2!A:A,0))","v":"青森県"},"C102210000630","C1","02","2","1","十和田市立甲東中学校","十和田市深持字南平３３０","0340106","2020-12-22","","023748",""]
[{"$f":"INDEX(学校種!B:B,MATCH(D3514,学校種!A:A,0))","v":"中学校"},{"$f":"INDEX(_tmp2!B:B,MATCH(E3514,_tmp2!A:A,0))","v":"青森県"},"C102210000818","C1","02","2","1","平内町立東平内中学校","東津軽郡平内町清水川字道巣５－１","0393332","2020-12-22","","023832",""]
[{"$f":"INDEX(学校種!B:B,MATCH(D3561,学校種!A:A,0))","v":"中学校"},{"$f":"INDEX(_tmp2!B:B,MATCH(E3561,_tmp2!A:A,0))","v":"青森県"},"C102210001283","C1","02","2","1","六ヶ所村立第二中学校","上北郡六ヶ所村倉内字湯沢１１２－１","0393215","2020-12-22","","024468",""]
[{"$f":"INDEX(学校種!B:B,MATCH(D3571,学校種!A:A,0))","v":"中学校"},{"$f":"INDEX(_tmp2!B:B,MATCH(E3571,_tmp2!A:A,0))","v":"青森県"},"C102210001381","C1","02","2","1","三戸町立三戸中学校","三戸郡三戸町梅内権現林１","0390112","2020-12-22","","024620",""]
[{"$f":"INDEX(学校種!B:B,MATCH(D3604,学校種!A:A,0))","v":"高等学校"},{"$f":"INDEX(_tmp2!B:B,MATCH(E3604,_tmp2!A:A,0))","v":"青森県"},"D102210000139","D1","02","2","1","青森県立五所川原高等学校","五所川原市中平井町３－３","0370066","2020-12-22","","025523",""]
[{"$f":"INDEX(学校種!B:B,MATCH(D3648,学校種!A:A,0))","v":"高等学校"},{"$f":"INDEX(_tmp2!B:B,MATCH(E3648,_tmp2!A:A,0))","v":"青森県"},"D102210000576","D1","02","2","1","青森県立十和田西高等学校","十和田市沢田字下洗５３－３","0340302","2020-12-22","","026116",""]
[{"$f":"INDEX(学校種!B:B,MATCH(D3661,学校種!A:A,0))","v":"高等学校"},{"$f":"INDEX(_tmp2!B:B,MATCH(E3661,_tmp2!A:A,0))","v":"青森県"},"D102310000084","D1","02","3","1","八戸聖ウルスラ学院高等学校","八戸市田面木字上野平５３－２","0391104","2020-12-22","","025808",""]
[{"$f":"INDEX(学校種!B:B,MATCH(D3686,学校種!A:A,0))","v":"特別支援学校"},{"$f":"INDEX(_tmp2!B:B,MATCH(E3686,_tmp2!A:A,0))","v":"青森県"},"E102210000154","E1","02","2","1","青森県立森田養護学校","つがる市森田町床舞鶴喰１０４－５","0382817","2020-12-22","","029962",""]
[{"$f":"INDEX(学校種!B:B,MATCH(D3722,学校種!A:A,0))","v":"各種学校"},{"$f":"INDEX(_tmp2!B:B,MATCH(E3722,_tmp2!A:A,0))","v":"青森県"},"H202310000048","H2","02","3","9","東北パソコンワープロ学院","弘前市蔵主町３－５","0368345","2020-12-22","2021-05-27","029149",""]
[{"$f":"INDEX(学校種!B:B,MATCH(D3751,学校種!A:A,0))","v":"幼稚園(幼稚園型認定こども園を含む)"},{"$f":"INDEX(_tmp2!B:B,MATCH(E3751,_tmp2!A:A,0))","v":"岩手県"},"A103221500029","A1","03","2","1","奥州市立羽田幼稚園","奥州市水沢羽田町字並柳３９番地","0230132","2020-12-22","","036515",""]
[{"$f":"INDEX(学校種!B:B,MATCH(D3783,学校種!A:A,0))","v":"幼稚園(幼稚園型認定こども園を含む)"},{"$f":"INDEX(_tmp2!B:B,MATCH(E3783,_tmp2!A:A,0))","v":"岩手県"},"A103320200013","A1","03","3","1","認定こども園宮古泉幼稚園","宮古市上鼻二丁目６－６","0270044","2020-12-22","","036545",""]
[{"$f":"INDEX(学校種!B:B,MATCH(D3794,学校種!A:A,0))","v":"幼稚園(幼稚園型認定こども園を含む)"},{"$f":"INDEX(_tmp2!B:B,MATCH(E3794,_tmp2!A:A,0))","v":"岩手県"},"A103320600037","A1","03","3","1","学校法人尚恵学園むらさきの幼稚園","北上市村崎野１４－４４１－１","0240004","2020-12-22","","036546",""]
[{"$f":"INDEX(学校種!B:B,MATCH(D3844,学校種!A:A,0))","v":"幼保連携型認定こども園"},{"$f":"INDEX(_tmp2!B:B,MATCH(E3844,_tmp2!A:A,0))","v":"岩手県"},"A203320100166","A2","03","3","1","南仙北保育園","盛岡市南仙北１－６－３","0200863","2020-12-22","","03A105",""]
[{"$f":"INDEX(学校種!B:B,MATCH(D3859,学校種!A:A,0))","v":"幼保連携型認定こども園"},{"$f":"INDEX(_tmp2!B:B,MATCH(E3859,_tmp2!A:A,0))","v":"岩手県"},"A203320500046","A2","03","3","1","幼保連携型認定こども園花巻みなみ幼稚園","花巻市桜木町２－２０９","0250094","2020-12-22","","03A091",""]
[{"$f":"INDEX(学校種!B:B,MATCH(D3873,学校種!A:A,0))","v":"幼保連携型認定こども園"},{"$f":"INDEX(_tmp2!B:B,MATCH(E3873,_tmp2!A:A,0))","v":"岩手県"},"A203320700044","A2","03","3","1","認定こども園侍浜保育園","久慈市侍浜町外屋敷６－１０－４","0287801","2020-12-22","","03A077",""]
[{"$f":"INDEX(学校種!B:B,MATCH(D3924,学校種!A:A,0))","v":"幼保連携型認定こども園"},{"$f":"INDEX(_tmp2!B:B,MATCH(E3924,_tmp2!A:A,0))","v":"岩手県"},"A203346100027","A2","03","3","1","幼保連携型認定こども園つつみこども園","上閉伊郡大槌町吉里吉里２－２－３","0281101","2020-12-22","","03A084",""]
[{"$f":"INDEX(学校種!B:B,MATCH(D3934,学校種!A:A,0))","v":"小学校"},{"$f":"INDEX(_tmp2!B:B,MATCH(E3934,_tmp2!A:A,0))","v":"岩手県"},"B103220100050","B1","03","2","1","盛岡市立仙北小学校","盛岡市仙北二丁目１９－１","0200861","2020-12-22","","030016",""]
[{"$f":"INDEX(学校種!B:B,MATCH(D3962,学校種!A:A,0))","v":"小学校"},{"$f":"INDEX(_tmp2!B:B,MATCH(E3962,_tmp2!A:A,0))","v":"岩手県"},"B103220100336","B1","03","2","1","盛岡市立永井小学校","盛岡市永井１０－１６","0200834","2020-12-22","","030386",""]
[{"$f":"INDEX(学校種!B:B,MATCH(D3995,学校種!A:A,0))","v":"小学校"},{"$f":"INDEX(_tmp2!B:B,MATCH(E3995,_tmp2!A:A,0))","v":"岩手県"},"B103220300094","B1","03","2","1","大船渡市立綾里小学校","大船渡市三陸町綾里字平舘２１","0220211","2020-12-22","","030593",""]
[{"$f":"INDEX(学校種!B:B,MATCH(D4032,学校種!A:A,0))","v":"小学校"},{"$f":"INDEX(_tmp2!B:B,MATCH(E4032,_tmp2!A:A,0))","v":"岩手県"},"B103220600162","B1","03","2","1","北上市立江釣子小学校","北上市上江釣子１６－２００","0240071","2020-12-22","","030452",""]
[{"$f":"INDEX(学校種!B:B,MATCH(D4056,学校種!A:A,0))","v":"小学校"},{"$f":"INDEX(_tmp2!B:B,MATCH(E4056,_tmp2!A:A,0))","v":"岩手県"},"B103220800099","B1","03","2","1","遠野市立宮守小学校","遠野市宮守町下宮守２６－６","0280304","2020-12-22","","030620",""]
[{"$f":"INDEX(学校種!B:B,MATCH(D4070,学校種!A:A,0))","v":"小学校"},{"$f":"INDEX(_tmp2!B:B,MATCH(E4070,_tmp2!A:A,0))","v":"岩手県"},"B103220900123","B1","03","2","1","一関市立花泉小学校","一関市花泉町花泉字天王沢沖９０","0293101","2020-12-22","","030516",""]
[{"$f":"INDEX(学校種!B:B,MATCH(D4117,学校種!A:A,0))","v":"小学校"},{"$f":"INDEX(_tmp2!B:B,MATCH(E4117,_tmp2!A:A,0))","v":"岩手県"},"B103221400064","B1","03","2","1","八幡平市立松野小学校","八幡平市野駄１１－１５７","0287301","2020-12-22","","030356",""]
[{"$f":"INDEX(学校種!B:B,MATCH(D4146,学校種!A:A,0))","v":"小学校"},{"$f":"INDEX(_tmp2!B:B,MATCH(E4146,_tmp2!A:A,0))","v":"岩手県"},"B103221500250","B1","03","2","1","奥州市立胆沢第一小学校","奥州市胆沢小山字道場３０","0230402","2020-12-22","","030495",""]
[{"$f":"INDEX(学校種!B:B,MATCH(D4157,学校種!A:A,0))","v":"小学校"},{"$f":"INDEX(_tmp2!B:B,MATCH(E4157,_tmp2!A:A,0))","v":"岩手県"},"B103221600099","B1","03","2","1","滝沢市立滝沢中央小学校","滝沢市室小路２７５","0200634","2020-12-22","","030355",""]
[{"$f":"INDEX(学校種!B:B,MATCH(D4179,学校種!A:A,0))","v":"小学校"},{"$f":"INDEX(_tmp2!B:B,MATCH(E4179,_tmp2!A:A,0))","v":"岩手県"},"B103232100108","B1","03","2","1","紫波町立赤沢小学校","紫波郡紫波町遠山字中松原７１ー１","0283535","2020-12-22","","030371",""]
[{"$f":"INDEX(学校種!B:B,MATCH(D4222,学校種!A:A,0))","v":"小学校"},{"$f":"INDEX(_tmp2!B:B,MATCH(E4222,_tmp2!A:A,0))","v":"岩手県"},"B103250700042","B1","03","2","1","洋野町立中野小学校","九戸郡洋野町中野１－９０－５","0287906","2020-12-22","","030755",""]
[{"$f":"INDEX(学校種!B:B,MATCH(D4236,学校種!A:A,0))","v":"中学校"},{"$f":"INDEX(_tmp2!B:B,MATCH(E4236,_tmp2!A:A,0))","v":"岩手県"},"C103220100021","C1","03","2","1","盛岡市立下小路中学校","盛岡市愛宕町１－１","0200013","2020-12-22","","033512",""]
[{"$f":"INDEX(学校種!B:B,MATCH(D4260,学校種!A:A,0))","v":"中学校"},{"$f":"INDEX(_tmp2!B:B,MATCH(E4260,_tmp2!A:A,0))","v":"岩手県"},"C103220200039","C1","03","2","1","宮古市立河南中学校","宮古市河南一丁目１－１","0270039","2020-12-22","","033552",""]
[{"$f":"INDEX(学校種!B:B,MATCH(D4297,学校種!A:A,0))","v":"中学校"},{"$f":"INDEX(_tmp2!B:B,MATCH(E4297,_tmp2!A:A,0))","v":"岩手県"},"C103220700034","C1","03","2","1","久慈市立大川目中学校","久慈市大川目町１３－１０５","0280091","2020-12-22","","033613",""]
[{"$f":"INDEX(学校種!B:B,MATCH(D4325,学校種!A:A,0))","v":"中学校"},{"$f":"INDEX(_tmp2!B:B,MATCH(E4325,_tmp2!A:A,0))","v":"岩手県"},"C103221100010","C1","03","2","1","釜石市立甲子中学校","釜石市甲子町９－１５６","0260055","2020-12-22","","033539",""]
[{"$f":"INDEX(学校種!B:B,MATCH(D4358,学校種!A:A,0))","v":"中学校"},{"$f":"INDEX(_tmp2!B:B,MATCH(E4358,_tmp2!A:A,0))","v":"岩手県"},"C103230300037","C1","03","2","1","岩手町立沼宮内中学校","岩手郡岩手町五日市８－３０－２","0284307","2020-12-22","","033661",""]
[{"$f":"INDEX(学校種!B:B,MATCH(D4368,学校種!A:A,0))","v":"中学校"},{"$f":"INDEX(_tmp2!B:B,MATCH(E4368,_tmp2!A:A,0))","v":"岩手県"},"C103244100012","C1","03","2","1","住田町立世田米中学校","気仙郡住田町世田米字大崎７２－１","0292311","2020-12-22","","033782",""]
[{"$f":"INDEX(学校種!B:B,MATCH(D4419,学校種!A:A,0))","v":"高等学校"},{"$f":"INDEX(_tmp2!B:B,MATCH(E4419,_tmp2!A:A,0))","v":"岩手県"},"D103210000290","D1","03","2","1","岩手県立水沢高等学校","奥州市水沢龍ケ馬場５－１","0230864","2020-12-22","","035544",""]
[{"$f":"INDEX(学校種!B:B,MATCH(D4433,学校種!A:A,0))","v":"高等学校"},{"$f":"INDEX(_tmp2!B:B,MATCH(E4433,_tmp2!A:A,0))","v":"岩手県"},"D103210000432","D1","03","2","1","岩手県立大船渡高等学校","大船渡市猪川町字長洞７－１","0220004","2020-12-22","","035571",""]
[{"$f":"INDEX(学校種!B:B,MATCH(D4476,学校種!A:A,0))","v":"特別支援学校"},{"$f":"INDEX(_tmp2!B:B,MATCH(E4476,_tmp2!A:A,0))","v":"岩手県"},"E103220200016","E1","03","2","1","岩手県立宮古恵風支援学校","宮古市崎山第５－８８","0270097","2020-12-22","","039928",""]
[{"$f":"INDEX(学校種!B:B,MATCH(D4498,学校種!A:A,0))","v":"専修学校"},{"$f":"INDEX(_tmp2!B:B,MATCH(E4498,_tmp2!A:A,0))","v":"岩手県"},"H103320100082","H1","03","3","1","上野法律ビジネス専門学校","盛岡市材木町１２－１５","0200063","2020-12-22","","038555",""]
[{"$f":"INDEX(学校種!B:B,MATCH(D4509,学校種!A:A,0))","v":"専修学校"},{"$f":"INDEX(_tmp2!B:B,MATCH(E4509,_tmp2!A:A,0))","v":"岩手県"},"H103320100199","H1","03","3","1","大原簿記情報ビジネス医療福祉専門学校盛岡校","盛岡市盛岡駅西通２－２１－１","0200045","2020-12-22","","038575",""]
[{"$f":"INDEX(学校種!B:B,MATCH(D4536,学校種!A:A,0))","v":"幼稚園(幼稚園型認定こども園を含む)"},{"$f":"INDEX(_tmp2!B:B,MATCH(E4536,_tmp2!A:A,0))","v":"宮城県"},"A104222050039","A1","04","2","1","気仙沼市立小泉幼稚園","気仙沼市本吉町平貝３２","9880333","2020-12-22","","046840",""]
[{"$f":"INDEX(学校種!B:B,MATCH(D4570,学校種!A:A,0))","v":"幼稚園(幼稚園型認定こども園を含む)"},{"$f":"INDEX(_tmp2!B:B,MATCH(E4570,_tmp2!A:A,0))","v":"宮城県"},"A104222150083","A1","04","2","1","大崎市立ゆめのさと幼稚園","大崎市古川荒屋字樋ノ口６２－２","9896252","2020-12-22","","046786",""]
[{"$f":"INDEX(学校種!B:B,MATCH(D4606,学校種!A:A,0))","v":"幼稚園(幼稚園型認定こども園を含む)"},{"$f":"INDEX(_tmp2!B:B,MATCH(E4606,_tmp2!A:A,0))","v":"宮城県"},"A104391010059","A1","04","3","1","仙台ＹＭＣＡ幼稚園","仙台市青葉区立町９－７","9800822","2020-12-22","","046523",""]
[{"$f":"INDEX(学校種!B:B,MATCH(D4631,学校種!A:A,0))","v":"幼稚園(幼稚園型認定こども園を含む)"},{"$f":"INDEX(_tmp2!B:B,MATCH(E4631,_tmp2!A:A,0))","v":"宮城県"},"A104391020119","A1","04","3","1","お人形社第二幼稚園","仙台市宮城野区鶴ヶ谷２－２","9830824","2020-12-22","","046574",""]
[{"$f":"INDEX(学校種!B:B,MATCH(D4660,学校種!A:A,0))","v":"幼稚園(幼稚園型認定こども園を含む)"},{"$f":"INDEX(_tmp2!B:B,MATCH(E4660,_tmp2!A:A,0))","v":"宮城県"},"A104391040099","A1","04","3","1","やまびこ幼稚園","仙台市太白区旗立３－８－３０","9820215","2020-12-22","","046579",""]
[{"$f":"INDEX(学校種!B:B,MATCH(D4688,学校種!A:A,0))","v":"幼稚園(幼稚園型認定こども園を含む)"},{"$f":"INDEX(_tmp2!B:B,MATCH(E4688,_tmp2!A:A,0))","v":"宮城県"},"A104392020028","A1","04","3","1","石巻カトリック幼稚園","石巻市泉町３－２－１７","9860832","2020-12-22","","046592",""]
[{"$f":"INDEX(学校種!B:B,MATCH(D4721,学校種!A:A,0))","v":"幼稚園(幼稚園型認定こども園を含む)"},{"$f":"INDEX(_tmp2!B:B,MATCH(E4721,_tmp2!A:A,0))","v":"宮城県"},"A104392110038","A1","04","3","1","岩沼南こばと幼稚園","岩沼市桑原４－１０ー６","9892445","2020-12-22","","046639",""]
[{"$f":"INDEX(学校種!B:B,MATCH(D4731,学校種!A:A,0))","v":"幼稚園(幼稚園型認定こども園を含む)"},{"$f":"INDEX(_tmp2!B:B,MATCH(E4731,_tmp2!A:A,0))","v":"宮城県"},"A104392150011","A1","04","3","1","古川幼稚園","大崎市古川中里１－３－１６","9896143","2020-12-22","","046605",""]
[{"$f":"INDEX(学校種!B:B,MATCH(D4754,学校種!A:A,0))","v":"幼稚園(幼稚園型認定こども園を含む)"},{"$f":"INDEX(_tmp2!B:B,MATCH(E4754,_tmp2!A:A,0))","v":"宮城県"},"A104394060034","A1","04","3","1","利府第二おおぞら幼稚園","宮城郡利府町しらかし台４－３－１","9810134","2020-12-22","","046903",""]
[{"$f":"INDEX(学校種!B:B,MATCH(D4796,学校種!A:A,0))","v":"幼保連携型認定こども園"},{"$f":"INDEX(_tmp2!B:B,MATCH(E4796,_tmp2!A:A,0))","v":"宮城県"},"A204391040089","A2","04",3,1,"大野田すぎのここども園","仙台市太白区大野田５－２３－２",9820014,"2021-05-27","","04A098",""]
[{"$f":"INDEX(学校種!B:B,MATCH(D4811,学校種!A:A,0))","v":"幼保連携型認定こども園"},{"$f":"INDEX(_tmp2!B:B,MATCH(E4811,_tmp2!A:A,0))","v":"宮城県"},"A204392090013","A2","04","3","1","多賀城東幼稚園・あずま保育園","多賀城市浮島１－１３－５","9850861","2020-12-22","","04A038",""]
[{"$f":"INDEX(学校種!B:B,MATCH(D4861,学校種!A:A,0))","v":"小学校"},{"$f":"INDEX(_tmp2!B:B,MATCH(E4861,_tmp2!A:A,0))","v":"宮城県"},"B104221010225","B1","04","2","1","仙台市立桜丘小学校","仙台市青葉区桜ヶ丘８－１－１","9810961","2020-12-22","","040560",""]
[{"$f":"INDEX(学校種!B:B,MATCH(D4872,学校種!A:A,0))","v":"小学校"},{"$f":"INDEX(_tmp2!B:B,MATCH(E4872,_tmp2!A:A,0))","v":"宮城県"},"B104221020045","B1","04","2","1","仙台市立高砂小学校","仙台市宮城野区福田町１－１１－１","9830023","2020-12-22","","040039",""]
[{"$f":"INDEX(学校種!B:B,MATCH(D4899,学校種!A:A,0))","v":"小学校"},{"$f":"INDEX(_tmp2!B:B,MATCH(E4899,_tmp2!A:A,0))","v":"宮城県"},"B104221030114","B1","04","2","1","仙台市立古城小学校","仙台市若林区古城２－１－１","9840825","2020-12-22","","040573",""]
[{"$f":"INDEX(学校種!B:B,MATCH(D4933,学校種!A:A,0))","v":"小学校"},{"$f":"INDEX(_tmp2!B:B,MATCH(E4933,_tmp2!A:A,0))","v":"宮城県"},"B104221050020","B1","04","2","1","仙台市立実沢小学校","仙台市泉区実沢字一本橋２０","9813217","2020-12-22","","040262",""]
[{"$f":"INDEX(学校種!B:B,MATCH(D4969,学校種!A:A,0))","v":"小学校"},{"$f":"INDEX(_tmp2!B:B,MATCH(E4969,_tmp2!A:A,0))","v":"宮城県"},"B104222020098","B1","04","2","1","石巻市立向陽小学校","石巻市向陽町４－１３－２４","9860863","2020-12-22","","040091",""]
[{"$f":"INDEX(学校種!B:B,MATCH(D4994,学校種!A:A,0))","v":"小学校"},{"$f":"INDEX(_tmp2!B:B,MATCH(E4994,_tmp2!A:A,0))","v":"宮城県"},"B104222030014","B1","04","2","1","塩竈市立第一小学校","塩竈市泉ケ岡１－１","9850056","2020-12-22","","040092",""]
[{"$f":"INDEX(学校種!B:B,MATCH(D5007,学校種!A:A,0))","v":"小学校"},{"$f":"INDEX(_tmp2!B:B,MATCH(E5007,_tmp2!A:A,0))","v":"宮城県"},"B104222050073","B1","04","2","1","気仙沼市立月立小学校","気仙沼市塚沢６５","9880864","2020-12-22","","040122",""]
[{"$f":"INDEX(学校種!B:B,MATCH(D5055,学校種!A:A,0))","v":"小学校"},{"$f":"INDEX(_tmp2!B:B,MATCH(E5055,_tmp2!A:A,0))","v":"宮城県"},"B104222110035","B1","04","2","1","岩沼市立岩沼西小学校","岩沼市松ヶ丘１－１７","9892456","2020-12-22","","040571",""]
[{"$f":"INDEX(学校種!B:B,MATCH(D5072,学校種!A:A,0))","v":"小学校"},{"$f":"INDEX(_tmp2!B:B,MATCH(E5072,_tmp2!A:A,0))","v":"宮城県"},"B104222120168","B1","04","2","1","登米市立西郷小学校","登米市南方町尼池１０－１","9870444","2020-12-22","","040456",""]
[{"$f":"INDEX(学校種!B:B,MATCH(D5084,学校種!A:A,0))","v":"小学校"},{"$f":"INDEX(_tmp2!B:B,MATCH(E5084,_tmp2!A:A,0))","v":"宮城県"},"B104222130068","B1","04","2","1","栗原市立栗駒南小学校","栗原市栗駒稲屋敷後原前９－２","9895341","2020-12-22","","040661",""]
[{"$f":"INDEX(学校種!B:B,MATCH(D5137,学校種!A:A,0))","v":"小学校"},{"$f":"INDEX(_tmp2!B:B,MATCH(E5137,_tmp2!A:A,0))","v":"宮城県"},"B104223010052","B1","04","2","1","蔵王町立永野小学校","刈田郡蔵王町大字円田字北浦１６","9890821","2020-12-22","","040176",""]
[{"$f":"INDEX(学校種!B:B,MATCH(D5145,学校種!A:A,0))","v":"小学校"},{"$f":"INDEX(_tmp2!B:B,MATCH(E5145,_tmp2!A:A,0))","v":"宮城県"},"B104223230029","B1","04","2","1","柴田町立柴田小学校","柴田郡柴田町大字葉坂字鍛冶内３０","9891761","2020-12-22","","040186",""]
[{"$f":"INDEX(学校種!B:B,MATCH(D5174,学校種!A:A,0))","v":"小学校"},{"$f":"INDEX(_tmp2!B:B,MATCH(E5174,_tmp2!A:A,0))","v":"宮城県"},"B104224010032","B1","04","2","1","松島町立松島第五小学校","宮城郡松島町幡谷字新田５－１","9810205","2020-12-22","","040257",""]
[{"$f":"INDEX(学校種!B:B,MATCH(D5197,学校種!A:A,0))","v":"小学校"},{"$f":"INDEX(_tmp2!B:B,MATCH(E5197,_tmp2!A:A,0))","v":"宮城県"},"B104224450057","B1","04","2","1","加美町立鹿原小学校","加美郡加美町字鹿原水堀３－１","9814355","2020-12-22","","040314",""]
[{"$f":"INDEX(学校種!B:B,MATCH(D5235,学校種!A:A,0))","v":"中学校"},{"$f":"INDEX(_tmp2!B:B,MATCH(E5235,_tmp2!A:A,0))","v":"宮城県"},"C104221010125","C1","04","2","1","仙台市立桜丘中学校","仙台市青葉区桜ヶ丘８－２－１","9810961","2020-12-22","","043763",""]
[{"$f":"INDEX(学校種!B:B,MATCH(D5262,学校種!A:A,0))","v":"中学校"},{"$f":"INDEX(_tmp2!B:B,MATCH(E5262,_tmp2!A:A,0))","v":"宮城県"},"C104221040058","C1","04","2","1","仙台市立郡山中学校","仙台市太白区郡山５－１０－１","9820003","2020-12-22","","043531",""]
[{"$f":"INDEX(学校種!B:B,MATCH(D5296,学校種!A:A,0))","v":"中学校"},{"$f":"INDEX(_tmp2!B:B,MATCH(E5296,_tmp2!A:A,0))","v":"宮城県"},"C104222020087","C1","04","2","1","石巻市立稲井中学校","石巻市真野字八の坪１１６","9860002","2020-12-22","","043560",""]
[{"$f":"INDEX(学校種!B:B,MATCH(D5305,学校種!A:A,0))","v":"中学校"},{"$f":"INDEX(_tmp2!B:B,MATCH(E5305,_tmp2!A:A,0))","v":"宮城県"},"C104222020176","C1","04","2","1","石巻市立万石浦中学校","石巻市流留字七勺２１","9862103","2020-12-22","","043807",""]
[{"$f":"INDEX(学校種!B:B,MATCH(D5357,学校種!A:A,0))","v":"中学校"},{"$f":"INDEX(_tmp2!B:B,MATCH(E5357,_tmp2!A:A,0))","v":"宮城県"},"C104222130048","C1","04","2","1","栗原市立志波姫中学校","栗原市志波姫沼崎大谷地５－１","9895615","2020-12-22","","043690",""]
[{"$f":"INDEX(学校種!B:B,MATCH(D5370,学校種!A:A,0))","v":"中学校"},{"$f":"INDEX(_tmp2!B:B,MATCH(E5370,_tmp2!A:A,0))","v":"宮城県"},"C104222150070","C1","04","2","1","大崎市立田尻中学校","大崎市田尻沼部字早稲田１５","9894308","2020-12-22","","043751",""]
[{"$f":"INDEX(学校種!B:B,MATCH(D5386,学校種!A:A,0))","v":"中学校"},{"$f":"INDEX(_tmp2!B:B,MATCH(E5386,_tmp2!A:A,0))","v":"宮城県"},"C104223220010","C1","04","2","1","村田町立村田第一中学校","柴田郡村田町大字村田字七小路９２","9891305","2020-12-22","","043606",""]
[{"$f":"INDEX(学校種!B:B,MATCH(D5435,学校種!A:A,0))","v":"高等学校"},{"$f":"INDEX(_tmp2!B:B,MATCH(E5435,_tmp2!A:A,0))","v":"宮城県"},"D104211010044","D1","04","2","1","宮城県第二工業高等学校","仙台市青葉区米ヶ袋３－２－１","9800813","2020-12-22","","045599",""]
[{"$f":"INDEX(学校種!B:B,MATCH(D5447,学校種!A:A,0))","v":"高等学校"},{"$f":"INDEX(_tmp2!B:B,MATCH(E5447,_tmp2!A:A,0))","v":"宮城県"},"D104211050027","D1","04","2","1","宮城県泉松陵高等学校","仙台市泉区鶴が丘４－２６－１","9813109","2020-12-22","","045651",""]
[{"$f":"INDEX(学校種!B:B,MATCH(D5473,学校種!A:A,0))","v":"高等学校"},{"$f":"INDEX(_tmp2!B:B,MATCH(E5473,_tmp2!A:A,0))","v":"宮城県"},"D104212130029","D1","04","2","1","宮城県一迫商業高等学校","栗原市一迫真坂字町東１３３","9872308","2020-12-22","","045646",""]
[{"$f":"INDEX(学校種!B:B,MATCH(D5508,学校種!A:A,0))","v":"高等学校"},{"$f":"INDEX(_tmp2!B:B,MATCH(E5508,_tmp2!A:A,0))","v":"宮城県"},"D104222020012","D1","04","2","1","石巻市立桜坂高等学校","石巻市日和が丘２－１１－８","9860833","2020-12-22","","045612",""]
[{"$f":"INDEX(学校種!B:B,MATCH(D5543,学校種!A:A,0))","v":"特別支援学校"},{"$f":"INDEX(_tmp2!B:B,MATCH(E5543,_tmp2!A:A,0))","v":"宮城県"},"E104212070019","E1","04","2","1","宮城県立名取支援学校","名取市高舘吉田字東真坂６－１１","9811242","2020-12-22","","049927",""]
[{"$f":"INDEX(学校種!B:B,MATCH(D5569,学校種!A:A,0))","v":"専修学校"},{"$f":"INDEX(_tmp2!B:B,MATCH(E5569,_tmp2!A:A,0))","v":"宮城県"},"H104391010063","H1","04","3","1","東北外語観光専門学校","仙台市青葉区五橋２－１－１３","9800022","2020-12-22","","048520",""]
[{"$f":"INDEX(学校種!B:B,MATCH(D5581,学校種!A:A,0))","v":"専修学校"},{"$f":"INDEX(_tmp2!B:B,MATCH(E5581,_tmp2!A:A,0))","v":"宮城県"},"H104391010189","H1","04","3","1","仙台大原簿記情報公務員専門学校","仙台市青葉区中央４－２－２５","9800021","2020-12-22","","048548",""]
[{"$f":"INDEX(学校種!B:B,MATCH(D5630,学校種!A:A,0))","v":"各種学校"},{"$f":"INDEX(_tmp2!B:B,MATCH(E5630,_tmp2!A:A,0))","v":"宮城県"},"H204391010017","H2","04","3","1","仙台ア－トスク－ルメロン","仙台市青葉区春日町３－７","9800821","2020-12-22","","049156",""]
[{"$f":"INDEX(学校種!B:B,MATCH(D5646,学校種!A:A,0))","v":"各種学校"},{"$f":"INDEX(_tmp2!B:B,MATCH(E5646,_tmp2!A:A,0))","v":"宮城県"},"H204392120012","H2","04","3","1","佐沼経理学校","登米市迫町佐沼字錦１５０","9870511","2020-12-22","","049234",""]
[{"$f":"INDEX(学校種!B:B,MATCH(D5687,学校種!A:A,0))","v":"幼稚園(幼稚園型認定こども園を含む)"},{"$f":"INDEX(_tmp2!B:B,MATCH(E5687,_tmp2!A:A,0))","v":"秋田県"},"A105334800016","A1","05","3","1","八竜幼稚園","山本郡三種町鵜川字内田１８","0182401","2020-12-22","","056652",""]
[{"$f":"INDEX(学校種!B:B,MATCH(D5692,学校種!A:A,0))","v":"幼保連携型認定こども園"},{"$f":"INDEX(_tmp2!B:B,MATCH(E5692,_tmp2!A:A,0))","v":"秋田県"},"A205234900016","A2","05","2","1","八森子ども園","山本郡八峰町八森字五輪台上段４３","0182664","2020-12-22","","05A031",""]
[{"$f":"INDEX(学校種!B:B,MATCH(D5733,学校種!A:A,0))","v":"幼保連携型認定こども園"},{"$f":"INDEX(_tmp2!B:B,MATCH(E5733,_tmp2!A:A,0))","v":"秋田県"},"A205320410070","A2","05","3","1","扇田こども園","大館市比内町扇田字町尻１０８－１","0185701","2020-12-22","","05A158",""]
[{"$f":"INDEX(学校種!B:B,MATCH(D5749,学校種!A:A,0))","v":"幼保連携型認定こども園"},{"$f":"INDEX(_tmp2!B:B,MATCH(E5749,_tmp2!A:A,0))","v":"秋田県"},"A205321220050","A2","05","3","1","幼保連携型認定こども園おおたわんぱくランド","大仙市太田町横沢字窪関南５３５－４","0191601","2020-12-22","","05A155",""]
[{"$f":"INDEX(学校種!B:B,MATCH(D5798,学校種!A:A,0))","v":"小学校"},{"$f":"INDEX(_tmp2!B:B,MATCH(E5798,_tmp2!A:A,0))","v":"秋田県"},"B105220101351","B1","05","2","1","秋田市立八橋小学校","秋田市八橋大沼町７－１","0100963","2020-12-22","","050135",""]
[{"$f":"INDEX(学校種!B:B,MATCH(D5810,学校種!A:A,0))","v":"小学校"},{"$f":"INDEX(_tmp2!B:B,MATCH(E5810,_tmp2!A:A,0))","v":"秋田県"},"B105220114178","B1","05","2","1","秋田市立雄和小学校","秋田市雄和石田字蟹沢４０","0101222","2020-12-22","","051417",""]
[{"$f":"INDEX(学校種!B:B,MATCH(D5836,学校種!A:A,0))","v":"小学校"},{"$f":"INDEX(_tmp2!B:B,MATCH(E5836,_tmp2!A:A,0))","v":"秋田県"},"B105220402516","B1","05","2","1","大館市立桂城小学校","大館市水門町１－１２","0170887","2020-12-22","","050251",""]
[{"$f":"INDEX(学校種!B:B,MATCH(D5871,学校種!A:A,0))","v":"小学校"},{"$f":"INDEX(_tmp2!B:B,MATCH(E5871,_tmp2!A:A,0))","v":"秋田県"},"B105220910030","B1","05","2","9","鹿角市立花輪北小学校","鹿角市花輪字新川端２０","0185201","2020-12-22","2021-05-27","051003",""]
[{"$f":"INDEX(学校種!B:B,MATCH(D5906,学校種!A:A,0))","v":"小学校"},{"$f":"INDEX(_tmp2!B:B,MATCH(E5906,_tmp2!A:A,0))","v":"秋田県"},"B105221216547","B1","05","2","1","大仙市立神岡小学校","大仙市神宮寺字神宮寺５２","0191701","2020-12-22","","051654",""]
[{"$f":"INDEX(学校種!B:B,MATCH(D5932,学校種!A:A,0))","v":"小学校"},{"$f":"INDEX(_tmp2!B:B,MATCH(E5932,_tmp2!A:A,0))","v":"秋田県"},"B105221415029","B1","05","2","1","にかほ市立院内小学校","にかほ市小国字郷ノ町８５","0180412","2020-12-22","","051502",""]
[{"$f":"INDEX(学校種!B:B,MATCH(D5944,学校種!A:A,0))","v":"小学校"},{"$f":"INDEX(_tmp2!B:B,MATCH(E5944,_tmp2!A:A,0))","v":"秋田県"},"B105234812049","B1","05","2","1","三種町立琴丘小学校","山本郡三種町鹿渡字東二本柳２３","0182104","2020-12-22","","051204",""]
[{"$f":"INDEX(学校種!B:B,MATCH(D5965,学校種!A:A,0))","v":"中学校"},{"$f":"INDEX(_tmp2!B:B,MATCH(E5965,_tmp2!A:A,0))","v":"秋田県"},"C105220136027","C1","05","2","1","秋田市立秋田南中学校","秋田市南通宮田１５－１","0100014","2020-12-22","","053602",""]
[{"$f":"INDEX(学校種!B:B,MATCH(D6009,学校種!A:A,0))","v":"中学校"},{"$f":"INDEX(_tmp2!B:B,MATCH(E6009,_tmp2!A:A,0))","v":"秋田県"},"C105220441152","C1","05","2","1","大館市立比内中学校","大館市比内町扇田字新館野中岱１２","0185701","2020-12-22","","054115",""]
[{"$f":"INDEX(学校種!B:B,MATCH(D6022,学校種!A:A,0))","v":"中学校"},{"$f":"INDEX(_tmp2!B:B,MATCH(E6022,_tmp2!A:A,0))","v":"秋田県"},"C105220940318","C1","05","2","1","鹿角市立尾去沢中学校","鹿角市尾去沢字上山２３９－１","0185202","2020-12-22","","054031",""]
[{"$f":"INDEX(学校種!B:B,MATCH(D6047,学校種!A:A,0))","v":"中学校"},{"$f":"INDEX(_tmp2!B:B,MATCH(E6047,_tmp2!A:A,0))","v":"秋田県"},"C105221247511","C1","05","2","1","大仙市立仙北中学校","大仙市堀見内字西福嶋２９","0140113","2020-12-22","","054751",""]
[{"$f":"INDEX(学校種!B:B,MATCH(D6083,学校種!A:A,0))","v":"高等学校"},{"$f":"INDEX(_tmp2!B:B,MATCH(E6083,_tmp2!A:A,0))","v":"秋田県"},"D105220158019","D1","05","2","1","秋田県立秋田中央高等学校","秋田市土崎港南三丁目２－７８","0110943","2020-12-22","","055801",""]
[{"$f":"INDEX(学校種!B:B,MATCH(D6117,学校種!A:A,0))","v":"高等学校"},{"$f":"INDEX(_tmp2!B:B,MATCH(E6117,_tmp2!A:A,0))","v":"秋田県"},"D105221256250","D1","05","2","2","秋田県立大曲農業高等学校太田分校","大仙市太田町横沢字窪関南２６８－１","0191601","2020-12-22","","055625",""]
[{"$f":"INDEX(学校種!B:B,MATCH(D6144,学校種!A:A,0))","v":"特別支援学校"},{"$f":"INDEX(_tmp2!B:B,MATCH(E6144,_tmp2!A:A,0))","v":"秋田県"},"E105221399175","E1","05","2","2","秋田県立比内支援学校たかのす校","北秋田市七日市字家向４９の内","0183452","2020-12-22","","059917",""]
[{"$f":"INDEX(学校種!B:B,MATCH(D6182,学校種!A:A,0))","v":"幼稚園(幼稚園型認定こども園を含む)"},{"$f":"INDEX(_tmp2!B:B,MATCH(E6182,_tmp2!A:A,0))","v":"山形県"},"A106320101047","A1","06","3","1","南山形幼稚園","山形市大字松原１５９－４","9902313","2020-12-22","","066515",""]
[{"$f":"INDEX(学校種!B:B,MATCH(D6205,学校種!A:A,0))","v":"幼稚園(幼稚園型認定こども園を含む)"},{"$f":"INDEX(_tmp2!B:B,MATCH(E6205,_tmp2!A:A,0))","v":"山形県"},"A106320301036","A1","06","3","1","和光幼稚園","鶴岡市我老林字五里市６２","9970805","2020-12-22","","067106",""]
[{"$f":"INDEX(学校種!B:B,MATCH(D6234,学校種!A:A,0))","v":"幼稚園(幼稚園型認定こども園を含む)"},{"$f":"INDEX(_tmp2!B:B,MATCH(E6234,_tmp2!A:A,0))","v":"山形県"},"A106332401012","A1","06","3","1","大江幼稚園","西村山郡大江町左沢４６１","9901101","2020-12-22","","066604",""]
[{"$f":"INDEX(学校種!B:B,MATCH(D6242,学校種!A:A,0))","v":"幼保連携型認定こども園"},{"$f":"INDEX(_tmp2!B:B,MATCH(E6242,_tmp2!A:A,0))","v":"山形県"},"A206320111044","A2","06","3","1","羽陽学園短期大学附属鈴川第二幼稚園・このみ保育園","山形市花楯2-46-1","9900067","2020-12-22","","06A104",""]
[{"$f":"INDEX(学校種!B:B,MATCH(D6267,学校種!A:A,0))","v":"幼保連携型認定こども園"},{"$f":"INDEX(_tmp2!B:B,MATCH(E6267,_tmp2!A:A,0))","v":"山形県"},"A206320311060","A2","06","3","1","ちとせはぐくみ園","鶴岡市稲生１－１４－１","9970834","2020-12-22","","06A806",""]
[{"$f":"INDEX(学校種!B:B,MATCH(D6307,学校種!A:A,0))","v":"小学校"},{"$f":"INDEX(_tmp2!B:B,MATCH(E6307,_tmp2!A:A,0))","v":"山形県"},"B106220120026","B1","06","2","1","山形市立第二小学校","山形市香澄町３－９－３８","9900039","2020-12-22","","060012",""]
[{"$f":"INDEX(学校種!B:B,MATCH(D6324,学校種!A:A,0))","v":"小学校"},{"$f":"INDEX(_tmp2!B:B,MATCH(E6324,_tmp2!A:A,0))","v":"山形県"},"B106220120197","B1","06","2","1","山形市立山寺小学校","山形市山寺１６５０","9993301","2020-12-22","","060030",""]
[{"$f":"INDEX(学校種!B:B,MATCH(D6372,学校種!A:A,0))","v":"小学校"},{"$f":"INDEX(_tmp2!B:B,MATCH(E6372,_tmp2!A:A,0))","v":"山形県"},"B106220320088","B1","06","2","1","鶴岡市立黄金小学校","鶴岡市青龍寺字北内４８","9970368","2020-12-22","","060606",""]
[{"$f":"INDEX(学校種!B:B,MATCH(D6385,学校種!A:A,0))","v":"小学校"},{"$f":"INDEX(_tmp2!B:B,MATCH(E6385,_tmp2!A:A,0))","v":"山形県"},"B106220320211","B1","06","2","1","鶴岡市立櫛引東小学校","鶴岡市黒川字小在家９０","9970311","2020-12-22","","060652",""]
[{"$f":"INDEX(学校種!B:B,MATCH(D6410,学校種!A:A,0))","v":"小学校"},{"$f":"INDEX(_tmp2!B:B,MATCH(E6410,_tmp2!A:A,0))","v":"山形県"},"B106220420201","B1","06","2","1","酒田市立南平田小学校","酒田市飛鳥字腰巻９９","9996711","2020-12-22","","060749",""]
[{"$f":"INDEX(学校種!B:B,MATCH(D6446,学校種!A:A,0))","v":"小学校"},{"$f":"INDEX(_tmp2!B:B,MATCH(E6446,_tmp2!A:A,0))","v":"山形県"},"B106220920055","B1","06","2","1","長井市立豊田小学校","長井市歌丸９７６","9930034","2020-12-22","","060506",""]
[{"$f":"INDEX(学校種!B:B,MATCH(D6480,学校種!A:A,0))","v":"小学校"},{"$f":"INDEX(_tmp2!B:B,MATCH(E6480,_tmp2!A:A,0))","v":"山形県"},"B106221320077","B1","06","2","1","南陽市立漆山小学校","南陽市漆山１７３１","9920474","2020-12-22","","060440",""]
[{"$f":"INDEX(学校種!B:B,MATCH(D6507,学校種!A:A,0))","v":"小学校"},{"$f":"INDEX(_tmp2!B:B,MATCH(E6507,_tmp2!A:A,0))","v":"山形県"},"B106236320011","B1","06","2","1","舟形町立舟形小学校","最上郡舟形町舟形４５６０","9994601","2020-12-22","","060345",""]
[{"$f":"INDEX(学校種!B:B,MATCH(D6518,学校種!A:A,0))","v":"小学校"},{"$f":"INDEX(_tmp2!B:B,MATCH(E6518,_tmp2!A:A,0))","v":"山形県"},"B106238120055","B1","06","2","1","高畠町立和田小学校","東置賜郡高畠町元和田１３０６","9920262","2020-12-22","","060449",""]
[{"$f":"INDEX(学校種!B:B,MATCH(D6568,学校種!A:A,0))","v":"中学校"},{"$f":"INDEX(_tmp2!B:B,MATCH(E6568,_tmp2!A:A,0))","v":"山形県"},"C106220230049","C1","06","2","1","米沢市立第四中学校","米沢市春日４－２－６９","9920044","2020-12-22","","063903",""]
[{"$f":"INDEX(学校種!B:B,MATCH(D6583,学校種!A:A,0))","v":"中学校"},{"$f":"INDEX(_tmp2!B:B,MATCH(E6583,_tmp2!A:A,0))","v":"山形県"},"C106220430010","C1","06","2","1","酒田市立第一中学校","酒田市住吉町１０－７０","9980029","2020-12-22","","064200",""]
[{"$f":"INDEX(学校種!B:B,MATCH(D6597,学校種!A:A,0))","v":"中学校"},{"$f":"INDEX(_tmp2!B:B,MATCH(E6597,_tmp2!A:A,0))","v":"山形県"},"C106220630036","C1","06","2","1","寒河江市立陵西中学校","寒河江市大字八鍬字富沢８３６番地","9900523","2020-12-22","","063626",""]
[{"$f":"INDEX(学校種!B:B,MATCH(D6648,学校種!A:A,0))","v":"義務教育学校"},{"$f":"INDEX(_tmp2!B:B,MATCH(E6648,_tmp2!A:A,0))","v":"山形県"},"C206236740010","C2","06",2,1,"戸沢村立戸沢学園","最上郡戸沢村大字蔵岡２９０５番地７号",9996402,"2021-05-27","","06C370",""]
[{"$f":"INDEX(学校種!B:B,MATCH(D6658,学校種!A:A,0))","v":"高等学校"},{"$f":"INDEX(_tmp2!B:B,MATCH(E6658,_tmp2!A:A,0))","v":"山形県"},"D106220250024","D1","06","2","1","山形県立米沢東高等学校","米沢市丸の内２－５－６３","9920052","2020-12-22","","065537",""]
[{"$f":"INDEX(学校種!B:B,MATCH(D6691,学校種!A:A,0))","v":"高等学校"},{"$f":"INDEX(_tmp2!B:B,MATCH(E6691,_tmp2!A:A,0))","v":"山形県"},"D106238250017","D1","06","2","1","山形県立置賜農業高等学校","東置賜郡川西町上小松３７２３","9990121","2020-12-22","","065540",""]
[{"$f":"INDEX(学校種!B:B,MATCH(D6719,学校種!A:A,0))","v":"特別支援学校"},{"$f":"INDEX(_tmp2!B:B,MATCH(E6719,_tmp2!A:A,0))","v":"山形県"},"E106220370035","E1","06","2","1","山形県立上山高等養護学校","上山市宮脇６００番地","9993201","2020-12-22","","069917",""]
[{"$f":"INDEX(学校種!B:B,MATCH(D6756,学校種!A:A,0))","v":"各種学校"},{"$f":"INDEX(_tmp2!B:B,MATCH(E6756,_tmp2!A:A,0))","v":"山形県"},"H206321081016","H2","06","3","1","第一貨物流通技能専門校","天童市芳賀８９５","9940067","2020-12-22","","069141",""]
[{"$f":"INDEX(学校種!B:B,MATCH(D6780,学校種!A:A,0))","v":"幼稚園(幼稚園型認定こども園を含む)"},{"$f":"INDEX(_tmp2!B:B,MATCH(E6780,_tmp2!A:A,0))","v":"福島県"},"A107220410124","A1","07","2","1","いわき市立西小名浜幼稚園","いわき市小名浜愛宕町３－２","9718165","2020-12-22","","076599",""]
[{"$f":"INDEX(学校種!B:B,MATCH(D6809,学校種!A:A,0))","v":"幼稚園(幼稚園型認定こども園を含む)"},{"$f":"INDEX(_tmp2!B:B,MATCH(E6809,_tmp2!A:A,0))","v":"福島県"},"A107221010064","A1","07","2","1","二本松市立杉田幼稚園","二本松市中江１９５－１","9640859","2020-12-22","","077110",""]
[{"$f":"INDEX(学校種!B:B,MATCH(D6843,学校種!A:A,0))","v":"幼稚園(幼稚園型認定こども園を含む)"},{"$f":"INDEX(_tmp2!B:B,MATCH(E6843,_tmp2!A:A,0))","v":"福島県"},"A107221410051","A1","07","2","1","五百川幼保総合施設幼稚園部","本宮市荒井字山神２３－１","9691104","2020-12-22","","077143",""]
[{"$f":"INDEX(学校種!B:B,MATCH(D6870,学校種!A:A,0))","v":"幼稚園(幼稚園型認定こども園を含む)"},{"$f":"INDEX(_tmp2!B:B,MATCH(E6870,_tmp2!A:A,0))","v":"福島県"},"A107248110011","A1","07","2","1","棚倉町立棚倉幼稚園","東白川郡棚倉町大字棚倉字宮下１３８番地","9636131","2020-12-22","","076680",""]
[{"$f":"INDEX(学校種!B:B,MATCH(D6881,学校種!A:A,0))","v":"幼稚園(幼稚園型認定こども園を含む)"},{"$f":"INDEX(_tmp2!B:B,MATCH(E6881,_tmp2!A:A,0))","v":"福島県"},"A107254310017","A1","07","2","1","富岡町立夜の森幼稚園","双葉郡富岡町大字本岡字王塚３６","9791151","2020-12-22","","076710",""]
[{"$f":"INDEX(学校種!B:B,MATCH(D6927,学校種!A:A,0))","v":"幼稚園(幼稚園型認定こども園を含む)"},{"$f":"INDEX(_tmp2!B:B,MATCH(E6927,_tmp2!A:A,0))","v":"福島県"},"A107320311239","A1","07","3","1","学校法人本田学園あけぼの幼稚園","郡山市小原田５－７－６","9638835","2020-12-22","","076823",""]
[{"$f":"INDEX(学校種!B:B,MATCH(D6946,学校種!A:A,0))","v":"幼稚園(幼稚園型認定こども園を含む)"},{"$f":"INDEX(_tmp2!B:B,MATCH(E6946,_tmp2!A:A,0))","v":"福島県"},"A107320411112","A1","07","3","1","学校法人白ばら幼稚園","いわき市山田町林崎前１５","9748241","2020-12-22","","076932",""]
[{"$f":"INDEX(学校種!B:B,MATCH(D6960,学校種!A:A,0))","v":"幼稚園(幼稚園型認定こども園を含む)"},{"$f":"INDEX(_tmp2!B:B,MATCH(E6960,_tmp2!A:A,0))","v":"福島県"},"A107320411256","A1","07","3","1","学校法人まこと学園入遠野まこと幼稚園","いわき市遠野町上根本字上原田１０－２","9720252","2020-12-22","","077122",""]
[{"$f":"INDEX(学校種!B:B,MATCH(D6984,学校種!A:A,0))","v":"幼稚園(幼稚園型認定こども園を含む)"},{"$f":"INDEX(_tmp2!B:B,MATCH(E6984,_tmp2!A:A,0))","v":"福島県"},"A107336811016","A1","07","3","1","学校法人東北カトリック学園田島カトリック暁の星幼稚園","南会津郡南会津町田島字根小屋甲４２４２","9670004","2020-12-22","","077021",""]
[{"$f":"INDEX(学校種!B:B,MATCH(D7021,学校種!A:A,0))","v":"幼保連携型認定こども園"},{"$f":"INDEX(_tmp2!B:B,MATCH(E7021,_tmp2!A:A,0))","v":"福島県"},"A207256420018","A2","07","2","1","飯舘村立までいの里のこども園","相馬郡飯舘村伊丹沢字山田３８０","9601803","2020-12-22","","07A108",""]
[{"$f":"INDEX(学校種!B:B,MATCH(D7054,学校種!A:A,0))","v":"幼保連携型認定こども園"},{"$f":"INDEX(_tmp2!B:B,MATCH(E7054,_tmp2!A:A,0))","v":"福島県"},"A207320421048","A2","07","3","1","久之浜こども園","いわき市大久町小久字連郷１５－１","9790337","2020-12-22","","07A093",""]
[{"$f":"INDEX(学校種!B:B,MATCH(D7082,学校種!A:A,0))","v":"幼保連携型認定こども園"},{"$f":"INDEX(_tmp2!B:B,MATCH(E7082,_tmp2!A:A,0))","v":"福島県"},"A207321321047","A2","07","3","1","社会福祉法人桑の実福祉会認定こども園伊達こども園","伊達市中道１０","9600456","2020-12-22","","07A090",""]
[{"$f":"INDEX(学校種!B:B,MATCH(D7119,学校種!A:A,0))","v":"小学校"},{"$f":"INDEX(_tmp2!B:B,MATCH(E7119,_tmp2!A:A,0))","v":"福島県"},"B107220130274","B1","07","2","1","福島市立佐倉小学校","福島市上名倉字大光内１","9602155","2020-12-22","","070038",""]
[{"$f":"INDEX(学校種!B:B,MATCH(D7143,学校種!A:A,0))","v":"小学校"},{"$f":"INDEX(_tmp2!B:B,MATCH(E7143,_tmp2!A:A,0))","v":"福島県"},"B107220230031","B1","07","2","1","会津若松市立行仁小学校","会津若松市行仁町６－１","9650033","2020-12-22","","070063",""]
[{"$f":"INDEX(学校種!B:B,MATCH(D7157,学校種!A:A,0))","v":"小学校"},{"$f":"INDEX(_tmp2!B:B,MATCH(E7157,_tmp2!A:A,0))","v":"福島県"},"B107220230175","B1","07","2","1","会津若松市立荒舘小学校","会津若松市北会津町下荒井字八幡前１３","9650111","2020-12-22","","070647",""]
[{"$f":"INDEX(学校種!B:B,MATCH(D7200,学校種!A:A,0))","v":"小学校"},{"$f":"INDEX(_tmp2!B:B,MATCH(E7200,_tmp2!A:A,0))","v":"福島県"},"B107220330414","B1","07","2","1","郡山市立東芳小学校","郡山市阿久津町字大闇２５０","9630667","2020-12-22","","070099",""]
[{"$f":"INDEX(学校種!B:B,MATCH(D7222,学校種!A:A,0))","v":"小学校"},{"$f":"INDEX(_tmp2!B:B,MATCH(E7222,_tmp2!A:A,0))","v":"福島県"},"B107220430128","B1","07","2","1","いわき市立高久小学校","いわき市平下高久字原極46番地の１","9700221","2020-12-22","","070238",""]
[{"$f":"INDEX(学校種!B:B,MATCH(D7233,学校種!A:A,0))","v":"小学校"},{"$f":"INDEX(_tmp2!B:B,MATCH(E7233,_tmp2!A:A,0))","v":"福島県"},"B107220430235","B1","07","2","1","いわき市立小玉小学校","いわき市小川町西小川字小玉2番地の１","9793121","2020-12-22","","070286",""]
[{"$f":"INDEX(学校種!B:B,MATCH(D7265,学校種!A:A,0))","v":"小学校"},{"$f":"INDEX(_tmp2!B:B,MATCH(E7265,_tmp2!A:A,0))","v":"福島県"},"B107220430556","B1","07","2","1","いわき市立汐見が丘小学校","いわき市小浜町西ノ作358番地","9748221","2020-12-22","","070318",""]
[{"$f":"INDEX(学校種!B:B,MATCH(D7294,学校種!A:A,0))","v":"小学校"},{"$f":"INDEX(_tmp2!B:B,MATCH(E7294,_tmp2!A:A,0))","v":"福島県"},"B107220730045","B1","07","2","1","須賀川市立西袋第一小学校","須賀川市日向町１１５番地","9620015","2020-12-22","","070175",""]
[{"$f":"INDEX(学校種!B:B,MATCH(D7323,学校種!A:A,0))","v":"小学校"},{"$f":"INDEX(_tmp2!B:B,MATCH(E7323,_tmp2!A:A,0))","v":"福島県"},"B107220830160","B1","07","2","1","喜多方市立山都小学校","喜多方市山都町字上ノ原道西９０５の２","9694113","2020-12-22","","070914",""]
[{"$f":"INDEX(学校種!B:B,MATCH(D7347,学校種!A:A,0))","v":"小学校"},{"$f":"INDEX(_tmp2!B:B,MATCH(E7347,_tmp2!A:A,0))","v":"福島県"},"B107221030148","B1","07","2","1","二本松市立新殿小学校","二本松市西新殿字永作１０","9640304","2020-12-22","","070378",""]
[{"$f":"INDEX(学校種!B:B,MATCH(D7384,学校種!A:A,0))","v":"小学校"},{"$f":"INDEX(_tmp2!B:B,MATCH(E7384,_tmp2!A:A,0))","v":"福島県"},"B107221330092","B1","07","2","1","伊達市立柱沢小学校","伊達市保原町所沢字東畑１００","9600681","2020-12-22","","070364",""]
[{"$f":"INDEX(学校種!B:B,MATCH(D7417,学校種!A:A,0))","v":"小学校"},{"$f":"INDEX(_tmp2!B:B,MATCH(E7417,_tmp2!A:A,0))","v":"福島県"},"B107236230028","B1","07","2","1","南会津郡下郷町立江川小学校","南会津郡下郷町大字湯野上字杉ノ内乙５４８番地","9695206","2020-12-22","","070609",""]
[{"$f":"INDEX(学校種!B:B,MATCH(D7445,学校種!A:A,0))","v":"小学校"},{"$f":"INDEX(_tmp2!B:B,MATCH(E7445,_tmp2!A:A,0))","v":"福島県"},"B107242330016","B1","07","2","1","河沼郡柳津町立柳津小学校","河沼郡柳津町大字柳津字上村道下乙１５８０","9697201","2020-12-22","","070747",""]
[{"$f":"INDEX(学校種!B:B,MATCH(D7455,学校種!A:A,0))","v":"小学校"},{"$f":"INDEX(_tmp2!B:B,MATCH(E7455,_tmp2!A:A,0))","v":"福島県"},"B107246130019","B1","07","2","1","西白河郡西郷村立熊倉小学校","西白河郡西郷村大字熊倉字折口原３３番地１","9618091","2020-12-22","","070433",""]
[{"$f":"INDEX(学校種!B:B,MATCH(D7478,学校種!A:A,0))","v":"小学校"},{"$f":"INDEX(_tmp2!B:B,MATCH(E7478,_tmp2!A:A,0))","v":"福島県"},"B107250130020","B1","07","2","1","石川郡石川町立沢田小学校","石川郡石川町大字沢井字上ノ原７５","9637825","2020-12-22","","070507",""]
[{"$f":"INDEX(学校種!B:B,MATCH(D7520,学校種!A:A,0))","v":"中学校"},{"$f":"INDEX(_tmp2!B:B,MATCH(E7520,_tmp2!A:A,0))","v":"福島県"},"C107110000012","C1","07","1","1","福島大学附属中学校","福島市浜田町１２－２６","9608107","2020-12-22","","073501",""]
[{"$f":"INDEX(学校種!B:B,MATCH(D7535,学校種!A:A,0))","v":"中学校"},{"$f":"INDEX(_tmp2!B:B,MATCH(E7535,_tmp2!A:A,0))","v":"福島県"},"C107220140154","C1","07","2","1","福島市立西根中学校","福島市飯坂町湯野字大平２","9600211","2020-12-22","","073523",""]
[{"$f":"INDEX(学校種!B:B,MATCH(D7585,学校種!A:A,0))","v":"中学校"},{"$f":"INDEX(_tmp2!B:B,MATCH(E7585,_tmp2!A:A,0))","v":"福島県"},"C107220440080","C1","07","2","1","いわき市立草野中学校","いわき市平下神谷字宿２５","9700101","2020-12-22","","073624",""]
[{"$f":"INDEX(学校種!B:B,MATCH(D7596,学校種!A:A,0))","v":"中学校"},{"$f":"INDEX(_tmp2!B:B,MATCH(E7596,_tmp2!A:A,0))","v":"福島県"},"C107220440197","C1","07","2","1","いわき市立内郷第三中学校","いわき市内郷高野町中倉８２番地の３","9738406","2020-12-22","","073637",""]
[{"$f":"INDEX(学校種!B:B,MATCH(D7628,学校種!A:A,0))","v":"中学校"},{"$f":"INDEX(_tmp2!B:B,MATCH(E7628,_tmp2!A:A,0))","v":"福島県"},"C107220740041","C1","07","2","1","須賀川市立西袋中学校","須賀川市吉美根字土橋６８０番地","9620059","2020-12-22","","073591",""]
[{"$f":"INDEX(学校種!B:B,MATCH(D7657,学校種!A:A,0))","v":"中学校"},{"$f":"INDEX(_tmp2!B:B,MATCH(E7657,_tmp2!A:A,0))","v":"福島県"},"C107221140054","C1","07","2","1","田村市立船引南中学校","田村市船引町堀越字丸森７０番地","9634204","2020-12-22","","073899",""]
[{"$f":"INDEX(学校種!B:B,MATCH(D7693,学校種!A:A,0))","v":"中学校"},{"$f":"INDEX(_tmp2!B:B,MATCH(E7693,_tmp2!A:A,0))","v":"福島県"},"C107240840011","C1","07","2","1","耶麻郡猪苗代町立猪苗代中学校","耶麻郡猪苗代町大字千代田字中島５番地の１","9693133","2020-12-22","","073808",""]
[{"$f":"INDEX(学校種!B:B,MATCH(D7718,学校種!A:A,0))","v":"中学校"},{"$f":"INDEX(_tmp2!B:B,MATCH(E7718,_tmp2!A:A,0))","v":"福島県"},"C107250440014","C1","07","2","1","浅川町立浅川中学校","石川郡浅川町大字浅川字大明塚１２０","9636204","2020-12-22","","073757",""]
[{"$f":"INDEX(学校種!B:B,MATCH(D7731,学校種!A:A,0))","v":"中学校"},{"$f":"INDEX(_tmp2!B:B,MATCH(E7731,_tmp2!A:A,0))","v":"福島県"},"C107254540015","C1","07","2","1","大熊町立大熊中学校","双葉郡大熊町夫沢字中央台８３０－６","9791301","2020-12-22","","073860",""]
[{"$f":"INDEX(学校種!B:B,MATCH(D7775,学校種!A:A,0))","v":"高等学校"},{"$f":"INDEX(_tmp2!B:B,MATCH(E7775,_tmp2!A:A,0))","v":"福島県"},"D107220360075","D1","07","2","1","福島県立郡山高等学校","郡山市大槻町上篠林３","9630201","2020-12-22","","075575",""]
[{"$f":"INDEX(学校種!B:B,MATCH(D7796,学校種!A:A,0))","v":"高等学校"},{"$f":"INDEX(_tmp2!B:B,MATCH(E7796,_tmp2!A:A,0))","v":"福島県"},"D107220560019","D1","07","2","1","福島県立白河高等学校","白河市南登リ町５４","9610851","2020-12-22","","075531",""]
[{"$f":"INDEX(学校種!B:B,MATCH(D7808,学校種!A:A,0))","v":"高等学校"},{"$f":"INDEX(_tmp2!B:B,MATCH(E7808,_tmp2!A:A,0))","v":"福島県"},"D107220860052","D1","07",2,1,"福島県立喜多方高等学校","喜多方市桜ガ丘一丁目１２９番地",9660802,"2021-05-27","","075682",""]
[{"$f":"INDEX(学校種!B:B,MATCH(D7837,学校種!A:A,0))","v":"高等学校"},{"$f":"INDEX(_tmp2!B:B,MATCH(E7837,_tmp2!A:A,0))","v":"福島県"},"D107252160016","D1","07","2","1","福島県立田村高等学校","田村郡三春町持合畑８８－１","9637763","2020-12-22","","075521",""]
[{"$f":"INDEX(学校種!B:B,MATCH(D7883,学校種!A:A,0))","v":"特別支援学校"},{"$f":"INDEX(_tmp2!B:B,MATCH(E7883,_tmp2!A:A,0))","v":"福島県"},"E107220770012","E1","07","2","1","福島県立須賀川支援学校","須賀川市芦田塚１３ー５","9620868","2020-12-22","","079916",""]
[{"$f":"INDEX(学校種!B:B,MATCH(D7898,学校種!A:A,0))","v":"専修学校"},{"$f":"INDEX(_tmp2!B:B,MATCH(E7898,_tmp2!A:A,0))","v":"福島県"},"H107320181035","H1","07","3","1","尚志学園専修学校","福島市早稲町２－２４","9608044","2020-12-22","","078525",""]
[{"$f":"INDEX(学校種!B:B,MATCH(D7921,学校種!A:A,0))","v":"専修学校"},{"$f":"INDEX(_tmp2!B:B,MATCH(E7921,_tmp2!A:A,0))","v":"福島県"},"H107320381122","H1","07","3","1","iキャリア医療福祉専門学校","郡山市八山田１丁目８８番地","9638052","2020-12-22","","078633",""]
[{"$f":"INDEX(学校種!B:B,MATCH(D7959,学校種!A:A,0))","v":"幼稚園(幼稚園型認定こども園を含む)"},{"$f":"INDEX(_tmp2!B:B,MATCH(E7959,_tmp2!A:A,0))","v":"茨城県"},"A108220100020","A1","08","2","1","水戸市立浜田幼稚園","水戸市浜田１丁目１－２","3100812","2020-12-22","","086515",""]
[{"$f":"INDEX(学校種!B:B,MATCH(D7991,学校種!A:A,0))","v":"幼稚園(幼稚園型認定こども園を含む)"},{"$f":"INDEX(_tmp2!B:B,MATCH(E7991,_tmp2!A:A,0))","v":"茨城県"},"A108221000065","A1","08","2","1","下妻市立ちよかわ幼稚園","下妻市宗道２０９５","3040814","2020-12-22","","087046",""]
[{"$f":"INDEX(学校種!B:B,MATCH(D8020,学校種!A:A,0))","v":"幼稚園(幼稚園型認定こども園を含む)"},{"$f":"INDEX(_tmp2!B:B,MATCH(E8020,_tmp2!A:A,0))","v":"茨城県"},"A108222000116","A1","08","2","1","つくば市立松代幼稚園","つくば市松代２丁目１８番地","3050035","2020-12-22","","086989",""]
[{"$f":"INDEX(学校種!B:B,MATCH(D8029,学校種!A:A,0))","v":"幼稚園(幼稚園型認定こども園を含む)"},{"$f":"INDEX(_tmp2!B:B,MATCH(E8029,_tmp2!A:A,0))","v":"茨城県"},"A108222100026","A1","08","2","9","ひたちなか市立磯崎幼稚園","ひたちなか市磯崎町４５９８番地","3111202","2020-12-22","2021-05-27","086643",""]
[{"$f":"INDEX(学校種!B:B,MATCH(D8081,学校種!A:A,0))","v":"幼稚園(幼稚園型認定こども園を含む)"},{"$f":"INDEX(_tmp2!B:B,MATCH(E8081,_tmp2!A:A,0))","v":"茨城県"},"A108320100046","A1","08","3","1","認定こども園フレンド　少友幼稚園","水戸市備前町５番３６号","3100024","2020-12-22","","087104",""]
[{"$f":"INDEX(学校種!B:B,MATCH(D8094,学校種!A:A,0))","v":"幼稚園(幼稚園型認定こども園を含む)"},{"$f":"INDEX(_tmp2!B:B,MATCH(E8094,_tmp2!A:A,0))","v":"茨城県"},"A108320200036","A1","08","3","1","池の川幼稚園","日立市中成沢町２－８－２９","3160033","2020-12-22","","087137",""]
[{"$f":"INDEX(学校種!B:B,MATCH(D8138,学校種!A:A,0))","v":"幼稚園(幼稚園型認定こども園を含む)"},{"$f":"INDEX(_tmp2!B:B,MATCH(E8138,_tmp2!A:A,0))","v":"茨城県"},"A108321500013","A1","08","3","1","杉の子幼稚園","北茨城市磯原町磯原８２６－４","3191541","2020-12-22","","087361",""]
[{"$f":"INDEX(学校種!B:B,MATCH(D8159,学校種!A:A,0))","v":"幼稚園(幼稚園型認定こども園を含む)"},{"$f":"INDEX(_tmp2!B:B,MATCH(E8159,_tmp2!A:A,0))","v":"茨城県"},"A108322000052","A1","08","3","1","アカデミア幼稚園","つくば市下横場４２５番地","3050075","2020-12-22","","087921",""]
[{"$f":"INDEX(学校種!B:B,MATCH(D8171,学校種!A:A,0))","v":"幼稚園(幼稚園型認定こども園を含む)"},{"$f":"INDEX(_tmp2!B:B,MATCH(E8171,_tmp2!A:A,0))","v":"茨城県"},"A108322400030","A1","08","3","1","守谷二三ケ丘幼稚園","守谷市立沢１５９６","3020118","2020-12-22","","088123",""]
[{"$f":"INDEX(学校種!B:B,MATCH(D8202,学校種!A:A,0))","v":"幼保連携型認定こども園"},{"$f":"INDEX(_tmp2!B:B,MATCH(E8202,_tmp2!A:A,0))","v":"茨城県"},"A208220200028","A2","08","2","1","はなやま認定こども園","日立市金沢町２－１０－２３","3160015","2020-12-22","","08A053",""]
[{"$f":"INDEX(学校種!B:B,MATCH(D8232,学校種!A:A,0))","v":"幼保連携型認定こども園"},{"$f":"INDEX(_tmp2!B:B,MATCH(E8232,_tmp2!A:A,0))","v":"茨城県"},"A208320200106","A2","08","3","1","認定こども園ひがしなるさわ幼稚園","日立市東成沢町３－１６－８","3160034","2020-12-22","","08A408",""]
[{"$f":"INDEX(学校種!B:B,MATCH(D8267,学校種!A:A,0))","v":"幼保連携型認定こども園"},{"$f":"INDEX(_tmp2!B:B,MATCH(E8267,_tmp2!A:A,0))","v":"茨城県"},"A208321600048","A2","08","3","1","めぐみこども園","笠間市下郷４４２５－３１",3190202,"2020-12-22","","08A592",""]
[{"$f":"INDEX(学校種!B:B,MATCH(D8293,学校種!A:A,0))","v":"幼保連携型認定こども園"},{"$f":"INDEX(_tmp2!B:B,MATCH(E8293,_tmp2!A:A,0))","v":"茨城県"},"A208322300049","A2","08","3","1","認定こども園日の出こども園","潮来市日の出７－１５－１８",3112423,"2020-12-22","","08A732",""]
[{"$f":"INDEX(学校種!B:B,MATCH(D8305,学校種!A:A,0))","v":"幼保連携型認定こども園"},{"$f":"INDEX(_tmp2!B:B,MATCH(E8305,_tmp2!A:A,0))","v":"茨城県"},"A208322700045","A2","08","3","1","認定こども園いずみ保育園","筑西市羽方１８６－１",3080014,"2020-12-22","","08A783",""]
[{"$f":"INDEX(学校種!B:B,MATCH(D8350,学校種!A:A,0))","v":"幼保連携型認定こども園"},{"$f":"INDEX(_tmp2!B:B,MATCH(E8350,_tmp2!A:A,0))","v":"茨城県"},"A208330200043","A2","08","3","1","認定こども園さくらこども園","東茨城郡茨城町小幡２１６２－３",3113157,"2020-12-22","","08A912",""]
[{"$f":"INDEX(学校種!B:B,MATCH(D8383,学校種!A:A,0))","v":"小学校"},{"$f":"INDEX(_tmp2!B:B,MATCH(E8383,_tmp2!A:A,0))","v":"茨城県"},"B108220100206","B1","08","2","1","水戸市立梅が丘小学校","水戸市姫子１－８２７－２","3114151","2020-12-22","","080032",""]
[{"$f":"INDEX(学校種!B:B,MATCH(D8392,学校種!A:A,0))","v":"小学校"},{"$f":"INDEX(_tmp2!B:B,MATCH(E8392,_tmp2!A:A,0))","v":"茨城県"},"B108220100297","B1","08","2","1","水戸市立大場小学校","水戸市大場町２４８９","3111125","2020-12-22","","080504",""]
[{"$f":"INDEX(学校種!B:B,MATCH(D8440,学校種!A:A,0))","v":"小学校"},{"$f":"INDEX(_tmp2!B:B,MATCH(E8440,_tmp2!A:A,0))","v":"茨城県"},"B108220400052","B1","08","2","1","古河市立古河第五小学校","古河市横山町３－１３－２７","3060022","2020-12-22","","080126",""]
[{"$f":"INDEX(学校種!B:B,MATCH(D8457,学校種!A:A,0))","v":"小学校"},{"$f":"INDEX(_tmp2!B:B,MATCH(E8457,_tmp2!A:A,0))","v":"茨城県"},"B108220400221","B1","08","2","1","古河市立名崎小学校","古河市尾崎４２００","3060101","2020-12-22","","081635",""]
[{"$f":"INDEX(学校種!B:B,MATCH(D8473,学校種!A:A,0))","v":"小学校"},{"$f":"INDEX(_tmp2!B:B,MATCH(E8473,_tmp2!A:A,0))","v":"茨城県"},"B108220500159","B1","08","2","1","石岡市立恋瀬小学校","石岡市小見８３２番地１","3150104","2020-12-22","","081237",""]
[{"$f":"INDEX(学校種!B:B,MATCH(D8522,学校種!A:A,0))","v":"小学校"},{"$f":"INDEX(_tmp2!B:B,MATCH(E8522,_tmp2!A:A,0))","v":"茨城県"},"B108221200025","B1","08","2","1","常陸太田市立西小沢小学校","常陸太田市内田町１０９６","3130037","2020-12-22","","080304",""]
[{"$f":"INDEX(学校種!B:B,MATCH(D8534,学校種!A:A,0))","v":"小学校"},{"$f":"INDEX(_tmp2!B:B,MATCH(E8534,_tmp2!A:A,0))","v":"茨城県"},"B108221400023","B1","08","2","1","高萩市立秋山小学校","高萩市島名２１６１－１","3180023","2020-12-22","","080352",""]
[{"$f":"INDEX(学校種!B:B,MATCH(D8565,学校種!A:A,0))","v":"小学校"},{"$f":"INDEX(_tmp2!B:B,MATCH(E8565,_tmp2!A:A,0))","v":"茨城県"},"B108221700084","B1","08","2","1","取手市立取手西小学校","取手市稲70","3020026","2020-12-22","","080435",""]
[{"$f":"INDEX(学校種!B:B,MATCH(D8595,学校種!A:A,0))","v":"小学校"},{"$f":"INDEX(_tmp2!B:B,MATCH(E8595,_tmp2!A:A,0))","v":"茨城県"},"B108222000178","B1","08","2","1","つくば市立小野川小学校","つくば市館野７３１","3050067","2020-12-22","","081306",""]
[{"$f":"INDEX(学校種!B:B,MATCH(D8630,学校種!A:A,0))","v":"小学校"},{"$f":"INDEX(_tmp2!B:B,MATCH(E8630,_tmp2!A:A,0))","v":"茨城県"},"B108222200032","B1","08","2","1","鹿嶋市立中野東小学校","鹿嶋市荒野１２２１","3112221","2020-12-22","","080943",""]
[{"$f":"INDEX(学校種!B:B,MATCH(D8656,学校種!A:A,0))","v":"小学校"},{"$f":"INDEX(_tmp2!B:B,MATCH(E8656,_tmp2!A:A,0))","v":"茨城県"},"B108222500020","B1","08","2","1","常陸大宮市立村田小学校","常陸大宮市上村田１２５９－１","3192136","2020-12-22","","080741",""]
[{"$f":"INDEX(学校種!B:B,MATCH(D8668,学校種!A:A,0))","v":"小学校"},{"$f":"INDEX(_tmp2!B:B,MATCH(E8668,_tmp2!A:A,0))","v":"茨城県"},"B108222600038","B1","08","2","1","那珂市立菅谷小学校","那珂市菅谷２３７８－１","3110105","2020-12-22","","080714",""]
[{"$f":"INDEX(学校種!B:B,MATCH(D8713,学校種!A:A,0))","v":"小学校"},{"$f":"INDEX(_tmp2!B:B,MATCH(E8713,_tmp2!A:A,0))","v":"茨城県"},"B108222900062","B1","08","2","9","稲敷市立浮島小学校","稲敷市浮島３６５０","3000641","2020-12-22","2021-05-27","081174",""]
[{"$f":"INDEX(学校種!B:B,MATCH(D8733,学校種!A:A,0))","v":"小学校"},{"$f":"INDEX(_tmp2!B:B,MATCH(E8733,_tmp2!A:A,0))","v":"茨城県"},"B108223100077","B1","08","2","1","桜川市立樺穂小学校","桜川市真壁町長岡４３７","3004403","2020-12-22","","081425",""]
[{"$f":"INDEX(学校種!B:B,MATCH(D8746,学校種!A:A,0))","v":"小学校"},{"$f":"INDEX(_tmp2!B:B,MATCH(E8746,_tmp2!A:A,0))","v":"茨城県"},"B108223200110","B1","08","2","1","神栖市立波崎西小学校","神栖市波崎５０１１","3140408","2020-12-22","","080985",""]
[{"$f":"INDEX(学校種!B:B,MATCH(D8776,学校種!A:A,0))","v":"小学校"},{"$f":"INDEX(_tmp2!B:B,MATCH(E8776,_tmp2!A:A,0))","v":"茨城県"},"B108223600036","B1","08","2","1","小美玉市立下吉影小学校","小美玉市下吉影１７６３－４","3113406","2020-12-22","","080535",""]
[{"$f":"INDEX(学校種!B:B,MATCH(D8807,学校種!A:A,0))","v":"小学校"},{"$f":"INDEX(_tmp2!B:B,MATCH(E8807,_tmp2!A:A,0))","v":"茨城県"},"B108236400067","B1","08","2","1","大子町立さはら小学校","久慈郡大子町左貫１９９０－３","3193543","2020-12-22","","080855",""]
[{"$f":"INDEX(学校種!B:B,MATCH(D8841,学校種!A:A,0))","v":"中学校"},{"$f":"INDEX(_tmp2!B:B,MATCH(E8841,_tmp2!A:A,0))","v":"茨城県"},"C108220100017","C1","08","2","1","水戸市立第一中学校","水戸市東原３－１－１","3100035","2020-12-22","","083511",""]
[{"$f":"INDEX(学校種!B:B,MATCH(D8868,学校種!A:A,0))","v":"中学校"},{"$f":"INDEX(_tmp2!B:B,MATCH(E8868,_tmp2!A:A,0))","v":"茨城県"},"C108220200123","C1","08","2","1","日立市立河原子中学校","日立市東多賀町４－１０－１０","3160004","2020-12-22","","083543",""]
[{"$f":"INDEX(学校種!B:B,MATCH(D8897,学校種!A:A,0))","v":"中学校"},{"$f":"INDEX(_tmp2!B:B,MATCH(E8897,_tmp2!A:A,0))","v":"茨城県"},"C108220700039","C1","08","2","1","結城市立結城東中学校","結城市結城３３８１","3070001","2020-12-22","","083647",""]
[{"$f":"INDEX(学校種!B:B,MATCH(D8928,学校種!A:A,0))","v":"中学校"},{"$f":"INDEX(_tmp2!B:B,MATCH(E8928,_tmp2!A:A,0))","v":"茨城県"},"C108221500057","C1","08","2","1","北茨城市立関本中学校","北茨城市関本町関本上１４７０","3191721","2020-12-22","","083796",""]
[{"$f":"INDEX(学校種!B:B,MATCH(D8958,学校種!A:A,0))","v":"中学校"},{"$f":"INDEX(_tmp2!B:B,MATCH(E8958,_tmp2!A:A,0))","v":"茨城県"},"C108222100022","C1","08","2","9","ひたちなか市立平磯中学校","ひたちなか市平磯町３５５０","3111203","2020-12-22","2021-05-27","083682",""]
[{"$f":"INDEX(学校種!B:B,MATCH(D8966,学校種!A:A,0))","v":"中学校"},{"$f":"INDEX(_tmp2!B:B,MATCH(E8966,_tmp2!A:A,0))","v":"茨城県"},"C108222200012","C1","08","2","1","鹿嶋市立大野中学校","鹿嶋市津賀１９２５－１","3112205","2020-12-22","","084431",""]
[{"$f":"INDEX(学校種!B:B,MATCH(D9019,学校種!A:A,0))","v":"中学校"},{"$f":"INDEX(_tmp2!B:B,MATCH(E9019,_tmp2!A:A,0))","v":"茨城県"},"C108223200083","C1","08","2","1","神栖市立波崎第四中学校","神栖市土合北１－８－１０","3140342","2020-12-22","","084464",""]
[{"$f":"INDEX(学校種!B:B,MATCH(D9031,学校種!A:A,0))","v":"中学校"},{"$f":"INDEX(_tmp2!B:B,MATCH(E9031,_tmp2!A:A,0))","v":"茨城県"},"C108223500044","C1","08","2","1","つくばみらい市立小絹中学校","つくばみらい市絹の台１－１４－２","3002436","2020-12-22","","084824",""]
[{"$f":"INDEX(学校種!B:B,MATCH(D9048,学校種!A:A,0))","v":"中学校"},{"$f":"INDEX(_tmp2!B:B,MATCH(E9048,_tmp2!A:A,0))","v":"茨城県"},"C108244200016","C1","08","2","1","美浦村立美浦中学校","稲敷郡美浦村大字受領１４３５番地","3000424","2020-12-22","","084611",""]
[{"$f":"INDEX(学校種!B:B,MATCH(D9096,学校種!A:A,0))","v":"高等学校"},{"$f":"INDEX(_tmp2!B:B,MATCH(E9096,_tmp2!A:A,0))","v":"茨城県"},"D108220300013","D1","08","2","1","茨城県立土浦第一高等学校","土浦市真鍋４－４－２","3000051","2020-12-22","","085591",""]
[{"$f":"INDEX(学校種!B:B,MATCH(D9109,学校種!A:A,0))","v":"高等学校"},{"$f":"INDEX(_tmp2!B:B,MATCH(E9109,_tmp2!A:A,0))","v":"茨城県"},"D108220700019","D1","08","2","1","茨城県立結城第一高等学校","結城市結城１０７６","3070001","2020-12-22","","085659",""]
[{"$f":"INDEX(学校種!B:B,MATCH(D9139,学校種!A:A,0))","v":"高等学校"},{"$f":"INDEX(_tmp2!B:B,MATCH(E9139,_tmp2!A:A,0))","v":"茨城県"},"D108222000049","D1","08","2","1","茨城県立茎崎高等学校","つくば市茎崎４４７－８","3001272","2020-12-22","","085633",""]
[{"$f":"INDEX(学校種!B:B,MATCH(D9170,学校種!A:A,0))","v":"高等学校"},{"$f":"INDEX(_tmp2!B:B,MATCH(E9170,_tmp2!A:A,0))","v":"茨城県"},"D108223500015","D1","08","2","1","茨城県立伊奈高等学校","つくばみらい市福田７１１","3002341","2020-12-22","","085697",""]
[{"$f":"INDEX(学校種!B:B,MATCH(D9204,学校種!A:A,0))","v":"高等学校"},{"$f":"INDEX(_tmp2!B:B,MATCH(E9204,_tmp2!A:A,0))","v":"茨城県"},"D108322200018","D1","08","3","1","学校法人清真学園清真学園高等学校","鹿嶋市宮中伏見４４４８－５","3140031","2020-12-22","","085964",""]
[{"$f":"INDEX(学校種!B:B,MATCH(D9231,学校種!A:A,0))","v":"特別支援学校"},{"$f":"INDEX(_tmp2!B:B,MATCH(E9231,_tmp2!A:A,0))","v":"茨城県"},"E108221600024","E1","08","2","1","茨城県立友部東特別支援学校","笠間市鯉淵６５２８－１","3091703","2020-12-22","","089912",""]
[{"$f":"INDEX(学校種!B:B,MATCH(D9242,学校種!A:A,0))","v":"専修学校"},{"$f":"INDEX(_tmp2!B:B,MATCH(E9242,_tmp2!A:A,0))","v":"茨城県"},"H108222000013","H1","08","2","1","茨城県立つくば看護専門学校","つくば市天久保１－１－２","3050005","2020-12-22","","088811",""]
[{"$f":"INDEX(学校種!B:B,MATCH(D9288,学校種!A:A,0))","v":"専修学校"},{"$f":"INDEX(_tmp2!B:B,MATCH(E9288,_tmp2!A:A,0))","v":"茨城県"},"H108321700016","H1","08","3","1","やよいファッション専修学校","取手市取手１丁目１１－１０","3020004","2020-12-22","","088781",""]
[{"$f":"INDEX(学校種!B:B,MATCH(D9307,学校種!A:A,0))","v":"各種学校"},{"$f":"INDEX(_tmp2!B:B,MATCH(E9307,_tmp2!A:A,0))","v":"茨城県"},"H208320100031","H2","08","3","1","水戸駿優予備学校","水戸市三の丸１－１－４２","3100011","2020-12-22","","089223",""]
[{"$f":"INDEX(学校種!B:B,MATCH(D9349,学校種!A:A,0))","v":"幼稚園(幼稚園型認定こども園を含む)"},{"$f":"INDEX(_tmp2!B:B,MATCH(E9349,_tmp2!A:A,0))","v":"栃木県"},"A109310000314","A1","09","3","1","旗川幼稚園","佐野市並木町１１８５","3270002","2020-12-22","","096692",""]
[{"$f":"INDEX(学校種!B:B,MATCH(D9350,学校種!A:A,0))","v":"幼稚園(幼稚園型認定こども園を含む)"},{"$f":"INDEX(_tmp2!B:B,MATCH(E9350,_tmp2!A:A,0))","v":"栃木県"},"A109310000323","A1","09","3","1","ゆたか幼稚園","宇都宮市上大塚町１４４","3291106","2020-12-22","","096699",""]
[{"$f":"INDEX(学校種!B:B,MATCH(D9382,学校種!A:A,0))","v":"幼稚園(幼稚園型認定こども園を含む)"},{"$f":"INDEX(_tmp2!B:B,MATCH(E9382,_tmp2!A:A,0))","v":"栃木県"},"A109310000644","A1","09","3","1","仁神堂幼稚園","鹿沼市仁神堂町３７番地８１","3220003","2020-12-22","","096786",""]
[{"$f":"INDEX(学校種!B:B,MATCH(D9411,学校種!A:A,0))","v":"幼保連携型認定こども園"},{"$f":"INDEX(_tmp2!B:B,MATCH(E9411,_tmp2!A:A,0))","v":"栃木県"},"A209310000082","A2","09","3","1","さかえ認定こども園","宇都宮市兵庫塚3-8-13","3210138","2020-12-22","","09A107",""]
[{"$f":"INDEX(学校種!B:B,MATCH(D9459,学校種!A:A,0))","v":"幼保連携型認定こども園"},{"$f":"INDEX(_tmp2!B:B,MATCH(E9459,_tmp2!A:A,0))","v":"栃木県"},"A209310000563","A2","09","3","1","認定こども園高ノ台幼稚園","真岡市台町2323-1","3214306","2020-12-22","","09A156",""]
[{"$f":"INDEX(学校種!B:B,MATCH(D9472,学校種!A:A,0))","v":"幼保連携型認定こども園"},{"$f":"INDEX(_tmp2!B:B,MATCH(E9472,_tmp2!A:A,0))","v":"栃木県"},"A209310000698","A2","09","3","1","認定こども園犬伏幼稚園","佐野市犬伏下町1779番地1","3270804","2020-12-22","","09A169",""]
[{"$f":"INDEX(学校種!B:B,MATCH(D9502,学校種!A:A,0))","v":"幼保連携型認定こども園"},{"$f":"INDEX(_tmp2!B:B,MATCH(E9502,_tmp2!A:A,0))","v":"栃木県"},"A209310000992","A2","09","3","1","認定こども園にしだ幼稚園","真岡市飯貝１７８","3214405","2020-12-22","","09A199",""]
[{"$f":"INDEX(学校種!B:B,MATCH(D9533,学校種!A:A,0))","v":"小学校"},{"$f":"INDEX(_tmp2!B:B,MATCH(E9533,_tmp2!A:A,0))","v":"栃木県"},"B109210000136","B1","09","2","1","宇都宮市立峰小学校","宇都宮市峰３－２０－１７","3210942","2020-12-22","","090023",""]
[{"$f":"INDEX(学校種!B:B,MATCH(D9567,学校種!A:A,0))","v":"小学校"},{"$f":"INDEX(_tmp2!B:B,MATCH(E9567,_tmp2!A:A,0))","v":"栃木県"},"B109210000476","B1","09","2","1","宇都宮市立宝木小学校","宇都宮市駒生３３６４－２９","3200065","2020-12-22","","090058",""]
[{"$f":"INDEX(学校種!B:B,MATCH(D9594,学校種!A:A,0))","v":"小学校"},{"$f":"INDEX(_tmp2!B:B,MATCH(E9594,_tmp2!A:A,0))","v":"栃木県"},"B109210000742","B1","09","2","1","足利市立小俣小学校","足利市小俣町６７０－１","3260141","2020-12-22","","090103",""]
[{"$f":"INDEX(学校種!B:B,MATCH(D9605,学校種!A:A,0))","v":"小学校"},{"$f":"INDEX(_tmp2!B:B,MATCH(E9605,_tmp2!A:A,0))","v":"栃木県"},"B109210000859","B1","09","2","1","栃木市立大宮南小学校","栃木市藤田町１３５－２","3280026","2020-12-22","","090136",""]
[{"$f":"INDEX(学校種!B:B,MATCH(D9651,学校種!A:A,0))","v":"小学校"},{"$f":"INDEX(_tmp2!B:B,MATCH(E9651,_tmp2!A:A,0))","v":"栃木県"},"B109210001313","B1","09","2","1","日光市立今市第二小学校","日光市瀬川２２７","3211263","2020-12-22","","090252",""]
[{"$f":"INDEX(学校種!B:B,MATCH(D9670,学校種!A:A,0))","v":"小学校"},{"$f":"INDEX(_tmp2!B:B,MATCH(E9670,_tmp2!A:A,0))","v":"栃木県"},"B109210001509","B1","09","2","1","小山市立網戸小学校","小山市網戸１５１４","3290215","2020-12-22","","090288",""]
[{"$f":"INDEX(学校種!B:B,MATCH(D9684,学校種!A:A,0))","v":"小学校"},{"$f":"INDEX(_tmp2!B:B,MATCH(E9684,_tmp2!A:A,0))","v":"栃木県"},"B109210001643","B1","09","2","1","小山市立小山城北小学校","小山市城北５－１８－１","3230029","2020-12-22","","090306",""]
[{"$f":"INDEX(学校種!B:B,MATCH(D9713,学校種!A:A,0))","v":"小学校"},{"$f":"INDEX(_tmp2!B:B,MATCH(E9713,_tmp2!A:A,0))","v":"栃木県"},"B109210001938","B1","09","2","1","矢板市立豊田小学校","矢板市豊田８０２","3292133","2020-12-22","","090385",""]
[{"$f":"INDEX(学校種!B:B,MATCH(D9745,学校種!A:A,0))","v":"小学校"},{"$f":"INDEX(_tmp2!B:B,MATCH(E9745,_tmp2!A:A,0))","v":"栃木県"},"B109210002250","B1","09","2","1","鹿沼市立粕尾小学校","鹿沼市下粕尾１４４４－１","3220421","2020-12-22","","090488",""]
[{"$f":"INDEX(学校種!B:B,MATCH(D9778,学校種!A:A,0))","v":"小学校"},{"$f":"INDEX(_tmp2!B:B,MATCH(E9778,_tmp2!A:A,0))","v":"栃木県"},"B109210002580","B1","09","2","1","野木町立友沼小学校","下都賀郡野木町大字友沼９１６番地","3290101","2020-12-22","","090661",""]
[{"$f":"INDEX(学校種!B:B,MATCH(D9806,学校種!A:A,0))","v":"小学校"},{"$f":"INDEX(_tmp2!B:B,MATCH(E9806,_tmp2!A:A,0))","v":"栃木県"},"B109210002866","B1","09","2","1","塩谷町立大宮小学校","塩谷郡塩谷町大字大宮２１６６","3292332","2020-12-22","","090776",""]
[{"$f":"INDEX(学校種!B:B,MATCH(D9843,学校種!A:A,0))","v":"小学校"},{"$f":"INDEX(_tmp2!B:B,MATCH(E9843,_tmp2!A:A,0))","v":"栃木県"},"B109210003231","B1","09","2","1","那須塩原市立東原小学校","那須塩原市東原４","3250034","2020-12-22","","090977",""]
[{"$f":"INDEX(学校種!B:B,MATCH(D9863,学校種!A:A,0))","v":"小学校"},{"$f":"INDEX(_tmp2!B:B,MATCH(E9863,_tmp2!A:A,0))","v":"栃木県"},"B109210003437","B1","09","2","1","那須町立那須高原小学校","那須郡那須町大字高久丙１４８２","3250302","2020-12-22","","091031",""]
[{"$f":"INDEX(学校種!B:B,MATCH(D9881,学校種!A:A,0))","v":"中学校"},{"$f":"INDEX(_tmp2!B:B,MATCH(E9881,_tmp2!A:A,0))","v":"栃木県"},"C109210000107","C1","09","2","1","宇都宮市立清原中学校","宇都宮市鐺山町２３１","3213235","2020-12-22","","093520",""]
[{"$f":"INDEX(学校種!B:B,MATCH(D9924,学校種!A:A,0))","v":"中学校"},{"$f":"INDEX(_tmp2!B:B,MATCH(E9924,_tmp2!A:A,0))","v":"栃木県"},"C109210000535","C1","09","2","1","鹿沼市立南押原中学校","鹿沼市磯町１０８５","3220536","2020-12-22","","093611",""]
[{"$f":"INDEX(学校種!B:B,MATCH(D9929,学校種!A:A,0))","v":"中学校"},{"$f":"INDEX(_tmp2!B:B,MATCH(E9929,_tmp2!A:A,0))","v":"栃木県"},"C109210000580","C1","09","2","1","日光市立今市中学校","日光市今市１６５９","3211261","2020-12-22","","093631",""]
[{"$f":"INDEX(学校種!B:B,MATCH(D9968,学校種!A:A,0))","v":"中学校"},{"$f":"INDEX(_tmp2!B:B,MATCH(E9968,_tmp2!A:A,0))","v":"栃木県"},"C109210000973","C1","09","2","1","宇都宮市立古里中学校","宇都宮市中岡本町３１３０","3291105","2020-12-22","","093731",""]
[{"$f":"INDEX(学校種!B:B,MATCH(D9986,学校種!A:A,0))","v":"中学校"},{"$f":"INDEX(_tmp2!B:B,MATCH(E9986,_tmp2!A:A,0))","v":"栃木県"},"C109210001151","C1","09","2","1","下野市立国分寺中学校","下野市小金井４丁目１－８","3290414","2020-12-22","","093841",""]
[{"$f":"INDEX(学校種!B:B,MATCH(D10033,学校種!A:A,0))","v":"中学校"},{"$f":"INDEX(_tmp2!B:B,MATCH(E10033,_tmp2!A:A,0))","v":"栃木県"},"C109310000070","C1","09","3","1","幸福の科学学園中学校","那須郡那須町梁瀬４８７－１","3293434","2020-12-22","","094129",""]
[{"$f":"INDEX(学校種!B:B,MATCH(D10047,学校種!A:A,0))","v":"高等学校"},{"$f":"INDEX(_tmp2!B:B,MATCH(E10047,_tmp2!A:A,0))","v":"栃木県"},"D109210000114","D1","09","2","1","栃木県立今市高等学校","日光市千本木４３２","3211277","2020-12-22","","095525",""]
[{"$f":"INDEX(学校種!B:B,MATCH(D10076,学校種!A:A,0))","v":"高等学校"},{"$f":"INDEX(_tmp2!B:B,MATCH(E10076,_tmp2!A:A,0))","v":"栃木県"},"D109210000409","D1","09","2","1","栃木県立真岡工業高等学校","真岡市寺久保１－２－９","3214368","2020-12-22","","095564",""]
[{"$f":"INDEX(学校種!B:B,MATCH(D10108,学校種!A:A,0))","v":"高等学校"},{"$f":"INDEX(_tmp2!B:B,MATCH(E10108,_tmp2!A:A,0))","v":"栃木県"},"D109310000112","D1","09","3","1","矢坂中央高等学校","矢板市扇町２－１５１９","3292161","2020-12-22","","095621",""]
[{"$f":"INDEX(学校種!B:B,MATCH(D10141,学校種!A:A,0))","v":"専修学校"},{"$f":"INDEX(_tmp2!B:B,MATCH(E10141,_tmp2!A:A,0))","v":"栃木県"},"H109310000088","H1","09","3","1","明美和装専門学校","宇都宮市細谷町３７１番地１２号","3200074","2020-12-22","","098659",""]
[{"$f":"INDEX(学校種!B:B,MATCH(D10169,学校種!A:A,0))","v":"専修学校"},{"$f":"INDEX(_tmp2!B:B,MATCH(E10169,_tmp2!A:A,0))","v":"栃木県"},"H109310000364","H1","09","3","1","小山歯科衛生士専門学校","小山市城東１－3－3","3230807","2020-12-22","","098823",""]
[{"$f":"INDEX(学校種!B:B,MATCH(D10179,学校種!A:A,0))","v":"専修学校"},{"$f":"INDEX(_tmp2!B:B,MATCH(E10179,_tmp2!A:A,0))","v":"栃木県"},"H109310000462","H1","09","3","1","大原スポーツ公務員専門学校宇都宮校","宇都宮市東宿郷２－５－４","3210953","2020-12-22","","098856",""]
[{"$f":"INDEX(学校種!B:B,MATCH(D10226,学校種!A:A,0))","v":"幼稚園(幼稚園型認定こども園を含む)"},{"$f":"INDEX(_tmp2!B:B,MATCH(E10226,_tmp2!A:A,0))","v":"群馬県"},"A110210000206","A1","10","2","1","沼田市立薄根幼稚園","沼田市善桂寺町７８","3780064","2020-12-22","","106743",""]
[{"$f":"INDEX(学校種!B:B,MATCH(D10244,学校種!A:A,0))","v":"幼稚園(幼稚園型認定こども園を含む)"},{"$f":"INDEX(_tmp2!B:B,MATCH(E10244,_tmp2!A:A,0))","v":"群馬県"},"A110210000386","A1","10","2","1","高崎市立吉井幼稚園","高崎市吉井町吉井３３８－１","3702132","2020-12-22","","107427",""]
[{"$f":"INDEX(学校種!B:B,MATCH(D10259,学校種!A:A,0))","v":"幼稚園(幼稚園型認定こども園を含む)"},{"$f":"INDEX(_tmp2!B:B,MATCH(E10259,_tmp2!A:A,0))","v":"群馬県"},"A110210000536","A1","10","2","1","嬬恋村立西部幼稚園","吾妻郡嬬恋村大字大笹１７６－１","3771613","2020-12-22","","107756",""]
[{"$f":"INDEX(学校種!B:B,MATCH(D10287,学校種!A:A,0))","v":"幼稚園(幼稚園型認定こども園を含む)"},{"$f":"INDEX(_tmp2!B:B,MATCH(E10287,_tmp2!A:A,0))","v":"群馬県"},"A110310000179","A1","10","3","1","白ばら幼稚園","渋川市渋川７７８番地","3770008","2020-12-22","","108356",""]
[{"$f":"INDEX(学校種!B:B,MATCH(D10320,学校種!A:A,0))","v":"幼稚園(幼稚園型認定こども園を含む)"},{"$f":"INDEX(_tmp2!B:B,MATCH(E10320,_tmp2!A:A,0))","v":"群馬県"},"A110310000507","A1","10","3","1","第二ひかり幼稚園","太田市宝町１４８","3730042","2020-12-22","","108440",""]
[{"$f":"INDEX(学校種!B:B,MATCH(D10352,学校種!A:A,0))","v":"幼保連携型認定こども園"},{"$f":"INDEX(_tmp2!B:B,MATCH(E10352,_tmp2!A:A,0))","v":"群馬県"},"A210310000141","A2","10","3","1","駒形こども園","前橋市駒形町410-3","3792122","2020-12-22","","10A034",""]
[{"$f":"INDEX(学校種!B:B,MATCH(D10381,学校種!A:A,0))","v":"幼保連携型認定こども園"},{"$f":"INDEX(_tmp2!B:B,MATCH(E10381,_tmp2!A:A,0))","v":"群馬県"},"A210310000436","A2","10","3","1","杉の子保育園","高崎市中居町4-24-1","3700852","2020-12-22","","10A066",""]
[{"$f":"INDEX(学校種!B:B,MATCH(D10417,学校種!A:A,0))","v":"幼保連携型認定こども園"},{"$f":"INDEX(_tmp2!B:B,MATCH(E10417,_tmp2!A:A,0))","v":"群馬県"},"A210310000793","A2","10","3","1","認定こども園すぎの子幼稚園","桐生市新里町関550番地1","3760134","2020-12-22","","10A105",""]
[{"$f":"INDEX(学校種!B:B,MATCH(D10438,学校種!A:A,0))","v":"幼保連携型認定こども園"},{"$f":"INDEX(_tmp2!B:B,MATCH(E10438,_tmp2!A:A,0))","v":"群馬県"},"A210310001006","A2","10","3","1","あかいしこども園","伊勢崎市曲輪町２４－１１","3720055","2020-12-22","","10A130",""]
[{"$f":"INDEX(学校種!B:B,MATCH(D10471,学校種!A:A,0))","v":"幼保連携型認定こども園"},{"$f":"INDEX(_tmp2!B:B,MATCH(E10471,_tmp2!A:A,0))","v":"群馬県"},"A210310001337","A2","10","3","1","平井こども園","藤岡市東平井1088-1","3750043","2020-12-22","","10A226",""]
[{"$f":"INDEX(学校種!B:B,MATCH(D10504,学校種!A:A,0))","v":"幼保連携型認定こども園"},{"$f":"INDEX(_tmp2!B:B,MATCH(E10504,_tmp2!A:A,0))","v":"群馬県"},"A210310001667","A2","10","3","1","みよし幼稚園","邑楽郡大泉町吉田９７４－３","3700523","2020-12-22","","10A932",""]
[{"$f":"INDEX(学校種!B:B,MATCH(D10532,学校種!A:A,0))","v":"小学校"},{"$f":"INDEX(_tmp2!B:B,MATCH(E10532,_tmp2!A:A,0))","v":"群馬県"},"B110210000099","B1","10","2","1","前橋市立上川淵小学校","前橋市朝倉町４６６番地","3710811","2020-12-22","","100610",""]
[{"$f":"INDEX(学校種!B:B,MATCH(D10542,学校種!A:A,0))","v":"小学校"},{"$f":"INDEX(_tmp2!B:B,MATCH(E10542,_tmp2!A:A,0))","v":"群馬県"},"B110210000197","B1","10","2","1","前橋市立清里小学校","前橋市青梨子町４４６","3703573","2020-12-22","","100622",""]
[{"$f":"INDEX(学校種!B:B,MATCH(D10561,学校種!A:A,0))","v":"小学校"},{"$f":"INDEX(_tmp2!B:B,MATCH(E10561,_tmp2!A:A,0))","v":"群馬県"},"B110210000384","B1","10","2","1","高崎市立南小学校","高崎市八島町７０－１","3700849","2020-12-22","","100643",""]
[{"$f":"INDEX(学校種!B:B,MATCH(D10607,学校種!A:A,0))","v":"小学校"},{"$f":"INDEX(_tmp2!B:B,MATCH(E10607,_tmp2!A:A,0))","v":"群馬県"},"B110210000847","B1","10","2","1","伊勢崎市立茂呂小学校","伊勢崎市茂呂町２－２１６９－１","3720034","2020-12-22","","100704",""]
[{"$f":"INDEX(学校種!B:B,MATCH(D10622,学校種!A:A,0))","v":"小学校"},{"$f":"INDEX(_tmp2!B:B,MATCH(E10622,_tmp2!A:A,0))","v":"群馬県"},"B110210000990","B1","10","2","9","太田市立太田東小学校","太田市東本町５３－３０","3730026","2020-12-22","2021-05-27","100726","C210210000014"]
[{"$f":"INDEX(学校種!B:B,MATCH(D10650,学校種!A:A,0))","v":"小学校"},{"$f":"INDEX(_tmp2!B:B,MATCH(E10650,_tmp2!A:A,0))","v":"群馬県"},"B110210001276","B1","10","2","1","館林市立第七小学校","館林市上三林町５９９番地","3740046","2020-12-22","","100767",""]
[{"$f":"INDEX(学校種!B:B,MATCH(D10683,学校種!A:A,0))","v":"小学校"},{"$f":"INDEX(_tmp2!B:B,MATCH(E10683,_tmp2!A:A,0))","v":"群馬県"},"B110210001604","B1","10","2","1","安中市立碓東小学校","安中市岩井６２","3790112","2020-12-22","","100846",""]
[{"$f":"INDEX(学校種!B:B,MATCH(D10715,学校種!A:A,0))","v":"小学校"},{"$f":"INDEX(_tmp2!B:B,MATCH(E10715,_tmp2!A:A,0))","v":"群馬県"},"B110210001926","B1","10","2","1","高崎市立箕輪小学校","高崎市箕郷町西明屋１９６－１","3703105","2020-12-22","","101221",""]
[{"$f":"INDEX(学校種!B:B,MATCH(D10744,学校種!A:A,0))","v":"小学校"},{"$f":"INDEX(_tmp2!B:B,MATCH(E10744,_tmp2!A:A,0))","v":"群馬県"},"B110210002211","B1","10","2","1","上野村立上野小学校","多野郡上野村新羽３２","3701611","2020-12-22","","101454",""]
[{"$f":"INDEX(学校種!B:B,MATCH(D10780,学校種!A:A,0))","v":"小学校"},{"$f":"INDEX(_tmp2!B:B,MATCH(E10780,_tmp2!A:A,0))","v":"群馬県"},"B110210002578","B1","10","2","1","みなかみ町立藤原小学校","利根郡みなかみ町藤原３４９１","3791721","2020-12-22","","101853",""]
[{"$f":"INDEX(学校種!B:B,MATCH(D10801,学校種!A:A,0))","v":"小学校"},{"$f":"INDEX(_tmp2!B:B,MATCH(E10801,_tmp2!A:A,0))","v":"群馬県"},"B110210002783","B1","10","2","1","太田市立尾島小学校","太田市亀岡町甲６１－２","3700411","2020-12-22","","102001",""]
[{"$f":"INDEX(学校種!B:B,MATCH(D10818,学校種!A:A,0))","v":"小学校"},{"$f":"INDEX(_tmp2!B:B,MATCH(E10818,_tmp2!A:A,0))","v":"群馬県"},"B110210002952","B1","10","2","1","千代田町立東小学校","邑楽郡千代田町上五箇３１６","3700726","2020-12-22","","102221",""]
[{"$f":"INDEX(学校種!B:B,MATCH(D10862,学校種!A:A,0))","v":"中学校"},{"$f":"INDEX(_tmp2!B:B,MATCH(E10862,_tmp2!A:A,0))","v":"群馬県"},"C110210000300","C1","10","2","1","高崎市立大類中学校","高崎市南大類町１４５５","3700036","2020-12-22","","103655",""]
[{"$f":"INDEX(学校種!B:B,MATCH(D10888,学校種!A:A,0))","v":"中学校"},{"$f":"INDEX(_tmp2!B:B,MATCH(E10888,_tmp2!A:A,0))","v":"群馬県"},"C110210000569","C1","10","2","1","太田市立毛里田中学校","太田市矢田堀町２４２－２","3730016","2020-12-22","","103728",""]
[{"$f":"INDEX(学校種!B:B,MATCH(D10895,学校種!A:A,0))","v":"中学校"},{"$f":"INDEX(_tmp2!B:B,MATCH(E10895,_tmp2!A:A,0))","v":"群馬県"},"C110210000630","C1","10","2","1","沼田市立池田中学校","沼田市発知新田町５３３番地","3780073","2020-12-22","","103744",""]
[{"$f":"INDEX(学校種!B:B,MATCH(D10926,学校種!A:A,0))","v":"中学校"},{"$f":"INDEX(_tmp2!B:B,MATCH(E10926,_tmp2!A:A,0))","v":"群馬県"},"C110210000943","C1","10","2","1","桐生市立新里中学校","桐生市新里町山上８２７番地","3760125","2020-12-22","","104161",""]
[{"$f":"INDEX(学校種!B:B,MATCH(D10956,学校種!A:A,0))","v":"中学校"},{"$f":"INDEX(_tmp2!B:B,MATCH(E10956,_tmp2!A:A,0))","v":"群馬県"},"C110210001247","C1","10","2","1","嬬恋村立嬬恋中学校","吾妻郡嬬恋村大字大笹１６５４－２","3771613","2020-12-22","","104755",""]
[{"$f":"INDEX(学校種!B:B,MATCH(D10985,学校種!A:A,0))","v":"中学校"},{"$f":"INDEX(_tmp2!B:B,MATCH(E10985,_tmp2!A:A,0))","v":"群馬県"},"C110210001531","C1","10","2","1","みどり市立大間々東中学校","みどり市大間々町大間々１８２９－１","3760101","2020-12-22","","105102",""]
[{"$f":"INDEX(学校種!B:B,MATCH(D11013,学校種!A:A,0))","v":"高等学校"},{"$f":"INDEX(_tmp2!B:B,MATCH(E11013,_tmp2!A:A,0))","v":"群馬県"},"D110210000120","D1","10","2","1","群馬県立松井田高等学校","安中市松井田町松井田８０３－１","3790222","2020-12-22","","105621",""]
[{"$f":"INDEX(学校種!B:B,MATCH(D11046,学校種!A:A,0))","v":"高等学校"},{"$f":"INDEX(_tmp2!B:B,MATCH(E11046,_tmp2!A:A,0))","v":"群馬県"},"D110210000451","D1","10","2","1","群馬県立富岡実業高等学校","富岡市富岡４５１","3702316","2020-12-22","","105704",""]
[{"$f":"INDEX(学校種!B:B,MATCH(D11078,学校種!A:A,0))","v":"高等学校"},{"$f":"INDEX(_tmp2!B:B,MATCH(E11078,_tmp2!A:A,0))","v":"群馬県"},"D110310000100","D1","10","3","1","高崎健康福祉大学高崎高等学校","高崎市中大類町５３１","3700033","2020-12-22","","106313",""]
[{"$f":"INDEX(学校種!B:B,MATCH(D11107,学校種!A:A,0))","v":"特別支援学校"},{"$f":"INDEX(_tmp2!B:B,MATCH(E11107,_tmp2!A:A,0))","v":"群馬県"},"E110210000234","E1","10","2","1","群馬県立伊勢崎特別支援学校","伊勢崎市粕川町１００３","3720023","2020-12-22","","109996",""]
[{"$f":"INDEX(学校種!B:B,MATCH(D11116,学校種!A:A,0))","v":"専修学校"},{"$f":"INDEX(_tmp2!B:B,MATCH(E11116,_tmp2!A:A,0))","v":"群馬県"},"H110310000021","H1","10","3","1","専門学校群馬自動車大学校","伊勢崎市赤堀今井町１－５８１","3792215","2020-12-22","","108526",""]
[{"$f":"INDEX(学校種!B:B,MATCH(D11164,学校種!A:A,0))","v":"専修学校"},{"$f":"INDEX(_tmp2!B:B,MATCH(E11164,_tmp2!A:A,0))","v":"群馬県"},"H110310000502","H1","10","3","1","桐生市医師会立桐生高等看護学院","桐生市元宿町１８番地２","3760027","2020-12-22","","108709",""]
[{"$f":"INDEX(学校種!B:B,MATCH(D11181,学校種!A:A,0))","v":"各種学校"},{"$f":"INDEX(_tmp2!B:B,MATCH(E11181,_tmp2!A:A,0))","v":"群馬県"},"H210310000011","H2","10","3","1","駒形珠算学校","前橋市駒形町８１６","3792122","2020-12-22","","109170",""]
[{"$f":"INDEX(学校種!B:B,MATCH(D11197,学校種!A:A,0))","v":"各種学校"},{"$f":"INDEX(_tmp2!B:B,MATCH(E11197,_tmp2!A:A,0))","v":"群馬県"},"H210310000173","H2","10","3","1","富岡市甘楽郡医師会立富岡准看護学校","富岡市七日市５５３－１","3702343","2020-12-22","","109477",""]
[{"$f":"INDEX(学校種!B:B,MATCH(D11224,学校種!A:A,0))","v":"幼稚園(幼稚園型認定こども園を含む)"},{"$f":"INDEX(_tmp2!B:B,MATCH(E11224,_tmp2!A:A,0))","v":"埼玉県"},"A111221800026","A1","11","2","1","深谷市立深谷西幼稚園","深谷市栄町１４－１９","3660827","2020-12-22","","116614",""]
[{"$f":"INDEX(学校種!B:B,MATCH(D11258,学校種!A:A,0))","v":"幼稚園(幼稚園型認定こども園を含む)"},{"$f":"INDEX(_tmp2!B:B,MATCH(E11258,_tmp2!A:A,0))","v":"埼玉県"},"A111310200050","A1","11","3","1","宮原幼稚園","さいたま市北区宮原町２丁目１０２番地７","3310812","2020-12-22","","117066",""]
[{"$f":"INDEX(学校種!B:B,MATCH(D11289,学校種!A:A,0))","v":"幼稚園(幼稚園型認定こども園を含む)"},{"$f":"INDEX(_tmp2!B:B,MATCH(E11289,_tmp2!A:A,0))","v":"埼玉県"},"A111310500057","A1","11","3","1","東京成徳短期大学附属第二幼稚園","さいたま市中央区上落合１－９－４","3380001","2020-12-22","","117528",""]
[{"$f":"INDEX(学校種!B:B,MATCH(D11319,学校種!A:A,0))","v":"幼稚園(幼稚園型認定こども園を含む)"},{"$f":"INDEX(_tmp2!B:B,MATCH(E11319,_tmp2!A:A,0))","v":"埼玉県"},"A111310800081","A1","11","3","1","浦和みひかり幼稚園","さいたま市南区内谷３－７－２１","3360034","2020-12-22","","117020",""]
[{"$f":"INDEX(学校種!B:B,MATCH(D11354,学校種!A:A,0))","v":"幼稚園(幼稚園型認定こども園を含む)"},{"$f":"INDEX(_tmp2!B:B,MATCH(E11354,_tmp2!A:A,0))","v":"埼玉県"},"A111320100069","A1","11","3","1","ルンビニ幼稚園","川越市宮元町１－１４","3500838","2020-12-22","","116810",""]
[{"$f":"INDEX(学校種!B:B,MATCH(D11376,学校種!A:A,0))","v":"幼稚園(幼稚園型認定こども園を含む)"},{"$f":"INDEX(_tmp2!B:B,MATCH(E11376,_tmp2!A:A,0))","v":"埼玉県"},"A111320100283","A1","11","3","1","川鶴ひばり幼稚園","川越市川鶴３の１０","3501176","2020-12-22","","116840",""]
[{"$f":"INDEX(学校種!B:B,MATCH(D11392,学校種!A:A,0))","v":"幼稚園(幼稚園型認定こども園を含む)"},{"$f":"INDEX(_tmp2!B:B,MATCH(E11392,_tmp2!A:A,0))","v":"埼玉県"},"A111320300067","A1","11","3","1","清月幼稚園","川口市芝５２２２","3330866","2020-12-22","","116928",""]
[{"$f":"INDEX(学校種!B:B,MATCH(D11437,学校種!A:A,0))","v":"幼稚園(幼稚園型認定こども園を含む)"},{"$f":"INDEX(_tmp2!B:B,MATCH(E11437,_tmp2!A:A,0))","v":"埼玉県"},"A111320800026","A1","11","3","1","所沢富士幼稚園","所沢市元町１０－１６","3591121","2020-12-22","","117162",""]
[{"$f":"INDEX(学校種!B:B,MATCH(D11457,学校種!A:A,0))","v":"幼稚園(幼稚園型認定こども園を含む)"},{"$f":"INDEX(_tmp2!B:B,MATCH(E11457,_tmp2!A:A,0))","v":"埼玉県"},"A111320900034","A1","11","3","1","大東幼稚園","飯能市永田５３０","3570062","2020-12-22","","117194",""]
[{"$f":"INDEX(学校種!B:B,MATCH(D11470,学校種!A:A,0))","v":"幼稚園(幼稚園型認定こども園を含む)"},{"$f":"INDEX(_tmp2!B:B,MATCH(E11470,_tmp2!A:A,0))","v":"埼玉県"},"A111321200075","A1","11","3","1","新明幼稚園","東松山市新宿町２３番地７","3550032","2020-12-22","","117288",""]
[{"$f":"INDEX(学校種!B:B,MATCH(D11500,学校種!A:A,0))","v":"幼稚園(幼稚園型認定こども園を含む)"},{"$f":"INDEX(_tmp2!B:B,MATCH(E11500,_tmp2!A:A,0))","v":"埼玉県"},"A111321700016","A1","11","3","1","英和幼稚園","鴻巣市東１－１－２７","3650039","2020-12-22","","117431",""]
[{"$f":"INDEX(学校種!B:B,MATCH(D11531,学校種!A:A,0))","v":"幼稚園(幼稚園型認定こども園を含む)"},{"$f":"INDEX(_tmp2!B:B,MATCH(E11531,_tmp2!A:A,0))","v":"埼玉県"},"A111322100083","A1","11","3","1","草加藤幼稚園","草加市松原４丁目４－２","3400041","2020-12-22","","117561",""]
[{"$f":"INDEX(学校種!B:B,MATCH(D11560,学校種!A:A,0))","v":"幼稚園(幼稚園型認定こども園を含む)"},{"$f":"INDEX(_tmp2!B:B,MATCH(E11560,_tmp2!A:A,0))","v":"埼玉県"},"A111322300018","A1","11","3","1","わらび幼稚園","蕨市南町２－１２－２","3350003","2020-12-22","","117611",""]
[{"$f":"INDEX(学校種!B:B,MATCH(D11587,学校種!A:A,0))","v":"幼稚園(幼稚園型認定こども園を含む)"},{"$f":"INDEX(_tmp2!B:B,MATCH(E11587,_tmp2!A:A,0))","v":"埼玉県"},"A111322700069","A1","11","3","1","朝霞花の木幼稚園","朝霞市田島１丁目１２番１号","3510032","2020-12-22","","117736",""]
[{"$f":"INDEX(学校種!B:B,MATCH(D11621,学校種!A:A,0))","v":"幼稚園(幼稚園型認定こども園を含む)"},{"$f":"INDEX(_tmp2!B:B,MATCH(E11621,_tmp2!A:A,0))","v":"埼玉県"},"A111323200062","A1","11","3","1","銀の笛幼稚園","久喜市上内５７２","3400211","2020-12-22","","118222",""]
[{"$f":"INDEX(学校種!B:B,MATCH(D11652,学校種!A:A,0))","v":"幼稚園(幼稚園型認定こども園を含む)"},{"$f":"INDEX(_tmp2!B:B,MATCH(E11652,_tmp2!A:A,0))","v":"埼玉県"},"A111323800039","A1","11","3","1","大山幼稚園","蓮田市閏戸４０３４","3490133","2020-12-22","","118165",""]
[{"$f":"INDEX(学校種!B:B,MATCH(D11682,学校種!A:A,0))","v":"幼稚園(幼稚園型認定こども園を含む)"},{"$f":"INDEX(_tmp2!B:B,MATCH(E11682,_tmp2!A:A,0))","v":"埼玉県"},"A111324500021","A1","11","3","1","新双葉幼稚園","ふじみ野市福岡武蔵野１０－２１","3560037","2020-12-22","","117854",""]
[{"$f":"INDEX(学校種!B:B,MATCH(D11690,学校種!A:A,0))","v":"幼稚園(幼稚園型認定こども園を含む)"},{"$f":"INDEX(_tmp2!B:B,MATCH(E11690,_tmp2!A:A,0))","v":"埼玉県"},"A111324600020","A1","11","3","1","菁莪幼稚園","白岡市下野田８３１－２","3490223","2020-12-22","","118162",""]
[{"$f":"INDEX(学校種!B:B,MATCH(D11739,学校種!A:A,0))","v":"幼保連携型認定こども園"},{"$f":"INDEX(_tmp2!B:B,MATCH(E11739,_tmp2!A:A,0))","v":"埼玉県"},"A211320300011","A2","11","3","1","川口ふたばこども園","川口市柳根町２－１１","3330864","2020-12-22","","11A177",""]
[{"$f":"INDEX(学校種!B:B,MATCH(D11755,学校種!A:A,0))","v":"幼保連携型認定こども園"},{"$f":"INDEX(_tmp2!B:B,MATCH(E11755,_tmp2!A:A,0))","v":"埼玉県"},"A211320800070","A2","11","3","1","桑の実こども園","所沢市東狭山ヶ丘６－２８２３－１２","3591106","2020-12-22","","11A514",""]
[{"$f":"INDEX(学校種!B:B,MATCH(D11772,学校種!A:A,0))","v":"幼保連携型認定こども園"},{"$f":"INDEX(_tmp2!B:B,MATCH(E11772,_tmp2!A:A,0))","v":"埼玉県"},"A211321500044","A2","11","3","1","いるまこども園","狭山市北入曽１２９４－１","3501315","2020-12-22","","11A519",""]
[{"$f":"INDEX(学校種!B:B,MATCH(D11825,学校種!A:A,0))","v":"幼保連携型認定こども園"},{"$f":"INDEX(_tmp2!B:B,MATCH(E11825,_tmp2!A:A,0))","v":"埼玉県"},"A211324200023","A2","11","3","1","日高ふじみだい認定こども園","日高市大字新堀１５０番地３","3501243","2020-12-22","","11A183",""]
[{"$f":"INDEX(学校種!B:B,MATCH(D11833,学校種!A:A,0))","v":"幼保連携型認定こども園"},{"$f":"INDEX(_tmp2!B:B,MATCH(E11833,_tmp2!A:A,0))","v":"埼玉県"},"A211346500023","A2","11","3","1","こどものもり","北葛飾郡松伏町田中１－７－３１","3430117","2020-12-22","","11A502",""]
[{"$f":"INDEX(学校種!B:B,MATCH(D11863,学校種!A:A,0))","v":"小学校"},{"$f":"INDEX(_tmp2!B:B,MATCH(E11863,_tmp2!A:A,0))","v":"埼玉県"},"B111210400030","B1","11","2","1","さいたま市立片柳小学校","さいたま市見沼区大字東新井２４４－１","3370032","2020-12-22","","110230",""]
[{"$f":"INDEX(学校種!B:B,MATCH(D11894,学校種!A:A,0))","v":"小学校"},{"$f":"INDEX(_tmp2!B:B,MATCH(E11894,_tmp2!A:A,0))","v":"埼玉県"},"B111210700073","B1","11","2","1","さいたま市立仲町小学校","さいたま市浦和区常盤８－１８－４","3300061","2020-12-22","","110172",""]
[{"$f":"INDEX(学校種!B:B,MATCH(D11928,学校種!A:A,0))","v":"小学校"},{"$f":"INDEX(_tmp2!B:B,MATCH(E11928,_tmp2!A:A,0))","v":"埼玉県"},"B111211000041","B1","11","2","1","さいたま市立柏崎小学校","さいたま市岩槻区大字柏崎７６２","3390045","2020-12-22","","110614",""]
[{"$f":"INDEX(学校種!B:B,MATCH(D11951,学校種!A:A,0))","v":"小学校"},{"$f":"INDEX(_tmp2!B:B,MATCH(E11951,_tmp2!A:A,0))","v":"埼玉県"},"B111220100130","B1","11","2","1","川越市立大東西小学校","川越市山城３２－５","3501169","2020-12-22","","110023",""]
[{"$f":"INDEX(学校種!B:B,MATCH(D11966,学校種!A:A,0))","v":"小学校"},{"$f":"INDEX(_tmp2!B:B,MATCH(E11966,_tmp2!A:A,0))","v":"埼玉県"},"B111220100283","B1","11","2","1","川越市立寺尾小学校","川越市大字寺尾９７９－２","3501141","2020-12-22","","110038",""]
[{"$f":"INDEX(学校種!B:B,MATCH(D12012,学校種!A:A,0))","v":"小学校"},{"$f":"INDEX(_tmp2!B:B,MATCH(E12012,_tmp2!A:A,0))","v":"埼玉県"},"B111220300129","B1","11","2","1","川口市立領家小学校","川口市領家３丁目１４番１号","3320004","2020-12-22","","110122",""]
[{"$f":"INDEX(学校種!B:B,MATCH(D12031,学校種!A:A,0))","v":"小学校"},{"$f":"INDEX(_tmp2!B:B,MATCH(E12031,_tmp2!A:A,0))","v":"埼玉県"},"B111220300316","B1","11","2","1","川口市立上青木南小学校","川口市上青木１丁目６番４３号","3330844","2020-12-22","","110142",""]
[{"$f":"INDEX(学校種!B:B,MATCH(D12073,学校種!A:A,0))","v":"小学校"},{"$f":"INDEX(_tmp2!B:B,MATCH(E12073,_tmp2!A:A,0))","v":"埼玉県"},"B111220700054","B1","11","2","1","秩父市立尾田蒔小学校","秩父市寺尾２３７５番地","3680056","2020-12-22","","110315",""]
[{"$f":"INDEX(学校種!B:B,MATCH(D12102,学校種!A:A,0))","v":"小学校"},{"$f":"INDEX(_tmp2!B:B,MATCH(E12102,_tmp2!A:A,0))","v":"埼玉県"},"B111220800213","B1","11","2","1","所沢市立上新井小学校","所沢市上新井５－３６－７","3591142","2020-12-22","","110381",""]
[{"$f":"INDEX(学校種!B:B,MATCH(D12118,学校種!A:A,0))","v":"小学校"},{"$f":"INDEX(_tmp2!B:B,MATCH(E12118,_tmp2!A:A,0))","v":"埼玉県"},"B111220900052","B1","11","2","1","飯能市立精明小学校","飯能市大字小久保５４－２","3570015","2020-12-22","","110415",""]
[{"$f":"INDEX(学校種!B:B,MATCH(D12135,学校種!A:A,0))","v":"小学校"},{"$f":"INDEX(_tmp2!B:B,MATCH(E12135,_tmp2!A:A,0))","v":"埼玉県"},"B111221000102","B1","11","2","1","加須市立花崎北小学校","加須市花崎北３－１","3470016","2020-12-22","","110470",""]
[{"$f":"INDEX(学校種!B:B,MATCH(D12161,学校種!A:A,0))","v":"小学校"},{"$f":"INDEX(_tmp2!B:B,MATCH(E12161,_tmp2!A:A,0))","v":"埼玉県"},"B111221200011","B1","11","2","1","東松山市立松山第一小学校","東松山市松葉町１－１－１６","3550017","2020-12-22","","110561",""]
[{"$f":"INDEX(学校種!B:B,MATCH(D12196,学校種!A:A,0))","v":"小学校"},{"$f":"INDEX(_tmp2!B:B,MATCH(E12196,_tmp2!A:A,0))","v":"埼玉県"},"B111221500036","B1","11","2","1","狭山市立奥富小学校","狭山市大字下奥富１０１９番地","3501332","2020-12-22","","110714",""]
[{"$f":"INDEX(学校種!B:B,MATCH(D12226,学校種!A:A,0))","v":"小学校"},{"$f":"INDEX(_tmp2!B:B,MATCH(E12226,_tmp2!A:A,0))","v":"埼玉県"},"B111221700070","B1","11","2","1","鴻巣市立常光小学校","鴻巣市下谷３６９","3650025","2020-12-22","","110817",""]
[{"$f":"INDEX(学校種!B:B,MATCH(D12257,学校種!A:A,0))","v":"小学校"},{"$f":"INDEX(_tmp2!B:B,MATCH(E12257,_tmp2!A:A,0))","v":"埼玉県"},"B111221800195","B1","11","2","1","深谷市立花園小学校","深谷市小前田１４６３－１","3691246","2020-12-22","","112401",""]
[{"$f":"INDEX(学校種!B:B,MATCH(D12291,学校種!A:A,0))","v":"小学校"},{"$f":"INDEX(_tmp2!B:B,MATCH(E12291,_tmp2!A:A,0))","v":"埼玉県"},"B111222100127","B1","11","2","1","草加市立新栄小学校","草加市新栄４－９５９","3400056","2020-12-22","","111024",""]
[{"$f":"INDEX(学校種!B:B,MATCH(D12314,学校種!A:A,0))","v":"小学校"},{"$f":"INDEX(_tmp2!B:B,MATCH(E12314,_tmp2!A:A,0))","v":"埼玉県"},"B111222200144","B1","11","2","1","越谷市立東越谷小学校","越谷市東越谷６丁目１０４０","3430023","2020-12-22","","111074",""]
[{"$f":"INDEX(学校種!B:B,MATCH(D12329,学校種!A:A,0))","v":"小学校"},{"$f":"INDEX(_tmp2!B:B,MATCH(E12329,_tmp2!A:A,0))","v":"埼玉県"},"B111222200297","B1","11","2","1","越谷市立花田小学校","越谷市花田４－１４－１","3430015","2020-12-22","","111089",""]
[{"$f":"INDEX(学校種!B:B,MATCH(D12375,学校種!A:A,0))","v":"小学校"},{"$f":"INDEX(_tmp2!B:B,MATCH(E12375,_tmp2!A:A,0))","v":"埼玉県"},"B111222700103","B1","11","2","1","朝霞市立朝霞第十小学校","朝霞市溝沼８２８－１","3510023","2020-12-22","","111320",""]
[{"$f":"INDEX(学校種!B:B,MATCH(D12394,学校種!A:A,0))","v":"小学校"},{"$f":"INDEX(_tmp2!B:B,MATCH(E12394,_tmp2!A:A,0))","v":"埼玉県"},"B111223000028","B1","11","2","1","新座市立西堀小学校","新座市西堀２－１８－３","3520031","2020-12-22","","111602",""]
[{"$f":"INDEX(学校種!B:B,MATCH(D12408,学校種!A:A,0))","v":"小学校"},{"$f":"INDEX(_tmp2!B:B,MATCH(E12408,_tmp2!A:A,0))","v":"埼玉県"},"B111223000162","B1","11","2","1","新座市立陣屋小学校","新座市野火止１－１８－２０","3520011","2020-12-22","","111618",""]
[{"$f":"INDEX(学校種!B:B,MATCH(D12437,学校種!A:A,0))","v":"小学校"},{"$f":"INDEX(_tmp2!B:B,MATCH(E12437,_tmp2!A:A,0))","v":"埼玉県"},"B111223200213","B1","11","2","1","久喜市立上内小学校","久喜市上内７１６","3400211","2020-12-22","","112683",""]
[{"$f":"INDEX(学校種!B:B,MATCH(D12469,学校種!A:A,0))","v":"小学校"},{"$f":"INDEX(_tmp2!B:B,MATCH(E12469,_tmp2!A:A,0))","v":"埼玉県"},"B111223500112","B1","11","2","1","富士見市立つるせ台小学校","富士見市鶴瀬西２－９－１","3540026","2020-12-22","","111694",""]
[{"$f":"INDEX(学校種!B:B,MATCH(D12502,学校種!A:A,0))","v":"小学校"},{"$f":"INDEX(_tmp2!B:B,MATCH(E12502,_tmp2!A:A,0))","v":"埼玉県"},"B111223900065","B1","11","2","1","坂戸市立城山小学校","坂戸市多和目７８８","3500246","2020-12-22","","111726",""]
[{"$f":"INDEX(学校種!B:B,MATCH(D12526,学校種!A:A,0))","v":"小学校"},{"$f":"INDEX(_tmp2!B:B,MATCH(E12526,_tmp2!A:A,0))","v":"埼玉県"},"B111224200015","B1","11","2","1","日高市立高麗小学校","日高市梅原５－１","3501246","2020-12-22","","111801",""]
[{"$f":"INDEX(学校種!B:B,MATCH(D12567,学校種!A:A,0))","v":"小学校"},{"$f":"INDEX(_tmp2!B:B,MATCH(E12567,_tmp2!A:A,0))","v":"埼玉県"},"B111232400052","B1","11","2","1","三芳町立竹間沢小学校","入間郡三芳町竹間沢５５０－１","3540043","2020-12-22","","111706",""]
[{"$f":"INDEX(学校種!B:B,MATCH(D12587,学校種!A:A,0))","v":"小学校"},{"$f":"INDEX(_tmp2!B:B,MATCH(E12587,_tmp2!A:A,0))","v":"埼玉県"},"B111234600029","B1","11","2","1","川島町立伊草小学校","比企郡川島町伊草２３８－１","3500158","2020-12-22","","111942",""]
[{"$f":"INDEX(学校種!B:B,MATCH(D12620,学校種!A:A,0))","v":"小学校"},{"$f":"INDEX(_tmp2!B:B,MATCH(E12620,_tmp2!A:A,0))","v":"埼玉県"},"B111238500012","B1","11","2","1","上里町立神保原小学校","児玉郡上里町神保原町８１４","3690305","2020-12-22","","112261",""]
[{"$f":"INDEX(学校種!B:B,MATCH(D12627,学校種!A:A,0))","v":"小学校"},{"$f":"INDEX(_tmp2!B:B,MATCH(E12627,_tmp2!A:A,0))","v":"埼玉県"},"B111240800033","B1","11","2","1","寄居町立用土小学校","大里郡寄居町用土２８５９","3691201","2020-12-22","","112424",""]
[{"$f":"INDEX(学校種!B:B,MATCH(D12677,学校種!A:A,0))","v":"中学校"},{"$f":"INDEX(_tmp2!B:B,MATCH(E12677,_tmp2!A:A,0))","v":"埼玉県"},"C111210500037","C1","11","2","1","さいたま市立与野南中学校","さいたま市中央区大戸２－６－２５","3380012","2020-12-22","","114083",""]
[{"$f":"INDEX(学校種!B:B,MATCH(D12692,学校種!A:A,0))","v":"中学校"},{"$f":"INDEX(_tmp2!B:B,MATCH(E12692,_tmp2!A:A,0))","v":"埼玉県"},"C111210800052","C1","11","2","1","さいたま市立大谷口中学校","さいたま市南区広ヶ谷戸２１","3360041","2020-12-22","","113616",""]
[{"$f":"INDEX(学校種!B:B,MATCH(D12710,学校種!A:A,0))","v":"中学校"},{"$f":"INDEX(_tmp2!B:B,MATCH(E12710,_tmp2!A:A,0))","v":"埼玉県"},"C111220100030","C1","11","2","1","川越市立富士見中学校","川越市東田町１７－１","3501114","2020-12-22","","113513",""]
[{"$f":"INDEX(学校種!B:B,MATCH(D12762,学校種!A:A,0))","v":"中学校"},{"$f":"INDEX(_tmp2!B:B,MATCH(E12762,_tmp2!A:A,0))","v":"埼玉県"},"C111220300163","C1","11","2","1","川口市立榛松中学校","川口市榛松２－１０－１","3340062","2020-12-22","","113586",""]
[{"$f":"INDEX(学校種!B:B,MATCH(D12771,学校種!A:A,0))","v":"中学校"},{"$f":"INDEX(_tmp2!B:B,MATCH(E12771,_tmp2!A:A,0))","v":"埼玉県"},"C111220300252","C1","11","2","1","川口市立鳩ヶ谷中学校","川口市鳩ヶ谷本町４－８－５","3340002","2020-12-22","","114261",""]
[{"$f":"INDEX(学校種!B:B,MATCH(D12800,学校種!A:A,0))","v":"中学校"},{"$f":"INDEX(_tmp2!B:B,MATCH(E12800,_tmp2!A:A,0))","v":"埼玉県"},"C111220800104","C1","11","2","1","所沢市立美原中学校","所沢市並木５－２","3590042","2020-12-22","","113730",""]
[{"$f":"INDEX(学校種!B:B,MATCH(D12832,学校種!A:A,0))","v":"中学校"},{"$f":"INDEX(_tmp2!B:B,MATCH(E12832,_tmp2!A:A,0))","v":"埼玉県"},"C111221400026","C1","11","2","1","春日部市立東中学校","春日部市樋堀１８１－１","3440005","2020-12-22","","113902",""]
[{"$f":"INDEX(学校種!B:B,MATCH(D12865,学校種!A:A,0))","v":"中学校"},{"$f":"INDEX(_tmp2!B:B,MATCH(E12865,_tmp2!A:A,0))","v":"埼玉県"},"C111221800059","C1","11","2","1","深谷市立深谷中学校","深谷市田谷４５－２","3660821","2020-12-22","","114027",""]
[{"$f":"INDEX(学校種!B:B,MATCH(D12889,学校種!A:A,0))","v":"中学校"},{"$f":"INDEX(_tmp2!B:B,MATCH(E12889,_tmp2!A:A,0))","v":"埼玉県"},"C111222100072","C1","11","2","1","草加市立花栗中学校","草加市花栗４－１５－１２","3400044","2020-12-22","","114117",""]
[{"$f":"INDEX(学校種!B:B,MATCH(D12903,学校種!A:A,0))","v":"中学校"},{"$f":"INDEX(_tmp2!B:B,MATCH(E12903,_tmp2!A:A,0))","v":"埼玉県"},"C111222200106","C1","11","2","1","越谷市立平方中学校","越谷市平方２１１５","3430002","2020-12-22","","114150",""]
[{"$f":"INDEX(学校種!B:B,MATCH(D12950,学校種!A:A,0))","v":"中学校"},{"$f":"INDEX(_tmp2!B:B,MATCH(E12950,_tmp2!A:A,0))","v":"埼玉県"},"C111223100043","C1","11","2","1","桶川市立加納中学校","桶川市加納１２７９","3630001","2020-12-22","","114416",""]
[{"$f":"INDEX(学校種!B:B,MATCH(D12968,学校種!A:A,0))","v":"中学校"},{"$f":"INDEX(_tmp2!B:B,MATCH(E12968,_tmp2!A:A,0))","v":"埼玉県"},"C111223400031","C1","11","2","1","八潮市立八條中学校","八潮市八條５５５","3400801","2020-12-22","","114923",""]
[{"$f":"INDEX(学校種!B:B,MATCH(D12983,学校種!A:A,0))","v":"中学校"},{"$f":"INDEX(_tmp2!B:B,MATCH(E12983,_tmp2!A:A,0))","v":"埼玉県"},"C111223700074","C1","11","2","1","三郷市立早稲田中学校","三郷市彦成５丁目５６番地","3410003","2020-12-22","","115047",""]
[{"$f":"INDEX(学校種!B:B,MATCH(D13011,学校種!A:A,0))","v":"中学校"},{"$f":"INDEX(_tmp2!B:B,MATCH(E13011,_tmp2!A:A,0))","v":"埼玉県"},"C111224300012","C1","11","2","1","吉川市立東中学校","吉川市上笹塚３－１０４－１","3420017","2020-12-22","","115031",""]
[{"$f":"INDEX(学校種!B:B,MATCH(D13044,学校種!A:A,0))","v":"中学校"},{"$f":"INDEX(_tmp2!B:B,MATCH(E13044,_tmp2!A:A,0))","v":"埼玉県"},"C111234800016","C1","11","2","1","鳩山町立鳩山中学校","比企郡鳩山町大字熊井２０２４－１","3500303","2020-12-22","","114641",""]
[{"$f":"INDEX(学校種!B:B,MATCH(D13076,学校種!A:A,0))","v":"中学校"},{"$f":"INDEX(_tmp2!B:B,MATCH(E13076,_tmp2!A:A,0))","v":"埼玉県"},"C111320100029","C1","11","3","1","城西川越中学校","川越市山田東町１０４２","3500822","2020-12-22","","115109",""]
[{"$f":"INDEX(学校種!B:B,MATCH(D13101,学校種!A:A,0))","v":"高等学校"},{"$f":"INDEX(_tmp2!B:B,MATCH(E13101,_tmp2!A:A,0))","v":"埼玉県"},"D111210000021","D1","11","2","1","埼玉県立熊谷高等学校","熊谷市大原１－９－１","3600812","2020-12-22","","115602",""]
[{"$f":"INDEX(学校種!B:B,MATCH(D13134,学校種!A:A,0))","v":"高等学校"},{"$f":"INDEX(_tmp2!B:B,MATCH(E13134,_tmp2!A:A,0))","v":"埼玉県"},"D111210000352","D1","11","2","1","埼玉県立岩槻商業高等学校","さいたま市岩槻区太田１－４－１","3390052","2020-12-22","","115646",""]
[{"$f":"INDEX(学校種!B:B,MATCH(D13163,学校種!A:A,0))","v":"高等学校"},{"$f":"INDEX(_tmp2!B:B,MATCH(E13163,_tmp2!A:A,0))","v":"埼玉県"},"D111210000646","D1","11","2","1","埼玉県立吉川美南高等学校","吉川市高久６００","3420035","2020-12-22","","115667",""]
[{"$f":"INDEX(学校種!B:B,MATCH(D13195,学校種!A:A,0))","v":"高等学校"},{"$f":"INDEX(_tmp2!B:B,MATCH(E13195,_tmp2!A:A,0))","v":"埼玉県"},"D111210000968","D1","11","2","1","埼玉県立鷲宮高等学校","久喜市中妻１０２０","3400213","2020-12-22","","115710",""]
[{"$f":"INDEX(学校種!B:B,MATCH(D13228,学校種!A:A,0))","v":"高等学校"},{"$f":"INDEX(_tmp2!B:B,MATCH(E13228,_tmp2!A:A,0))","v":"埼玉県"},"D111210001299","D1","11","2","1","埼玉県立芸術総合高等学校","所沢市三ヶ島２ー６９５ー１","3591164","2020-12-22","","115754",""]
[{"$f":"INDEX(学校種!B:B,MATCH(D13252,学校種!A:A,0))","v":"高等学校"},{"$f":"INDEX(_tmp2!B:B,MATCH(E13252,_tmp2!A:A,0))","v":"埼玉県"},"D111310900020","D1","11","3","1","浦和学院高等学校","さいたま市緑区代山１７２","3360975","2020-12-22","","116031",""]
[{"$f":"INDEX(学校種!B:B,MATCH(D13266,学校種!A:A,0))","v":"高等学校"},{"$f":"INDEX(_tmp2!B:B,MATCH(E13266,_tmp2!A:A,0))","v":"埼玉県"},"D111321000017","D1","11","3","1","花咲徳栄高等学校","加須市花崎５１９","3478502","2020-12-22","","116042",""]
[{"$f":"INDEX(学校種!B:B,MATCH(D13313,学校種!A:A,0))","v":"特別支援学校"},{"$f":"INDEX(_tmp2!B:B,MATCH(E13313,_tmp2!A:A,0))","v":"埼玉県"},"E111230000115","E1","11","2","1","埼玉県立川越特別支援学校","川越市古谷上２６９０－１","3500001","2020-12-22","","119914",""]
[{"$f":"INDEX(学校種!B:B,MATCH(D13336,学校種!A:A,0))","v":"特別支援学校"},{"$f":"INDEX(_tmp2!B:B,MATCH(E13336,_tmp2!A:A,0))","v":"埼玉県"},"E111230000348","E1","11","2","1","埼玉県立所沢おおぞら特別支援学校","所沢市南永井６１９－７","3590011","2020-12-22","","119953",""]
[{"$f":"INDEX(学校種!B:B,MATCH(D13346,学校種!A:A,0))","v":"特別支援学校"},{"$f":"INDEX(_tmp2!B:B,MATCH(E13346,_tmp2!A:A,0))","v":"埼玉県"},"E111240000016","E1","11","2","1","川越市立特別支援学校","川越市宮下町１－１９－１","3500052","2020-12-22","","119921",""]
[{"$f":"INDEX(学校種!B:B,MATCH(D13374,学校種!A:A,0))","v":"専修学校"},{"$f":"INDEX(_tmp2!B:B,MATCH(E13374,_tmp2!A:A,0))","v":"埼玉県"},"H111310300170","H1","11","3","1","大宮ビューティーアンドブライダル専門学校","さいたま市大宮区桜木町1丁目３８９－３","3300854","2020-12-22","","118673",""]
[{"$f":"INDEX(学校種!B:B,MATCH(D13407,学校種!A:A,0))","v":"専修学校"},{"$f":"INDEX(_tmp2!B:B,MATCH(E13407,_tmp2!A:A,0))","v":"埼玉県"},"H111320600014","H1","11","3","1","テクノ・ホルティ園芸専門学校","行田市大字埼玉４７５８－１","3610025","2020-12-22","","118613",""]
[{"$f":"INDEX(学校種!B:B,MATCH(D13439,学校種!A:A,0))","v":"専修学校"},{"$f":"INDEX(_tmp2!B:B,MATCH(E13439,_tmp2!A:A,0))","v":"埼玉県"},"H111323000014","H1","11","3","1","中央情報専門学校","新座市東北２－３３－１０","3520001","2020-12-22","","118603",""]
[{"$f":"INDEX(学校種!B:B,MATCH(D13464,学校種!A:A,0))","v":"各種学校"},{"$f":"INDEX(_tmp2!B:B,MATCH(E13464,_tmp2!A:A,0))","v":"埼玉県"},"H211310700013","H2","11","3","1","新藤花道学院","さいたま市浦和区高砂１－２－１エイペックスタワー南館","3300063","2020-12-22","","119289",""]
[{"$f":"INDEX(学校種!B:B,MATCH(D13504,学校種!A:A,0))","v":"幼稚園(幼稚園型認定こども園を含む)"},{"$f":"INDEX(_tmp2!B:B,MATCH(E13504,_tmp2!A:A,0))","v":"千葉県"},"A112210000204","A1","12","2","1","香取市立津宮幼稚園","香取市津宮７１２－２","2870011","2020-12-22","","126632",""]
[{"$f":"INDEX(学校種!B:B,MATCH(D13525,学校種!A:A,0))","v":"幼稚園(幼稚園型認定こども園を含む)"},{"$f":"INDEX(_tmp2!B:B,MATCH(E13525,_tmp2!A:A,0))","v":"千葉県"},"A112210000419","A1","12","2","1","習志野市立向山幼稚園","習志野市谷津２－１６－３２","2750026","2020-12-22","","126710",""]
[{"$f":"INDEX(学校種!B:B,MATCH(D13542,学校種!A:A,0))","v":"幼稚園(幼稚園型認定こども園を含む)"},{"$f":"INDEX(_tmp2!B:B,MATCH(E13542,_tmp2!A:A,0))","v":"千葉県"},"A112210000589","A1","12","2","1","八街市立八街第一幼稚園","八街市八街ほ７８－２","2891115","2020-12-22","","126941",""]
[{"$f":"INDEX(学校種!B:B,MATCH(D13586,学校種!A:A,0))","v":"幼稚園(幼稚園型認定こども園を含む)"},{"$f":"INDEX(_tmp2!B:B,MATCH(E13586,_tmp2!A:A,0))","v":"千葉県"},"A112310000211","A1","12","3","1","こまどり幼稚園","千葉市中央区宮崎町２３４－１","2600805","2020-12-22","","127528",""]
[{"$f":"INDEX(学校種!B:B,MATCH(D13612,学校種!A:A,0))","v":"幼稚園(幼稚園型認定こども園を含む)"},{"$f":"INDEX(_tmp2!B:B,MATCH(E13612,_tmp2!A:A,0))","v":"千葉県"},"A112310000471","A1","12","3","1","へいわ幼稚園","千葉市若葉区千城台東１丁目６番２号","2640002","2020-12-22","","127565",""]
[{"$f":"INDEX(学校種!B:B,MATCH(D13619,学校種!A:A,0))","v":"幼稚園(幼稚園型認定こども園を含む)"},{"$f":"INDEX(_tmp2!B:B,MATCH(E13619,_tmp2!A:A,0))","v":"千葉県"},"A112310000541","A1","12","3","1","千葉しらゆり幼稚園","千葉市花見川区作新台８丁目７番３号","2620045","2020-12-22","","127574",""]
[{"$f":"INDEX(学校種!B:B,MATCH(D13648,学校種!A:A,0))","v":"幼稚園(幼稚園型認定こども園を含む)"},{"$f":"INDEX(_tmp2!B:B,MATCH(E13648,_tmp2!A:A,0))","v":"千葉県"},"A112310000836","A1","12","3","1","あすみ中央幼稚園","千葉市緑区あすみが丘６－２３－２","2670066","2020-12-22","","127607",""]
[{"$f":"INDEX(学校種!B:B,MATCH(D13672,学校種!A:A,0))","v":"幼稚園(幼稚園型認定こども園を含む)"},{"$f":"INDEX(_tmp2!B:B,MATCH(E13672,_tmp2!A:A,0))","v":"千葉県"},"A112310001078","A1","12","3","1","昭和学院幼稚園","市川市宮久保１－３－８","2720822","2020-12-22","","127674",""]
[{"$f":"INDEX(学校種!B:B,MATCH(D13709,学校種!A:A,0))","v":"幼稚園(幼稚園型認定こども園を含む)"},{"$f":"INDEX(_tmp2!B:B,MATCH(E13709,_tmp2!A:A,0))","v":"千葉県"},"A112310001443","A1","12","3","1","みどり台幼稚園","船橋市緑台２－６","2740818","2020-12-22","","127738",""]
[{"$f":"INDEX(学校種!B:B,MATCH(D13737,学校種!A:A,0))","v":"幼稚園(幼稚園型認定こども園を含む)"},{"$f":"INDEX(_tmp2!B:B,MATCH(E13737,_tmp2!A:A,0))","v":"千葉県"},"A112310001728","A1","12","3","1","八幡台幼稚園","木更津市八幡台４－２－２","2920814","2020-12-22","","127802",""]
[{"$f":"INDEX(学校種!B:B,MATCH(D13770,学校種!A:A,0))","v":"幼稚園(幼稚園型認定こども園を含む)"},{"$f":"INDEX(_tmp2!B:B,MATCH(E13770,_tmp2!A:A,0))","v":"千葉県"},"A112310002059","A1","12","3","1","八柱幼稚園","松戸市千駄堀１４８５－１５","2702252","2020-12-22","","127846",""]
[{"$f":"INDEX(学校種!B:B,MATCH(D13802,学校種!A:A,0))","v":"幼稚園(幼稚園型認定こども園を含む)"},{"$f":"INDEX(_tmp2!B:B,MATCH(E13802,_tmp2!A:A,0))","v":"千葉県"},"A112310002371","A1","12","3","1","慈光幼稚園","佐倉市本町５４","2850037","2020-12-22","","127924",""]
[{"$f":"INDEX(学校種!B:B,MATCH(D13827,学校種!A:A,0))","v":"幼稚園(幼稚園型認定こども園を含む)"},{"$f":"INDEX(_tmp2!B:B,MATCH(E13827,_tmp2!A:A,0))","v":"千葉県"},"A112310002629","A1","12","3","1","にしはら幼稚園","柏市西原２－９－１","2770885","2020-12-22","","128011",""]
[{"$f":"INDEX(学校種!B:B,MATCH(D13840,学校種!A:A,0))","v":"幼稚園(幼稚園型認定こども園を含む)"},{"$f":"INDEX(_tmp2!B:B,MATCH(E13840,_tmp2!A:A,0))","v":"千葉県"},"A112310002754","A1","12","3","1","市原うさぎ幼稚園","市原市山木１３６","2900005","2020-12-22","","128049",""]
[{"$f":"INDEX(学校種!B:B,MATCH(D13888,学校種!A:A,0))","v":"幼稚園(幼稚園型認定こども園を含む)"},{"$f":"INDEX(_tmp2!B:B,MATCH(E13888,_tmp2!A:A,0))","v":"千葉県"},"A112310003236","A1","12","3","1","エーデル幼稚園","我孫子市泉２４－３２","2701142","2020-12-22","","128138",""]
[{"$f":"INDEX(学校種!B:B,MATCH(D13905,学校種!A:A,0))","v":"幼稚園(幼稚園型認定こども園を含む)"},{"$f":"INDEX(_tmp2!B:B,MATCH(E13905,_tmp2!A:A,0))","v":"千葉県"},"A112310003405","A1","12","3","1","大佐和幼稚園","富津市千種新田４４２","2930036","2020-12-22","","128192",""]
[{"$f":"INDEX(学校種!B:B,MATCH(D13921,学校種!A:A,0))","v":"幼稚園(幼稚園型認定こども園を含む)"},{"$f":"INDEX(_tmp2!B:B,MATCH(E13921,_tmp2!A:A,0))","v":"千葉県"},"A112310003566","A1","12","3","1","沼南幼稚園","柏市高柳１３６４","2770941","2020-12-22","","128235",""]
[{"$f":"INDEX(学校種!B:B,MATCH(D13948,学校種!A:A,0))","v":"幼稚園(幼稚園型認定こども園を含む)"},{"$f":"INDEX(_tmp2!B:B,MATCH(E13948,_tmp2!A:A,0))","v":"千葉県"},"A112310003833","A1","12","3","1","いいおか幼稚園","旭市飯岡２１２６－１","2892705","2020-12-22","","128331",""]
[{"$f":"INDEX(学校種!B:B,MATCH(D13982,学校種!A:A,0))","v":"幼保連携型認定こども園"},{"$f":"INDEX(_tmp2!B:B,MATCH(E13982,_tmp2!A:A,0))","v":"千葉県"},"A212210000258","A2","12","2","1","香取市立おみがわこども園","香取市小見川１５８５番地２","2890313","2020-12-22","","12A402",""]
[{"$f":"INDEX(学校種!B:B,MATCH(D14013,学校種!A:A,0))","v":"幼保連携型認定こども園"},{"$f":"INDEX(_tmp2!B:B,MATCH(E14013,_tmp2!A:A,0))","v":"千葉県"},"A212310000229","A2","12","3","1","はなみずきこども園","松戸市常盤平3-25-2","2702261","2020-12-22","","12A131",""]
[{"$f":"INDEX(学校種!B:B,MATCH(D14039,学校種!A:A,0))","v":"幼保連携型認定こども園"},{"$f":"INDEX(_tmp2!B:B,MATCH(E14039,_tmp2!A:A,0))","v":"千葉県"},"A212310000489","A2","12","3","1","認定こども園まつがさきの森幼稚園","柏市松ヶ崎２２５－３","2770835","2020-12-22","","12A219",""]
[{"$f":"INDEX(学校種!B:B,MATCH(D14078,学校種!A:A,0))","v":"小学校"},{"$f":"INDEX(_tmp2!B:B,MATCH(E14078,_tmp2!A:A,0))","v":"千葉県"},"B112210000033","B1","12","2","1","千葉市立鶴沢小学校","千葉市中央区鶴沢町２１－１","2600003","2020-12-22","","120013",""]
[{"$f":"INDEX(学校種!B:B,MATCH(D14100,学校種!A:A,0))","v":"小学校"},{"$f":"INDEX(_tmp2!B:B,MATCH(E14100,_tmp2!A:A,0))","v":"千葉県"},"B112210000257","B1","12","2","1","千葉市立長作小学校","千葉市花見川区長作町１２７３","2620044","2020-12-22","","120035",""]
[{"$f":"INDEX(学校種!B:B,MATCH(D14116,学校種!A:A,0))","v":"小学校"},{"$f":"INDEX(_tmp2!B:B,MATCH(E14116,_tmp2!A:A,0))","v":"千葉県"},"B112210000417","B1","12","2","1","千葉市立小倉小学校","千葉市若葉区小倉台５－１－１","2640006","2020-12-22","","120051",""]
[{"$f":"INDEX(学校種!B:B,MATCH(D14161,学校種!A:A,0))","v":"小学校"},{"$f":"INDEX(_tmp2!B:B,MATCH(E14161,_tmp2!A:A,0))","v":"千葉県"},"B112210000863","B1","12","2","1","千葉市立源小学校","千葉市若葉区源町５４１－６","2640037","2020-12-22","","120114",""]
[{"$f":"INDEX(学校種!B:B,MATCH(D14190,学校種!A:A,0))","v":"小学校"},{"$f":"INDEX(_tmp2!B:B,MATCH(E14190,_tmp2!A:A,0))","v":"千葉県"},"B112210001158","B1","12","2","1","市川市立菅野小学校","市川市菅野６－１４－１","2720824","2020-12-22","","120153",""]
[{"$f":"INDEX(学校種!B:B,MATCH(D14203,学校種!A:A,0))","v":"小学校"},{"$f":"INDEX(_tmp2!B:B,MATCH(E14203,_tmp2!A:A,0))","v":"千葉県"},"B112210001283","B1","12","2","1","市川市立南行徳小学校","市川市欠真間１－６－３８","2720142","2020-12-22","","120166",""]
[{"$f":"INDEX(学校種!B:B,MATCH(D14223,学校種!A:A,0))","v":"小学校"},{"$f":"INDEX(_tmp2!B:B,MATCH(E14223,_tmp2!A:A,0))","v":"千葉県"},"B112210001489","B1","12","2","1","市川市立大和田小学校","市川市大和田１－１－３","2720025","2020-12-22","","120187",""]
[{"$f":"INDEX(学校種!B:B,MATCH(D14273,学校種!A:A,0))","v":"小学校"},{"$f":"INDEX(_tmp2!B:B,MATCH(E14273,_tmp2!A:A,0))","v":"千葉県"},"B112210001988","B1","12","2","1","船橋市立小室小学校","船橋市小室町８９９","2701471","2020-12-22","","120249",""]
[{"$f":"INDEX(学校種!B:B,MATCH(D14284,学校種!A:A,0))","v":"小学校"},{"$f":"INDEX(_tmp2!B:B,MATCH(E14284,_tmp2!A:A,0))","v":"千葉県"},"B112210002095","B1","12","2","1","館山市立西岬小学校","館山市加賀名１５１","2940306","2020-12-22","","120305",""]
[{"$f":"INDEX(学校種!B:B,MATCH(D14311,学校種!A:A,0))","v":"小学校"},{"$f":"INDEX(_tmp2!B:B,MATCH(E14311,_tmp2!A:A,0))","v":"千葉県"},"B112210002362","B1","12","2","1","松戸市立矢切小学校","松戸市中矢切５４０","2710095","2020-12-22","","120406",""]
[{"$f":"INDEX(学校種!B:B,MATCH(D14345,学校種!A:A,0))","v":"小学校"},{"$f":"INDEX(_tmp2!B:B,MATCH(E14345,_tmp2!A:A,0))","v":"千葉県"},"B112210002709","B1","12","2","1","松戸市立上本郷第二小学校","松戸市上本郷２６７７","2710064","2020-12-22","","120440",""]
[{"$f":"INDEX(学校種!B:B,MATCH(D14376,学校種!A:A,0))","v":"小学校"},{"$f":"INDEX(_tmp2!B:B,MATCH(E14376,_tmp2!A:A,0))","v":"千葉県"},"B112210003012","B1","12","2","1","茂原市立豊田小学校","茂原市長尾１５６","2970073","2020-12-22","","120602",""]
[{"$f":"INDEX(学校種!B:B,MATCH(D14402,学校種!A:A,0))","v":"小学校"},{"$f":"INDEX(_tmp2!B:B,MATCH(E14402,_tmp2!A:A,0))","v":"千葉県"},"B112210003272","B1","12","2","1","成田市立神宮寺小学校","成田市玉造５－２８","2860011","2020-12-22","","120669",""]
[{"$f":"INDEX(学校種!B:B,MATCH(D14441,学校種!A:A,0))","v":"小学校"},{"$f":"INDEX(_tmp2!B:B,MATCH(E14441,_tmp2!A:A,0))","v":"千葉県"},"B112210003664","B1","12","2","1","匝瑳市立八日市場小学校","匝瑳市八日市場イ２３１１","2892144","2020-12-22","","120803",""]
[{"$f":"INDEX(学校種!B:B,MATCH(D14463,学校種!A:A,0))","v":"小学校"},{"$f":"INDEX(_tmp2!B:B,MATCH(E14463,_tmp2!A:A,0))","v":"千葉県"},"B112210003888","B1","12","2","1","習志野市立屋敷小学校","習志野市屋敷２－１－１","2750004","2020-12-22","","120910",""]
[{"$f":"INDEX(学校種!B:B,MATCH(D14479,学校種!A:A,0))","v":"小学校"},{"$f":"INDEX(_tmp2!B:B,MATCH(E14479,_tmp2!A:A,0))","v":"千葉県"},"B112210004048","B1","12","2","1","柏市立田中北小学校","柏市大青田１５３６－１","2770805","2020-12-22","","120960",""]
[{"$f":"INDEX(学校種!B:B,MATCH(D14524,学校種!A:A,0))","v":"小学校"},{"$f":"INDEX(_tmp2!B:B,MATCH(E14524,_tmp2!A:A,0))","v":"千葉県"},"B112210004495","B1","12","2","1","市原市立市東第一小学校","市原市瀬又１８２０","2900151","2020-12-22","","121067",""]
[{"$f":"INDEX(学校種!B:B,MATCH(D14549,学校種!A:A,0))","v":"小学校"},{"$f":"INDEX(_tmp2!B:B,MATCH(E14549,_tmp2!A:A,0))","v":"千葉県"},"B112210004743","B1","12","2","1","流山市立東小学校","流山市名都借８５６","2700145","2020-12-22","","121102",""]
[{"$f":"INDEX(学校種!B:B,MATCH(D14557,学校種!A:A,0))","v":"小学校"},{"$f":"INDEX(_tmp2!B:B,MATCH(E14557,_tmp2!A:A,0))","v":"千葉県"},"B112210004823","B1","12","2","1","流山市立西初石小学校","流山市西初石４－３４７","2700121","2020-12-22","","121110",""]
[{"$f":"INDEX(学校種!B:B,MATCH(D14587,学校種!A:A,0))","v":"小学校"},{"$f":"INDEX(_tmp2!B:B,MATCH(E14587,_tmp2!A:A,0))","v":"千葉県"},"B112210005127","B1","12","2","1","我孫子市立我孫子第三小学校","我孫子市柴崎台３－３－１","2701176","2020-12-22","","121193",""]
[{"$f":"INDEX(学校種!B:B,MATCH(D14614,学校種!A:A,0))","v":"小学校"},{"$f":"INDEX(_tmp2!B:B,MATCH(E14614,_tmp2!A:A,0))","v":"千葉県"},"B112210005396","B1","12","2","1","君津市立坂田小学校","君津市坂田５２３","2991142","2020-12-22","","121274",""]
[{"$f":"INDEX(学校種!B:B,MATCH(D14652,学校種!A:A,0))","v":"小学校"},{"$f":"INDEX(_tmp2!B:B,MATCH(E14652,_tmp2!A:A,0))","v":"千葉県"},"B112210005779","B1","12","2","1","四街道市立四街道小学校","四街道市四街道１５５７","2840005","2020-12-22","","121351",""]
[{"$f":"INDEX(学校種!B:B,MATCH(D14675,学校種!A:A,0))","v":"小学校"},{"$f":"INDEX(_tmp2!B:B,MATCH(E14675,_tmp2!A:A,0))","v":"千葉県"},"B112210006000","B1","12","2","1","柏市立高柳西小学校","柏市しいの木台３－２","2770945","2020-12-22","","121398",""]
[{"$f":"INDEX(学校種!B:B,MATCH(D14708,学校種!A:A,0))","v":"小学校"},{"$f":"INDEX(_tmp2!B:B,MATCH(E14708,_tmp2!A:A,0))","v":"千葉県"},"B112210006331","B1","12","2","1","印西市立船穂小学校","印西市船尾１２９２","2701345","2020-12-22","","121513",""]
[{"$f":"INDEX(学校種!B:B,MATCH(D14739,学校種!A:A,0))","v":"小学校"},{"$f":"INDEX(_tmp2!B:B,MATCH(E14739,_tmp2!A:A,0))","v":"千葉県"},"B112210006643","B1","12","2","1","香取市立わらびが丘小学校","香取市九美上２９番地１","2870022","2020-12-22","","121675",""]
[{"$f":"INDEX(学校種!B:B,MATCH(D14765,学校種!A:A,0))","v":"小学校"},{"$f":"INDEX(_tmp2!B:B,MATCH(E14765,_tmp2!A:A,0))","v":"千葉県"},"B112210006901","B1","12","2","1","九十九里町立豊海小学校","山武郡九十九里町不動堂３０６","2830113","2020-12-22","","121852",""]
[{"$f":"INDEX(学校種!B:B,MATCH(D14777,学校種!A:A,0))","v":"小学校"},{"$f":"INDEX(_tmp2!B:B,MATCH(E14777,_tmp2!A:A,0))","v":"千葉県"},"B112210007027","B1","12","2","1","山武市立大平小学校","山武市松尾町広根１１４０","2891533","2020-12-22","","121932",""]
[{"$f":"INDEX(学校種!B:B,MATCH(D14826,学校種!A:A,0))","v":"小学校"},{"$f":"INDEX(_tmp2!B:B,MATCH(E14826,_tmp2!A:A,0))","v":"千葉県"},"B112210007517","B1","12","2","1","成田市立久住小学校","成田市久住中央３－１２－１","2860819","2020-12-22","","122424",""]
[{"$f":"INDEX(学校種!B:B,MATCH(D14847,学校種!A:A,0))","v":"小学校"},{"$f":"INDEX(_tmp2!B:B,MATCH(E14847,_tmp2!A:A,0))","v":"千葉県"},"B112310000013","B1","12","3","1","日出学園小学校","市川市菅野３－２３－１","2720824","2020-12-22","","122501",""]
[{"$f":"INDEX(学校種!B:B,MATCH(D14859,学校種!A:A,0))","v":"中学校"},{"$f":"INDEX(_tmp2!B:B,MATCH(E14859,_tmp2!A:A,0))","v":"千葉県"},"C112210000022","C1","12","2","1","千葉市立末広中学校","千葉市中央区末広２－１０－１","2600843","2020-12-22","","123512",""]
[{"$f":"INDEX(学校種!B:B,MATCH(D14885,学校種!A:A,0))","v":"中学校"},{"$f":"INDEX(_tmp2!B:B,MATCH(E14885,_tmp2!A:A,0))","v":"千葉県"},"C112210000282","C1","12","2","1","千葉市立大宮中学校","千葉市若葉区大宮町２０７７","2640016","2020-12-22","","123539",""]
[{"$f":"INDEX(学校種!B:B,MATCH(D14920,学校種!A:A,0))","v":"中学校"},{"$f":"INDEX(_tmp2!B:B,MATCH(E14920,_tmp2!A:A,0))","v":"千葉県"},"C112210000638","C1","12","2","1","市川市立第五中学校","市川市大野町３－１９９３","2720805","2020-12-22","","123605",""]
[{"$f":"INDEX(学校種!B:B,MATCH(D14950,学校種!A:A,0))","v":"中学校"},{"$f":"INDEX(_tmp2!B:B,MATCH(E14950,_tmp2!A:A,0))","v":"千葉県"},"C112210000932","C1","12","2","1","船橋市立七林中学校","船橋市七林町１３０番地","2740821","2020-12-22","","123640",""]
[{"$f":"INDEX(学校種!B:B,MATCH(D14977,学校種!A:A,0))","v":"中学校"},{"$f":"INDEX(_tmp2!B:B,MATCH(E14977,_tmp2!A:A,0))","v":"千葉県"},"C112210001209","C1","12","2","1","松戸市立第四中学校","松戸市五香西１―６―１","2702218","2020-12-22","","123694",""]
[{"$f":"INDEX(学校種!B:B,MATCH(D15015,学校種!A:A,0))","v":"中学校"},{"$f":"INDEX(_tmp2!B:B,MATCH(E15015,_tmp2!A:A,0))","v":"千葉県"},"C112210001584","C1","12","2","1","成田市立久住中学校","成田市久住中央２－１","2860819","2020-12-22","","123773",""]
[{"$f":"INDEX(学校種!B:B,MATCH(D15038,学校種!A:A,0))","v":"中学校"},{"$f":"INDEX(_tmp2!B:B,MATCH(E15038,_tmp2!A:A,0))","v":"千葉県"},"C112210001815","C1","12","2","1","旭市立第二中学校","旭市ニの２５１０－１","2892504","2020-12-22","","123832",""]
[{"$f":"INDEX(学校種!B:B,MATCH(D15053,学校種!A:A,0))","v":"中学校"},{"$f":"INDEX(_tmp2!B:B,MATCH(E15053,_tmp2!A:A,0))","v":"千葉県"},"C112210001968","C1","12","2","1","柏市立柏第四中学校","柏市名戸ヶ谷１－６－８","2770032","2020-12-22","","123868",""]
[{"$f":"INDEX(学校種!B:B,MATCH(D15099,学校種!A:A,0))","v":"中学校"},{"$f":"INDEX(_tmp2!B:B,MATCH(E15099,_tmp2!A:A,0))","v":"千葉県"},"C112210002422","C1","12","2","1","八千代市立大和田中学校","八千代市萱田町６４５番地","2760044","2020-12-22","","123956",""]
[{"$f":"INDEX(学校種!B:B,MATCH(D15123,学校種!A:A,0))","v":"中学校"},{"$f":"INDEX(_tmp2!B:B,MATCH(E15123,_tmp2!A:A,0))","v":"千葉県"},"C112210002663","C1","12","2","1","君津市立周西南中学校","君津市中野２－３０－１","2991151","2020-12-22","","124040",""]
[{"$f":"INDEX(学校種!B:B,MATCH(D15132,学校種!A:A,0))","v":"中学校"},{"$f":"INDEX(_tmp2!B:B,MATCH(E15132,_tmp2!A:A,0))","v":"千葉県"},"C112210002752","C1","12","2","1","浦安市立富岡中学校","浦安市富岡１－２３－１","2790021","2020-12-22","","124075",""]
[{"$f":"INDEX(学校種!B:B,MATCH(D15161,学校種!A:A,0))","v":"中学校"},{"$f":"INDEX(_tmp2!B:B,MATCH(E15161,_tmp2!A:A,0))","v":"千葉県"},"C112210003047","C1","12","2","1","白井市立七次台中学校","白井市七次台１－２１－１","2701436","2020-12-22","","124174",""]
[{"$f":"INDEX(学校種!B:B,MATCH(D15189,学校種!A:A,0))","v":"中学校"},{"$f":"INDEX(_tmp2!B:B,MATCH(E15189,_tmp2!A:A,0))","v":"千葉県"},"C112210003323","C1","12","2","1","山武市立成東東中学校","山武市五木田２４５２の１","2891316","2020-12-22","","124362",""]
[{"$f":"INDEX(学校種!B:B,MATCH(D15222,学校種!A:A,0))","v":"中学校"},{"$f":"INDEX(_tmp2!B:B,MATCH(E15222,_tmp2!A:A,0))","v":"千葉県"},"C112210003653","C1","12","2","1","千葉市立磯辺中学校","千葉市美浜区磯辺７－１－１","2610012","2020-12-22","","124634",""]
[{"$f":"INDEX(学校種!B:B,MATCH(D15248,学校種!A:A,0))","v":"中学校"},{"$f":"INDEX(_tmp2!B:B,MATCH(E15248,_tmp2!A:A,0))","v":"千葉県"},"C112310000191","C1","12","3","9","東京学館浦安中学校","浦安市高洲１－２３－１","2790023","2020-12-22","2021-05-27","124663",""]
[{"$f":"INDEX(学校種!B:B,MATCH(D15283,学校種!A:A,0))","v":"高等学校"},{"$f":"INDEX(_tmp2!B:B,MATCH(E15283,_tmp2!A:A,0))","v":"千葉県"},"D112210000262","D1","12","2","1","千葉県立市川東高等学校","市川市北方町４－２１９１","2720811","2020-12-22","","125556",""]
[{"$f":"INDEX(学校種!B:B,MATCH(D15313,学校種!A:A,0))","v":"高等学校"},{"$f":"INDEX(_tmp2!B:B,MATCH(E15313,_tmp2!A:A,0))","v":"千葉県"},"D112210000565","D1","12","2","1","千葉県立成田国際高等学校","成田市加良部３－１６","2860036","2020-12-22","","125652",""]
[{"$f":"INDEX(学校種!B:B,MATCH(D15340,学校種!A:A,0))","v":"高等学校"},{"$f":"INDEX(_tmp2!B:B,MATCH(E15340,_tmp2!A:A,0))","v":"千葉県"},"D112210000832","D1","12","2","1","千葉県立流山おおたかの森高等学校","流山市大畔２７５－５","2700122","2020-12-22","","125746",""]
[{"$f":"INDEX(学校種!B:B,MATCH(D15351,学校種!A:A,0))","v":"高等学校"},{"$f":"INDEX(_tmp2!B:B,MATCH(E15351,_tmp2!A:A,0))","v":"千葉県"},"D112210000949","D1","12","2","1","千葉県立天羽高等学校","富津市数馬２２９","2991606","2020-12-22","","125801",""]
[{"$f":"INDEX(学校種!B:B,MATCH(D15401,学校種!A:A,0))","v":"高等学校"},{"$f":"INDEX(_tmp2!B:B,MATCH(E15401,_tmp2!A:A,0))","v":"千葉県"},"D112310000153","D1","12","3","1","国府台女子学院高等部","市川市菅野３－２４－１","2728567","2020-12-22","","126116",""]
[{"$f":"INDEX(学校種!B:B,MATCH(D15416,学校種!A:A,0))","v":"高等学校"},{"$f":"INDEX(_tmp2!B:B,MATCH(E15416,_tmp2!A:A,0))","v":"千葉県"},"D112310000304","D1","12","3","1","あずさ第一高等学校","野田市野田４０５－１","2780037","2020-12-22","","126144",""]
[{"$f":"INDEX(学校種!B:B,MATCH(D15434,学校種!A:A,0))","v":"高等学校"},{"$f":"INDEX(_tmp2!B:B,MATCH(E15434,_tmp2!A:A,0))","v":"千葉県"},"D112310000484","D1","12","3","1","翔凛高等学校","君津市三直１３４８－１","2991172","2020-12-22","","126192",""]
[{"$f":"INDEX(学校種!B:B,MATCH(D15486,学校種!A:A,0))","v":"特別支援学校"},{"$f":"INDEX(_tmp2!B:B,MATCH(E15486,_tmp2!A:A,0))","v":"千葉県"},"E112210000385","E1","12","2","1","千葉県立習志野特別支援学校","習志野市袖ケ浦５－１１－１","2750021","2020-12-22","","129951",""]
[{"$f":"INDEX(学校種!B:B,MATCH(D15495,学校種!A:A,0))","v":"専修学校"},{"$f":"INDEX(_tmp2!B:B,MATCH(E15495,_tmp2!A:A,0))","v":"千葉県"},"H112210000049","H1","12","2","1","千葉県立鶴舞看護専門学校","市原市鶴舞５６５","2900512","2020-12-22","","128528",""]
[{"$f":"INDEX(学校種!B:B,MATCH(D15524,学校種!A:A,0))","v":"専修学校"},{"$f":"INDEX(_tmp2!B:B,MATCH(E15524,_tmp2!A:A,0))","v":"千葉県"},"H112310000261","H1","12","3","1","千葉デザイナー学院","千葉市中央区新千葉３－１－６","2600031","2020-12-22","","128574",""]
[{"$f":"INDEX(学校種!B:B,MATCH(D15552,学校種!A:A,0))","v":"専修学校"},{"$f":"INDEX(_tmp2!B:B,MATCH(E15552,_tmp2!A:A,0))","v":"千葉県"},"H112310000546","H1","12","3","1","二葉看護学院","成田市押畑８７２－２","2860845","2020-12-22","","128694",""]
[{"$f":"INDEX(学校種!B:B,MATCH(D15589,学校種!A:A,0))","v":"各種学校"},{"$f":"INDEX(_tmp2!B:B,MATCH(E15589,_tmp2!A:A,0))","v":"千葉県"},"H212310000028","H2","12","3","9","京葉調理師学校","千葉市中央区春日１丁目１８番１０号","2600033","2020-12-22","2021-05-27","129131",""]
[{"$f":"INDEX(学校種!B:B,MATCH(D15613,学校種!A:A,0))","v":"幼稚園(幼稚園型認定こども園を含む)"},{"$f":"INDEX(_tmp2!B:B,MATCH(E15613,_tmp2!A:A,0))","v":"東京都"},"A113210100060","A1","13","2","1","千代田区立昌平幼稚園","千代田区外神田３－４－７","1010021","2020-12-22","","136523",""]
[{"$f":"INDEX(学校種!B:B,MATCH(D15627,学校種!A:A,0))","v":"幼稚園(幼稚園型認定こども園を含む)"},{"$f":"INDEX(_tmp2!B:B,MATCH(E15627,_tmp2!A:A,0))","v":"東京都"},"A113210200121","A1","13","2","1","中央区立月島第一幼稚園","中央区月島４－１５－１","1040052","2020-12-22","","136546",""]
[{"$f":"INDEX(学校種!B:B,MATCH(D15674,学校種!A:A,0))","v":"幼稚園(幼稚園型認定こども園を含む)"},{"$f":"INDEX(_tmp2!B:B,MATCH(E15674,_tmp2!A:A,0))","v":"東京都"},"A113210500100","A1","13","2","1","文京区立湯島幼稚園","文京区本郷３－１０－１８","1130033","2020-12-22","","136771",""]
[{"$f":"INDEX(学校種!B:B,MATCH(D15697,学校種!A:A,0))","v":"幼稚園(幼稚園型認定こども園を含む)"},{"$f":"INDEX(_tmp2!B:B,MATCH(E15697,_tmp2!A:A,0))","v":"東京都"},"A113210800063","A1","13","2","1","江東区立辰巳幼稚園","江東区辰巳１－１１－１","1350053","2020-12-22","","136925",""]
[{"$f":"INDEX(学校種!B:B,MATCH(D15735,学校種!A:A,0))","v":"幼稚園(幼稚園型認定こども園を含む)"},{"$f":"INDEX(_tmp2!B:B,MATCH(E15735,_tmp2!A:A,0))","v":"東京都"},"A113211300048","A1","13","2","1","渋谷区立千駄谷幼稚園","渋谷区千駄ヶ谷２－４－１","1510051","2020-12-22","","136699",""]
[{"$f":"INDEX(学校種!B:B,MATCH(D15736,学校種!A:A,0))","v":"幼稚園(幼稚園型認定こども園を含む)"},{"$f":"INDEX(_tmp2!B:B,MATCH(E15736,_tmp2!A:A,0))","v":"東京都"},"A113211300057","A1","13","2","1","渋谷区立山谷幼稚園","渋谷区代々木３－３２－１３","1510053","2020-12-22","","136940",""]
[{"$f":"INDEX(学校種!B:B,MATCH(D15784,学校種!A:A,0))","v":"幼稚園(幼稚園型認定こども園を含む)"},{"$f":"INDEX(_tmp2!B:B,MATCH(E15784,_tmp2!A:A,0))","v":"東京都"},"A113310300057","A1","13","3","1","麻布山幼稚園","港区元麻布１－６－２１","1060046","2020-12-22","","136977",""]
[{"$f":"INDEX(学校種!B:B,MATCH(D15797,学校種!A:A,0))","v":"幼稚園(幼稚園型認定こども園を含む)"},{"$f":"INDEX(_tmp2!B:B,MATCH(E15797,_tmp2!A:A,0))","v":"東京都"},"A113310300182","A1","13","3","1","若葉会幼稚園","港区西麻布４－１３－２５","1060031","2020-12-22","","136999",""]
[{"$f":"INDEX(学校種!B:B,MATCH(D15822,学校種!A:A,0))","v":"幼稚園(幼稚園型認定こども園を含む)"},{"$f":"INDEX(_tmp2!B:B,MATCH(E15822,_tmp2!A:A,0))","v":"東京都"},"A113310500162","A1","13","3","1","上富坂幼稚園","文京区小石川２－９－４","1120002","2020-12-22","","137069",""]
[{"$f":"INDEX(学校種!B:B,MATCH(D15858,学校種!A:A,0))","v":"幼稚園(幼稚園型認定こども園を含む)"},{"$f":"INDEX(_tmp2!B:B,MATCH(E15858,_tmp2!A:A,0))","v":"東京都"},"A113310900060","A1","13","3","1","八潮幼稚園","品川区東品川３－２４－８","1400002","2020-12-22","","137157",""]
[{"$f":"INDEX(学校種!B:B,MATCH(D15887,学校種!A:A,0))","v":"幼稚園(幼稚園型認定こども園を含む)"},{"$f":"INDEX(_tmp2!B:B,MATCH(E15887,_tmp2!A:A,0))","v":"東京都"},"A113311000165","A1","13","3","1","平塚幼稚園","目黒区祐天寺１－２３－１１","1530052","2020-12-22","","137213",""]
[{"$f":"INDEX(学校種!B:B,MATCH(D15915,学校種!A:A,0))","v":"幼稚園(幼稚園型認定こども園を含む)"},{"$f":"INDEX(_tmp2!B:B,MATCH(E15915,_tmp2!A:A,0))","v":"東京都"},"A113311100235","A1","13","3","1","ぶどうの木幼稚園","大田区北嶺町３－２５","1450073","2020-12-22","","137257",""]
[{"$f":"INDEX(学校種!B:B,MATCH(D15952,学校種!A:A,0))","v":"幼稚園(幼稚園型認定こども園を含む)"},{"$f":"INDEX(_tmp2!B:B,MATCH(E15952,_tmp2!A:A,0))","v":"東京都"},"A113311200127","A1","13","3","1","佼成学園幼稚園","世田谷区給田２－１１－１","1570064","2020-12-22","","137315",""]
[{"$f":"INDEX(学校種!B:B,MATCH(D15976,学校種!A:A,0))","v":"幼稚園(幼稚園型認定こども園を含む)"},{"$f":"INDEX(_tmp2!B:B,MATCH(E15976,_tmp2!A:A,0))","v":"東京都"},"A113311200369","A1","13","3","1","瀬田幼稚園","世田谷区瀬田４－１１－２５","1580095","2020-12-22","","137346",""]
[{"$f":"INDEX(学校種!B:B,MATCH(D15990,学校種!A:A,0))","v":"幼稚園(幼稚園型認定こども園を含む)"},{"$f":"INDEX(_tmp2!B:B,MATCH(E15990,_tmp2!A:A,0))","v":"東京都"},"A113311200500","A1","13","3","1","玉川幼稚園","世田谷区岡本３－３５－１０","1570076","2020-12-22","","137379",""]
[{"$f":"INDEX(学校種!B:B,MATCH(D16037,学校種!A:A,0))","v":"幼稚園(幼稚園型認定こども園を含む)"},{"$f":"INDEX(_tmp2!B:B,MATCH(E16037,_tmp2!A:A,0))","v":"東京都"},"A113311500071","A1","13","3","1","聖心学園幼稚園","杉並区高円寺南２－３２－３０","1660003","2020-12-22","","137499",""]
[{"$f":"INDEX(学校種!B:B,MATCH(D16060,学校種!A:A,0))","v":"幼稚園(幼稚園型認定こども園を含む)"},{"$f":"INDEX(_tmp2!B:B,MATCH(E16060,_tmp2!A:A,0))","v":"東京都"},"A113311500302","A1","13","3","1","杉並幼稚園","杉並区阿佐谷南２－４－３６","1660004","2020-12-22","","137539",""]
[{"$f":"INDEX(学校種!B:B,MATCH(D16070,学校種!A:A,0))","v":"幼稚園(幼稚園型認定こども園を含む)"},{"$f":"INDEX(_tmp2!B:B,MATCH(E16070,_tmp2!A:A,0))","v":"東京都"},"A113311600034","A1","13","3","1","学習院幼稚園","豊島区目白１－５－１","1718588","2020-12-22","","137564",""]
[{"$f":"INDEX(学校種!B:B,MATCH(D16098,学校種!A:A,0))","v":"幼稚園(幼稚園型認定こども園を含む)"},{"$f":"INDEX(_tmp2!B:B,MATCH(E16098,_tmp2!A:A,0))","v":"東京都"},"A113311700140","A1","13","3","1","ホーリネス幼稚園","北区赤羽２－５７－１１","1150045","2020-12-22","","137618",""]
[{"$f":"INDEX(学校種!B:B,MATCH(D16127,学校種!A:A,0))","v":"幼稚園(幼稚園型認定こども園を含む)"},{"$f":"INDEX(_tmp2!B:B,MATCH(E16127,_tmp2!A:A,0))","v":"東京都"},"A113311900068","A1","13","3","1","帝都幼稚園","板橋区常盤台１－６－２","1740071","2020-12-22","","137666",""]
[{"$f":"INDEX(学校種!B:B,MATCH(D16163,学校種!A:A,0))","v":"幼稚園(幼稚園型認定こども園を含む)"},{"$f":"INDEX(_tmp2!B:B,MATCH(E16163,_tmp2!A:A,0))","v":"東京都"},"A113312000109","A1","13","3","1","浄風幼稚園","練馬区豊玉南１－７－１８","1760014","2020-12-22","","137723",""]
[{"$f":"INDEX(学校種!B:B,MATCH(D16188,学校種!A:A,0))","v":"幼稚園(幼稚園型認定こども園を含む)"},{"$f":"INDEX(_tmp2!B:B,MATCH(E16188,_tmp2!A:A,0))","v":"東京都"},"A113312000350","A1","13","3","1","中里幼稚園","練馬区大泉町１－１９－６","1780062","2020-12-22","","137760",""]
[{"$f":"INDEX(学校種!B:B,MATCH(D16228,学校種!A:A,0))","v":"幼稚園(幼稚園型認定こども園を含む)"},{"$f":"INDEX(_tmp2!B:B,MATCH(E16228,_tmp2!A:A,0))","v":"東京都"},"A113312100340","A1","13","3","1","小倉幼稚園","足立区保木間５－８－４","1210064","2020-12-22","","137823",""]
[{"$f":"INDEX(学校種!B:B,MATCH(D16249,学校種!A:A,0))","v":"幼稚園(幼稚園型認定こども園を含む)"},{"$f":"INDEX(_tmp2!B:B,MATCH(E16249,_tmp2!A:A,0))","v":"東京都"},"A113312200036","A1","13","3","1","明昭第二幼稚園","葛飾区堀切１－２６－１５","1240006","2020-12-22","","137843",""]
[{"$f":"INDEX(学校種!B:B,MATCH(D16271,学校種!A:A,0))","v":"幼稚園(幼稚園型認定こども園を含む)"},{"$f":"INDEX(_tmp2!B:B,MATCH(E16271,_tmp2!A:A,0))","v":"東京都"},"A113312200250","A1","13","3","1","新小岩ちぐさ幼稚園","葛飾区西新小岩４－３５－５","1240025","2020-12-22","","137883",""]
[{"$f":"INDEX(学校種!B:B,MATCH(D16310,学校種!A:A,0))","v":"幼稚園(幼稚園型認定こども園を含む)"},{"$f":"INDEX(_tmp2!B:B,MATCH(E16310,_tmp2!A:A,0))","v":"東京都"},"A113312300384","A1","13","3","1","なぎさ幼稚園","江戸川区南葛西７－２－５４","1340085","2020-12-22","","137930",""]
[{"$f":"INDEX(学校種!B:B,MATCH(D16339,学校種!A:A,0))","v":"幼稚園(幼稚園型認定こども園を含む)"},{"$f":"INDEX(_tmp2!B:B,MATCH(E16339,_tmp2!A:A,0))","v":"東京都"},"A113320100290","A1","13","3","1","グリーンヒル幼稚園","八王子市寺田町４３２","1930943","2020-12-22","","138457",""]
[{"$f":"INDEX(学校種!B:B,MATCH(D16353,学校種!A:A,0))","v":"幼稚園(幼稚園型認定こども園を含む)"},{"$f":"INDEX(_tmp2!B:B,MATCH(E16353,_tmp2!A:A,0))","v":"東京都"},"A113320200128","A1","13","3","1","立川みどり幼稚園","立川市栄町４－４０－８","1900003","2020-12-22","","137965",""]
[{"$f":"INDEX(学校種!B:B,MATCH(D16372,学校種!A:A,0))","v":"幼稚園(幼稚園型認定こども園を含む)"},{"$f":"INDEX(_tmp2!B:B,MATCH(E16372,_tmp2!A:A,0))","v":"東京都"},"A113320400073","A1","13","3","1","三鷹幼稚園","三鷹市下連雀４－２０－６","1810013","2020-12-22","","137998",""]
[{"$f":"INDEX(学校種!B:B,MATCH(D16423,学校種!A:A,0))","v":"幼稚園(幼稚園型認定こども園を含む)"},{"$f":"INDEX(_tmp2!B:B,MATCH(E16423,_tmp2!A:A,0))","v":"東京都"},"A113320800113","A1","13","3","9","東京緑ヶ丘幼稚園","調布市緑ヶ丘２－１０－４","1820001","2020-12-22","2021-05-27","138073",""]
[{"$f":"INDEX(学校種!B:B,MATCH(D16433,学校種!A:A,0))","v":"幼稚園(幼稚園型認定こども園を含む)"},{"$f":"INDEX(_tmp2!B:B,MATCH(E16433,_tmp2!A:A,0))","v":"東京都"},"A113320900069","A1","13","3","1","きそ幼稚園","町田市木曽東１－２７－２６","1940036","2020-12-22","","138088",""]
[{"$f":"INDEX(学校種!B:B,MATCH(D16461,学校種!A:A,0))","v":"幼稚園(幼稚園型認定こども園を含む)"},{"$f":"INDEX(_tmp2!B:B,MATCH(E16461,_tmp2!A:A,0))","v":"東京都"},"A113320900345","A1","13","3","1","相原幼稚園","町田市相原町４４４５－３","1940211","2020-12-22","","138462",""]
[{"$f":"INDEX(学校種!B:B,MATCH(D16490,学校種!A:A,0))","v":"幼稚園(幼稚園型認定こども園を含む)"},{"$f":"INDEX(_tmp2!B:B,MATCH(E16490,_tmp2!A:A,0))","v":"東京都"},"A113321200073","A1","13","3","1","百草台幼稚園","日野市百草９９９百草団地２－５－４","1910033","2020-12-22","","138152",""]
[{"$f":"INDEX(学校種!B:B,MATCH(D16526,学校種!A:A,0))","v":"幼稚園(幼稚園型認定こども園を含む)"},{"$f":"INDEX(_tmp2!B:B,MATCH(E16526,_tmp2!A:A,0))","v":"東京都"},"A113322000037","A1","13","3","1","大和八幡幼稚園","東大和市奈良橋１－２５８","2070031","2020-12-22","","138369",""]
[{"$f":"INDEX(学校種!B:B,MATCH(D16551,学校種!A:A,0))","v":"幼稚園(幼稚園型認定こども園を含む)"},{"$f":"INDEX(_tmp2!B:B,MATCH(E16551,_tmp2!A:A,0))","v":"東京都"},"A113322400079","A1","13","3","1","錦秋幼稚園","多摩市永山３－８","2060025","2020-12-22","","138297",""]
[{"$f":"INDEX(学校種!B:B,MATCH(D16564,学校種!A:A,0))","v":"幼稚園(幼稚園型認定こども園を含む)"},{"$f":"INDEX(_tmp2!B:B,MATCH(E16564,_tmp2!A:A,0))","v":"東京都"},"A113322700058","A1","13","3","1","羽村善隣幼稚園","羽村市双葉町２－１０－７","2050022","2020-12-22","","138255",""]
[{"$f":"INDEX(学校種!B:B,MATCH(D16612,学校種!A:A,0))","v":"幼保連携型認定こども園"},{"$f":"INDEX(_tmp2!B:B,MATCH(E16612,_tmp2!A:A,0))","v":"東京都"},"A213312200026","A2","13","3","1","幼保連携型認定こども園まどか幼稚園","葛飾区東新小岩7-2-8","1240023","2020-12-22","","13A111",""]
[{"$f":"INDEX(学校種!B:B,MATCH(D16634,学校種!A:A,0))","v":"小学校"},{"$f":"INDEX(_tmp2!B:B,MATCH(E16634,_tmp2!A:A,0))","v":"東京都"},"B113110000052","B1","13","1","1","筑波大学附属小学校","文京区大塚３－２９－１","1120012","2020-12-22","","130005",""]
[{"$f":"INDEX(学校種!B:B,MATCH(D16645,学校種!A:A,0))","v":"小学校"},{"$f":"INDEX(_tmp2!B:B,MATCH(E16645,_tmp2!A:A,0))","v":"東京都"},"B113210200021","B1","13","2","1","中央区立泰明小学校","中央区銀座５－１－１３","1040061","2020-12-22","","130032",""]
[{"$f":"INDEX(学校種!B:B,MATCH(D16672,学校種!A:A,0))","v":"小学校"},{"$f":"INDEX(_tmp2!B:B,MATCH(E16672,_tmp2!A:A,0))","v":"東京都"},"B113210300137","B1","13","2","1","港区立青南小学校","港区南青山４－２１－１５","1070062","2020-12-22","","130087",""]
[{"$f":"INDEX(学校種!B:B,MATCH(D16702,学校種!A:A,0))","v":"小学校"},{"$f":"INDEX(_tmp2!B:B,MATCH(E16702,_tmp2!A:A,0))","v":"東京都"},"B113210400252","B1","13","2","1","新宿区立西戸山小学校","新宿区百人町４－２－１","1690073","2020-12-22","","130118",""]
[{"$f":"INDEX(学校種!B:B,MATCH(D16737,学校種!A:A,0))","v":"小学校"},{"$f":"INDEX(_tmp2!B:B,MATCH(E16737,_tmp2!A:A,0))","v":"東京都"},"B113210600116","B1","13","2","1","台東区立千束小学校","台東区浅草４－２４－１１","1110032","2020-12-22","","130201",""]
[{"$f":"INDEX(学校種!B:B,MATCH(D16763,学校種!A:A,0))","v":"小学校"},{"$f":"INDEX(_tmp2!B:B,MATCH(E16763,_tmp2!A:A,0))","v":"東京都"},"B113210700188","B1","13","2","1","墨田区立曳舟小学校","墨田区京島１－２８－２","1310046","2020-12-22","","130243",""]
[{"$f":"INDEX(学校種!B:B,MATCH(D16802,学校種!A:A,0))","v":"小学校"},{"$f":"INDEX(_tmp2!B:B,MATCH(E16802,_tmp2!A:A,0))","v":"東京都"},"B113210800329","B1","13","2","1","江東区立第二辰巳小学校","江東区辰巳１－１－２２","1350053","2020-12-22","","130296",""]
[{"$f":"INDEX(学校種!B:B,MATCH(D16824,学校種!A:A,0))","v":"小学校"},{"$f":"INDEX(_tmp2!B:B,MATCH(E16824,_tmp2!A:A,0))","v":"東京都"},"B113210900097","B1","13","2","1","品川区立第四日野小学校","品川区西五反田４－２９－９","1410031","2020-12-22","","130311",""]
[{"$f":"INDEX(学校種!B:B,MATCH(D16853,学校種!A:A,0))","v":"小学校"},{"$f":"INDEX(_tmp2!B:B,MATCH(E16853,_tmp2!A:A,0))","v":"東京都"},"B113211000076","B1","13","2","1","目黒区立大岡山小学校","目黒区平町２－３－１","1520032","2020-12-22","","130357",""]
[{"$f":"INDEX(学校種!B:B,MATCH(D16889,学校種!A:A,0))","v":"小学校"},{"$f":"INDEX(_tmp2!B:B,MATCH(E16889,_tmp2!A:A,0))","v":"東京都"},"B113211100217","B1","13","2","1","大田区立東調布第三小学校","大田区南久が原２－１７－１","1460084","2020-12-22","","130403",""]
[{"$f":"INDEX(学校種!B:B,MATCH(D16914,学校種!A:A,0))","v":"小学校"},{"$f":"INDEX(_tmp2!B:B,MATCH(E16914,_tmp2!A:A,0))","v":"東京都"},"B113211100468","B1","13","2","1","大田区立矢口小学校","大田区多摩川１－１８－２２","1460095","2020-12-22","","130428",""]
[{"$f":"INDEX(学校種!B:B,MATCH(D16927,学校種!A:A,0))","v":"小学校"},{"$f":"INDEX(_tmp2!B:B,MATCH(E16927,_tmp2!A:A,0))","v":"東京都"},"B113211100592","B1","13","2","1","大田区立開桜小学校","大田区大森西２－２６－３","1430015","2020-12-22","","130444",""]
[{"$f":"INDEX(学校種!B:B,MATCH(D16947,学校種!A:A,0))","v":"小学校"},{"$f":"INDEX(_tmp2!B:B,MATCH(E16947,_tmp2!A:A,0))","v":"東京都"},"B113211200207","B1","13","2","1","世田谷区立中丸小学校","世田谷区野沢３－３４－１６","1540003","2020-12-22","","130473",""]
[{"$f":"INDEX(学校種!B:B,MATCH(D16997,学校種!A:A,0))","v":"小学校"},{"$f":"INDEX(_tmp2!B:B,MATCH(E16997,_tmp2!A:A,0))","v":"東京都"},"B113211300091","B1","13","2","1","渋谷区立笹塚小学校","渋谷区笹塚２－８－１","1510073","2020-12-22","","130533",""]
[{"$f":"INDEX(学校種!B:B,MATCH(D17008,学校種!A:A,0))","v":"小学校"},{"$f":"INDEX(_tmp2!B:B,MATCH(E17008,_tmp2!A:A,0))","v":"東京都"},"B113211400027","B1","13","2","1","中野区立塔山小学校","中野区中央１－４９－１","1640011","2020-12-22","","130555",""]
[{"$f":"INDEX(学校種!B:B,MATCH(D17035,学校種!A:A,0))","v":"小学校"},{"$f":"INDEX(_tmp2!B:B,MATCH(E17035,_tmp2!A:A,0))","v":"東京都"},"B113211500080","B1","13","2","1","杉並区立西田小学校","杉並区荻窪１－３８－１５","1670051","2020-12-22","","130602",""]
[{"$f":"INDEX(学校種!B:B,MATCH(D17065,学校種!A:A,0))","v":"小学校"},{"$f":"INDEX(_tmp2!B:B,MATCH(E17065,_tmp2!A:A,0))","v":"東京都"},"B113211500384","B1","13","2","1","杉並区立永福小学校","杉並区永福２－１６－３３","1680064","2020-12-22","","130636",""]
[{"$f":"INDEX(学校種!B:B,MATCH(D17100,学校種!A:A,0))","v":"小学校"},{"$f":"INDEX(_tmp2!B:B,MATCH(E17100,_tmp2!A:A,0))","v":"東京都"},"B113211700113","B1","13","2","1","北区立赤羽小学校","北区赤羽１－２４－６","1150045","2020-12-22","","130694",""]
[{"$f":"INDEX(学校種!B:B,MATCH(D17126,学校種!A:A,0))","v":"小学校"},{"$f":"INDEX(_tmp2!B:B,MATCH(E17126,_tmp2!A:A,0))","v":"東京都"},"B113211800023","B1","13","2","1","荒川区立第二瑞光小学校","荒川区南千住５－８－１","1160003","2020-12-22","","130732",""]
[{"$f":"INDEX(学校種!B:B,MATCH(D17165,学校種!A:A,0))","v":"小学校"},{"$f":"INDEX(_tmp2!B:B,MATCH(E17165,_tmp2!A:A,0))","v":"東京都"},"B113211900175","B1","13","2","1","板橋区立板橋第二小学校","板橋区板橋２－５２－１","1730004","2020-12-22","","130787",""]
[{"$f":"INDEX(学校種!B:B,MATCH(D17187,学校種!A:A,0))","v":"小学校"},{"$f":"INDEX(_tmp2!B:B,MATCH(E17187,_tmp2!A:A,0))","v":"東京都"},"B113211900399","B1","13","2","1","板橋区立下赤塚小学校","板橋区赤塚６－１４－１","1750092","2020-12-22","","130813",""]
[{"$f":"INDEX(学校種!B:B,MATCH(D17208,学校種!A:A,0))","v":"小学校"},{"$f":"INDEX(_tmp2!B:B,MATCH(E17208,_tmp2!A:A,0))","v":"東京都"},"B113212000092","B1","13","2","1","練馬区立開進第一小学校","練馬区早宮２－１－３１","1790085","2020-12-22","","130836",""]
[{"$f":"INDEX(学校種!B:B,MATCH(D17248,学校種!A:A,0))","v":"小学校"},{"$f":"INDEX(_tmp2!B:B,MATCH(E17248,_tmp2!A:A,0))","v":"東京都"},"B113212000494","B1","13","2","1","練馬区立富士見台小学校","練馬区富士見台４－１６－１０","1770034","2020-12-22","","130879",""]
[{"$f":"INDEX(学校種!B:B,MATCH(D17273,学校種!A:A,0))","v":"小学校"},{"$f":"INDEX(_tmp2!B:B,MATCH(E17273,_tmp2!A:A,0))","v":"東京都"},"B113212100091","B1","13","2","1","足立区立江北小学校","足立区江北３－５０－１","1230872","2020-12-22","","130902",""]
[{"$f":"INDEX(学校種!B:B,MATCH(D17277,学校種!A:A,0))","v":"小学校"},{"$f":"INDEX(_tmp2!B:B,MATCH(E17277,_tmp2!A:A,0))","v":"東京都"},"B113212100135","B1","13","2","1","足立区立鹿浜西小学校","足立区鹿浜２－２４－１","1230864","2020-12-22","","130935",""]
[{"$f":"INDEX(学校種!B:B,MATCH(D17311,学校種!A:A,0))","v":"小学校"},{"$f":"INDEX(_tmp2!B:B,MATCH(E17311,_tmp2!A:A,0))","v":"東京都"},"B113212100475","B1","13","2","1","足立区立北鹿浜小学校","足立区鹿浜５－２７－１","1230864","2020-12-22","","131055",""]
[{"$f":"INDEX(学校種!B:B,MATCH(D17338,学校種!A:A,0))","v":"小学校"},{"$f":"INDEX(_tmp2!B:B,MATCH(E17338,_tmp2!A:A,0))","v":"東京都"},"B113212200054","B1","13","2","1","葛飾区立南綾瀬小学校","葛飾区堀切６－１－１","1240006","2020-12-22","","130946",""]
[{"$f":"INDEX(学校種!B:B,MATCH(D17371,学校種!A:A,0))","v":"小学校"},{"$f":"INDEX(_tmp2!B:B,MATCH(E17371,_tmp2!A:A,0))","v":"東京都"},"B113212200385","B1","13","2","1","葛飾区立東柴又小学校","葛飾区柴又５－１２－１５","1250052","2020-12-22","","130985",""]
[{"$f":"INDEX(学校種!B:B,MATCH(D17398,学校種!A:A,0))","v":"小学校"},{"$f":"INDEX(_tmp2!B:B,MATCH(E17398,_tmp2!A:A,0))","v":"東京都"},"B113212300160","B1","13","2","1","江戸川区立船堀第二小学校","江戸川区船堀４－１４－４","1340091","2020-12-22","","131043",""]
[{"$f":"INDEX(学校種!B:B,MATCH(D17428,学校種!A:A,0))","v":"小学校"},{"$f":"INDEX(_tmp2!B:B,MATCH(E17428,_tmp2!A:A,0))","v":"東京都"},"B113212300464","B1","13","2","1","江戸川区立北小岩小学校","江戸川区北小岩２－１５－１","1330051","2020-12-22","","131039",""]
[{"$f":"INDEX(学校種!B:B,MATCH(D17463,学校種!A:A,0))","v":"小学校"},{"$f":"INDEX(_tmp2!B:B,MATCH(E17463,_tmp2!A:A,0))","v":"東京都"},"B113220100110","B1","13","2","1","八王子市立大和田小学校","八王子市大和田町４－１９－１","1920045","2020-12-22","","131139",""]
[{"$f":"INDEX(学校種!B:B,MATCH(D17489,学校種!A:A,0))","v":"小学校"},{"$f":"INDEX(_tmp2!B:B,MATCH(E17489,_tmp2!A:A,0))","v":"東京都"},"B113220100370","B1","13","2","1","八王子市立小宮小学校","八王子市小宮町１１２８－３","1920031","2020-12-22","","131143",""]
[{"$f":"INDEX(学校種!B:B,MATCH(D17501,学校種!A:A,0))","v":"小学校"},{"$f":"INDEX(_tmp2!B:B,MATCH(E17501,_tmp2!A:A,0))","v":"東京都"},"B113220100496","B1","13","2","1","八王子市立松枝小学校","八王子市楢原町６０１－１３","1930803","2020-12-22","","131712",""]
[{"$f":"INDEX(学校種!B:B,MATCH(D17550,学校種!A:A,0))","v":"小学校"},{"$f":"INDEX(_tmp2!B:B,MATCH(E17550,_tmp2!A:A,0))","v":"東京都"},"B113220300109","B1","13","2","1","武蔵野市立井之頭小学校","武蔵野市吉祥寺本町３－２７－１９","1800004","2020-12-22","","131180",""]
[{"$f":"INDEX(学校種!B:B,MATCH(D17571,学校種!A:A,0))","v":"小学校"},{"$f":"INDEX(_tmp2!B:B,MATCH(E17571,_tmp2!A:A,0))","v":"東京都"},"B113220500045","B1","13","2","1","青梅市立第四小学校","青梅市東青梅６－１－１","1980042","2020-12-22","","131217",""]
[{"$f":"INDEX(学校種!B:B,MATCH(D17583,学校種!A:A,0))","v":"小学校"},{"$f":"INDEX(_tmp2!B:B,MATCH(E17583,_tmp2!A:A,0))","v":"東京都"},"B113220500161","B1","13","2","1","青梅市立成木小学校","青梅市成木３－４２３－１","1980001","2020-12-22","","131236",""]
[{"$f":"INDEX(学校種!B:B,MATCH(D17609,学校種!A:A,0))","v":"小学校"},{"$f":"INDEX(_tmp2!B:B,MATCH(E17609,_tmp2!A:A,0))","v":"東京都"},"B113220700034","B1","13","2","1","昭島市立玉川小学校","昭島市福島町２－８－１","1960031","2020-12-22","","131263",""]
[{"$f":"INDEX(学校種!B:B,MATCH(D17640,学校種!A:A,0))","v":"小学校"},{"$f":"INDEX(_tmp2!B:B,MATCH(E17640,_tmp2!A:A,0))","v":"東京都"},"B113220900014","B1","13","2","1","町田市立町田第一小学校","町田市中町１－２０－３０","1940021","2020-12-22","","131301",""]
[{"$f":"INDEX(学校種!B:B,MATCH(D17674,学校種!A:A,0))","v":"小学校"},{"$f":"INDEX(_tmp2!B:B,MATCH(E17674,_tmp2!A:A,0))","v":"東京都"},"B113220900354","B1","13","2","1","町田市立大戸小学校","町田市相原町３７６５－３","1940211","2020-12-22","","131726",""]
[{"$f":"INDEX(学校種!B:B,MATCH(D17701,学校種!A:A,0))","v":"小学校"},{"$f":"INDEX(_tmp2!B:B,MATCH(E17701,_tmp2!A:A,0))","v":"東京都"},"B113221100118","B1","13","2","1","小平市立小平第十一小学校","小平市花小金井４－１６－１","1870002","2020-12-22","","131361",""]
[{"$f":"INDEX(学校種!B:B,MATCH(D17739,学校種!A:A,0))","v":"小学校"},{"$f":"INDEX(_tmp2!B:B,MATCH(E17739,_tmp2!A:A,0))","v":"東京都"},"B113221300134","B1","13","2","1","東村山市立野火止小学校","東村山市恩多町５－４７－１","1890011","2020-12-22","","131403",""]
[{"$f":"INDEX(学校種!B:B,MATCH(D17762,学校種!A:A,0))","v":"小学校"},{"$f":"INDEX(_tmp2!B:B,MATCH(E17762,_tmp2!A:A,0))","v":"東京都"},"B113221800031","B1","13","2","1","福生市立福生第三小学校","福生市牛浜１６２","1970024","2020-12-22","","131503",""]
[{"$f":"INDEX(学校種!B:B,MATCH(D17782,学校種!A:A,0))","v":"小学校"},{"$f":"INDEX(_tmp2!B:B,MATCH(E17782,_tmp2!A:A,0))","v":"東京都"},"B113222000108","B1","13","2","1","東大和市立第十小学校","東大和市上北台３－３９９","2070023","2020-12-22","","131630",""]
[{"$f":"INDEX(学校種!B:B,MATCH(D17823,学校種!A:A,0))","v":"小学校"},{"$f":"INDEX(_tmp2!B:B,MATCH(E17823,_tmp2!A:A,0))","v":"東京都"},"B113222400113","B1","13","2","1","多摩市立諏訪小学校","多摩市諏訪５－１３","2060024","2020-12-22","","131755",""]
[{"$f":"INDEX(学校種!B:B,MATCH(D17847,学校種!A:A,0))","v":"小学校"},{"$f":"INDEX(_tmp2!B:B,MATCH(E17847,_tmp2!A:A,0))","v":"東京都"},"B113222700067","B1","13","2","1","羽村市立小作台小学校","羽村市小作台４－１３－１","2050001","2020-12-22","","131516",""]
[{"$f":"INDEX(学校種!B:B,MATCH(D17856,学校種!A:A,0))","v":"小学校"},{"$f":"INDEX(_tmp2!B:B,MATCH(E17856,_tmp2!A:A,0))","v":"東京都"},"B113222800084","B1","13","2","1","あきる野市立前田小学校","あきる野市野辺９２","1970823","2020-12-22","","131538",""]
[{"$f":"INDEX(学校種!B:B,MATCH(D17885,学校種!A:A,0))","v":"小学校"},{"$f":"INDEX(_tmp2!B:B,MATCH(E17885,_tmp2!A:A,0))","v":"東京都"},"B113230700015","B1","13","2","1","檜原村立檜原小学校","西多摩郡檜原村６００","1900214","2020-12-22","","131561",""]
[{"$f":"INDEX(学校種!B:B,MATCH(D17934,学校種!A:A,0))","v":"小学校"},{"$f":"INDEX(_tmp2!B:B,MATCH(E17934,_tmp2!A:A,0))","v":"東京都"},"B113311700022","B1","13","3","1","星美学園小学校","北区赤羽台４－２－１４","1158524","2020-12-22","","132066",""]
[{"$f":"INDEX(学校種!B:B,MATCH(D17946,学校種!A:A,0))","v":"小学校"},{"$f":"INDEX(_tmp2!B:B,MATCH(E17946,_tmp2!A:A,0))","v":"東京都"},"B113320800022","B1","13","3","1","桐朋小学校","調布市若葉町１－４１－１","1828510","2020-12-22","","132123",""]
[{"$f":"INDEX(学校種!B:B,MATCH(D17972,学校種!A:A,0))","v":"中学校"},{"$f":"INDEX(_tmp2!B:B,MATCH(E17972,_tmp2!A:A,0))","v":"東京都"},"C113210300028","C1","13","2","1","港区立白金の丘中学校","港区白金４－１－１２","1080072","2020-12-22","","133555",""]
[{"$f":"INDEX(学校種!B:B,MATCH(D18003,学校種!A:A,0))","v":"中学校"},{"$f":"INDEX(_tmp2!B:B,MATCH(E18003,_tmp2!A:A,0))","v":"東京都"},"C113210600034","C1","13","2","1","台東区立駒形中学校","台東区北上野２－１５－１","1100014","2020-12-22","","133619",""]
[{"$f":"INDEX(学校種!B:B,MATCH(D18037,学校種!A:A,0))","v":"中学校"},{"$f":"INDEX(_tmp2!B:B,MATCH(E18037,_tmp2!A:A,0))","v":"東京都"},"C113210800201","C1","13","2","1","江東区立第二南砂中学校","江東区南砂１－２－１８","1360076","2020-12-22","","133672",""]
[{"$f":"INDEX(学校種!B:B,MATCH(D18064,学校種!A:A,0))","v":"中学校"},{"$f":"INDEX(_tmp2!B:B,MATCH(E18064,_tmp2!A:A,0))","v":"東京都"},"C113211100064","C1","13","2","1","大田区立貝塚中学校","大田区中馬込３－１３－１","1430027","2020-12-22","","133726",""]
[{"$f":"INDEX(学校種!B:B,MATCH(D18102,学校種!A:A,0))","v":"中学校"},{"$f":"INDEX(_tmp2!B:B,MATCH(E18102,_tmp2!A:A,0))","v":"東京都"},"C113211200161","C1","13","2","1","世田谷区立深沢中学校","世田谷区新町１－２６－２９","1540014","2020-12-22","","133780",""]
[{"$f":"INDEX(学校種!B:B,MATCH(D18125,学校種!A:A,0))","v":"中学校"},{"$f":"INDEX(_tmp2!B:B,MATCH(E18125,_tmp2!A:A,0))","v":"東京都"},"C113211400025","C1","13","2","9","中野区立第四中学校","中野区若宮１－１－１８","1650033","2020-12-22","2021-05-27","133824",""]
[{"$f":"INDEX(学校種!B:B,MATCH(D18145,学校種!A:A,0))","v":"中学校"},{"$f":"INDEX(_tmp2!B:B,MATCH(E18145,_tmp2!A:A,0))","v":"東京都"},"C113211500113","C1","13","2","1","杉並区立荻窪中学校","杉並区善福寺１－８－３","1670041","2020-12-22","","133852",""]
[{"$f":"INDEX(学校種!B:B,MATCH(D18158,学校種!A:A,0))","v":"中学校"},{"$f":"INDEX(_tmp2!B:B,MATCH(E18158,_tmp2!A:A,0))","v":"東京都"},"C113211600014","C1","13","2","1","豊島区立駒込中学校","豊島区駒込４－５－１","1700003","2020-12-22","","133871",""]
[{"$f":"INDEX(学校種!B:B,MATCH(D18210,学校種!A:A,0))","v":"中学校"},{"$f":"INDEX(_tmp2!B:B,MATCH(E18210,_tmp2!A:A,0))","v":"東京都"},"C113212000018","C1","13","2","1","練馬区立旭丘中学校","練馬区旭丘２－４０－１","1760005","2020-12-22","","133971",""]
[{"$f":"INDEX(学校種!B:B,MATCH(D18215,学校種!A:A,0))","v":"中学校"},{"$f":"INDEX(_tmp2!B:B,MATCH(E18215,_tmp2!A:A,0))","v":"東京都"},"C113212000063","C1","13","2","1","練馬区立開進第二中学校","練馬区練馬２－２７－２８","1760001","2020-12-22","","133975",""]
[{"$f":"INDEX(学校種!B:B,MATCH(D18248,学校種!A:A,0))","v":"中学校"},{"$f":"INDEX(_tmp2!B:B,MATCH(E18248,_tmp2!A:A,0))","v":"東京都"},"C113212100062","C1","13","2","1","足立区立第九中学校","足立区梅田６－３２－１","1230851","2020-12-22","","134009",""]
[{"$f":"INDEX(学校種!B:B,MATCH(D18276,学校種!A:A,0))","v":"中学校"},{"$f":"INDEX(_tmp2!B:B,MATCH(E18276,_tmp2!A:A,0))","v":"東京都"},"C113212100348","C1","13","2","1","足立区立鹿浜菜の花中学校","足立区江北７－１７－１１","1230872","2020-12-22","","134002",""]
[{"$f":"INDEX(学校種!B:B,MATCH(D18313,学校種!A:A,0))","v":"中学校"},{"$f":"INDEX(_tmp2!B:B,MATCH(E18313,_tmp2!A:A,0))","v":"東京都"},"C113212300122","C1","13","2","1","江戸川区立瑞江第二中学校","江戸川区瑞江４－５４－１","132001１","2020-12-22","","134072",""]
[{"$f":"INDEX(学校種!B:B,MATCH(D18337,学校種!A:A,0))","v":"中学校"},{"$f":"INDEX(_tmp2!B:B,MATCH(E18337,_tmp2!A:A,0))","v":"東京都"},"C113220100038","C1","13","2","1","八王子市立第四中学校","八王子市元本郷町２－２１－１","1920051","2020-12-22","","134104",""]
[{"$f":"INDEX(学校種!B:B,MATCH(D18356,学校種!A:A,0))","v":"中学校"},{"$f":"INDEX(_tmp2!B:B,MATCH(E18356,_tmp2!A:A,0))","v":"東京都"},"C113220100225","C1","13","2","1","八王子市立ひよどり山中学校","八王子市暁町３－１－１","1920043","2020-12-22","","134380",""]
[{"$f":"INDEX(学校種!B:B,MATCH(D18398,学校種!A:A,0))","v":"中学校"},{"$f":"INDEX(_tmp2!B:B,MATCH(E18398,_tmp2!A:A,0))","v":"東京都"},"C113220500052","C1","13","2","1","青梅市立第六中学校","青梅市小曽木４－２０４０","1980003","2020-12-22","","134156",""]
[{"$f":"INDEX(学校種!B:B,MATCH(D18427,学校種!A:A,0))","v":"中学校"},{"$f":"INDEX(_tmp2!B:B,MATCH(E18427,_tmp2!A:A,0))","v":"東京都"},"C113220800068","C1","13","2","1","調布市立第六中学校","調布市国領町３－８－２３","1820022","2020-12-22","","134186",""]
[{"$f":"INDEX(学校種!B:B,MATCH(D18438,学校種!A:A,0))","v":"中学校"},{"$f":"INDEX(_tmp2!B:B,MATCH(E18438,_tmp2!A:A,0))","v":"東京都"},"C113220900094","C1","13","2","1","町田市立鶴川第二中学校","町田市鶴川６－４","1950061","2020-12-22","","134199",""]
[{"$f":"INDEX(学校種!B:B,MATCH(D18488,学校種!A:A,0))","v":"中学校"},{"$f":"INDEX(_tmp2!B:B,MATCH(E18488,_tmp2!A:A,0))","v":"東京都"},"C113221800020","C1","13","2","1","福生市立福生第二中学校","福生市加美平１－２２－１","1970012","2020-12-22","","134302",""]
[{"$f":"INDEX(学校種!B:B,MATCH(D18508,学校種!A:A,0))","v":"中学校"},{"$f":"INDEX(_tmp2!B:B,MATCH(E18508,_tmp2!A:A,0))","v":"東京都"},"C113222200051","C1","13","2","1","東久留米市立大門中学校","東久留米市大門町２－１３－８","2030011","2020-12-22","","134375",""]
[{"$f":"INDEX(学校種!B:B,MATCH(D18521,学校種!A:A,0))","v":"中学校"},{"$f":"INDEX(_tmp2!B:B,MATCH(E18521,_tmp2!A:A,0))","v":"東京都"},"C113222400068","C1","13","2","1","多摩市立鶴牧中学校","多摩市鶴牧６－５－１","2060034","2020-12-22","","134340",""]
[{"$f":"INDEX(学校種!B:B,MATCH(D18546,学校種!A:A,0))","v":"中学校"},{"$f":"INDEX(_tmp2!B:B,MATCH(E18546,_tmp2!A:A,0))","v":"東京都"},"C113222900072","C1","13","2","1","西東京市立青嵐中学校","西東京市北町２－１３－１７","2020003","2020-12-22","","134273",""]
[{"$f":"INDEX(学校種!B:B,MATCH(D18578,学校種!A:A,0))","v":"中学校"},{"$f":"INDEX(_tmp2!B:B,MATCH(E18578,_tmp2!A:A,0))","v":"東京都"},"C113310100046","C1","13","3","1","麹町学園女子中学校","千代田区麹町３－８","1020083","2020-12-22","","134505",""]
[{"$f":"INDEX(学校種!B:B,MATCH(D18611,学校種!A:A,0))","v":"中学校"},{"$f":"INDEX(_tmp2!B:B,MATCH(E18611,_tmp2!A:A,0))","v":"東京都"},"C113310500060","C1","13","3","1","東洋大学京北中学校","文京区白山２－３６－５","1128607","2020-12-22","","134578",""]
[{"$f":"INDEX(学校種!B:B,MATCH(D18639,学校種!A:A,0))","v":"中学校"},{"$f":"INDEX(_tmp2!B:B,MATCH(E18639,_tmp2!A:A,0))","v":"東京都"},"C113311100026","C1","13","3","1","清明学園中学校","大田区南雪谷３－１２－２６","1450066","2020-12-22","","134673",""]
[{"$f":"INDEX(学校種!B:B,MATCH(D18676,学校種!A:A,0))","v":"中学校"},{"$f":"INDEX(_tmp2!B:B,MATCH(E18676,_tmp2!A:A,0))","v":"東京都"},"C113311500068","C1","13","3","1","日本大学第二中学校","杉並区天沼１－４５－３３","1670032","2020-12-22","","134749",""]
[{"$f":"INDEX(学校種!B:B,MATCH(D18700,学校種!A:A,0))","v":"中学校"},{"$f":"INDEX(_tmp2!B:B,MATCH(E18700,_tmp2!A:A,0))","v":"東京都"},"C113311800029","C1","13","3","1","北豊島中学校","荒川区東尾久６－３４－２４","1168555","2020-12-22","","134803",""]
[{"$f":"INDEX(学校種!B:B,MATCH(D18719,学校種!A:A,0))","v":"中学校"},{"$f":"INDEX(_tmp2!B:B,MATCH(E18719,_tmp2!A:A,0))","v":"東京都"},"C113320100036","C1","13","3","1","明治大学付属中野八王子中学校","八王子市戸吹町１１００","1920001","2020-12-22","","134903",""]
[{"$f":"INDEX(学校種!B:B,MATCH(D18761,学校種!A:A,0))","v":"中学校"},{"$f":"INDEX(_tmp2!B:B,MATCH(E18761,_tmp2!A:A,0))","v":"東京都"},"C113322900016","C1","13","3","1","文華女子中学校","西東京市西原町４－５－８５","1880004","2020-12-22","","135051",""]
[{"$f":"INDEX(学校種!B:B,MATCH(D18784,学校種!A:A,0))","v":"高等学校"},{"$f":"INDEX(_tmp2!B:B,MATCH(E18784,_tmp2!A:A,0))","v":"東京都"},"D113299901086","D1","13","2","1","東京都立大森高等学校","大田区西蒲田２－２－１","1440051","2020-12-22","","135520",""]
[{"$f":"INDEX(学校種!B:B,MATCH(D18818,学校種!A:A,0))","v":"高等学校"},{"$f":"INDEX(_tmp2!B:B,MATCH(E18818,_tmp2!A:A,0))","v":"東京都"},"D113299903075","D1","13","2","1","東京都立杉並高等学校","杉並区成田西４－１５－１５","1660016","2020-12-22","","135595",""]
[{"$f":"INDEX(学校種!B:B,MATCH(D18822,学校種!A:A,0))","v":"高等学校"},{"$f":"INDEX(_tmp2!B:B,MATCH(E18822,_tmp2!A:A,0))","v":"東京都"},"D113299903119","D1","13","2","1","東京都立練馬高等学校","練馬区春日町４－２８－２５","1798908","2020-12-22","","135601",""]
[{"$f":"INDEX(学校種!B:B,MATCH(D18851,学校種!A:A,0))","v":"高等学校"},{"$f":"INDEX(_tmp2!B:B,MATCH(E18851,_tmp2!A:A,0))","v":"東京都"},"D113299905037","D1","13","2","1","東京都立上野高等学校","台東区上野公園１０－１４","1108717","2020-12-22","","135674",""]
[{"$f":"INDEX(学校種!B:B,MATCH(D18887,学校種!A:A,0))","v":"高等学校"},{"$f":"INDEX(_tmp2!B:B,MATCH(E18887,_tmp2!A:A,0))","v":"東京都"},"D113299906223","D1","13","2","1","東京都立墨田工業高等学校","江東区森下５－１－７","1350004","2020-12-22","","135740",""]
[{"$f":"INDEX(学校種!B:B,MATCH(D18912,学校種!A:A,0))","v":"高等学校"},{"$f":"INDEX(_tmp2!B:B,MATCH(E18912,_tmp2!A:A,0))","v":"東京都"},"D113299908034","D1","13","2","1","東京都立昭和高等学校","昭島市東町２－３－２１","1960033","2020-12-22","","135797",""]
[{"$f":"INDEX(学校種!B:B,MATCH(D18941,学校種!A:A,0))","v":"高等学校"},{"$f":"INDEX(_tmp2!B:B,MATCH(E18941,_tmp2!A:A,0))","v":"東京都"},"D113299909168","D1","13","2","1","東京都立田無工業高等学校","西東京市向台町１－９－１","1880013","2020-12-22","","135814",""]
[{"$f":"INDEX(学校種!B:B,MATCH(D18974,学校種!A:A,0))","v":"高等学校"},{"$f":"INDEX(_tmp2!B:B,MATCH(E18974,_tmp2!A:A,0))","v":"東京都"},"D113310100124","D1","13","3","1","雙葉高等学校","千代田区六番町１４－１","1028470","2020-12-22","","135963",""]
[{"$f":"INDEX(学校種!B:B,MATCH(D19002,学校種!A:A,0))","v":"高等学校"},{"$f":"INDEX(_tmp2!B:B,MATCH(E19002,_tmp2!A:A,0))","v":"東京都"},"D113310500013","D1","13","3","1","中央大学高等学校","文京区春日１－１３－２７","1128551","2020-12-22","","135968",""]
[{"$f":"INDEX(学校種!B:B,MATCH(D19012,学校種!A:A,0))","v":"高等学校"},{"$f":"INDEX(_tmp2!B:B,MATCH(E19012,_tmp2!A:A,0))","v":"東京都"},"D113310500111","D1","13","3","1","駒込高等学校","文京区千駄木５－６－２５","1130022","2020-12-22","","136039",""]
[{"$f":"INDEX(学校種!B:B,MATCH(D19063,学校種!A:A,0))","v":"高等学校"},{"$f":"INDEX(_tmp2!B:B,MATCH(E19063,_tmp2!A:A,0))","v":"東京都"},"D113311200112","D1","13","3","1","昭和女子大学附属昭和高等学校","世田谷区太子堂１－７－５７","1548533","2020-12-22","","136131",""]
[{"$f":"INDEX(学校種!B:B,MATCH(D19082,学校種!A:A,0))","v":"高等学校"},{"$f":"INDEX(_tmp2!B:B,MATCH(E19082,_tmp2!A:A,0))","v":"東京都"},"D113311300031","D1","13","3","1","國學院高等学校","渋谷区神宮前２－２－３","1500001","2020-12-22","","136155",""]
[{"$f":"INDEX(学校種!B:B,MATCH(D19096,学校種!A:A,0))","v":"高等学校"},{"$f":"INDEX(_tmp2!B:B,MATCH(E19096,_tmp2!A:A,0))","v":"東京都"},"D113311500020","D1","13","3","1","光塩女子学院高等科","杉並区高円寺南２－３３－２８","1660003","2020-12-22","","136182",""]
[{"$f":"INDEX(学校種!B:B,MATCH(D19147,学校種!A:A,0))","v":"高等学校"},{"$f":"INDEX(_tmp2!B:B,MATCH(E19147,_tmp2!A:A,0))","v":"東京都"},"D113312200012","D1","13","3","1","共栄学園高等学校","葛飾区お花茶屋２－６－１","1240003","2020-12-22","","136275",""]
[{"$f":"INDEX(学校種!B:B,MATCH(D19153,学校種!A:A,0))","v":"高等学校"},{"$f":"INDEX(_tmp2!B:B,MATCH(E19153,_tmp2!A:A,0))","v":"東京都"},"D113320100025","D1","13","3","1","帝京八王子高等学校","八王子市上川町３７６６","1920151","2020-12-22","","136159",""]
[{"$f":"INDEX(学校種!B:B,MATCH(D19185,学校種!A:A,0))","v":"高等学校"},{"$f":"INDEX(_tmp2!B:B,MATCH(E19185,_tmp2!A:A,0))","v":"東京都"},"D113321100014","D1","13","3","1","錦城高等学校","小平市大沼町５－３－７","1870001","2020-12-22","","136374",""]
[{"$f":"INDEX(学校種!B:B,MATCH(D19214,学校種!A:A,0))","v":"特別支援学校"},{"$f":"INDEX(_tmp2!B:B,MATCH(E19214,_tmp2!A:A,0))","v":"東京都"},"E113110000037","E1","13","1","1","筑波大学附属桐が丘特別支援学校","板橋区小茂根２－１－１２","1730037","2020-12-22","","139902",""]
[{"$f":"INDEX(学校種!B:B,MATCH(D19250,学校種!A:A,0))","v":"特別支援学校"},{"$f":"INDEX(_tmp2!B:B,MATCH(E19250,_tmp2!A:A,0))","v":"東京都"},"E113299940102","E1","13","2","1","東京都立調布特別支援学校","調布市調布ヶ丘１－１－２","1820021","2020-12-22","","139940",""]
[{"$f":"INDEX(学校種!B:B,MATCH(D19275,学校種!A:A,0))","v":"特別支援学校"},{"$f":"INDEX(_tmp2!B:B,MATCH(E19275,_tmp2!A:A,0))","v":"東京都"},"E113299940353","E1","13","2","1","都立城東特別支援学校","江東区大島６－７－３","1360072","2020-12-22","","139932",""]
[{"$f":"INDEX(学校種!B:B,MATCH(D19293,学校種!A:A,0))","v":"専修学校"},{"$f":"INDEX(_tmp2!B:B,MATCH(E19293,_tmp2!A:A,0))","v":"東京都"},"H113310100027","H1","13","3","1","専門学校お茶の水スクール・オブ・ビジネス","千代田区神田小川町３－２８－１０","1010052","2020-12-22","","138563",""]
[{"$f":"INDEX(学校種!B:B,MATCH(D19336,学校種!A:A,0))","v":"専修学校"},{"$f":"INDEX(_tmp2!B:B,MATCH(E19336,_tmp2!A:A,0))","v":"東京都"},"H113310400033","H1","13","3","1","東放学園高等専修学校","新宿区西新宿４－５－２","1600023","2020-12-22","","138590",""]
[{"$f":"INDEX(学校種!B:B,MATCH(D19358,学校種!A:A,0))","v":"専修学校"},{"$f":"INDEX(_tmp2!B:B,MATCH(E19358,_tmp2!A:A,0))","v":"東京都"},"H113310400257","H1","13","3","1","独立行政法人地域医療機能推進機構東京新宿メディカルセンター附属看護専門学校","新宿区揚場町２－２８","1620824","2020-12-22","","138789",""]
[{"$f":"INDEX(学校種!B:B,MATCH(D19369,学校種!A:A,0))","v":"専修学校"},{"$f":"INDEX(_tmp2!B:B,MATCH(E19369,_tmp2!A:A,0))","v":"東京都"},"H113310400364","H1","13","3","1","専修学校早稲田ゼミナール","新宿区高田馬場１－２４－１３","1690075","2020-12-22","","138876",""]
[{"$f":"INDEX(学校種!B:B,MATCH(D19423,学校種!A:A,0))","v":"専修学校"},{"$f":"INDEX(_tmp2!B:B,MATCH(E19423,_tmp2!A:A,0))","v":"東京都"},"H113310800020","H1","13","3","1","臨床福祉専門学校","江東区塩浜２－２２－１０","1350043","2020-12-22","","138728",""]
[{"$f":"INDEX(学校種!B:B,MATCH(D19426,学校種!A:A,0))","v":"専修学校"},{"$f":"INDEX(_tmp2!B:B,MATCH(E19426,_tmp2!A:A,0))","v":"東京都"},"H113310800057","H1","13","3","1","専門学校読売自動車大学校","江東区亀戸２－２８－５","1360071","2020-12-22","","138886",""]
[{"$f":"INDEX(学校種!B:B,MATCH(D19459,学校種!A:A,0))","v":"専修学校"},{"$f":"INDEX(_tmp2!B:B,MATCH(E19459,_tmp2!A:A,0))","v":"東京都"},"H113311200088","H1","13","3","1","世田谷福祉専門学校","世田谷区船橋７－１９－１７","1560055","2020-12-22","","138905",""]
[{"$f":"INDEX(学校種!B:B,MATCH(D19483,学校種!A:A,0))","v":"専修学校"},{"$f":"INDEX(_tmp2!B:B,MATCH(E19483,_tmp2!A:A,0))","v":"東京都"},"H113311300185","H1","13","3","1","国際文化理容美容専門学校渋谷校","渋谷区神泉町２－２","1500045","2020-12-22","","138676",""]
[{"$f":"INDEX(学校種!B:B,MATCH(D19516,学校種!A:A,0))","v":"専修学校"},{"$f":"INDEX(_tmp2!B:B,MATCH(E19516,_tmp2!A:A,0))","v":"東京都"},"H113311400120","H1","13","3","1","織田栄養専門学校","中野区中野５－３２－８","1640001","2020-12-22","","138864",""]
[{"$f":"INDEX(学校種!B:B,MATCH(D19548,学校種!A:A,0))","v":"専修学校"},{"$f":"INDEX(_tmp2!B:B,MATCH(E19548,_tmp2!A:A,0))","v":"東京都"},"H113311600119","H1","13","3","1","専門学校武蔵野ファッションカレッジ","豊島区南池袋３－１２－５","1710022","2020-12-22","","138706",""]
[{"$f":"INDEX(学校種!B:B,MATCH(D19577,学校種!A:A,0))","v":"専修学校"},{"$f":"INDEX(_tmp2!B:B,MATCH(E19577,_tmp2!A:A,0))","v":"東京都"},"H113311700010","H1","13","3","1","中央動物専門学校","北区東田端１－８－１１","1140013","2020-12-22","","138679",""]
[{"$f":"INDEX(学校種!B:B,MATCH(D19613,学校種!A:A,0))","v":"専修学校"},{"$f":"INDEX(_tmp2!B:B,MATCH(E19613,_tmp2!A:A,0))","v":"東京都"},"H113312200031","H1","13","3","1","葛飾区医師会附属看護専門学校","葛飾区四つ木１－６－５","1240011","2020-12-22","","138804",""]
[{"$f":"INDEX(学校種!B:B,MATCH(D19638,学校種!A:A,0))","v":"専修学校"},{"$f":"INDEX(_tmp2!B:B,MATCH(E19638,_tmp2!A:A,0))","v":"東京都"},"H113320100026","H1","13","3","1","専門学校トヨタ東京自動車大学校","八王子市館町２１９３","1930944","2020-12-22","","138739",""]
[{"$f":"INDEX(学校種!B:B,MATCH(D19656,学校種!A:A,0))","v":"専修学校"},{"$f":"INDEX(_tmp2!B:B,MATCH(E19656,_tmp2!A:A,0))","v":"東京都"},"H113320300033","H1","13","3","1","専門学校中野スクール・オブ・ビジネス","武蔵野市吉祥寺南町２－４－１","1800003","2020-12-22","","138811",""]
[{"$f":"INDEX(学校種!B:B,MATCH(D19699,学校種!A:A,0))","v":"各種学校"},{"$f":"INDEX(_tmp2!B:B,MATCH(E19699,_tmp2!A:A,0))","v":"東京都"},"H213310200025","H2","13","3","1","東京仏教学院","中央区築地３－１５－１築地本願寺内","1048435","2020-12-22","","139164",""]
[{"$f":"INDEX(学校種!B:B,MATCH(D19721,学校種!A:A,0))","v":"各種学校"},{"$f":"INDEX(_tmp2!B:B,MATCH(E19721,_tmp2!A:A,0))","v":"東京都"},"H213310400158","H2","13","3","1","新宿経理学校","新宿区","1600022","2020-12-22","","139246",""]
[{"$f":"INDEX(学校種!B:B,MATCH(D19728,学校種!A:A,0))","v":"各種学校"},{"$f":"INDEX(_tmp2!B:B,MATCH(E19728,_tmp2!A:A,0))","v":"東京都"},"H213310500040","H2","13","3","1","東邦音楽学校","文京区大塚４－４６－９","1120012","2020-12-22","","139272",""]
[{"$f":"INDEX(学校種!B:B,MATCH(D19759,学校種!A:A,0))","v":"各種学校"},{"$f":"INDEX(_tmp2!B:B,MATCH(E19759,_tmp2!A:A,0))","v":"東京都"},"H213311200041","H2","13","3","1","自由ケ丘お料理学校","世田谷区奥沢５－２７－５","1580083","2020-12-22","","139385",""]
[{"$f":"INDEX(学校種!B:B,MATCH(D19789,学校種!A:A,0))","v":"各種学校"},{"$f":"INDEX(_tmp2!B:B,MATCH(E19789,_tmp2!A:A,0))","v":"東京都"},"H213311600038","H2","13","3","1","中央聖書神学校","豊島区駒込３－１５－２０","1700003","2020-12-22","","139496",""]
[{"$f":"INDEX(学校種!B:B,MATCH(D19824,学校種!A:A,0))","v":"各種学校"},{"$f":"INDEX(_tmp2!B:B,MATCH(E19824,_tmp2!A:A,0))","v":"東京都"},"H213312100068","H2","13","3","1","松山珠算学校","足立区梅島２－２３－４","1210816","2020-12-22","","139582",""]
[{"$f":"INDEX(学校種!B:B,MATCH(D19850,学校種!A:A,0))","v":"幼稚園(幼稚園型認定こども園を含む)"},{"$f":"INDEX(_tmp2!B:B,MATCH(E19850,_tmp2!A:A,0))","v":"神奈川県"},"A114220120019","A1","14","2","1","横須賀市立諏訪幼稚園","横須賀市小川町１８","2380004","2020-12-22","","146971",""]
[{"$f":"INDEX(学校種!B:B,MATCH(D19867,学校種!A:A,0))","v":"幼稚園(幼稚園型認定こども園を含む)"},{"$f":"INDEX(_tmp2!B:B,MATCH(E19867,_tmp2!A:A,0))","v":"神奈川県"},"A114221120080","A1","14","2","1","秦野市立ほりかわ幼稚園","秦野市堀川１０９－２","2591305","2020-12-22","","147435",""]
[{"$f":"INDEX(学校種!B:B,MATCH(D19911,学校種!A:A,0))","v":"幼稚園(幼稚園型認定こども園を含む)"},{"$f":"INDEX(_tmp2!B:B,MATCH(E19911,_tmp2!A:A,0))","v":"神奈川県"},"A114310000255","A1","14","3","1","横浜明星教会附属二本榎幼稚園","横浜市神奈川区二本榎９－１","2210813","2020-12-22","","146557",""]
[{"$f":"INDEX(学校種!B:B,MATCH(D19932,学校種!A:A,0))","v":"幼稚園(幼稚園型認定こども園を含む)"},{"$f":"INDEX(_tmp2!B:B,MATCH(E19932,_tmp2!A:A,0))","v":"神奈川県"},"A114310000460","A1","14","3","1","ルンビニ幼稚園","横浜市中区本牧元町２－１６","2310822","2020-12-22","","146663",""]
[{"$f":"INDEX(学校種!B:B,MATCH(D19972,学校種!A:A,0))","v":"幼稚園(幼稚園型認定こども園を含む)"},{"$f":"INDEX(_tmp2!B:B,MATCH(E19972,_tmp2!A:A,0))","v":"神奈川県"},"A114310000861","A1","14","3","1","根岸幼稚園","横浜市磯子区西町１－１","2350007","2020-12-22","","146816",""]
[{"$f":"INDEX(学校種!B:B,MATCH(D20001,学校種!A:A,0))","v":"幼稚園(幼稚園型認定こども園を含む)"},{"$f":"INDEX(_tmp2!B:B,MATCH(E20001,_tmp2!A:A,0))","v":"神奈川県"},"A114310001156","A1","14","3","1","綱島幼稚園","横浜市港北区綱島西１－１３－１５","2230053","2020-12-22","","146892",""]
[{"$f":"INDEX(学校種!B:B,MATCH(D20019,学校種!A:A,0))","v":"幼稚園(幼稚園型認定こども園を含む)"},{"$f":"INDEX(_tmp2!B:B,MATCH(E20019,_tmp2!A:A,0))","v":"神奈川県"},"A114310001334","A1","14","3","1","名瀬幼稚園","横浜市戸塚区名瀬町７９３－１","2450051","2020-12-22","","148141",""]
[{"$f":"INDEX(学校種!B:B,MATCH(D20034,学校種!A:A,0))","v":"幼稚園(幼稚園型認定こども園を含む)"},{"$f":"INDEX(_tmp2!B:B,MATCH(E20034,_tmp2!A:A,0))","v":"神奈川県"},"A114310001487","A1","14","3","1","英明幼稚園","横浜市泉区和泉中央南３－２－５６","2450023","2020-12-22","","146932",""]
[{"$f":"INDEX(学校種!B:B,MATCH(D20084,学校種!A:A,0))","v":"幼稚園(幼稚園型認定こども園を含む)"},{"$f":"INDEX(_tmp2!B:B,MATCH(E20084,_tmp2!A:A,0))","v":"神奈川県"},"A114310001986","A1","14","3","1","八朔幼稚園","横浜市緑区北八朔町１９８８－１２","2260021","2020-12-22","","148138",""]
[{"$f":"INDEX(学校種!B:B,MATCH(D20091,学校種!A:A,0))","v":"幼稚園(幼稚園型認定こども園を含む)"},{"$f":"INDEX(_tmp2!B:B,MATCH(E20091,_tmp2!A:A,0))","v":"神奈川県"},"A114310002057","A1","14","3","1","認定こども園横浜マドカ幼稚園","横浜市緑区霧が丘６－１４","2260016","2020-12-22","","148199",""]
[{"$f":"INDEX(学校種!B:B,MATCH(D20122,学校種!A:A,0))","v":"幼稚園(幼稚園型認定こども園を含む)"},{"$f":"INDEX(_tmp2!B:B,MATCH(E20122,_tmp2!A:A,0))","v":"神奈川県"},"A114310002360","A1","14","3","1","港北幼稚園","横浜市都筑区早渕３－３５－２５","2240025","2020-12-22","","148170",""]
[{"$f":"INDEX(学校種!B:B,MATCH(D20152,学校種!A:A,0))","v":"幼稚園(幼稚園型認定こども園を含む)"},{"$f":"INDEX(_tmp2!B:B,MATCH(E20152,_tmp2!A:A,0))","v":"神奈川県"},"A114313000213","A1","14","3","1","川崎こまどり幼稚園","川崎市幸区南加瀬１－１８－９","2120055","2020-12-22","","147059",""]
[{"$f":"INDEX(学校種!B:B,MATCH(D20187,学校種!A:A,0))","v":"幼稚園(幼稚園型認定こども園を含む)"},{"$f":"INDEX(_tmp2!B:B,MATCH(E20187,_tmp2!A:A,0))","v":"神奈川県"},"A114313000561","A1","14","3","1","玉幼稚園","川崎市多摩区宿河原５－１９－１","2140021","2020-12-22","","147088",""]
[{"$f":"INDEX(学校種!B:B,MATCH(D20213,学校種!A:A,0))","v":"幼稚園(幼稚園型認定こども園を含む)"},{"$f":"INDEX(_tmp2!B:B,MATCH(E20213,_tmp2!A:A,0))","v":"神奈川県"},"A114315000021","A1","14","3","1","大沢第二幼稚園（認定こども園げんきっこ）","相模原市緑区大島１３０４－２","2520135","2020-12-22","","147395",""]
[{"$f":"INDEX(学校種!B:B,MATCH(D20230,学校種!A:A,0))","v":"幼稚園(幼稚園型認定こども園を含む)"},{"$f":"INDEX(_tmp2!B:B,MATCH(E20230,_tmp2!A:A,0))","v":"神奈川県"},"A114315000192","A1","14","3","1","たけのうち幼稚園","相模原市中央区東淵野辺４－２３－２０","2520203","2020-12-22","","147393",""]
[{"$f":"INDEX(学校種!B:B,MATCH(D20274,学校種!A:A,0))","v":"幼稚園(幼稚園型認定こども園を含む)"},{"$f":"INDEX(_tmp2!B:B,MATCH(E20274,_tmp2!A:A,0))","v":"神奈川県"},"A114320100173","A1","14","3","1","聖心第三幼稚園","横須賀市汐見台２－１６－１５","2380054","2020-12-22","","146978",""]
[{"$f":"INDEX(学校種!B:B,MATCH(D20295,学校種!A:A,0))","v":"幼稚園(幼稚園型認定こども園を含む)"},{"$f":"INDEX(_tmp2!B:B,MATCH(E20295,_tmp2!A:A,0))","v":"神奈川県"},"A114320300064","A1","14","3","1","認定こども園さなだ幼稚園","平塚市真田４－１０－１５","2591206","2020-12-22","","147171",""]
[{"$f":"INDEX(学校種!B:B,MATCH(D20307,学校種!A:A,0))","v":"幼稚園(幼稚園型認定こども園を含む)"},{"$f":"INDEX(_tmp2!B:B,MATCH(E20307,_tmp2!A:A,0))","v":"神奈川県"},"A114320300180","A1","14","3","1","平塚二葉幼稚園","平塚市見附町６－１８","2540045","2020-12-22","","147162",""]
[{"$f":"INDEX(学校種!B:B,MATCH(D20333,学校種!A:A,0))","v":"幼稚園(幼稚園型認定こども園を含む)"},{"$f":"INDEX(_tmp2!B:B,MATCH(E20333,_tmp2!A:A,0))","v":"神奈川県"},"A114320500026","A1","14","3","1","秋葉台幼稚園","藤沢市遠藤２９５８－３","2520816","2020-12-22","","147257",""]
[{"$f":"INDEX(学校種!B:B,MATCH(D20364,学校種!A:A,0))","v":"幼稚園(幼稚園型認定こども園を含む)"},{"$f":"INDEX(_tmp2!B:B,MATCH(E20364,_tmp2!A:A,0))","v":"神奈川県"},"A114320600016","A1","14","3","1","浅野記念御濠端幼稚園","小田原市城内２－１６","2500014","2020-12-22","","147282",""]
[{"$f":"INDEX(学校種!B:B,MATCH(D20398,学校種!A:A,0))","v":"幼稚園(幼稚園型認定こども園を含む)"},{"$f":"INDEX(_tmp2!B:B,MATCH(E20398,_tmp2!A:A,0))","v":"神奈川県"},"A114321200018","A1","14","3","1","厚木幼稚園","厚木市幸町６－２２","2430012","2020-12-22","","147443",""]
[{"$f":"INDEX(学校種!B:B,MATCH(D20425,学校種!A:A,0))","v":"幼稚園(幼稚園型認定こども園を含む)"},{"$f":"INDEX(_tmp2!B:B,MATCH(E20425,_tmp2!A:A,0))","v":"神奈川県"},"A114321300106","A1","14","3","1","大和幼稚園","大和市大和東１－７－１６","2420017","2020-12-22","","147461",""]
[{"$f":"INDEX(学校種!B:B,MATCH(D20468,学校種!A:A,0))","v":"幼稚園(幼稚園型認定こども園を含む)"},{"$f":"INDEX(_tmp2!B:B,MATCH(E20468,_tmp2!A:A,0))","v":"神奈川県"},"A114332100016","A1","14","3","1","一之宮相和幼稚園","高座郡寒川町一之宮４－１４－７","2530111","2020-12-22","","147494",""]
[{"$f":"INDEX(学校種!B:B,MATCH(D20486,学校種!A:A,0))","v":"幼保連携型認定こども園"},{"$f":"INDEX(_tmp2!B:B,MATCH(E20486,_tmp2!A:A,0))","v":"神奈川県"},"A214221100038","A2","14","2","1","すえひろこども園","秦野市末広町６－３５","2570037","2020-12-22","","14A023",""]
[{"$f":"INDEX(学校種!B:B,MATCH(D20506,学校種!A:A,0))","v":"幼保連携型認定こども園"},{"$f":"INDEX(_tmp2!B:B,MATCH(E20506,_tmp2!A:A,0))","v":"神奈川県"},"A214310000147","A2","14","3","1","認定こども園峯岡幼稚園","横浜市保土ケ谷区峰岡町２－１９５","2400064","2020-12-22","","14A046",""]
[{"$f":"INDEX(学校種!B:B,MATCH(D20547,学校種!A:A,0))","v":"幼保連携型認定こども園"},{"$f":"INDEX(_tmp2!B:B,MATCH(E20547,_tmp2!A:A,0))","v":"神奈川県"},"A214315000048","A2","14","3","1","認定こども園相模女子大学幼稚部","相模原市南区文京２－１－１","2520307","2020-12-22","","14A067",""]
[{"$f":"INDEX(学校種!B:B,MATCH(D20576,学校種!A:A,0))","v":"幼保連携型認定こども園"},{"$f":"INDEX(_tmp2!B:B,MATCH(E20576,_tmp2!A:A,0))","v":"神奈川県"},"A214315000333","A2","14","3","1","たけのうちこども園","相模原市中央区東淵野辺４－２５－３","2520203","2020-12-22","","14A132",""]
[{"$f":"INDEX(学校種!B:B,MATCH(D20593,学校種!A:A,0))","v":"幼保連携型認定こども園"},{"$f":"INDEX(_tmp2!B:B,MATCH(E20593,_tmp2!A:A,0))","v":"神奈川県"},"A214320100083","A2","14","3","1","三和こども園","横須賀市田戸台２６","2380015","2020-12-22","","14A071",""]
[{"$f":"INDEX(学校種!B:B,MATCH(D20609,学校種!A:A,0))","v":"幼保連携型認定こども園"},{"$f":"INDEX(_tmp2!B:B,MATCH(E20609,_tmp2!A:A,0))","v":"神奈川県"},"A214320300018","A2","14","3","1","認定美里・柿の実こども園","平塚市下島８２４","2540003","2020-12-22","","14A056",""]
[{"$f":"INDEX(学校種!B:B,MATCH(D20658,学校種!A:A,0))","v":"小学校"},{"$f":"INDEX(_tmp2!B:B,MATCH(E20658,_tmp2!A:A,0))","v":"神奈川県"},"B114210020260","B1","14","2","1","横浜市立浦島小学校","横浜市神奈川区浦島丘１６","2210062","2020-12-22","","140046",""]
[{"$f":"INDEX(学校種!B:B,MATCH(D20666,学校種!A:A,0))","v":"小学校"},{"$f":"INDEX(_tmp2!B:B,MATCH(E20666,_tmp2!A:A,0))","v":"神奈川県"},"B114210020340","B1","14","2","1","横浜市立白幡小学校","横浜市神奈川区白幡上町１１－１","2210075","2020-12-22","","140050",""]
[{"$f":"INDEX(学校種!B:B,MATCH(D20696,学校種!A:A,0))","v":"小学校"},{"$f":"INDEX(_tmp2!B:B,MATCH(E20696,_tmp2!A:A,0))","v":"神奈川県"},"B114210020643","B1","14","2","1","横浜市立太田小学校","横浜市南区三春台４２","2320002","2020-12-22","","140113",""]
[{"$f":"INDEX(学校種!B:B,MATCH(D20727,学校種!A:A,0))","v":"小学校"},{"$f":"INDEX(_tmp2!B:B,MATCH(E20727,_tmp2!A:A,0))","v":"神奈川県"},"B114210020956","B1","14","2","1","横浜市立日野南小学校","横浜市港南区日野南６－３５－１","2340055","2020-12-22","","140154",""]
[{"$f":"INDEX(学校種!B:B,MATCH(D20761,学校種!A:A,0))","v":"小学校"},{"$f":"INDEX(_tmp2!B:B,MATCH(E20761,_tmp2!A:A,0))","v":"神奈川県"},"B114210021296","B1","14","2","1","横浜市立四季の森小学校","横浜市旭区上白根町９０１","2410001","2020-12-22","","140240",""]
[{"$f":"INDEX(学校種!B:B,MATCH(D20788,学校種!A:A,0))","v":"小学校"},{"$f":"INDEX(_tmp2!B:B,MATCH(E20788,_tmp2!A:A,0))","v":"神奈川県"},"B114210021562","B1","14","2","1","横浜市立洋光台第二小学校","横浜市磯子区洋光台４－１５－１","2350045","2020-12-22","","140262",""]
[{"$f":"INDEX(学校種!B:B,MATCH(D20804,学校種!A:A,0))","v":"小学校"},{"$f":"INDEX(_tmp2!B:B,MATCH(E20804,_tmp2!A:A,0))","v":"神奈川県"},"B114210021722","B1","14","2","1","横浜市立西柴小学校","横浜市金沢区西柴４－２３－１","2360017","2020-12-22","","140299",""]
[{"$f":"INDEX(学校種!B:B,MATCH(D20849,学校種!A:A,0))","v":"小学校"},{"$f":"INDEX(_tmp2!B:B,MATCH(E20849,_tmp2!A:A,0))","v":"神奈川県"},"B114210022179","B1","14","2","1","横浜市立三保小学校","横浜市緑区三保町１８６７","2260015","2020-12-22","","140399",""]
[{"$f":"INDEX(学校種!B:B,MATCH(D20869,学校種!A:A,0))","v":"小学校"},{"$f":"INDEX(_tmp2!B:B,MATCH(E20869,_tmp2!A:A,0))","v":"神奈川県"},"B114210022375","B1","14","2","1","横浜市立嶮山小学校","横浜市青葉区すすき野１－６－４","2250021","2020-12-22","","140417",""]
[{"$f":"INDEX(学校種!B:B,MATCH(D20910,学校種!A:A,0))","v":"小学校"},{"$f":"INDEX(_tmp2!B:B,MATCH(E20910,_tmp2!A:A,0))","v":"神奈川県"},"B114210022785","B1","14","2","1","横浜市立汲沢小学校","横浜市戸塚区汲沢３－６－１","2450061","2020-12-22","","140461",""]
[{"$f":"INDEX(学校種!B:B,MATCH(D20934,学校種!A:A,0))","v":"小学校"},{"$f":"INDEX(_tmp2!B:B,MATCH(E20934,_tmp2!A:A,0))","v":"神奈川県"},"B114210023025","B1","14","2","1","横浜市立桂台小学校","横浜市栄区桂台南１－１－１","2470033","2020-12-22","","140472",""]
[{"$f":"INDEX(学校種!B:B,MATCH(D20939,学校種!A:A,0))","v":"小学校"},{"$f":"INDEX(_tmp2!B:B,MATCH(E20939,_tmp2!A:A,0))","v":"神奈川県"},"B114210023070","B1","14","2","1","横浜市立桜井小学校","横浜市栄区上郷町２４２－２","2470013","2020-12-22","","140501",""]
[{"$f":"INDEX(学校種!B:B,MATCH(D20972,学校種!A:A,0))","v":"小学校"},{"$f":"INDEX(_tmp2!B:B,MATCH(E20972,_tmp2!A:A,0))","v":"神奈川県"},"B114210023409","B1","14","2","1","横浜市立南瀬谷小学校","横浜市瀬谷区南瀬谷１－１－１","2460034","2020-12-22","","140525",""]
[{"$f":"INDEX(学校種!B:B,MATCH(D21000,学校種!A:A,0))","v":"小学校"},{"$f":"INDEX(_tmp2!B:B,MATCH(E21000,_tmp2!A:A,0))","v":"神奈川県"},"B114213020273","B1","14","2","1","川崎市立東小倉小学校","川崎市幸区東小倉１－１","2120033","2020-12-22","","140721",""]
[{"$f":"INDEX(学校種!B:B,MATCH(D21042,学校種!A:A,0))","v":"小学校"},{"$f":"INDEX(_tmp2!B:B,MATCH(E21042,_tmp2!A:A,0))","v":"神奈川県"},"B114213020692","B1","14","2","1","川崎市立西野川小学校","川崎市宮前区野川台３－１０－１","2160001","2020-12-22","","140711",""]
[{"$f":"INDEX(学校種!B:B,MATCH(D21061,学校種!A:A,0))","v":"小学校"},{"$f":"INDEX(_tmp2!B:B,MATCH(E21061,_tmp2!A:A,0))","v":"神奈川県"},"B114213020889","B1","14","2","1","川崎市立登戸小学校","川崎市多摩区登戸１３２９","2140014","2020-12-22","","140671",""]
[{"$f":"INDEX(学校種!B:B,MATCH(D21090,学校種!A:A,0))","v":"小学校"},{"$f":"INDEX(_tmp2!B:B,MATCH(E21090,_tmp2!A:A,0))","v":"神奈川県"},"B114215020036","B1","14","2","1","相模原市立田名小学校","相模原市中央区田名５０９１－１","2520244","2020-12-22","","141153",""]
[{"$f":"INDEX(学校種!B:B,MATCH(D21124,学校種!A:A,0))","v":"小学校"},{"$f":"INDEX(_tmp2!B:B,MATCH(E21124,_tmp2!A:A,0))","v":"神奈川県"},"B114215020376","B1","14","2","1","相模原市立若草小学校","相模原市南区新磯野２３２９","2520325","2020-12-22","","141189",""]
[{"$f":"INDEX(学校種!B:B,MATCH(D21151,学校種!A:A,0))","v":"小学校"},{"$f":"INDEX(_tmp2!B:B,MATCH(E21151,_tmp2!A:A,0))","v":"神奈川県"},"B114215020642","B1","14","2","1","相模原市立鳥屋小学校","相模原市緑区鳥屋１３２１－３","2520155","2020-12-22","","142555",""]
[{"$f":"INDEX(学校種!B:B,MATCH(D21167,学校種!A:A,0))","v":"小学校"},{"$f":"INDEX(_tmp2!B:B,MATCH(E21167,_tmp2!A:A,0))","v":"神奈川県"},"B114220120106","B1","14","2","1","横須賀市立桜小学校","横須賀市坂本町１－１９","2380043","2020-12-22","","142731",""]
[{"$f":"INDEX(学校種!B:B,MATCH(D21212,学校種!A:A,0))","v":"小学校"},{"$f":"INDEX(_tmp2!B:B,MATCH(E21212,_tmp2!A:A,0))","v":"神奈川県"},"B114220320097","B1","14","2","1","平塚市立豊田小学校","平塚市豊田宮下５５２","2540085","2020-12-22","","140809",""]
[{"$f":"INDEX(学校種!B:B,MATCH(D21232,学校種!A:A,0))","v":"小学校"},{"$f":"INDEX(_tmp2!B:B,MATCH(E21232,_tmp2!A:A,0))","v":"神奈川県"},"B114220320293","B1","14","2","2","平塚市立金目小学校五領ヶ台分校","平塚市片岡９９１－１","2591213","2020-12-22","","140829",""]
[{"$f":"INDEX(学校種!B:B,MATCH(D21241,学校種!A:A,0))","v":"小学校"},{"$f":"INDEX(_tmp2!B:B,MATCH(E21241,_tmp2!A:A,0))","v":"神奈川県"},"B114220420096","B1","14","2","1","鎌倉市立富士塚小学校","鎌倉市上町屋８１０","2470065","2020-12-22","","140867",""]
[{"$f":"INDEX(学校種!B:B,MATCH(D21270,学校種!A:A,0))","v":"小学校"},{"$f":"INDEX(_tmp2!B:B,MATCH(E21270,_tmp2!A:A,0))","v":"神奈川県"},"B114220520228","B1","14","2","1","藤沢市立羽鳥小学校","藤沢市羽鳥３－１１－１","2510056","2020-12-22","","140926",""]
[{"$f":"INDEX(学校種!B:B,MATCH(D21302,学校種!A:A,0))","v":"小学校"},{"$f":"INDEX(_tmp2!B:B,MATCH(E21302,_tmp2!A:A,0))","v":"神奈川県"},"B114220620192","B1","14","2","1","小田原市立東富水小学校","小田原市中曽根３５９－１","2500866","2020-12-22","","141021",""]
[{"$f":"INDEX(学校種!B:B,MATCH(D21335,学校種!A:A,0))","v":"小学校"},{"$f":"INDEX(_tmp2!B:B,MATCH(E21335,_tmp2!A:A,0))","v":"神奈川県"},"B114221020034","B1","14","2","1","三浦市立南下浦小学校","三浦市南下浦町菊名１０９６","2380102","2020-12-22","","141254",""]
[{"$f":"INDEX(学校種!B:B,MATCH(D21363,学校種!A:A,0))","v":"小学校"},{"$f":"INDEX(_tmp2!B:B,MATCH(E21363,_tmp2!A:A,0))","v":"神奈川県"},"B114221220103","B1","14","2","1","厚木市立相川小学校","厚木市岡田５－１０－１","2430021","2020-12-22","","141362",""]
[{"$f":"INDEX(学校種!B:B,MATCH(D21405,学校種!A:A,0))","v":"小学校"},{"$f":"INDEX(_tmp2!B:B,MATCH(E21405,_tmp2!A:A,0))","v":"神奈川県"},"B114221420101","B1","14","2","1","伊勢原市立石田小学校","伊勢原市石田１１６８－１","2591116","2020-12-22","","141860",""]
[{"$f":"INDEX(学校種!B:B,MATCH(D21424,学校種!A:A,0))","v":"小学校"},{"$f":"INDEX(_tmp2!B:B,MATCH(E21424,_tmp2!A:A,0))","v":"神奈川県"},"B114221620065","B1","14","2","1","座間市立東原小学校","座間市東原２－６－１","2520004","2020-12-22","","141656",""]
[{"$f":"INDEX(学校種!B:B,MATCH(D21443,学校種!A:A,0))","v":"小学校"},{"$f":"INDEX(_tmp2!B:B,MATCH(E21443,_tmp2!A:A,0))","v":"神奈川県"},"B114221820081","B1","14","2","1","綾瀬市立落合小学校","綾瀬市落合北３－１０－１","2521116","2020-12-22","","141708",""]
[{"$f":"INDEX(学校種!B:B,MATCH(D21485,学校種!A:A,0))","v":"小学校"},{"$f":"INDEX(_tmp2!B:B,MATCH(E21485,_tmp2!A:A,0))","v":"神奈川県"},"B114240220014","B1","14","2","1","清川村立緑小学校","愛甲郡清川村煤ヶ谷２０７６","2430112","2020-12-22","","142451",""]
[{"$f":"INDEX(学校種!B:B,MATCH(D21508,学校種!A:A,0))","v":"小学校"},{"$f":"INDEX(_tmp2!B:B,MATCH(E21508,_tmp2!A:A,0))","v":"神奈川県"},"B114320500015","B1","14","3","1","湘南学園小学校","藤沢市鵜沼松が岡４－１－３２","2518505","2020-12-22","","140918",""]
[{"$f":"INDEX(学校種!B:B,MATCH(D21542,学校種!A:A,0))","v":"中学校"},{"$f":"INDEX(_tmp2!B:B,MATCH(E21542,_tmp2!A:A,0))","v":"神奈川県"},"C114210020222","C1","14","2","1","横浜市立大鳥中学校","横浜市中区本牧原２２－１","2310821","2020-12-22","","143583",""]
[{"$f":"INDEX(学校種!B:B,MATCH(D21546,学校種!A:A,0))","v":"中学校"},{"$f":"INDEX(_tmp2!B:B,MATCH(E21546,_tmp2!A:A,0))","v":"神奈川県"},"C114210020268","C1","14","2","1","横浜市立横浜吉田中学校","横浜市中区羽衣町３－８４","2310047","2020-12-22","","143587",""]
[{"$f":"INDEX(学校種!B:B,MATCH(D21575,学校種!A:A,0))","v":"中学校"},{"$f":"INDEX(_tmp2!B:B,MATCH(E21575,_tmp2!A:A,0))","v":"神奈川県"},"C114210020552","C1","14","2","1","横浜市立旭北中学校","横浜市旭区上白根２－４７－１","2410002","2020-12-22","","143692",""]
[{"$f":"INDEX(学校種!B:B,MATCH(D21604,学校種!A:A,0))","v":"中学校"},{"$f":"INDEX(_tmp2!B:B,MATCH(E21604,_tmp2!A:A,0))","v":"神奈川県"},"C114210020847","C1","14","2","1","横浜市立城郷中学校","横浜市港北区小机町３２５","2220036","2020-12-22","","143801",""]
[{"$f":"INDEX(学校種!B:B,MATCH(D21633,学校種!A:A,0))","v":"中学校"},{"$f":"INDEX(_tmp2!B:B,MATCH(E21633,_tmp2!A:A,0))","v":"神奈川県"},"C114210021132","C1","14","2","1","横浜市立中川中学校","横浜市都筑区大棚町２４０","2240027","2020-12-22","","143802",""]
[{"$f":"INDEX(学校種!B:B,MATCH(D21665,学校種!A:A,0))","v":"中学校"},{"$f":"INDEX(_tmp2!B:B,MATCH(E21665,_tmp2!A:A,0))","v":"神奈川県"},"C114210021454","C1","14","2","1","横浜市立南瀬谷中学校","横浜市瀬谷区南台２－２－８","2460032","2020-12-22","","143953",""]
[{"$f":"INDEX(学校種!B:B,MATCH(D21698,学校種!A:A,0))","v":"中学校"},{"$f":"INDEX(_tmp2!B:B,MATCH(E21698,_tmp2!A:A,0))","v":"神奈川県"},"C114213020333","C1","14","2","1","川崎市立宮前平中学校","川崎市宮前区宮前平２－７","2160006","2020-12-22","","144090",""]
[{"$f":"INDEX(学校種!B:B,MATCH(D21726,学校種!A:A,0))","v":"中学校"},{"$f":"INDEX(_tmp2!B:B,MATCH(E21726,_tmp2!A:A,0))","v":"神奈川県"},"C114215020098","C1","14","2","1","相模原市立清新中学校","相模原市中央区清新８－５－１","2520216","2020-12-22","","144371",""]
[{"$f":"INDEX(学校種!B:B,MATCH(D21741,学校種!A:A,0))","v":"中学校"},{"$f":"INDEX(_tmp2!B:B,MATCH(E21741,_tmp2!A:A,0))","v":"神奈川県"},"C114215020249","C1","14","2","1","相模原市立由野台中学校","相模原市中央区由野台３－１－３","2520222","2020-12-22","","144386",""]
[{"$f":"INDEX(学校種!B:B,MATCH(D21787,学校種!A:A,0))","v":"中学校"},{"$f":"INDEX(_tmp2!B:B,MATCH(E21787,_tmp2!A:A,0))","v":"神奈川県"},"C114220320120","C1","14","2","1","平塚市立神明中学校","平塚市四之宮１－１０－１","2540014","2020-12-22","","144113",""]
[{"$f":"INDEX(学校種!B:B,MATCH(D21806,学校種!A:A,0))","v":"中学校"},{"$f":"INDEX(_tmp2!B:B,MATCH(E21806,_tmp2!A:A,0))","v":"神奈川県"},"C114220520066","C1","14","2","1","藤沢市立御所見中学校","藤沢市用田５００","2520821","2020-12-22","","144206",""]
[{"$f":"INDEX(学校種!B:B,MATCH(D21820,学校種!A:A,0))","v":"中学校"},{"$f":"INDEX(_tmp2!B:B,MATCH(E21820,_tmp2!A:A,0))","v":"神奈川県"},"C114220620010","C1","14","2","1","小田原市立城山中学校","小田原市城山３－４－１","2500045","2020-12-22","","144251",""]
[{"$f":"INDEX(学校種!B:B,MATCH(D21871,学校種!A:A,0))","v":"中学校"},{"$f":"INDEX(_tmp2!B:B,MATCH(E21871,_tmp2!A:A,0))","v":"神奈川県"},"C114221220138","C1","14","2","1","厚木市立相川中学校","厚木市酒井１９８１－１","2430022","2020-12-22","","144423",""]
[{"$f":"INDEX(学校種!B:B,MATCH(D21877,学校種!A:A,0))","v":"中学校"},{"$f":"INDEX(_tmp2!B:B,MATCH(E21877,_tmp2!A:A,0))","v":"神奈川県"},"C114221320066","C1","14","2","1","大和市立引地台中学校","大和市柳橋４－５０５０","2420022","2020-12-22","","144437",""]
[{"$f":"INDEX(学校種!B:B,MATCH(D21909,学校種!A:A,0))","v":"中学校"},{"$f":"INDEX(_tmp2!B:B,MATCH(E21909,_tmp2!A:A,0))","v":"神奈川県"},"C114232120038","C1","14","2","1","寒川町立寒川東中学校","高座郡寒川町岡田７１８","2530105","2020-12-22","","144463",""]
[{"$f":"INDEX(学校種!B:B,MATCH(D21938,学校種!A:A,0))","v":"中学校"},{"$f":"INDEX(_tmp2!B:B,MATCH(E21938,_tmp2!A:A,0))","v":"神奈川県"},"C114310000117","C1","14","3","1","横浜女学院中学校","横浜市中区山手町２０３","2318661","2020-12-22","","143594",""]
[{"$f":"INDEX(学校種!B:B,MATCH(D21979,学校種!A:A,0))","v":"中学校"},{"$f":"INDEX(_tmp2!B:B,MATCH(E21979,_tmp2!A:A,0))","v":"神奈川県"},"C114320500022","C1","14","3","1","湘南白百合学園中学校","藤沢市片瀬目白山４－１","2510034","2020-12-22","","144211",""]
[{"$f":"INDEX(学校種!B:B,MATCH(D21999,学校種!A:A,0))","v":"高等学校"},{"$f":"INDEX(_tmp2!B:B,MATCH(E21999,_tmp2!A:A,0))","v":"神奈川県"},"D114210010053","D1","14","2","1","神奈川県立横浜翠嵐高等学校","横浜市神奈川区三ツ沢南町１－１","2210854","2020-12-22","","145531",""]
[{"$f":"INDEX(学校種!B:B,MATCH(D22017,学校種!A:A,0))","v":"高等学校"},{"$f":"INDEX(_tmp2!B:B,MATCH(E22017,_tmp2!A:A,0))","v":"神奈川県"},"D114210010231","D1","14","2","1","神奈川県立横浜氷取沢高等学校","横浜市磯子区氷取沢町９３８－２","2350043","2020-12-22","","145630",""]
[{"$f":"INDEX(学校種!B:B,MATCH(D22060,学校種!A:A,0))","v":"高等学校"},{"$f":"INDEX(_tmp2!B:B,MATCH(E22060,_tmp2!A:A,0))","v":"神奈川県"},"D114213010100","D1","14","2","1","神奈川県立百合丘高等学校","川崎市多摩区南生田４－２－１","2140036","2020-12-22","","145722",""]
[{"$f":"INDEX(学校種!B:B,MATCH(D22082,学校種!A:A,0))","v":"高等学校"},{"$f":"INDEX(_tmp2!B:B,MATCH(E22082,_tmp2!A:A,0))","v":"神奈川県"},"D114215010132","D1","14","2","1","神奈川県立上鶴間高等学校","相模原市南区上鶴間本町９－３１－１","2520318","2020-12-22","","145845",""]
[{"$f":"INDEX(学校種!B:B,MATCH(D22117,学校種!A:A,0))","v":"高等学校"},{"$f":"INDEX(_tmp2!B:B,MATCH(E22117,_tmp2!A:A,0))","v":"神奈川県"},"D114221110013","D1","14","2","1","神奈川県立秦野高等学校","秦野市下大槻１１３","2570004","2020-12-22","","145871",""]
[{"$f":"INDEX(学校種!B:B,MATCH(D22122,学校種!A:A,0))","v":"高等学校"},{"$f":"INDEX(_tmp2!B:B,MATCH(E22122,_tmp2!A:A,0))","v":"神奈川県"},"D114221210030","D1","14","2","1","神奈川県立厚木商業高等学校","厚木市王子３－１－１","2430817","2020-12-22","","145886",""]
[{"$f":"INDEX(学校種!B:B,MATCH(D22169,学校種!A:A,0))","v":"高等学校"},{"$f":"INDEX(_tmp2!B:B,MATCH(E22169,_tmp2!A:A,0))","v":"神奈川県"},"D114310000222","D1","14","3","1","慶應義塾高等学校","横浜市港北区日吉４－１－２","2238524","2020-12-22","","145644",""]
[{"$f":"INDEX(学校種!B:B,MATCH(D22179,学校種!A:A,0))","v":"高等学校"},{"$f":"INDEX(_tmp2!B:B,MATCH(E22179,_tmp2!A:A,0))","v":"神奈川県"},"D114310000320","D1","14","3","1","神奈川大学附属高等学校","横浜市緑区台村町８００","2260014","2020-12-22","","145659",""]
[{"$f":"INDEX(学校種!B:B,MATCH(D22207,学校種!A:A,0))","v":"高等学校"},{"$f":"INDEX(_tmp2!B:B,MATCH(E22207,_tmp2!A:A,0))","v":"神奈川県"},"D114320400058","D1","14","3","1","鎌倉女子大学高等部","鎌倉市岩瀬１４２０","2478511","2020-12-22","","145767",""]
[{"$f":"INDEX(学校種!B:B,MATCH(D22240,学校種!A:A,0))","v":"特別支援学校"},{"$f":"INDEX(_tmp2!B:B,MATCH(E22240,_tmp2!A:A,0))","v":"神奈川県"},"E114210010032","E1","14","2","1","神奈川県立保土ケ谷養護学校","横浜市保土ケ谷区権太坂１－８－１","2400026","2020-12-22","","149929",""]
[{"$f":"INDEX(学校種!B:B,MATCH(D22272,学校種!A:A,0))","v":"特別支援学校"},{"$f":"INDEX(_tmp2!B:B,MATCH(E22272,_tmp2!A:A,0))","v":"神奈川県"},"E114220120010","E1","14","2","1","横須賀市立ろう学校","横須賀市森崎５－１３－１","2380023","2020-12-22","","149821",""]
[{"$f":"INDEX(学校種!B:B,MATCH(D22301,学校種!A:A,0))","v":"専修学校"},{"$f":"INDEX(_tmp2!B:B,MATCH(E22301,_tmp2!A:A,0))","v":"神奈川県"},"H114310000081","H1","14","3","1","大原法律公務員専門学校横浜校","横浜市神奈川区反町１－１０－１","2210825","2020-12-22","","148883",""]
[{"$f":"INDEX(学校種!B:B,MATCH(D22315,学校種!A:A,0))","v":"専修学校"},{"$f":"INDEX(_tmp2!B:B,MATCH(E22315,_tmp2!A:A,0))","v":"神奈川県"},"H114310000223","H1","14","3","1","横浜経理専門学校","横浜市西区高島２－２－１１","2200011","2020-12-22","","148556",""]
[{"$f":"INDEX(学校種!B:B,MATCH(D22362,学校種!A:A,0))","v":"専修学校"},{"$f":"INDEX(_tmp2!B:B,MATCH(E22362,_tmp2!A:A,0))","v":"神奈川県"},"H114315000026","H1","14","3","1","相模原調理師専門学校","相模原市中央区中央５－８－１","2520239","2020-12-22","","148836",""]
[{"$f":"INDEX(学校種!B:B,MATCH(D22380,学校種!A:A,0))","v":"専修学校"},{"$f":"INDEX(_tmp2!B:B,MATCH(E22380,_tmp2!A:A,0))","v":"神奈川県"},"H114320600020","H1","14","3","1","小澤高等看護学院","小田原市本町１－１－１７","2500012","2020-12-22","","148868",""]
[{"$f":"INDEX(学校種!B:B,MATCH(D22423,学校種!A:A,0))","v":"幼稚園(幼稚園型認定こども園を含む)"},{"$f":"INDEX(_tmp2!B:B,MATCH(E22423,_tmp2!A:A,0))","v":"新潟県"},"A115220200011","A1","15","2","1","長岡市立与板幼稚園","長岡市与板町甲９５番地","9402402","2020-12-22","","156838",""]
[{"$f":"INDEX(学校種!B:B,MATCH(D22445,学校種!A:A,0))","v":"幼稚園(幼稚園型認定こども園を含む)"},{"$f":"INDEX(_tmp2!B:B,MATCH(E22445,_tmp2!A:A,0))","v":"新潟県"},"A115310000067","A1","15","3","9","認定こども園栄光幼稚園","新潟市東区石山１－２－６","9500852","2020-12-22","2021-05-27","156883",""]
[{"$f":"INDEX(学校種!B:B,MATCH(D22452,学校種!A:A,0))","v":"幼稚園(幼稚園型認定こども園を含む)"},{"$f":"INDEX(_tmp2!B:B,MATCH(E22452,_tmp2!A:A,0))","v":"新潟県"},"A115310000138","A1","15","3","1","新潟中央幼稚園","新潟市中央区西堀通７番町１５５８","9518061","2020-12-22","","156860",""]
[{"$f":"INDEX(学校種!B:B,MATCH(D22483,学校種!A:A,0))","v":"幼稚園(幼稚園型認定こども園を含む)"},{"$f":"INDEX(_tmp2!B:B,MATCH(E22483,_tmp2!A:A,0))","v":"新潟県"},"A115321200017","A1","15","3","1","村上幼稚園","村上市新町２－２３","9580834","2020-12-22","","157124",""]
[{"$f":"INDEX(学校種!B:B,MATCH(D22513,学校種!A:A,0))","v":"幼保連携型認定こども園"},{"$f":"INDEX(_tmp2!B:B,MATCH(E22513,_tmp2!A:A,0))","v":"新潟県"},"A215310000093","A2","15","3","1","岡山幼保連携型認定こども園","新潟市東区本所254番地4","9500804","2020-12-22","","15A063",""]
[{"$f":"INDEX(学校種!B:B,MATCH(D22553,学校種!A:A,0))","v":"幼保連携型認定こども園"},{"$f":"INDEX(_tmp2!B:B,MATCH(E22553,_tmp2!A:A,0))","v":"新潟県"},"A215310000495","A2","15","3","1","幼保連携型認定こども園にじ","新潟市秋葉区新津東町２丁目２番８号","9560816","2020-12-22","","15A152",""]
[{"$f":"INDEX(学校種!B:B,MATCH(D22574,学校種!A:A,0))","v":"幼保連携型認定こども園"},{"$f":"INDEX(_tmp2!B:B,MATCH(E22574,_tmp2!A:A,0))","v":"新潟県"},"A215310000707","A2","15","3","1","めぐみこども園","新潟市西蒲区巻乙９","9530044","2020-12-22","","15A125",""]
[{"$f":"INDEX(学校種!B:B,MATCH(D22591,学校種!A:A,0))","v":"幼保連携型認定こども園"},{"$f":"INDEX(_tmp2!B:B,MATCH(E22591,_tmp2!A:A,0))","v":"新潟県"},"A215320200090","A2","15","3","1","認定こども園第一幼稚園","長岡市緑町1-38-363","9402105","2020-12-22","","15A067",""]
[{"$f":"INDEX(学校種!B:B,MATCH(D22635,学校種!A:A,0))","v":"幼保連携型認定こども園"},{"$f":"INDEX(_tmp2!B:B,MATCH(E22635,_tmp2!A:A,0))","v":"新潟県"},"A215320900011","A2","15","3","1","社会福祉法人日章会幼保連携型認定こども園本量寺こども園","加茂市五番町１３番１５号","9591353","2020-12-22","","15A097",""]
[{"$f":"INDEX(学校種!B:B,MATCH(D22664,学校種!A:A,0))","v":"幼保連携型認定こども園"},{"$f":"INDEX(_tmp2!B:B,MATCH(E22664,_tmp2!A:A,0))","v":"新潟県"},"A215322300013","A2","15","3","1","認定こども園ほたるこども園","阿賀野市保田3882-1","9592221","2020-12-22","","15A079",""]
[{"$f":"INDEX(学校種!B:B,MATCH(D22678,学校種!A:A,0))","v":"幼保連携型認定こども園"},{"$f":"INDEX(_tmp2!B:B,MATCH(E22678,_tmp2!A:A,0))","v":"新潟県"},"A215322600029","A2","15","3","1","むいかまちこども園","南魚沼市余川１５１９","9496681","2020-12-22","","15A049",""]
[{"$f":"INDEX(学校種!B:B,MATCH(D22725,学校種!A:A,0))","v":"小学校"},{"$f":"INDEX(_tmp2!B:B,MATCH(E22725,_tmp2!A:A,0))","v":"新潟県"},"B115210000398","B1","15","2","1","新潟市立紫竹山小学校","新潟市中央区紫竹山１－１２－１","9500914","2020-12-22","","150073",""]
[{"$f":"INDEX(学校種!B:B,MATCH(D22743,学校種!A:A,0))","v":"小学校"},{"$f":"INDEX(_tmp2!B:B,MATCH(E22743,_tmp2!A:A,0))","v":"新潟県"},"B115210000575","B1","15","2","1","新潟市立小合小学校","新潟市秋葉区出戸１８０","9560046","2020-12-22","","150607",""]
[{"$f":"INDEX(学校種!B:B,MATCH(D22758,学校種!A:A,0))","v":"小学校"},{"$f":"INDEX(_tmp2!B:B,MATCH(E22758,_tmp2!A:A,0))","v":"新潟県"},"B115210000726","B1","15","2","1","新潟市立大鷲小学校","新潟市南区東笠巻１２０２","9501405","2020-12-22","","151916",""]
[{"$f":"INDEX(学校種!B:B,MATCH(D22808,学校種!A:A,0))","v":"小学校"},{"$f":"INDEX(_tmp2!B:B,MATCH(E22808,_tmp2!A:A,0))","v":"新潟県"},"B115220200153","B1","15","2","1","長岡市立前川小学校","長岡市前島町７５番地","9401147","2020-12-22","","150119",""]
[{"$f":"INDEX(学校種!B:B,MATCH(D22815,学校種!A:A,0))","v":"小学校"},{"$f":"INDEX(_tmp2!B:B,MATCH(E22815,_tmp2!A:A,0))","v":"新潟県"},"B115220200224","B1","15","2","1","長岡市立深沢小学校","長岡市深沢町３０８１番地","9402135","2020-12-22","","150131",""]
[{"$f":"INDEX(学校種!B:B,MATCH(D22846,学校種!A:A,0))","v":"小学校"},{"$f":"INDEX(_tmp2!B:B,MATCH(E22846,_tmp2!A:A,0))","v":"新潟県"},"B115220200536","B1","15","2","1","長岡市立山古志小学校","長岡市古志竹沢乙２８４","9470204","2020-12-22","","152558",""]
[{"$f":"INDEX(学校種!B:B,MATCH(D22876,学校種!A:A,0))","v":"小学校"},{"$f":"INDEX(_tmp2!B:B,MATCH(E22876,_tmp2!A:A,0))","v":"新潟県"},"B115220500098","B1","15","2","1","柏崎市立田尻小学校","柏崎市大字安田１４５５","9451352","2020-12-22","","150413",""]
[{"$f":"INDEX(学校種!B:B,MATCH(D22916,学校種!A:A,0))","v":"小学校"},{"$f":"INDEX(_tmp2!B:B,MATCH(E22916,_tmp2!A:A,0))","v":"新潟県"},"B115220900012","B1","15","2","1","加茂市立加茂小学校","加茂市青海町１－１－５","9591326","2020-12-22","","150801",""]
[{"$f":"INDEX(学校種!B:B,MATCH(D22937,学校種!A:A,0))","v":"小学校"},{"$f":"INDEX(_tmp2!B:B,MATCH(E22937,_tmp2!A:A,0))","v":"新潟県"},"B115221000153","B1","15","2","1","十日町市立田沢小学校","十日町市上山己１４９２","9498401","2020-12-22","","152872",""]
[{"$f":"INDEX(学校種!B:B,MATCH(D22954,学校種!A:A,0))","v":"小学校"},{"$f":"INDEX(_tmp2!B:B,MATCH(E22954,_tmp2!A:A,0))","v":"新潟県"},"B115221200062","B1","15","2","1","村上市立朝日さくら小学校","村上市猿沢２７９１甲","9580261","2020-12-22","","151114",""]
[{"$f":"INDEX(学校種!B:B,MATCH(D22998,学校種!A:A,0))","v":"小学校"},{"$f":"INDEX(_tmp2!B:B,MATCH(E22998,_tmp2!A:A,0))","v":"新潟県"},"B115221700085","B1","15","2","1","妙高市立妙高高原南小学校","妙高市関川１５９２","9492112","2020-12-22","","153150",""]
[{"$f":"INDEX(学校種!B:B,MATCH(D23019,学校種!A:A,0))","v":"小学校"},{"$f":"INDEX(_tmp2!B:B,MATCH(E23019,_tmp2!A:A,0))","v":"新潟県"},"B115222200122","B1","15","2","1","上越市立諏訪小学校","上越市上真砂２０４０","9430101","2020-12-22","","150217",""]
[{"$f":"INDEX(学校種!B:B,MATCH(D23055,学校種!A:A,0))","v":"小学校"},{"$f":"INDEX(_tmp2!B:B,MATCH(E23055,_tmp2!A:A,0))","v":"新潟県"},"B115222200480","B1","15","2","1","上越市立上杉小学校","上越市三和区今保５８４","9430313","2020-12-22","","153192",""]
[{"$f":"INDEX(学校種!B:B,MATCH(D23084,学校種!A:A,0))","v":"小学校"},{"$f":"INDEX(_tmp2!B:B,MATCH(E23084,_tmp2!A:A,0))","v":"新潟県"},"B115222400184","B1","15","2","1","佐渡市立松ヶ崎小学校","佐渡市多田１３９","9520822","2020-12-22","","153449",""]
[{"$f":"INDEX(学校種!B:B,MATCH(D23088,学校種!A:A,0))","v":"小学校"},{"$f":"INDEX(_tmp2!B:B,MATCH(E23088,_tmp2!A:A,0))","v":"新潟県"},"B115222400228","B1","15","2","1","佐渡市立赤泊小学校","佐渡市赤泊２８９番地","9520711","2020-12-22","","153492",""]
[{"$f":"INDEX(学校種!B:B,MATCH(D23127,学校種!A:A,0))","v":"小学校"},{"$f":"INDEX(_tmp2!B:B,MATCH(E23127,_tmp2!A:A,0))","v":"新潟県"},"B115238500027","B1","15","2","1","阿賀町立上川小学校","東蒲原郡阿賀町両郷乙１５５２","9594506","2020-12-22","","152456",""]
[{"$f":"INDEX(学校種!B:B,MATCH(D23149,学校種!A:A,0))","v":"中学校"},{"$f":"INDEX(_tmp2!B:B,MATCH(E23149,_tmp2!A:A,0))","v":"新潟県"},"C115210000092","C1","15","2","1","新潟市立東新潟中学校","新潟市東区山木戸１－２－１","9500871","2020-12-22","","153518",""]
[{"$f":"INDEX(学校種!B:B,MATCH(D23178,学校種!A:A,0))","v":"中学校"},{"$f":"INDEX(_tmp2!B:B,MATCH(E23178,_tmp2!A:A,0))","v":"新潟県"},"C115210000387","C1","15","2","1","新潟市立白根第一中学校","新潟市南区白根４０７","9501217","2020-12-22","","153980",""]
[{"$f":"INDEX(学校種!B:B,MATCH(D23209,学校種!A:A,0))","v":"中学校"},{"$f":"INDEX(_tmp2!B:B,MATCH(E23209,_tmp2!A:A,0))","v":"新潟県"},"C115220200124","C1","15","2","1","長岡市立関原中学校","長岡市関原南３－４９２０","9402039","2020-12-22","","153564",""]
[{"$f":"INDEX(学校種!B:B,MATCH(D23239,学校種!A:A,0))","v":"中学校"},{"$f":"INDEX(_tmp2!B:B,MATCH(E23239,_tmp2!A:A,0))","v":"新潟県"},"C115220500078","C1","15","2","1","柏崎市立鏡が沖中学校","柏崎市大字枇杷島２８４２－１","9450824","2020-12-22","","153643",""]
[{"$f":"INDEX(学校種!B:B,MATCH(D23252,学校種!A:A,0))","v":"中学校"},{"$f":"INDEX(_tmp2!B:B,MATCH(E23252,_tmp2!A:A,0))","v":"新潟県"},"C115220600095","C1","15","2","1","新発田市立加治川中学校","新発田市川口３３０番地","9592407","2020-12-22","","154066",""]
[{"$f":"INDEX(学校種!B:B,MATCH(D23300,学校種!A:A,0))","v":"中学校"},{"$f":"INDEX(_tmp2!B:B,MATCH(E23300,_tmp2!A:A,0))","v":"新潟県"},"C115221800046","C1","15","2","1","五泉市立村松桜中学校","五泉市愛宕甲2705-1","9591765","2020-12-22","","154124",""]
[{"$f":"INDEX(学校種!B:B,MATCH(D23317,学校種!A:A,0))","v":"中学校"},{"$f":"INDEX(_tmp2!B:B,MATCH(E23317,_tmp2!A:A,0))","v":"新潟県"},"C115222200175","C1","15","2","1","上越市立吉川中学校","上越市吉川区下町１１３０","9493443","2020-12-22","","155133",""]
[{"$f":"INDEX(学校種!B:B,MATCH(D23333,学校種!A:A,0))","v":"中学校"},{"$f":"INDEX(_tmp2!B:B,MATCH(E23333,_tmp2!A:A,0))","v":"新潟県"},"C115222400075","C1","15","2","1","佐渡市立佐和田中学校","佐渡市窪田６０","9521325","2020-12-22","","155416",""]
[{"$f":"INDEX(学校種!B:B,MATCH(D23382,学校種!A:A,0))","v":"高等学校"},{"$f":"INDEX(_tmp2!B:B,MATCH(E23382,_tmp2!A:A,0))","v":"新潟県"},"D115210000143","D1","15","2","1","新潟県立新津南高等学校","新潟市秋葉区矢代田３２００－１","9560113","2020-12-22","","155861",""]
[{"$f":"INDEX(学校種!B:B,MATCH(D23390,学校種!A:A,0))","v":"高等学校"},{"$f":"INDEX(_tmp2!B:B,MATCH(E23390,_tmp2!A:A,0))","v":"新潟県"},"D115220200024","D1","15","2","1","新潟県立長岡大手高等学校","長岡市沖田２丁目357番地","9400857","2020-12-22","","155532",""]
[{"$f":"INDEX(学校種!B:B,MATCH(D23420,学校種!A:A,0))","v":"高等学校"},{"$f":"INDEX(_tmp2!B:B,MATCH(E23420,_tmp2!A:A,0))","v":"新潟県"},"D115221100014","D1","15","2","1","新潟県立見附高等学校","見附市本所１－２０－６","9540051","2020-12-22","","155646",""]
[{"$f":"INDEX(学校種!B:B,MATCH(D23451,学校種!A:A,0))","v":"高等学校"},{"$f":"INDEX(_tmp2!B:B,MATCH(E23451,_tmp2!A:A,0))","v":"新潟県"},"D115222600044","D1","15","2","1","新潟県立八海高等学校","南魚沼市余川１２７６","9496681","2020-12-22","","156125",""]
[{"$f":"INDEX(学校種!B:B,MATCH(D23490,学校種!A:A,0))","v":"特別支援学校"},{"$f":"INDEX(_tmp2!B:B,MATCH(E23490,_tmp2!A:A,0))","v":"新潟県"},"E115210000097","E1","15","2","1","新潟県立西蒲高等特別支援学校","新潟市西蒲区堀山新田５１－１","9530043","2020-12-22","","159941",""]
[{"$f":"INDEX(学校種!B:B,MATCH(D23512,学校種!A:A,0))","v":"特別支援学校"},{"$f":"INDEX(_tmp2!B:B,MATCH(E23512,_tmp2!A:A,0))","v":"新潟県"},"E115222200036","E1","15","2","1","新潟県立上越特別支援学校","上越市大和６－４－３７","9430861","2020-12-22","","159929",""]
[{"$f":"INDEX(学校種!B:B,MATCH(D23528,学校種!A:A,0))","v":"専修学校"},{"$f":"INDEX(_tmp2!B:B,MATCH(E23528,_tmp2!A:A,0))","v":"新潟県"},"H115310000071","H1","15","3","1","新潟情報専門学校","新潟市中央区弁天２－３－１３","9500901","2020-12-22","","158588",""]
[{"$f":"INDEX(学校種!B:B,MATCH(D23573,学校種!A:A,0))","v":"専修学校"},{"$f":"INDEX(_tmp2!B:B,MATCH(E23573,_tmp2!A:A,0))","v":"新潟県"},"H115320200069","H1","15","3","1","北陸福祉保育専門学院","長岡市福住１－５－２５","9400034","2020-12-22","","158605",""]
[{"$f":"INDEX(学校種!B:B,MATCH(D23593,学校種!A:A,0))","v":"専修学校"},{"$f":"INDEX(_tmp2!B:B,MATCH(E23593,_tmp2!A:A,0))","v":"新潟県"},"H115322200029","H1","15","3","1","上越公務員・情報ビジネス専門学校","上越市北城町３－４－１","9430824","2020-12-22","","158606",""]
[{"$f":"INDEX(学校種!B:B,MATCH(D23630,学校種!A:A,0))","v":"幼稚園(幼稚園型認定こども園を含む)"},{"$f":"INDEX(_tmp2!B:B,MATCH(E23630,_tmp2!A:A,0))","v":"富山県"},"A116320166038","A1","16","3","1","大泉幼稚園","富山市大泉東部１４６６","9398001","2020-12-22","","167010",""]
[{"$f":"INDEX(学校種!B:B,MATCH(D23658,学校種!A:A,0))","v":"幼保連携型認定こども園"},{"$f":"INDEX(_tmp2!B:B,MATCH(E23658,_tmp2!A:A,0))","v":"富山県"},"A216220970026","A2","16","2","1","小矢部市立大谷こども園","小矢部市野寺８０番地","9320813","2020-12-22","","16A206",""]
[{"$f":"INDEX(学校種!B:B,MATCH(D23663,学校種!A:A,0))","v":"幼保連携型認定こども園"},{"$f":"INDEX(_tmp2!B:B,MATCH(E23663,_tmp2!A:A,0))","v":"富山県"},"A216320176044","A2","16","3","1","大沢野ちゅうおうこども園","富山市西大沢148-3","9392221","2020-12-22","","16A109",""]
[{"$f":"INDEX(学校種!B:B,MATCH(D23692,学校種!A:A,0))","v":"幼保連携型認定こども園"},{"$f":"INDEX(_tmp2!B:B,MATCH(E23692,_tmp2!A:A,0))","v":"富山県"},"A216320176339","A2","16","3","1","幼保連携型認定こども園藤園南幼稚園","富山市朝菜町一丁目15","9398066","2020-12-22","","16A036",""]
[{"$f":"INDEX(学校種!B:B,MATCH(D23745,学校種!A:A,0))","v":"幼保連携型認定こども園"},{"$f":"INDEX(_tmp2!B:B,MATCH(E23745,_tmp2!A:A,0))","v":"富山県"},"A216320476050","A2","16","3","1","魚津こども園","魚津市本町１－４－９","9370866","2020-12-22","","16A171",""]
[{"$f":"INDEX(学校種!B:B,MATCH(D23753,学校種!A:A,0))","v":"幼保連携型認定こども園"},{"$f":"INDEX(_tmp2!B:B,MATCH(E23753,_tmp2!A:A,0))","v":"富山県"},"A216320876010","A2","16","3","1","ちゅうりっぷ認定こども園","砺波市太郎丸２丁目２９番地２","9391363","2020-12-22","","16A173",""]
[{"$f":"INDEX(学校種!B:B,MATCH(D23783,学校種!A:A,0))","v":"小学校"},{"$f":"INDEX(_tmp2!B:B,MATCH(E23783,_tmp2!A:A,0))","v":"富山県"},"B116220100117","B1","16","2","1","富山市立新庄北小学校","富山市新庄本町２丁目４－１１","9300996","2020-12-22","","160160",""]
[{"$f":"INDEX(学校種!B:B,MATCH(D23814,学校種!A:A,0))","v":"小学校"},{"$f":"INDEX(_tmp2!B:B,MATCH(E23814,_tmp2!A:A,0))","v":"富山県"},"B116220100420","B1","16","2","1","富山市立水橋西部小学校","富山市水橋辻ヶ堂１９１９－２","9393515","2020-12-22","","160192",""]
[{"$f":"INDEX(学校種!B:B,MATCH(D23853,学校種!A:A,0))","v":"小学校"},{"$f":"INDEX(_tmp2!B:B,MATCH(E23853,_tmp2!A:A,0))","v":"富山県"},"B116220200152","B1","16","2","1","高岡市立野村小学校","高岡市野村４０５","9330014","2020-12-22","","160345",""]
[{"$f":"INDEX(学校種!B:B,MATCH(D23875,学校種!A:A,0))","v":"小学校"},{"$f":"INDEX(_tmp2!B:B,MATCH(E23875,_tmp2!A:A,0))","v":"富山県"},"B116220500088","B1","16","2","1","氷見市立海峰小学校","氷見市阿尾１０１５","9350002","2020-12-22","","160438",""]
[{"$f":"INDEX(学校種!B:B,MATCH(D23891,学校種!A:A,0))","v":"小学校"},{"$f":"INDEX(_tmp2!B:B,MATCH(E23891,_tmp2!A:A,0))","v":"富山県"},"B116220700086","B1","16","2","1","黒部市立若栗小学校","黒部市若栗１３３７","9380802","2020-12-22","","160291",""]
[{"$f":"INDEX(学校種!B:B,MATCH(D23936,学校種!A:A,0))","v":"小学校"},{"$f":"INDEX(_tmp2!B:B,MATCH(E23936,_tmp2!A:A,0))","v":"富山県"},"B116232200068","B1","16","2","1","上市町立陽南小学校","中新川郡上市町柿沢４２４－２","9300473","2020-12-22","","160051",""]
[{"$f":"INDEX(学校種!B:B,MATCH(D23956,学校種!A:A,0))","v":"中学校"},{"$f":"INDEX(_tmp2!B:B,MATCH(E23956,_tmp2!A:A,0))","v":"富山県"},"C116220130011","C1","16","2","1","富山市立芝園中学校","富山市芝園町三丁目１－２６","9300097","2020-12-22","","163570",""]
[{"$f":"INDEX(学校種!B:B,MATCH(D23993,学校種!A:A,0))","v":"中学校"},{"$f":"INDEX(_tmp2!B:B,MATCH(E23993,_tmp2!A:A,0))","v":"富山県"},"C116220230118","C1","16","2","1","高岡市立福岡中学校","高岡市福岡町荒屋敷３５０","9390131","2020-12-22","","163817",""]
[{"$f":"INDEX(学校種!B:B,MATCH(D23994,学校種!A:A,0))","v":"中学校"},{"$f":"INDEX(_tmp2!B:B,MATCH(E23994,_tmp2!A:A,0))","v":"富山県"},"C116220430018","C1","16","2","1","魚津市立西部中学校","魚津市友道２１２","9370806","2020-12-22","","163630",""]
[{"$f":"INDEX(学校種!B:B,MATCH(D24026,学校種!A:A,0))","v":"中学校"},{"$f":"INDEX(_tmp2!B:B,MATCH(E24026,_tmp2!A:A,0))","v":"富山県"},"C116232130016","C1","16","2","1","舟橋村立舟橋中学校","中新川郡舟橋村海老江５","9300283","2020-12-22","","163520",""]
[{"$f":"INDEX(学校種!B:B,MATCH(D24064,学校種!A:A,0))","v":"高等学校"},{"$f":"INDEX(_tmp2!B:B,MATCH(E24064,_tmp2!A:A,0))","v":"富山県"},"D116220850017","D1","16","2","1","富山県立砺波高等学校","砺波市東幸町３－３６","9391385","2020-12-22","","165801",""]
[{"$f":"INDEX(学校種!B:B,MATCH(D24087,学校種!A:A,0))","v":"高等学校"},{"$f":"INDEX(_tmp2!B:B,MATCH(E24087,_tmp2!A:A,0))","v":"富山県"},"D116320256033","D1","16","3","1","高岡龍谷高等学校","高岡市古定塚４番１号","9338517","2020-12-22","","165907",""]
[{"$f":"INDEX(学校種!B:B,MATCH(D24129,学校種!A:A,0))","v":"各種学校"},{"$f":"INDEX(_tmp2!B:B,MATCH(E24129,_tmp2!A:A,0))","v":"富山県"},"H216320185020","H2","16","3","1","北日本自動車学校","富山市五福４１８６番地","9300887","2020-12-22","","169123",""]
[{"$f":"INDEX(学校種!B:B,MATCH(D24148,学校種!A:A,0))","v":"各種学校"},{"$f":"INDEX(_tmp2!B:B,MATCH(E24148,_tmp2!A:A,0))","v":"富山県"},"H216321185019","H2","16","3","1","富山県第一自動車学校","射水市小島７１５番地","9390274","2020-12-22","","169195",""]
[{"$f":"INDEX(学校種!B:B,MATCH(D24167,学校種!A:A,0))","v":"幼稚園(幼稚園型認定こども園を含む)"},{"$f":"INDEX(_tmp2!B:B,MATCH(E24167,_tmp2!A:A,0))","v":"石川県"},"A117320100152","A1","17","3","1","白銀幼稚園","金沢市芳斉２丁目２番２４号","9200862","2020-12-22","","176531",""]
[{"$f":"INDEX(学校種!B:B,MATCH(D24205,学校種!A:A,0))","v":"幼保連携型認定こども園"},{"$f":"INDEX(_tmp2!B:B,MATCH(E24205,_tmp2!A:A,0))","v":"石川県"},"A217320100053","A2","17","3","1","泉の台幼稚舎","金沢市泉野町４－４－３","9218034","2020-12-22","","17A205",""]
[{"$f":"INDEX(学校種!B:B,MATCH(D24238,学校種!A:A,0))","v":"幼保連携型認定こども園"},{"$f":"INDEX(_tmp2!B:B,MATCH(E24238,_tmp2!A:A,0))","v":"石川県"},"A217320100384","A2","17","3","1","桜木幼稚園","金沢市寺町２－１２－１２","9218033","2020-12-22","","17A239",""]
[{"$f":"INDEX(学校種!B:B,MATCH(D24254,学校種!A:A,0))","v":"幼保連携型認定こども園"},{"$f":"INDEX(_tmp2!B:B,MATCH(E24254,_tmp2!A:A,0))","v":"石川県"},"A217320100543","A2","17","3","1","伏見台保育園Ｎｅｏ","金沢市窪４丁目５１１番地","9218151","2020-12-22","","17A255",""]
[{"$f":"INDEX(学校種!B:B,MATCH(D24271,学校種!A:A,0))","v":"幼保連携型認定こども園"},{"$f":"INDEX(_tmp2!B:B,MATCH(E24271,_tmp2!A:A,0))","v":"石川県"},"A217320200132","A2","17","3","1","のとじま幼保園","七尾市能登島町佐波町１５部５番地","9260212","2020-12-22","","17A313",""]
[{"$f":"INDEX(学校種!B:B,MATCH(D24319,学校種!A:A,0))","v":"幼保連携型認定こども園"},{"$f":"INDEX(_tmp2!B:B,MATCH(E24319,_tmp2!A:A,0))","v":"石川県"},"A217321000141","A2","17","3","1","西柏こども園","白山市西柏町８番地１","9240044","2020-12-22","","17A614",""]
[{"$f":"INDEX(学校種!B:B,MATCH(D24328,学校種!A:A,0))","v":"幼保連携型認定こども園"},{"$f":"INDEX(_tmp2!B:B,MATCH(E24328,_tmp2!A:A,0))","v":"石川県"},"A217321200032","A2","17","3","1","アリスこども園","野々市市二日市町5丁目332","9218807","2020-12-22","","17A683",""]
[{"$f":"INDEX(学校種!B:B,MATCH(D24357,学校種!A:A,0))","v":"小学校"},{"$f":"INDEX(_tmp2!B:B,MATCH(E24357,_tmp2!A:A,0))","v":"石川県"},"B117220100054","B1","17","2","1","金沢市立南小立野小学校","金沢市涌波２－５－１","9200953","2020-12-22","","170021",""]
[{"$f":"INDEX(学校種!B:B,MATCH(D24389,学校種!A:A,0))","v":"小学校"},{"$f":"INDEX(_tmp2!B:B,MATCH(E24389,_tmp2!A:A,0))","v":"石川県"},"B117220100376","B1","17","2","1","金沢市立三和小学校","金沢市矢木１－７４","9218066","2020-12-22","","170086",""]
[{"$f":"INDEX(学校種!B:B,MATCH(D24427,学校種!A:A,0))","v":"小学校"},{"$f":"INDEX(_tmp2!B:B,MATCH(E24427,_tmp2!A:A,0))","v":"石川県"},"B117220300114","B1","17","2","1","小松市立串小学校","小松市串町乙１－１","9230965","2020-12-22","","170211",""]
[{"$f":"INDEX(学校種!B:B,MATCH(D24450,学校種!A:A,0))","v":"小学校"},{"$f":"INDEX(_tmp2!B:B,MATCH(E24450,_tmp2!A:A,0))","v":"石川県"},"B117220500014","B1","17","2","1","珠洲市立上戸小学校","珠洲市上戸町寺社５－７４－２","9271216","2020-12-22","","170405",""]
[{"$f":"INDEX(学校種!B:B,MATCH(D24465,学校種!A:A,0))","v":"小学校"},{"$f":"INDEX(_tmp2!B:B,MATCH(E24465,_tmp2!A:A,0))","v":"石川県"},"B117220600095","B1","17","2","1","加賀市立動橋小学校","加賀市動橋町ヘ１－１","9220331","2020-12-22","","170511",""]
[{"$f":"INDEX(学校種!B:B,MATCH(D24511,学校種!A:A,0))","v":"小学校"},{"$f":"INDEX(_tmp2!B:B,MATCH(E24511,_tmp2!A:A,0))","v":"石川県"},"B117221100061","B1","17","2","1","能美市立辰口中央小学校","能美市辰口町７３５","9231245","2020-12-22","","170906",""]
[{"$f":"INDEX(学校種!B:B,MATCH(D24530,学校種!A:A,0))","v":"小学校"},{"$f":"INDEX(_tmp2!B:B,MATCH(E24530,_tmp2!A:A,0))","v":"石川県"},"B117236100096","B1","17","2","1","津幡町立条南小学校","河北郡津幡町字太田ろ３","9290345","2020-12-22","","171129",""]
[{"$f":"INDEX(学校種!B:B,MATCH(D24568,学校種!A:A,0))","v":"中学校"},{"$f":"INDEX(_tmp2!B:B,MATCH(E24568,_tmp2!A:A,0))","v":"石川県"},"C117220100123","C1","17","2","1","金沢市立芝原中学校","金沢市湯涌荒屋町２３","9201122","2020-12-22","","173526",""]
[{"$f":"INDEX(学校種!B:B,MATCH(D24595,学校種!A:A,0))","v":"中学校"},{"$f":"INDEX(_tmp2!B:B,MATCH(E24595,_tmp2!A:A,0))","v":"石川県"},"C117220300096","C1","17","2","1","小松市立安宅中学校","小松市安宅町安宅林４－１１２","9230003","2020-12-22","","173709",""]
[{"$f":"INDEX(学校種!B:B,MATCH(D24601,学校種!A:A,0))","v":"中学校"},{"$f":"INDEX(_tmp2!B:B,MATCH(E24601,_tmp2!A:A,0))","v":"石川県"},"C117220500012","C1","17","2","1","珠洲市立三崎中学校","珠洲市三崎町宇治ヨ－１１４","9271454","2020-12-22","","173904",""]
[{"$f":"INDEX(学校種!B:B,MATCH(D24638,学校種!A:A,0))","v":"中学校"},{"$f":"INDEX(_tmp2!B:B,MATCH(E24638,_tmp2!A:A,0))","v":"石川県"},"C117246300019","C1","17","2","1","能登町立能都中学校","鳳珠郡能登町藤波１４－３５","9270441","2020-12-22","","174910",""]
[{"$f":"INDEX(学校種!B:B,MATCH(D24662,学校種!A:A,0))","v":"高等学校"},{"$f":"INDEX(_tmp2!B:B,MATCH(E24662,_tmp2!A:A,0))","v":"石川県"},"D117220200013","D1","17","2","1","石川県立七尾高等学校","七尾市西藤橋町エ１－１","9260817","2020-12-22","","175604",""]
[{"$f":"INDEX(学校種!B:B,MATCH(D24703,学校種!A:A,0))","v":"高等学校"},{"$f":"INDEX(_tmp2!B:B,MATCH(E24703,_tmp2!A:A,0))","v":"石川県"},"D117321000011","D1","17","3","1","叡明館（高等部）","白山市長島町１００１","9240848","2020-12-22","","176203",""]
[{"$f":"INDEX(学校種!B:B,MATCH(D24723,学校種!A:A,0))","v":"専修学校"},{"$f":"INDEX(_tmp2!B:B,MATCH(E24723,_tmp2!A:A,0))","v":"石川県"},"H117320100031","H1","17","3","1","北信越柔整専門学校","金沢市山の上町５－５－２","9200816","2020-12-22","","178519",""]
[{"$f":"INDEX(学校種!B:B,MATCH(D24752,学校種!A:A,0))","v":"専修学校"},{"$f":"INDEX(_tmp2!B:B,MATCH(E24752,_tmp2!A:A,0))","v":"石川県"},"H117321000030","H1","17","3","1","国際サイクル専門学校","白山市横江町土地区画整理事業施行地区内８街区１番","9240011","2020-12-22","","178630",""]
[{"$f":"INDEX(学校種!B:B,MATCH(D24790,学校種!A:A,0))","v":"幼稚園(幼稚園型認定こども園を含む)"},{"$f":"INDEX(_tmp2!B:B,MATCH(E24790,_tmp2!A:A,0))","v":"福井県"},"A118210000155","A1","18","2","1","大野市阪谷幼稚園","大野市伏石１１－１４","9120149","2020-12-22","","186540",""]
[{"$f":"INDEX(学校種!B:B,MATCH(D24813,学校種!A:A,0))","v":"幼稚園(幼稚園型認定こども園を含む)"},{"$f":"INDEX(_tmp2!B:B,MATCH(E24813,_tmp2!A:A,0))","v":"福井県"},"A118210000388","A1","18","2","1","坂井市立春江幼稚園","坂井市春江町江留下屋敷２２０","9190414","2020-12-22","","186600",""]
[{"$f":"INDEX(学校種!B:B,MATCH(D24828,学校種!A:A,0))","v":"幼稚園(幼稚園型認定こども園を含む)"},{"$f":"INDEX(_tmp2!B:B,MATCH(E24828,_tmp2!A:A,0))","v":"福井県"},"A118310000037","A1","18","3","1","仁愛女子短期大学附属幼稚園","福井市天池町４３－１－１","9100124","2020-12-22","","186630",""]
[{"$f":"INDEX(学校種!B:B,MATCH(D24874,学校種!A:A,0))","v":"幼保連携型認定こども園"},{"$f":"INDEX(_tmp2!B:B,MATCH(E24874,_tmp2!A:A,0))","v":"福井県"},"A218310000090","A2","18","3","1","北潟こども園","あわら市北潟36-17-2","9104272","2020-12-22","","18A033",""]
[{"$f":"INDEX(学校種!B:B,MATCH(D24893,学校種!A:A,0))","v":"幼保連携型認定こども園"},{"$f":"INDEX(_tmp2!B:B,MATCH(E24893,_tmp2!A:A,0))","v":"福井県"},"A218310000287","A2","18","3","1","認定こども園エンゼル保育園","福井市西谷2丁目702","9188023","2020-12-22","","18A064",""]
[{"$f":"INDEX(学校種!B:B,MATCH(D24903,学校種!A:A,0))","v":"幼保連携型認定こども園"},{"$f":"INDEX(_tmp2!B:B,MATCH(E24903,_tmp2!A:A,0))","v":"福井県"},"A218310000385","A2","18","3","1","えばたこども園","福井市江端町１２－９","9188016","2020-12-22","","18A075",""]
[{"$f":"INDEX(学校種!B:B,MATCH(D24931,学校種!A:A,0))","v":"幼保連携型認定こども園"},{"$f":"INDEX(_tmp2!B:B,MATCH(E24931,_tmp2!A:A,0))","v":"福井県"},"A218310000660","A2","18","3","1","誓念寺こども園","大野市中荒井町2丁目824","9120023","2020-12-22","","18A109",""]
[{"$f":"INDEX(学校種!B:B,MATCH(D24964,学校種!A:A,0))","v":"幼保連携型認定こども園"},{"$f":"INDEX(_tmp2!B:B,MATCH(E24964,_tmp2!A:A,0))","v":"福井県"},"A218310000991","A2","18","3","1","亀山こども園","大野市水落町３－３５","9120088","2020-12-22","","18A149",""]
[{"$f":"INDEX(学校種!B:B,MATCH(D25001,学校種!A:A,0))","v":"小学校"},{"$f":"INDEX(_tmp2!B:B,MATCH(E25001,_tmp2!A:A,0))","v":"福井県"},"B118210000224","B1","18","2","1","福井市河合小学校","福井市山室町１０－１２","9100108","2020-12-22","","180034",""]
[{"$f":"INDEX(学校種!B:B,MATCH(D25025,学校種!A:A,0))","v":"小学校"},{"$f":"INDEX(_tmp2!B:B,MATCH(E25025,_tmp2!A:A,0))","v":"福井県"},"B118210000466","B1","18","2","1","敦賀市立黒河小学校","敦賀市御名２５－５","9140132","2020-12-22","","180076",""]
[{"$f":"INDEX(学校種!B:B,MATCH(D25066,学校種!A:A,0))","v":"小学校"},{"$f":"INDEX(_tmp2!B:B,MATCH(E25066,_tmp2!A:A,0))","v":"福井県"},"B118210000876","B1","18","2","1","鯖江市中河小学校","鯖江市中野町７３－１６","9160033","2020-12-22","","180157",""]
[{"$f":"INDEX(学校種!B:B,MATCH(D25086,学校種!A:A,0))","v":"小学校"},{"$f":"INDEX(_tmp2!B:B,MATCH(E25086,_tmp2!A:A,0))","v":"福井県"},"B118210001072","B1","18","2","1","志比南小学校","吉田郡永平寺町市野々１－１１","9101226","2020-12-22","","180183",""]
[{"$f":"INDEX(学校種!B:B,MATCH(D25104,学校種!A:A,0))","v":"小学校"},{"$f":"INDEX(_tmp2!B:B,MATCH(E25104,_tmp2!A:A,0))","v":"福井県"},"B118210001250","B1","18","2","1","坂井市立高椋小学校","坂井市丸岡町寅国２－１３","9100351","2020-12-22","","180211",""]
[{"$f":"INDEX(学校種!B:B,MATCH(D25143,学校種!A:A,0))","v":"小学校"},{"$f":"INDEX(_tmp2!B:B,MATCH(E25143,_tmp2!A:A,0))","v":"福井県"},"B118210001642","B1","18","2","1","高浜小学校","大飯郡高浜町宮崎７５－１２－１","9192225","2020-12-22","","180316",""]
[{"$f":"INDEX(学校種!B:B,MATCH(D25169,学校種!A:A,0))","v":"小学校"},{"$f":"INDEX(_tmp2!B:B,MATCH(E25169,_tmp2!A:A,0))","v":"福井県"},"B118210001900","B1","18","2","1","福井市本郷小学校","福井市大年町６５－３２","9103255","2020-12-22","","180352",""]
[{"$f":"INDEX(学校種!B:B,MATCH(D25204,学校種!A:A,0))","v":"中学校"},{"$f":"INDEX(_tmp2!B:B,MATCH(E25204,_tmp2!A:A,0))","v":"福井県"},"C118210000277","C1","18","2","2","越前市武生第二中学校坂口分校","越前市湯谷町２４－２５","9151225","2020-12-22","","183541",""]
[{"$f":"INDEX(学校種!B:B,MATCH(D25212,学校種!A:A,0))","v":"中学校"},{"$f":"INDEX(_tmp2!B:B,MATCH(E25212,_tmp2!A:A,0))","v":"福井県"},"C118210000357","C1","18","2","1","大野市尚徳中学校","大野市土打４５－９","9120811","2020-12-22","","183557",""]
[{"$f":"INDEX(学校種!B:B,MATCH(D25237,学校種!A:A,0))","v":"中学校"},{"$f":"INDEX(_tmp2!B:B,MATCH(E25237,_tmp2!A:A,0))","v":"福井県"},"C118210000605","C1","18","2","1","若狭町立上中中学校","三方上中郡若狭町井ノ口５５－５－１","9191542","2020-12-22","","183606",""]
[{"$f":"INDEX(学校種!B:B,MATCH(D25277,学校種!A:A,0))","v":"高等学校"},{"$f":"INDEX(_tmp2!B:B,MATCH(E25277,_tmp2!A:A,0))","v":"福井県"},"D118210000168","D1","18","2","1","福井県立敦賀工業高等学校","敦賀市山泉１３－１","9140035","2020-12-22","","185539",""]
[{"$f":"INDEX(学校種!B:B,MATCH(D25298,学校種!A:A,0))","v":"特別支援学校"},{"$f":"INDEX(_tmp2!B:B,MATCH(E25298,_tmp2!A:A,0))","v":"福井県"},"E118110000014","E1","18","1","1","福井大学教育学部附属特別支援学校","福井市八ツ島町１字３番地","9100065","2020-12-22","","189902",""]
[{"$f":"INDEX(学校種!B:B,MATCH(D25327,学校種!A:A,0))","v":"専修学校"},{"$f":"INDEX(_tmp2!B:B,MATCH(E25327,_tmp2!A:A,0))","v":"福井県"},"H118310000167","H1","18","3","1","国際ペット専門学校福井","坂井市丸岡町熊堂３－７－１－２２","9100347","2020-12-22","","188545",""]
[{"$f":"INDEX(学校種!B:B,MATCH(D25364,学校種!A:A,0))","v":"幼稚園(幼稚園型認定こども園を含む)"},{"$f":"INDEX(_tmp2!B:B,MATCH(E25364,_tmp2!A:A,0))","v":"山梨県"},"A119310000205","A1","19","3","1","学校法人岩田学園みたま幼稚園","甲府市里吉一丁目３－７","4000822","2020-12-22","","196537",""]
[{"$f":"INDEX(学校種!B:B,MATCH(D25388,学校種!A:A,0))","v":"幼稚園(幼稚園型認定こども園を含む)"},{"$f":"INDEX(_tmp2!B:B,MATCH(E25388,_tmp2!A:A,0))","v":"山梨県"},"A119310000447","A1","19","3","1","石和誠心幼稚園","笛吹市石和町河内５０５","4060043","2020-12-22","","196571",""]
[{"$f":"INDEX(学校種!B:B,MATCH(D25402,学校種!A:A,0))","v":"幼保連携型認定こども園"},{"$f":"INDEX(_tmp2!B:B,MATCH(E25402,_tmp2!A:A,0))","v":"山梨県"},"A219310000053","A2","19","3","1","幼保連携型認定こども園進徳幼稚園","甲府市湯村２－４－３５","4000073","2020-12-22","","19A025",""]
[{"$f":"INDEX(学校種!B:B,MATCH(D25449,学校種!A:A,0))","v":"幼保連携型認定こども園"},{"$f":"INDEX(_tmp2!B:B,MATCH(E25449,_tmp2!A:A,0))","v":"山梨県"},"A219310000525","A2","19",3,1,"和成こども園","甲府市徳行１－１－１",4000047,"2021-05-27","","19A076",""]
[{"$f":"INDEX(学校種!B:B,MATCH(D25467,学校種!A:A,0))","v":"小学校"},{"$f":"INDEX(_tmp2!B:B,MATCH(E25467,_tmp2!A:A,0))","v":"山梨県"},"B119210000152","B1","19","2","1","笛吹市立一宮南小学校","笛吹市一宮町土塚６５５－２","4050067","2020-12-22","","190035",""]
[{"$f":"INDEX(学校種!B:B,MATCH(D25506,学校種!A:A,0))","v":"小学校"},{"$f":"INDEX(_tmp2!B:B,MATCH(E25506,_tmp2!A:A,0))","v":"山梨県"},"B119210000544","B1","19","2","1","北杜市立白州小学校","北杜市白州町白須２２５","4080315","2020-12-22","","190158",""]
[{"$f":"INDEX(学校種!B:B,MATCH(D25532,学校種!A:A,0))","v":"小学校"},{"$f":"INDEX(_tmp2!B:B,MATCH(E25532,_tmp2!A:A,0))","v":"山梨県"},"B119210000802","B1","19","2","1","甲府市立千塚小学校","甲府市千塚１ー２ー１６","4000074","2020-12-22","","190211",""]
[{"$f":"INDEX(学校種!B:B,MATCH(D25539,学校種!A:A,0))","v":"小学校"},{"$f":"INDEX(_tmp2!B:B,MATCH(E25539,_tmp2!A:A,0))","v":"山梨県"},"B119210000875","B1","19","2","1","甲府市立千代田小学校","甲府市下帯那町３０３４－２","4000082","2020-12-22","","190218",""]
[{"$f":"INDEX(学校種!B:B,MATCH(D25575,学校種!A:A,0))","v":"小学校"},{"$f":"INDEX(_tmp2!B:B,MATCH(E25575,_tmp2!A:A,0))","v":"山梨県"},"B119210001231","B1","19","2","1","大月市立猿橋小学校","大月市猿橋町伊良原４８","4090613","2020-12-22","","190278",""]
[{"$f":"INDEX(学校種!B:B,MATCH(D25600,学校種!A:A,0))","v":"小学校"},{"$f":"INDEX(_tmp2!B:B,MATCH(E25600,_tmp2!A:A,0))","v":"山梨県"},"B119210001482","B1","19","2","1","北杜市立須玉小学校","北杜市須玉町若神子２００－２","4080112","2020-12-22","","190311",""]
[{"$f":"INDEX(学校種!B:B,MATCH(D25640,学校種!A:A,0))","v":"中学校"},{"$f":"INDEX(_tmp2!B:B,MATCH(E25640,_tmp2!A:A,0))","v":"山梨県"},"C119210000114","C1","19","2","1","市川三郷町立六郷中学校","西八代郡市川三郷町岩間２９２７","4093244","2020-12-22","","193533",""]
[{"$f":"INDEX(学校種!B:B,MATCH(D25661,学校種!A:A,0))","v":"中学校"},{"$f":"INDEX(_tmp2!B:B,MATCH(E25661,_tmp2!A:A,0))","v":"山梨県"},"C119210000329","C1","19","2","1","西桂町立西桂中学校","南都留郡西桂町下暮地８８４－１","4030021","2020-12-22","","193584",""]
[{"$f":"INDEX(学校種!B:B,MATCH(D25678,学校種!A:A,0))","v":"中学校"},{"$f":"INDEX(_tmp2!B:B,MATCH(E25678,_tmp2!A:A,0))","v":"山梨県"},"C119210000490","C1","19","2","1","富士吉田市立明見中学校","富士吉田市小明見一丁目４番１４号","4030002","2020-12-22","","193612",""]
[{"$f":"INDEX(学校種!B:B,MATCH(D25718,学校種!A:A,0))","v":"中学校"},{"$f":"INDEX(_tmp2!B:B,MATCH(E25718,_tmp2!A:A,0))","v":"山梨県"},"C119310000050","C1","19","3","1","日本航空高等学校付属中学校","甲斐市宇津谷４４５番地","4000108","2020-12-22","","193668",""]
[{"$f":"INDEX(学校種!B:B,MATCH(D25743,学校種!A:A,0))","v":"高等学校"},{"$f":"INDEX(_tmp2!B:B,MATCH(E25743,_tmp2!A:A,0))","v":"山梨県"},"D119210000229","D1","19","2","1","山梨県立富士河口湖高等学校","南都留郡富士河口湖町船津６６６３－１","4010301","2020-12-22","","195566",""]
[{"$f":"INDEX(学校種!B:B,MATCH(D25779,学校種!A:A,0))","v":"専修学校"},{"$f":"INDEX(_tmp2!B:B,MATCH(E25779,_tmp2!A:A,0))","v":"山梨県"},"H119210000015","H1","19","2","1","山梨県立宝石美術専門学校","甲府市丸の内１丁目１６－２０","4000031","2020-12-22","","198523",""]
[{"$f":"INDEX(学校種!B:B,MATCH(D25808,学校種!A:A,0))","v":"各種学校"},{"$f":"INDEX(_tmp2!B:B,MATCH(E25808,_tmp2!A:A,0))","v":"山梨県"},"H219310000067","H2","19","3","1","篠原音楽学園","甲府市丸の内２－３０－１２","4000031","2020-12-22","","199141",""]
[{"$f":"INDEX(学校種!B:B,MATCH(D25812,学校種!A:A,0))","v":"各種学校"},{"$f":"INDEX(_tmp2!B:B,MATCH(E25812,_tmp2!A:A,0))","v":"山梨県"},"H219310000101","H2","19","3","1","各種学校クレアーレナカヤマ","甲府市中央５－８－２６","4000032","2020-12-22","","199179",""]
[{"$f":"INDEX(学校種!B:B,MATCH(D25841,学校種!A:A,0))","v":"幼稚園(幼稚園型認定こども園を含む)"},{"$f":"INDEX(_tmp2!B:B,MATCH(E25841,_tmp2!A:A,0))","v":"長野県"},"A120320100184","A1","20","3","1","認定こども園旭幼稚園","長野市三輪４－１－３２","3800803","2020-12-22","","207292",""]
[{"$f":"INDEX(学校種!B:B,MATCH(D25868,学校種!A:A,0))","v":"幼稚園(幼稚園型認定こども園を含む)"},{"$f":"INDEX(_tmp2!B:B,MATCH(E25868,_tmp2!A:A,0))","v":"長野県"},"A120320300119","A1","20","3","1","梅花幼稚園","上田市大手２－２－８","3860024","2020-12-22","","207306",""]
[{"$f":"INDEX(学校種!B:B,MATCH(D25902,学校種!A:A,0))","v":"幼稚園(幼稚園型認定こども園を含む)"},{"$f":"INDEX(_tmp2!B:B,MATCH(E25902,_tmp2!A:A,0))","v":"長野県"},"A120332300016","A1","20","3","1","杉の子幼稚園","北佐久郡御代田町御代田２７４４","3890206","2020-12-22","","207115",""]
[{"$f":"INDEX(学校種!B:B,MATCH(D25938,学校種!A:A,0))","v":"幼保連携型認定こども園"},{"$f":"INDEX(_tmp2!B:B,MATCH(E25938,_tmp2!A:A,0))","v":"長野県"},"A220320900014","A2","20","3","1","認定こども園緑ヶ丘敬愛幼稚園","伊那市狐島3950","3960014","2020-12-22","","20A251",""]
[{"$f":"INDEX(学校種!B:B,MATCH(D25963,学校種!A:A,0))","v":"小学校"},{"$f":"INDEX(_tmp2!B:B,MATCH(E25963,_tmp2!A:A,0))","v":"長野県"},"B120220100148","B1","20","2","1","長野市立大豆島小学校","長野市大豆島１００４－２","3810022","2020-12-22","","200025",""]
[{"$f":"INDEX(学校種!B:B,MATCH(D25976,学校種!A:A,0))","v":"小学校"},{"$f":"INDEX(_tmp2!B:B,MATCH(E25976,_tmp2!A:A,0))","v":"長野県"},"B120220100273","B1","20","2","1","長野市立下氷鉋小学校","長野市稲里町下氷鉋５０","3812211","2020-12-22","","200044",""]
[{"$f":"INDEX(学校種!B:B,MATCH(D26024,学校種!A:A,0))","v":"小学校"},{"$f":"INDEX(_tmp2!B:B,MATCH(E26024,_tmp2!A:A,0))","v":"長野県"},"B120220200192","B1","20","2","1","松本市立開明小学校","松本市宮田１１－４１","3990001","2020-12-22","","200122",""]
[{"$f":"INDEX(学校種!B:B,MATCH(D26041,学校種!A:A,0))","v":"小学校"},{"$f":"INDEX(_tmp2!B:B,MATCH(E26041,_tmp2!A:A,0))","v":"長野県"},"B120220300066","B1","20","2","1","上田市立塩尻小学校","上田市上塩尻２１９","3860042","2020-12-22","","200156",""]
[{"$f":"INDEX(学校種!B:B,MATCH(D26081,学校種!A:A,0))","v":"小学校"},{"$f":"INDEX(_tmp2!B:B,MATCH(E26081,_tmp2!A:A,0))","v":"長野県"},"B120220500144","B1","20","2","1","飯田市立龍江小学校","飯田市龍江３５９１－１","3992221","2020-12-22","","200204",""]
[{"$f":"INDEX(学校種!B:B,MATCH(D26106,学校種!A:A,0))","v":"小学校"},{"$f":"INDEX(_tmp2!B:B,MATCH(E26106,_tmp2!A:A,0))","v":"長野県"},"B120220800016","B1","20","2","1","小諸市立東小学校","小諸市字柏木５２６番地","3840055","2020-12-22","","200261",""]
[{"$f":"INDEX(学校種!B:B,MATCH(D26114,学校種!A:A,0))","v":"小学校"},{"$f":"INDEX(_tmp2!B:B,MATCH(E26114,_tmp2!A:A,0))","v":"長野県"},"B120220900033","B1","20","2","1","伊那市立伊那東小学校","伊那市境１２４８－１","3960010","2020-12-22","","200283",""]
[{"$f":"INDEX(学校種!B:B,MATCH(D26149,学校種!A:A,0))","v":"小学校"},{"$f":"INDEX(_tmp2!B:B,MATCH(E26149,_tmp2!A:A,0))","v":"長野県"},"B120221300046","B1","20","2","1","飯山市立東小学校","飯山市瑞穂４１３","3892322","2020-12-22","","200372",""]
[{"$f":"INDEX(学校種!B:B,MATCH(D26175,学校種!A:A,0))","v":"小学校"},{"$f":"INDEX(_tmp2!B:B,MATCH(E26175,_tmp2!A:A,0))","v":"長野県"},"B120221700051","B1","20","2","1","佐久市立野沢小学校","佐久市取出町４７２－３","3850043","2020-12-22","","200455",""]
[{"$f":"INDEX(学校種!B:B,MATCH(D26214,学校種!A:A,0))","v":"小学校"},{"$f":"INDEX(_tmp2!B:B,MATCH(E26214,_tmp2!A:A,0))","v":"長野県"},"B120230400028","B1","20","2","1","川上村立川上第二小学校","南佐久郡川上村秋山５５２","3841403","2020-12-22","","200532",""]
[{"$f":"INDEX(学校種!B:B,MATCH(D26236,学校種!A:A,0))","v":"小学校"},{"$f":"INDEX(_tmp2!B:B,MATCH(E26236,_tmp2!A:A,0))","v":"長野県"},"B120238200023","B1","20","2","1","辰野町立辰野東小学校","上伊那郡辰野町大字平出２１４１","3990422","2020-12-22","","200912",""]
[{"$f":"INDEX(学校種!B:B,MATCH(D26252,学校種!A:A,0))","v":"小学校"},{"$f":"INDEX(_tmp2!B:B,MATCH(E26252,_tmp2!A:A,0))","v":"長野県"},"B120240200010","B1","20","2","1","松川町立松川中央小学校","下伊那郡松川町元大島３７３２－９","3993303","2020-12-22","","201011",""]
[{"$f":"INDEX(学校種!B:B,MATCH(D26293,学校種!A:A,0))","v":"小学校"},{"$f":"INDEX(_tmp2!B:B,MATCH(E26293,_tmp2!A:A,0))","v":"長野県"},"B120248500029","B1","20","2","1","白馬村立白馬北小学校","北安曇郡白馬村北城７０７８","3999301","2020-12-22","","201742",""]
[{"$f":"INDEX(学校種!B:B,MATCH(D26317,学校種!A:A,0))","v":"中学校"},{"$f":"INDEX(_tmp2!B:B,MATCH(E26317,_tmp2!A:A,0))","v":"長野県"},"C120220100011","C1","20","2","1","長野市立柳町中学校","長野市大字三輪１２５２","3800803","2020-12-22","","203511",""]
[{"$f":"INDEX(学校種!B:B,MATCH(D26354,学校種!A:A,0))","v":"中学校"},{"$f":"INDEX(_tmp2!B:B,MATCH(E26354,_tmp2!A:A,0))","v":"長野県"},"C120220200136","C1","20","2","1","松本市立高綱中学校","松本市島立４４１６","3900852","2020-12-22","","203548",""]
[{"$f":"INDEX(学校種!B:B,MATCH(D26387,学校種!A:A,0))","v":"中学校"},{"$f":"INDEX(_tmp2!B:B,MATCH(E26387,_tmp2!A:A,0))","v":"長野県"},"C120220500080","C1","20","2","1","飯田市立高陵中学校","飯田市上郷黒田５４８５番地","3950004","2020-12-22","","204321",""]
[{"$f":"INDEX(学校種!B:B,MATCH(D26404,学校種!A:A,0))","v":"中学校"},{"$f":"INDEX(_tmp2!B:B,MATCH(E26404,_tmp2!A:A,0))","v":"長野県"},"C120220900059","C1","20","2","1","伊那市立高遠中学校","伊那市高遠町東高遠２３２","3960213","2020-12-22","","204201",""]
[{"$f":"INDEX(学校種!B:B,MATCH(D26416,学校種!A:A,0))","v":"中学校"},{"$f":"INDEX(_tmp2!B:B,MATCH(E26416,_tmp2!A:A,0))","v":"長野県"},"C120221300026","C1","20","2","1","飯山市立城南中学校","飯山市大字静間１０８８番地","3892255","2020-12-22","","203675",""]
[{"$f":"INDEX(学校種!B:B,MATCH(D26469,学校種!A:A,0))","v":"中学校"},{"$f":"INDEX(_tmp2!B:B,MATCH(E26469,_tmp2!A:A,0))","v":"長野県"},"C120240400025","C1","20","2","1","阿南町立阿南第二中学校","下伊那郡阿南町新野１２９４","3991612","2020-12-22","","204317",""]
[{"$f":"INDEX(学校種!B:B,MATCH(D26477,学校種!A:A,0))","v":"中学校"},{"$f":"INDEX(_tmp2!B:B,MATCH(E26477,_tmp2!A:A,0))","v":"長野県"},"C120241700011","C1","20","2","1","大鹿村立大鹿中学校","下伊那郡大鹿村大字鹿塩２９５２","3993501","2020-12-22","","204381",""]
[{"$f":"INDEX(学校種!B:B,MATCH(D26512,学校種!A:A,0))","v":"義務教育学校"},{"$f":"INDEX(_tmp2!B:B,MATCH(E26512,_tmp2!A:A,0))","v":"長野県"},"C220241000017","C2","20","2","1","根羽村立義務教育学校根羽学園","下伊那郡根羽村田島８０","3950701","2020-12-22","","20C190",""]
[{"$f":"INDEX(学校種!B:B,MATCH(D26538,学校種!A:A,0))","v":"高等学校"},{"$f":"INDEX(_tmp2!B:B,MATCH(E26538,_tmp2!A:A,0))","v":"長野県"},"D120220300035","D1","20","2","1","長野県上田東高等学校","上田市常田３－５－６８","3868683","2020-12-22","","205573",""]
[{"$f":"INDEX(学校種!B:B,MATCH(D26577,学校種!A:A,0))","v":"高等学校"},{"$f":"INDEX(_tmp2!B:B,MATCH(E26577,_tmp2!A:A,0))","v":"長野県"},"D120222000025","D1","20","2","1","長野県豊科高等学校","安曇野市大字豊科２３４１","3998205","2020-12-22","","206181",""]
[{"$f":"INDEX(学校種!B:B,MATCH(D26599,学校種!A:A,0))","v":"高等学校"},{"$f":"INDEX(_tmp2!B:B,MATCH(E26599,_tmp2!A:A,0))","v":"長野県"},"D120320100026","D1","20","3","1","長野女子高等学校","長野市三輪９－３０－１８","3800803","2020-12-22","","206302",""]
[{"$f":"INDEX(学校種!B:B,MATCH(D26615,学校種!A:A,0))","v":"高等学校"},{"$f":"INDEX(_tmp2!B:B,MATCH(E26615,_tmp2!A:A,0))","v":"長野県"},"D120321700019","D1","20","3","1","佐久長聖高等学校","佐久市岩村田９５１","3858588","2020-12-22","","206371",""]
[{"$f":"INDEX(学校種!B:B,MATCH(D26656,学校種!A:A,0))","v":"専修学校"},{"$f":"INDEX(_tmp2!B:B,MATCH(E26656,_tmp2!A:A,0))","v":"長野県"},"H120320100063","H1","20","3","1","長野調理製菓専門学校","長野市早苗町７０－１","3800812","2020-12-22","","208701",""]
[{"$f":"INDEX(学校種!B:B,MATCH(D26680,学校種!A:A,0))","v":"専修学校"},{"$f":"INDEX(_tmp2!B:B,MATCH(E26680,_tmp2!A:A,0))","v":"長野県"},"H120320300025","H1","20","3","1","上田情報ビジネス専門学校","上田市中央３－７－５","3868691","2020-12-22","","208941",""]
[{"$f":"INDEX(学校種!B:B,MATCH(D26717,学校種!A:A,0))","v":"各種学校"},{"$f":"INDEX(_tmp2!B:B,MATCH(E26717,_tmp2!A:A,0))","v":"長野県"},"H220320600021","H2","20","3","1","慶英学院高等予備校","諏訪市諏訪２－９－９","3920004","2020-12-22","","209578",""]
[{"$f":"INDEX(学校種!B:B,MATCH(D26745,学校種!A:A,0))","v":"幼稚園(幼稚園型認定こども園を含む)"},{"$f":"INDEX(_tmp2!B:B,MATCH(E26745,_tmp2!A:A,0))","v":"岐阜県"},"A121220400057","A1","21","2","1","多治見市立精華小学校附属愛児幼稚園","多治見市白山町３－１","5070038","2020-12-22","","216525",""]
[{"$f":"INDEX(学校種!B:B,MATCH(D26750,学校種!A:A,0))","v":"幼稚園(幼稚園型認定こども園を含む)"},{"$f":"INDEX(_tmp2!B:B,MATCH(E26750,_tmp2!A:A,0))","v":"岐阜県"},"A121220600055","A1","21","2","1","中津川市立山口幼稚園","中津川市山口１６４７－３６","5080501","2020-12-22","","216740",""]
[{"$f":"INDEX(学校種!B:B,MATCH(D26788,学校種!A:A,0))","v":"幼稚園(幼稚園型認定こども園を含む)"},{"$f":"INDEX(_tmp2!B:B,MATCH(E26788,_tmp2!A:A,0))","v":"岐阜県"},"A121238100034","A1","21","2","1","安八郡神戸町立南平野幼児園","安八郡神戸町大字和泉４６－１","5032327","2020-12-22","","216686",""]
[{"$f":"INDEX(学校種!B:B,MATCH(D26811,学校種!A:A,0))","v":"幼稚園(幼稚園型認定こども園を含む)"},{"$f":"INDEX(_tmp2!B:B,MATCH(E26811,_tmp2!A:A,0))","v":"岐阜県"},"A121320100209","A1","21","3","1","芥見第二幼稚園","岐阜市加野３－１－７","5013107","2020-12-22","","216639",""]
[{"$f":"INDEX(学校種!B:B,MATCH(D26853,学校種!A:A,0))","v":"幼稚園(幼稚園型認定こども園を含む)"},{"$f":"INDEX(_tmp2!B:B,MATCH(E26853,_tmp2!A:A,0))","v":"岐阜県"},"A121321100010","A1","21","3","1","たから幼稚園","美濃加茂市太田町１７３５番地","5050041","2020-12-22","","216618",""]
[{"$f":"INDEX(学校種!B:B,MATCH(D26868,学校種!A:A,0))","v":"幼稚園(幼稚園型認定こども園を含む)"},{"$f":"INDEX(_tmp2!B:B,MATCH(E26868,_tmp2!A:A,0))","v":"岐阜県"},"A121321300134","A1","21","3","1","那加幼稚園","各務原市那加門前町４－８","5040911","2020-12-22","","216593",""]
[{"$f":"INDEX(学校種!B:B,MATCH(D26901,学校種!A:A,0))","v":"幼保連携型認定こども園"},{"$f":"INDEX(_tmp2!B:B,MATCH(E26901,_tmp2!A:A,0))","v":"岐阜県"},"A221221200029","A2","21","2","1","土岐市立濃南こども園","土岐市鶴里町柿野1184-1","5095312","2020-12-22","","21A066",""]
[{"$f":"INDEX(学校種!B:B,MATCH(D26913,学校種!A:A,0))","v":"幼保連携型認定こども園"},{"$f":"INDEX(_tmp2!B:B,MATCH(E26913,_tmp2!A:A,0))","v":"岐阜県"},"A221238200032","A2","21","2","1","安八郡輪之内町立大藪こども園","安八郡輪之内町大藪1117","5030202","2020-12-22","","21A053",""]
[{"$f":"INDEX(学校種!B:B,MATCH(D26962,学校種!A:A,0))","v":"幼保連携型認定こども園"},{"$f":"INDEX(_tmp2!B:B,MATCH(E26962,_tmp2!A:A,0))","v":"岐阜県"},"A221340400034","A2","21","3","1","市橋保育園","揖斐郡池田町市橋1588-1","5032427","2020-12-22","","21A058",""]
[{"$f":"INDEX(学校種!B:B,MATCH(D26978,学校種!A:A,0))","v":"小学校"},{"$f":"INDEX(_tmp2!B:B,MATCH(E26978,_tmp2!A:A,0))","v":"岐阜県"},"B121220100156","B1","21","2","1","岐阜市立則武小学校","岐阜市則武２０９番地２","5020931","2020-12-22","","210028",""]
[{"$f":"INDEX(学校種!B:B,MATCH(D27019,学校種!A:A,0))","v":"小学校"},{"$f":"INDEX(_tmp2!B:B,MATCH(E27019,_tmp2!A:A,0))","v":"岐阜県"},"B121220200100","B1","21","2","1","大垣市立綾里小学校","大垣市綾野５－８５","5030984","2020-12-22","","210110",""]
[{"$f":"INDEX(学校種!B:B,MATCH(D27043,学校種!A:A,0))","v":"小学校"},{"$f":"INDEX(_tmp2!B:B,MATCH(E27043,_tmp2!A:A,0))","v":"岐阜県"},"B121220300127","B1","21","2","1","高山市立清見小学校","高山市清見町三日町１１２","5060102","2020-12-22","","210685",""]
[{"$f":"INDEX(学校種!B:B,MATCH(D27052,学校種!A:A,0))","v":"小学校"},{"$f":"INDEX(_tmp2!B:B,MATCH(E27052,_tmp2!A:A,0))","v":"岐阜県"},"B121220400028","B1","21","2","1","多治見市立精華小学校","多治見市十九田町２－１１９","5070039","2020-12-22","","210482",""]
[{"$f":"INDEX(学校種!B:B,MATCH(D27086,学校種!A:A,0))","v":"小学校"},{"$f":"INDEX(_tmp2!B:B,MATCH(E27086,_tmp2!A:A,0))","v":"岐阜県"},"B121220600035","B1","21","2","1","中津川市立西小学校","中津川市駒場３０１－１","5080011","2020-12-22","","210494",""]
[{"$f":"INDEX(学校種!B:B,MATCH(D27113,学校種!A:A,0))","v":"小学校"},{"$f":"INDEX(_tmp2!B:B,MATCH(E27113,_tmp2!A:A,0))","v":"岐阜県"},"B121220800079","B1","21","2","1","瑞浪市立釜戸小学校","瑞浪市釜戸町３００７－３","5096472","2020-12-22","","210521",""]
[{"$f":"INDEX(学校種!B:B,MATCH(D27151,学校種!A:A,0))","v":"小学校"},{"$f":"INDEX(_tmp2!B:B,MATCH(E27151,_tmp2!A:A,0))","v":"岐阜県"},"B121221200073","B1","21","2","1","土岐市立泉小学校","土岐市泉中窯町１－５","5095104","2020-12-22","","210558",""]
[{"$f":"INDEX(学校種!B:B,MATCH(D27174,学校種!A:A,0))","v":"小学校"},{"$f":"INDEX(_tmp2!B:B,MATCH(E27174,_tmp2!A:A,0))","v":"岐阜県"},"B121221400053","B1","21","2","1","可児市立東明小学校","可児市久々利１９４５","5090224","2020-12-22","","210469",""]
[{"$f":"INDEX(学校種!B:B,MATCH(D27189,学校種!A:A,0))","v":"小学校"},{"$f":"INDEX(_tmp2!B:B,MATCH(E27189,_tmp2!A:A,0))","v":"岐阜県"},"B121221500098","B1","21","2","1","山県市立いわ桜小学校","山県市谷合１１５９","5012321","2020-12-22","","210290",""]
[{"$f":"INDEX(学校種!B:B,MATCH(D27231,学校種!A:A,0))","v":"小学校"},{"$f":"INDEX(_tmp2!B:B,MATCH(E27231,_tmp2!A:A,0))","v":"岐阜県"},"B121221900218","B1","21","2","1","郡上市立和良小学校","郡上市和良町沢７２８番地","5014517","2020-12-22","","210401",""]
[{"$f":"INDEX(学校種!B:B,MATCH(D27254,学校種!A:A,0))","v":"小学校"},{"$f":"INDEX(_tmp2!B:B,MATCH(E27254,_tmp2!A:A,0))","v":"岐阜県"},"B121222100107","B1","21","2","1","海津市立下多度小学校","海津市南濃町津屋１８６９","5030401","2020-12-22","","210173",""]
[{"$f":"INDEX(学校種!B:B,MATCH(D27292,学校種!A:A,0))","v":"小学校"},{"$f":"INDEX(_tmp2!B:B,MATCH(E27292,_tmp2!A:A,0))","v":"岐阜県"},"B121240100065","B1","21","2","1","揖斐郡揖斐川町立谷汲小学校","揖斐郡揖斐川町谷汲名礼１２４２－１１","5011314","2020-12-22","","210206",""]
[{"$f":"INDEX(学校種!B:B,MATCH(D27319,学校種!A:A,0))","v":"小学校"},{"$f":"INDEX(_tmp2!B:B,MATCH(E27319,_tmp2!A:A,0))","v":"岐阜県"},"B121250500033","B1","21","2","1","加茂郡八百津町立錦津小学校","加茂郡八百津町伊岐津志１８０６","5050303","2020-12-22","","210434",""]
[{"$f":"INDEX(学校種!B:B,MATCH(D27325,学校種!A:A,0))","v":"小学校"},{"$f":"INDEX(_tmp2!B:B,MATCH(E27325,_tmp2!A:A,0))","v":"岐阜県"},"B121250600041","B1","21","2","1","加茂郡白川町立佐見小学校","加茂郡白川町上佐見４８７","5091221","2020-12-22","","210456",""]
[{"$f":"INDEX(学校種!B:B,MATCH(D27362,学校種!A:A,0))","v":"中学校"},{"$f":"INDEX(_tmp2!B:B,MATCH(E27362,_tmp2!A:A,0))","v":"岐阜県"},"C121220200082","C1","21","2","1","大垣市立西部中学校","大垣市荒川町３３７","5030993","2020-12-22","","213557",""]
[{"$f":"INDEX(学校種!B:B,MATCH(D27386,学校種!A:A,0))","v":"中学校"},{"$f":"INDEX(_tmp2!B:B,MATCH(E27386,_tmp2!A:A,0))","v":"岐阜県"},"C121220500025","C1","21","2","1","関市立旭ヶ丘中学校","関市旭ヶ丘２丁目３番１号","5013829","2020-12-22","","213642",""]
[{"$f":"INDEX(学校種!B:B,MATCH(D27415,学校種!A:A,0))","v":"中学校"},{"$f":"INDEX(_tmp2!B:B,MATCH(E27415,_tmp2!A:A,0))","v":"岐阜県"},"C121221000019","C1","21","2","1","恵那市立恵那東中学校","恵那市大井町１０７３－１","5097201","2020-12-22","","213767",""]
[{"$f":"INDEX(学校種!B:B,MATCH(D27449,学校種!A:A,0))","v":"中学校"},{"$f":"INDEX(_tmp2!B:B,MATCH(E27449,_tmp2!A:A,0))","v":"岐阜県"},"C121221600031","C1","21","2","1","瑞穂市立巣南中学校","瑞穂市古橋１０－１","5010322","2020-12-22","","213624",""]
[{"$f":"INDEX(学校種!B:B,MATCH(D27476,学校種!A:A,0))","v":"中学校"},{"$f":"INDEX(_tmp2!B:B,MATCH(E27476,_tmp2!A:A,0))","v":"岐阜県"},"C121234100011","C1","21","2","1","養老郡養老町立高田中学校","養老郡養老町高田３８７９－４","5031314","2020-12-22","","213591",""]
[{"$f":"INDEX(学校種!B:B,MATCH(D27514,学校種!A:A,0))","v":"中学校"},{"$f":"INDEX(_tmp2!B:B,MATCH(E27514,_tmp2!A:A,0))","v":"岐阜県"},"C121320800011","C1","21","3","1","麗澤瑞浪中学校","瑞浪市稲津町萩原１６６１","5096102","2020-12-22","","213901",""]
[{"$f":"INDEX(学校種!B:B,MATCH(D27537,学校種!A:A,0))","v":"高等学校"},{"$f":"INDEX(_tmp2!B:B,MATCH(E27537,_tmp2!A:A,0))","v":"岐阜県"},"D121220200053","D1","21","2","1","岐阜県立大垣商業高等学校","大垣市開発町４－３００","5030002","2020-12-22","","215530",""]
[{"$f":"INDEX(学校種!B:B,MATCH(D27552,学校種!A:A,0))","v":"高等学校"},{"$f":"INDEX(_tmp2!B:B,MATCH(E27552,_tmp2!A:A,0))","v":"岐阜県"},"D121220600040","D1","21","2","1","岐阜県立中津川工業高等学校","中津川市千旦林１５２１－３","5099131","2020-12-22","","215558",""]
[{"$f":"INDEX(学校種!B:B,MATCH(D27594,学校種!A:A,0))","v":"高等学校"},{"$f":"INDEX(_tmp2!B:B,MATCH(E27594,_tmp2!A:A,0))","v":"岐阜県"},"D121320100089","D1","21","3","1","啓晴高等学校","岐阜市高砂町2-8","5008407","2020-12-22","","215630",""]
[{"$f":"INDEX(学校種!B:B,MATCH(D27617,学校種!A:A,0))","v":"特別支援学校"},{"$f":"INDEX(_tmp2!B:B,MATCH(E27617,_tmp2!A:A,0))","v":"岐阜県"},"E121220300022","E1","21","2","2","岐阜県立飛騨特別支援学校高山日赤分校","高山市天満町３－４１－１","5060025","2020-12-22","","219919",""]
[{"$f":"INDEX(学校種!B:B,MATCH(D27627,学校種!A:A,0))","v":"特別支援学校"},{"$f":"INDEX(_tmp2!B:B,MATCH(E27627,_tmp2!A:A,0))","v":"岐阜県"},"E121222000012","E1","21","2","1","岐阜県立下呂特別支援学校","下呂市小川４３２－１","5092203","2020-12-22","","219930",""]
[{"$f":"INDEX(学校種!B:B,MATCH(D27660,学校種!A:A,0))","v":"専修学校"},{"$f":"INDEX(_tmp2!B:B,MATCH(E27660,_tmp2!A:A,0))","v":"岐阜県"},"H121321200014","H1","21","3","1","専修学校中部国際自動車大学校","土岐市肥田浅野朝日町２丁目７番地","5095117","2020-12-22","","218900",""]
[{"$f":"INDEX(学校種!B:B,MATCH(D27688,学校種!A:A,0))","v":"各種学校"},{"$f":"INDEX(_tmp2!B:B,MATCH(E27688,_tmp2!A:A,0))","v":"岐阜県"},"H221321300021","H2","21","3","1","那加自動車学校","各務原市那加西那加町２８","5040952","2020-12-22","","219338",""]
[{"$f":"INDEX(学校種!B:B,MATCH(D27725,学校種!A:A,0))","v":"幼稚園(幼稚園型認定こども園を含む)"},{"$f":"INDEX(_tmp2!B:B,MATCH(E27725,_tmp2!A:A,0))","v":"静岡県"},"A122210000293","A1","22","2","1","伊東市立荻幼稚園","伊東市荻１８番地の１","4140053","2020-12-22","","226583",""]
[{"$f":"INDEX(学校種!B:B,MATCH(D27749,学校種!A:A,0))","v":"幼稚園(幼稚園型認定こども園を含む)"},{"$f":"INDEX(_tmp2!B:B,MATCH(E27749,_tmp2!A:A,0))","v":"静岡県"},"A122210000532","A1","22","2","1","函南町立丹那幼稚園","田方郡函南町丹那４４５－１","4190105","2020-12-22","","226711",""]
[{"$f":"INDEX(学校種!B:B,MATCH(D27790,学校種!A:A,0))","v":"幼稚園(幼稚園型認定こども園を含む)"},{"$f":"INDEX(_tmp2!B:B,MATCH(E27790,_tmp2!A:A,0))","v":"静岡県"},"A122210000943","A1","22","2","1","御前崎市立池新田幼稚園","御前崎市池新田５８１４","4371612","2020-12-22","","227014",""]
[{"$f":"INDEX(学校種!B:B,MATCH(D27806,学校種!A:A,0))","v":"幼稚園(幼稚園型認定こども園を含む)"},{"$f":"INDEX(_tmp2!B:B,MATCH(E27806,_tmp2!A:A,0))","v":"静岡県"},"A122210001103","A1","22","2","1","浜松市立有玉幼稚園","浜松市東区有玉南町５８５","4313122","2020-12-22","","227115",""]
[{"$f":"INDEX(学校種!B:B,MATCH(D27828,学校種!A:A,0))","v":"幼稚園(幼稚園型認定こども園を含む)"},{"$f":"INDEX(_tmp2!B:B,MATCH(E27828,_tmp2!A:A,0))","v":"静岡県"},"A122210001327","A1","22","2","1","袋井市立袋井西幼稚園","袋井市川井５６８－１","4370064","2020-12-22","","227168",""]
[{"$f":"INDEX(学校種!B:B,MATCH(D27867,学校種!A:A,0))","v":"幼稚園(幼稚園型認定こども園を含む)"},{"$f":"INDEX(_tmp2!B:B,MATCH(E27867,_tmp2!A:A,0))","v":"静岡県"},"A122210001719","A1","22","2","1","浜松市立可美幼稚園","浜松市南区増楽町１１９９","4328062","2020-12-22","","227350",""]
[{"$f":"INDEX(学校種!B:B,MATCH(D27893,学校種!A:A,0))","v":"幼稚園(幼稚園型認定こども園を含む)"},{"$f":"INDEX(_tmp2!B:B,MATCH(E27893,_tmp2!A:A,0))","v":"静岡県"},"A122310000013","A1","22","3","1","双葉幼稚園","沼津市下香貫字柿原２８４３－１","4100822","2020-12-22","","227500",""]
[{"$f":"INDEX(学校種!B:B,MATCH(D27928,学校種!A:A,0))","v":"幼稚園(幼稚園型認定こども園を含む)"},{"$f":"INDEX(_tmp2!B:B,MATCH(E27928,_tmp2!A:A,0))","v":"静岡県"},"A122310000362","A1","22","3","1","富士中央幼稚園","富士市蓼原１１３番地の１５","4160931","2020-12-22","","227598",""]
[{"$f":"INDEX(学校種!B:B,MATCH(D27957,学校種!A:A,0))","v":"幼稚園(幼稚園型認定こども園を含む)"},{"$f":"INDEX(_tmp2!B:B,MATCH(E27957,_tmp2!A:A,0))","v":"静岡県"},"A122310000656","A1","22","3","1","静岡精華幼稚園","静岡市葵区鷹匠３－１１－２４","4200839","2020-12-22","","227736",""]
[{"$f":"INDEX(学校種!B:B,MATCH(D27980,学校種!A:A,0))","v":"幼稚園(幼稚園型認定こども園を含む)"},{"$f":"INDEX(_tmp2!B:B,MATCH(E27980,_tmp2!A:A,0))","v":"静岡県"},"A122310000889","A1","22","3","1","みやじま幼稚園","焼津市三ヶ名字宮嶋８０７番地の１","4250071","2020-12-22","","227848",""]
[{"$f":"INDEX(学校種!B:B,MATCH(D27990,学校種!A:A,0))","v":"幼稚園(幼稚園型認定こども園を含む)"},{"$f":"INDEX(_tmp2!B:B,MATCH(E27990,_tmp2!A:A,0))","v":"静岡県"},"A122310000987","A1","22","3","1","藤枝東幼稚園","藤枝市若王子３－４－３４","4260014","2020-12-22","","227890",""]
[{"$f":"INDEX(学校種!B:B,MATCH(D28023,学校種!A:A,0))","v":"幼稚園(幼稚園型認定こども園を含む)"},{"$f":"INDEX(_tmp2!B:B,MATCH(E28023,_tmp2!A:A,0))","v":"静岡県"},"A122310001316","A1","22","3","1","あけぼの幼稚園","浜松市中区城北２－５－２８","4328011","2020-12-22","","228115",""]
[{"$f":"INDEX(学校種!B:B,MATCH(D28051,学校種!A:A,0))","v":"幼稚園(幼稚園型認定こども園を含む)"},{"$f":"INDEX(_tmp2!B:B,MATCH(E28051,_tmp2!A:A,0))","v":"静岡県"},"A122310001593","A1","22","3","1","百花幼稚園","浜松市北区根洗町１４９７－２","4338108","2020-12-22","","228152",""]
[{"$f":"INDEX(学校種!B:B,MATCH(D28088,学校種!A:A,0))","v":"幼保連携型認定こども園"},{"$f":"INDEX(_tmp2!B:B,MATCH(E28088,_tmp2!A:A,0))","v":"静岡県"},"A222210000274","A2","22","2","1","静岡市立大谷こども園","静岡市駿河区西大谷６番地の８","4228018","2020-12-22","","22A048",""]
[{"$f":"INDEX(学校種!B:B,MATCH(D28112,学校種!A:A,0))","v":"幼保連携型認定こども園"},{"$f":"INDEX(_tmp2!B:B,MATCH(E28112,_tmp2!A:A,0))","v":"静岡県"},"A222210000513","A2","22","2","1","静岡市立小島こども園","静岡市清水区小島町６２１番地の１","4240305","2020-12-22","","22A073",""]
[{"$f":"INDEX(学校種!B:B,MATCH(D28126,学校種!A:A,0))","v":"幼保連携型認定こども園"},{"$f":"INDEX(_tmp2!B:B,MATCH(E28126,_tmp2!A:A,0))","v":"静岡県"},"A222210000657","A2","22","2","1","西伊豆町立伊豆海認定こども園","賀茂郡西伊豆町田子１７０９－５０","4103515","2020-12-22","","22A352",""]
[{"$f":"INDEX(学校種!B:B,MATCH(D28169,学校種!A:A,0))","v":"幼保連携型認定こども園"},{"$f":"INDEX(_tmp2!B:B,MATCH(E28169,_tmp2!A:A,0))","v":"静岡県"},"A222310000245","A2","22","3","1","竜南こども園","静岡市葵区竜南1-19-15","4200804","2020-12-22","","22A524",""]
[{"$f":"INDEX(学校種!B:B,MATCH(D28191,学校種!A:A,0))","v":"幼保連携型認定こども園"},{"$f":"INDEX(_tmp2!B:B,MATCH(E28191,_tmp2!A:A,0))","v":"静岡県"},"A222310000469","A2","22","3","1","足久保こども園","静岡市葵区足久保組２９－５","4212124","2020-12-22","","22A546",""]
[{"$f":"INDEX(学校種!B:B,MATCH(D28230,学校種!A:A,0))","v":"幼保連携型認定こども園"},{"$f":"INDEX(_tmp2!B:B,MATCH(E28230,_tmp2!A:A,0))","v":"静岡県"},"A222310000851","A2","22","3","1","子育てセンターこまつ","浜松市浜北区小松３２２１","4340042","2020-12-22","","22A587",""]
[{"$f":"INDEX(学校種!B:B,MATCH(D28256,学校種!A:A,0))","v":"幼保連携型認定こども園"},{"$f":"INDEX(_tmp2!B:B,MATCH(E28256,_tmp2!A:A,0))","v":"静岡県"},"A222310001119","A2","22","3","1","野中こども園","富士宮市野中東町２９４番地","4180033","2020-12-22","","22A636",""]
[{"$f":"INDEX(学校種!B:B,MATCH(D28263,学校種!A:A,0))","v":"幼保連携型認定こども園"},{"$f":"INDEX(_tmp2!B:B,MATCH(E28263,_tmp2!A:A,0))","v":"静岡県"},"A222310001182","A2","22","3","1","幼保連携型認定こども園エルフのみらい","島田市道悦２－２７－１４","4270019","2020-12-22","","22A644",""]
[{"$f":"INDEX(学校種!B:B,MATCH(D28299,学校種!A:A,0))","v":"幼保連携型認定こども園"},{"$f":"INDEX(_tmp2!B:B,MATCH(E28299,_tmp2!A:A,0))","v":"静岡県"},"A222310001547","A2","22","3","1","微笑こども園","湖西市梅田１２８－３","4310425","2020-12-22","","22A743",""]
[{"$f":"INDEX(学校種!B:B,MATCH(D28324,学校種!A:A,0))","v":"幼保連携型認定こども園"},{"$f":"INDEX(_tmp2!B:B,MATCH(E28324,_tmp2!A:A,0))","v":"静岡県"},"A222310001798","A2","22","3","1","こども園みらい","浜松市北区三幸町１５９－１","4338101","2020-12-22","","22A911",""]
[{"$f":"INDEX(学校種!B:B,MATCH(D28364,学校種!A:A,0))","v":"小学校"},{"$f":"INDEX(_tmp2!B:B,MATCH(E28364,_tmp2!A:A,0))","v":"静岡県"},"B122210000184","B1","22","2","1","沼津市立今沢小学校","沼津市東原字榎田通７６－１","4100304","2020-12-22","","220032",""]
[{"$f":"INDEX(学校種!B:B,MATCH(D28381,学校種!A:A,0))","v":"小学校"},{"$f":"INDEX(_tmp2!B:B,MATCH(E28381,_tmp2!A:A,0))","v":"静岡県"},"B122210000353","B1","22","2","1","三島市立坂小学校","三島市市山新田１６３－２","4110015","2020-12-22","","220096",""]
[{"$f":"INDEX(学校種!B:B,MATCH(D28402,学校種!A:A,0))","v":"小学校"},{"$f":"INDEX(_tmp2!B:B,MATCH(E28402,_tmp2!A:A,0))","v":"静岡県"},"B122210000567","B1","22","2","1","富士宮市立人穴小学校","富士宮市人穴３６２","4180102","2020-12-22","","220133",""]
[{"$f":"INDEX(学校種!B:B,MATCH(D28442,学校種!A:A,0))","v":"小学校"},{"$f":"INDEX(_tmp2!B:B,MATCH(E28442,_tmp2!A:A,0))","v":"静岡県"},"B122210000969","B1","22","2","1","富士市立青葉台小学校","富士市一色２９５番地","4170808","2020-12-22","","220215",""]
[{"$f":"INDEX(学校種!B:B,MATCH(D28475,学校種!A:A,0))","v":"小学校"},{"$f":"INDEX(_tmp2!B:B,MATCH(E28475,_tmp2!A:A,0))","v":"静岡県"},"B122210001290","B1","22","2","1","伊豆市立修善寺小学校","伊豆市修善寺３２４４","4102416","2020-12-22","","220410",""]
[{"$f":"INDEX(学校種!B:B,MATCH(D28489,学校種!A:A,0))","v":"小学校"},{"$f":"INDEX(_tmp2!B:B,MATCH(E28489,_tmp2!A:A,0))","v":"静岡県"},"B122210001432","B1","22","2","1","伊豆市立中伊豆小学校","伊豆市八幡１５８－２","4102505","2020-12-22","","220485",""]
[{"$f":"INDEX(学校種!B:B,MATCH(D28532,学校種!A:A,0))","v":"小学校"},{"$f":"INDEX(_tmp2!B:B,MATCH(E28532,_tmp2!A:A,0))","v":"静岡県"},"B122210001860","B1","22","2","1","静岡市立大里東小学校","静岡市駿河区高松２３１０番地","4228034","2020-12-22","","221017",""]
[{"$f":"INDEX(学校種!B:B,MATCH(D28554,学校種!A:A,0))","v":"小学校"},{"$f":"INDEX(_tmp2!B:B,MATCH(E28554,_tmp2!A:A,0))","v":"静岡県"},"B122210002084","B1","22","2","2","静岡市立中藁科小学校小布杉分校","静岡市葵区小布杉１７５６番地の１","4211316","2020-12-22","","221040",""]
[{"$f":"INDEX(学校種!B:B,MATCH(D28565,学校種!A:A,0))","v":"小学校"},{"$f":"INDEX(_tmp2!B:B,MATCH(E28565,_tmp2!A:A,0))","v":"静岡県"},"B122210002191","B1","22","2","1","静岡市立清水岡小学校","静岡市清水区神田町４番３号","4240852","2020-12-22","","221073",""]
[{"$f":"INDEX(学校種!B:B,MATCH(D28597,学校種!A:A,0))","v":"小学校"},{"$f":"INDEX(_tmp2!B:B,MATCH(E28597,_tmp2!A:A,0))","v":"静岡県"},"B122210002510","B1","22","2","1","島田市立伊久美小学校","島田市伊久美３６９０－１","4270232","2020-12-22","","221130",""]
[{"$f":"INDEX(学校種!B:B,MATCH(D28626,学校種!A:A,0))","v":"小学校"},{"$f":"INDEX(_tmp2!B:B,MATCH(E28626,_tmp2!A:A,0))","v":"静岡県"},"B122210002805","B1","22","2","1","掛川市立倉真小学校","掛川市倉真３７７４","4360341","2020-12-22","","221207",""]
[{"$f":"INDEX(学校種!B:B,MATCH(D28662,学校種!A:A,0))","v":"小学校"},{"$f":"INDEX(_tmp2!B:B,MATCH(E28662,_tmp2!A:A,0))","v":"静岡県"},"B122210003163","B1","22","2","1","藤枝市立岡部小学校","藤枝市岡部町内谷９９７－２","4211131","2020-12-22","","221500",""]
[{"$f":"INDEX(学校種!B:B,MATCH(D28687,学校種!A:A,0))","v":"小学校"},{"$f":"INDEX(_tmp2!B:B,MATCH(E28687,_tmp2!A:A,0))","v":"静岡県"},"B122210003412","B1","22","2","1","川根本町立本川根小学校","榛原郡川根本町千頭１２３６番地の６","4280411","2020-12-22","","221695",""]
[{"$f":"INDEX(学校種!B:B,MATCH(D28727,学校種!A:A,0))","v":"小学校"},{"$f":"INDEX(_tmp2!B:B,MATCH(E28727,_tmp2!A:A,0))","v":"静岡県"},"B122210003813","B1","22","2","1","浜松市立和田小学校","浜松市東区薬師町２７３－２","4350017","2020-12-22","","222025",""]
[{"$f":"INDEX(学校種!B:B,MATCH(D28744,学校種!A:A,0))","v":"小学校"},{"$f":"INDEX(_tmp2!B:B,MATCH(E28744,_tmp2!A:A,0))","v":"静岡県"},"B122210003984","B1","22","2","1","浜松市立篠原小学校","浜松市西区篠原町１０３００","4310201","2020-12-22","","222044",""]
[{"$f":"INDEX(学校種!B:B,MATCH(D28765,学校種!A:A,0))","v":"小学校"},{"$f":"INDEX(_tmp2!B:B,MATCH(E28765,_tmp2!A:A,0))","v":"静岡県"},"B122210004199","B1","22","2","1","磐田市立磐田北小学校","磐田市見付２３５２","4380086","2020-12-22","","222080",""]
[{"$f":"INDEX(学校種!B:B,MATCH(D28805,学校種!A:A,0))","v":"小学校"},{"$f":"INDEX(_tmp2!B:B,MATCH(E28805,_tmp2!A:A,0))","v":"静岡県"},"B122210004590","B1","22","2","9","森町立三倉小学校","周智郡森町三倉７４０","4370208","2020-12-22","2021-05-27","222306","B122210004581"]
[{"$f":"INDEX(学校種!B:B,MATCH(D28830,学校種!A:A,0))","v":"小学校"},{"$f":"INDEX(_tmp2!B:B,MATCH(E28830,_tmp2!A:A,0))","v":"静岡県"},"B122210004849","B1","22","2","1","湖西市立白須賀小学校","湖西市白須賀５０３０番地","4310451","2020-12-22","","222531",""]
[{"$f":"INDEX(学校種!B:B,MATCH(D28838,学校種!A:A,0))","v":"小学校"},{"$f":"INDEX(_tmp2!B:B,MATCH(E28838,_tmp2!A:A,0))","v":"静岡県"},"B122210004929","B1","22","2","1","浜松市立中川小学校","浜松市北区細江町中川２５５３","4311304","2020-12-22","","222603",""]
[{"$f":"INDEX(学校種!B:B,MATCH(D28873,学校種!A:A,0))","v":"中学校"},{"$f":"INDEX(_tmp2!B:B,MATCH(E28873,_tmp2!A:A,0))","v":"静岡県"},"C122210000164","C1","22","2","1","熱海市立多賀中学校","熱海市下多賀１５４９－１","4130102","2020-12-22","","223552",""]
[{"$f":"INDEX(学校種!B:B,MATCH(D28899,学校種!A:A,0))","v":"中学校"},{"$f":"INDEX(_tmp2!B:B,MATCH(E28899,_tmp2!A:A,0))","v":"静岡県"},"C122210000422","C1","22","2","1","富士市立吉原第一中学校","富士市永田北町７番１号","4170058","2020-12-22","","223640",""]
[{"$f":"INDEX(学校種!B:B,MATCH(D28938,学校種!A:A,0))","v":"中学校"},{"$f":"INDEX(_tmp2!B:B,MATCH(E28938,_tmp2!A:A,0))","v":"静岡県"},"C122210000814","C1","22","2","1","伊豆市立天城中学校","伊豆市月ヶ瀬８５３","4103215","2020-12-22","","223871",""]
[{"$f":"INDEX(学校種!B:B,MATCH(D28956,学校種!A:A,0))","v":"中学校"},{"$f":"INDEX(_tmp2!B:B,MATCH(E28956,_tmp2!A:A,0))","v":"静岡県"},"C122210000994","C1","22","2","1","富士宮市立柚野中学校","富士宮市下柚野３７１","4190305","2020-12-22","","223951",""]
[{"$f":"INDEX(学校種!B:B,MATCH(D28989,学校種!A:A,0))","v":"中学校"},{"$f":"INDEX(_tmp2!B:B,MATCH(E28989,_tmp2!A:A,0))","v":"静岡県"},"C122210001323","C1","22","2","1","静岡市立清水飯田中学校","静岡市清水区山原１１２番地の１","4240002","2020-12-22","","224053",""]
[{"$f":"INDEX(学校種!B:B,MATCH(D29025,学校種!A:A,0))","v":"中学校"},{"$f":"INDEX(_tmp2!B:B,MATCH(E29025,_tmp2!A:A,0))","v":"静岡県"},"C122210001680","C1","22","2","1","静岡市立玉川中学校","静岡市葵区落合１０３番地の３","4212223","2020-12-22","","224250",""]
[{"$f":"INDEX(学校種!B:B,MATCH(D29050,学校種!A:A,0))","v":"中学校"},{"$f":"INDEX(_tmp2!B:B,MATCH(E29050,_tmp2!A:A,0))","v":"静岡県"},"C122210001939","C1","22","2","1","浜松市立西部中学校","浜松市中区鴨江２－１７－１","4328023","2020-12-22","","224501",""]
[{"$f":"INDEX(学校種!B:B,MATCH(D29063,学校種!A:A,0))","v":"中学校"},{"$f":"INDEX(_tmp2!B:B,MATCH(E29063,_tmp2!A:A,0))","v":"静岡県"},"C122210002064","C1","22","2","1","浜松市立北星中学校","浜松市北区初生町１３０５","4338112","2020-12-22","","224514",""]
[{"$f":"INDEX(学校種!B:B,MATCH(D29107,学校種!A:A,0))","v":"中学校"},{"$f":"INDEX(_tmp2!B:B,MATCH(E29107,_tmp2!A:A,0))","v":"静岡県"},"C122210002509","C1","22","2","1","浜松市立水窪中学校","浜松市天竜区水窪町地頭方３６６","4314102","2020-12-22","","224790",""]
[{"$f":"INDEX(学校種!B:B,MATCH(D29128,学校種!A:A,0))","v":"中学校"},{"$f":"INDEX(_tmp2!B:B,MATCH(E29128,_tmp2!A:A,0))","v":"静岡県"},"C122310000091","C1","22","3","1","城南静岡中学校","静岡市駿河区南八幡町１－１","4228074","2020-12-22","","225012",""]
[{"$f":"INDEX(学校種!B:B,MATCH(D29168,学校種!A:A,0))","v":"高等学校"},{"$f":"INDEX(_tmp2!B:B,MATCH(E29168,_tmp2!A:A,0))","v":"静岡県"},"D122210000206","D1","22","2","1","静岡県立富士高等学校","富士市松本１７","4160903","2020-12-22","","225537",""]
[{"$f":"INDEX(学校種!B:B,MATCH(D29193,学校種!A:A,0))","v":"高等学校"},{"$f":"INDEX(_tmp2!B:B,MATCH(E29193,_tmp2!A:A,0))","v":"静岡県"},"D122210000457","D1","22","2","1","静岡県立藤枝北高等学校","藤枝市郡９７０","4260016","2020-12-22","","225614",""]
[{"$f":"INDEX(学校種!B:B,MATCH(D29201,学校種!A:A,0))","v":"高等学校"},{"$f":"INDEX(_tmp2!B:B,MATCH(E29201,_tmp2!A:A,0))","v":"静岡県"},"D122210000536","D1","22","2","1","静岡県立掛川東高等学校","掛川市南西郷１３５７","4360024","2020-12-22","","225622",""]
[{"$f":"INDEX(学校種!B:B,MATCH(D29236,学校種!A:A,0))","v":"高等学校"},{"$f":"INDEX(_tmp2!B:B,MATCH(E29236,_tmp2!A:A,0))","v":"静岡県"},"D122210000885","D1","22","2","1","静岡県立浜松湖北高等学校","浜松市北区引佐町金指１４２８","4312213","2020-12-22","","225737",""]
[{"$f":"INDEX(学校種!B:B,MATCH(D29262,学校種!A:A,0))","v":"高等学校"},{"$f":"INDEX(_tmp2!B:B,MATCH(E29262,_tmp2!A:A,0))","v":"静岡県"},"D122310000197","D1","22","3","1","静岡英和女学院高等学校","静岡市葵区西草深町８－１","4200866","2020-12-22","","226007",""]
[{"$f":"INDEX(学校種!B:B,MATCH(D29301,学校種!A:A,0))","v":"特別支援学校"},{"$f":"INDEX(_tmp2!B:B,MATCH(E29301,_tmp2!A:A,0))","v":"静岡県"},"E122210000132","E1","22","2","1","静岡県立静岡北特別支援学校","静岡市葵区漆山７９６","4200953","2020-12-22","","229917",""]
[{"$f":"INDEX(学校種!B:B,MATCH(D29319,学校種!A:A,0))","v":"特別支援学校"},{"$f":"INDEX(_tmp2!B:B,MATCH(E29319,_tmp2!A:A,0))","v":"静岡県"},"E122210000310","E1","22","2","2","静岡県立伊豆の国特別支援学校伊豆松崎分校","賀茂郡松崎町桜田１８８","4103625","2020-12-22","","229937",""]
[{"$f":"INDEX(学校種!B:B,MATCH(D29339,学校種!A:A,0))","v":"専修学校"},{"$f":"INDEX(_tmp2!B:B,MATCH(E29339,_tmp2!A:A,0))","v":"静岡県"},"H122310000018","H1","22","3","1","沼津情報・ビジネス専門学校","沼津市西条町１７－１","4100804","2020-12-22","","228557",""]
[{"$f":"INDEX(学校種!B:B,MATCH(D29380,学校種!A:A,0))","v":"専修学校"},{"$f":"INDEX(_tmp2!B:B,MATCH(E29380,_tmp2!A:A,0))","v":"静岡県"},"H122310000429","H1","22","3","1","専門学校中央医療健康大学校","静岡市駿河区曲金６丁目７番１５号","4228006","2020-12-22","","228731",""]
[{"$f":"INDEX(学校種!B:B,MATCH(D29404,学校種!A:A,0))","v":"専修学校"},{"$f":"INDEX(_tmp2!B:B,MATCH(E29404,_tmp2!A:A,0))","v":"静岡県"},"H122310000660","H1","22","3","1","東海文化高等専修学校","磐田市中泉１６９４","4380078","2020-12-22","","228930",""]
[{"$f":"INDEX(学校種!B:B,MATCH(D29441,学校種!A:A,0))","v":"各種学校"},{"$f":"INDEX(_tmp2!B:B,MATCH(E29441,_tmp2!A:A,0))","v":"静岡県"},"H222310000213","H2","22","3","1","浜松日本語学院","浜松市中区中央３－１０－３１","4300929","2020-12-22","","229578",""]
[{"$f":"INDEX(学校種!B:B,MATCH(D29447,学校種!A:A,0))","v":"幼稚園(幼稚園型認定こども園を含む)"},{"$f":"INDEX(_tmp2!B:B,MATCH(E29447,_tmp2!A:A,0))","v":"愛知県"},"A123110000016","A1","23","1","1","愛知教育大学附属幼稚園","名古屋市東区大幸南１－１２６","4610047","2020-12-22","","236501",""]
[{"$f":"INDEX(学校種!B:B,MATCH(D29474,学校種!A:A,0))","v":"幼稚園(幼稚園型認定こども園を含む)"},{"$f":"INDEX(_tmp2!B:B,MATCH(E29474,_tmp2!A:A,0))","v":"愛知県"},"A123210000265","A1","23","2","1","半田市立成岩幼稚園","半田市有楽町２－１２５","4750837","2020-12-22","","236734",""]
[{"$f":"INDEX(学校種!B:B,MATCH(D29503,学校種!A:A,0))","v":"幼稚園(幼稚園型認定こども園を含む)"},{"$f":"INDEX(_tmp2!B:B,MATCH(E29503,_tmp2!A:A,0))","v":"愛知県"},"A123210000559","A1","23","2","1","阿久比町立ほくぶ幼稚園","知多郡阿久比町大字卯坂字西谷６３","4702212","2020-12-22","","237156",""]
[{"$f":"INDEX(学校種!B:B,MATCH(D29534,学校種!A:A,0))","v":"幼稚園(幼稚園型認定こども園を含む)"},{"$f":"INDEX(_tmp2!B:B,MATCH(E29534,_tmp2!A:A,0))","v":"愛知県"},"A123310000281","A1","23","3","1","金城幼稚園","名古屋市北区金城町２－２３－２","4620047","2020-12-22","","237455",""]
[{"$f":"INDEX(学校種!B:B,MATCH(D29564,学校種!A:A,0))","v":"幼稚園(幼稚園型認定こども園を含む)"},{"$f":"INDEX(_tmp2!B:B,MATCH(E29564,_tmp2!A:A,0))","v":"愛知県"},"A123310000584","A1","23","3","1","天池幼稚園","名古屋市昭和区御器所２－９－１６","4660051","2020-12-22","","237537",""]
[{"$f":"INDEX(学校種!B:B,MATCH(D29599,学校種!A:A,0))","v":"幼稚園(幼稚園型認定こども園を含む)"},{"$f":"INDEX(_tmp2!B:B,MATCH(E29599,_tmp2!A:A,0))","v":"愛知県"},"A123310000931","A1","23","3","1","大江幼稚園","名古屋市南区港東通１－１１","4570834","2020-12-22","","237621",""]
[{"$f":"INDEX(学校種!B:B,MATCH(D29625,学校種!A:A,0))","v":"幼稚園(幼稚園型認定こども園を含む)"},{"$f":"INDEX(_tmp2!B:B,MATCH(E29625,_tmp2!A:A,0))","v":"愛知県"},"A123310001191","A1","23","3","1","学校法人緑学園平手幼稚園","名古屋市緑区平手北２－１１１３","4580008","2020-12-22","","237669",""]
[{"$f":"INDEX(学校種!B:B,MATCH(D29637,学校種!A:A,0))","v":"幼稚園(幼稚園型認定こども園を含む)"},{"$f":"INDEX(_tmp2!B:B,MATCH(E29637,_tmp2!A:A,0))","v":"愛知県"},"A123310001315","A1","23","3","1","珉光幼稚園","名古屋市名東区平和が丘３－７８","4650097","2020-12-22","","237687",""]
[{"$f":"INDEX(学校種!B:B,MATCH(D29682,学校種!A:A,0))","v":"幼稚園(幼稚園型認定こども園を含む)"},{"$f":"INDEX(_tmp2!B:B,MATCH(E29682,_tmp2!A:A,0))","v":"愛知県"},"A123310001761","A1","23","3","1","レオナ第一幼稚園","岡崎市真伝町字鐘鋳１番地５","4443174","2020-12-22","","237756",""]
[{"$f":"INDEX(学校種!B:B,MATCH(D29702,学校種!A:A,0))","v":"幼稚園(幼稚園型認定こども園を含む)"},{"$f":"INDEX(_tmp2!B:B,MATCH(E29702,_tmp2!A:A,0))","v":"愛知県"},"A123310001967","A1","23","3","9","北方幼稚園","一宮市北方町北方字中土取１８８番地","4938001","2020-12-22","2021-05-27","237779","A223310001868"]
[{"$f":"INDEX(学校種!B:B,MATCH(D29743,学校種!A:A,0))","v":"幼稚園(幼稚園型認定こども園を含む)"},{"$f":"INDEX(_tmp2!B:B,MATCH(E29743,_tmp2!A:A,0))","v":"愛知県"},"A123310002378","A1","23","3","1","豊川幼稚園","豊川市幸町１２４番地","4420046","2020-12-22","","237851",""]
[{"$f":"INDEX(学校種!B:B,MATCH(D29767,学校種!A:A,0))","v":"幼稚園(幼稚園型認定こども園を含む)"},{"$f":"INDEX(_tmp2!B:B,MATCH(E29767,_tmp2!A:A,0))","v":"愛知県"},"A123310002617","A1","23","3","1","蒲郡あさひこ幼稚園","蒲郡市三谷町塚前６０－１","4430021","2020-12-22","","237938",""]
[{"$f":"INDEX(学校種!B:B,MATCH(D29776,学校種!A:A,0))","v":"幼稚園(幼稚園型認定こども園を含む)"},{"$f":"INDEX(_tmp2!B:B,MATCH(E29776,_tmp2!A:A,0))","v":"愛知県"},"A123310002706","A1","23","3","1","金剛幼稚園","一宮市開明字郷中５８","4940001","2020-12-22","","237976",""]
[{"$f":"INDEX(学校種!B:B,MATCH(D29810,学校種!A:A,0))","v":"幼稚園(幼稚園型認定こども園を含む)"},{"$f":"INDEX(_tmp2!B:B,MATCH(E29810,_tmp2!A:A,0))","v":"愛知県"},"A123310003046","A1","23","3","1","曽野幼稚園","岩倉市曽野町宮前４０２","4820003","2020-12-22","","238083",""]
[{"$f":"INDEX(学校種!B:B,MATCH(D29837,学校種!A:A,0))","v":"幼稚園(幼稚園型認定こども園を含む)"},{"$f":"INDEX(_tmp2!B:B,MATCH(E29837,_tmp2!A:A,0))","v":"愛知県"},"A123310003313","A1","23","3","1","中川幼稚園","あま市七宝町伊福隅田５６","4970005","2020-12-22","","238188",""]
[{"$f":"INDEX(学校種!B:B,MATCH(D29875,学校種!A:A,0))","v":"幼保連携型認定こども園"},{"$f":"INDEX(_tmp2!B:B,MATCH(E29875,_tmp2!A:A,0))","v":"愛知県"},"A223210000095","A2","23","2","1","刈谷市立衣浦幼児園","刈谷市天王町３－２４","4480824","2020-12-22","","23A159",""]
[{"$f":"INDEX(学校種!B:B,MATCH(D29894,学校種!A:A,0))","v":"幼保連携型認定こども園"},{"$f":"INDEX(_tmp2!B:B,MATCH(E29894,_tmp2!A:A,0))","v":"愛知県"},"A223310000048","A2","23","3","1","希望が丘こども園","豊橋市大岩町字大穴１１７番地の３","4413147","2020-12-22","","23A026",""]
[{"$f":"INDEX(学校種!B:B,MATCH(D29913,学校種!A:A,0))","v":"幼保連携型認定こども園"},{"$f":"INDEX(_tmp2!B:B,MATCH(E29913,_tmp2!A:A,0))","v":"愛知県"},"A223310000235","A2","23","3","1","幼保連携型認定こども園フェアリーイースト保育園","名古屋市守山区大字下志段味字吉田２２３５","4630003","2020-12-22","","23A046",""]
[{"$f":"INDEX(学校種!B:B,MATCH(D29955,学校種!A:A,0))","v":"幼保連携型認定こども園"},{"$f":"INDEX(_tmp2!B:B,MATCH(E29955,_tmp2!A:A,0))","v":"愛知県"},"A223310000654","A2","23","3","1","曽池ひかり幼稚園","名古屋市南区曽池町２－４０","4570042","2020-12-22","","23A491",""]
[{"$f":"INDEX(学校種!B:B,MATCH(D29978,学校種!A:A,0))","v":"幼保連携型認定こども園"},{"$f":"INDEX(_tmp2!B:B,MATCH(E29978,_tmp2!A:A,0))","v":"愛知県"},"A223310000887","A2","23","3","1","認定こども園牛川育英幼稚園","豊橋市牛川町字浪ノ上10","4400016","2020-12-22","","23A604",""]
[{"$f":"INDEX(学校種!B:B,MATCH(D30016,学校種!A:A,0))","v":"幼保連携型認定こども園"},{"$f":"INDEX(_tmp2!B:B,MATCH(E30016,_tmp2!A:A,0))","v":"愛知県"},"A223310001261","A2","23","3","1","竜神こども園","豊田市竜神町神田６０","4730907","2020-12-22","","23A799",""]
[{"$f":"INDEX(学校種!B:B,MATCH(D30048,学校種!A:A,0))","v":"幼保連携型認定こども園"},{"$f":"INDEX(_tmp2!B:B,MATCH(E30048,_tmp2!A:A,0))","v":"愛知県"},"A223310001582","A2","23","3","1","幼保連携型認定双峰こども園リジョイス幼稚園","豊明市二村台２－９－１","4701131","2020-12-22","","23A921",""]
[{"$f":"INDEX(学校種!B:B,MATCH(D30049,学校種!A:A,0))","v":"幼保連携型認定こども園"},{"$f":"INDEX(_tmp2!B:B,MATCH(E30049,_tmp2!A:A,0))","v":"愛知県"},"A223310001591","A2","23","3","1","香久山幼稚園","日進市香久山１丁目１７０１番地","4700134","2020-12-22","","23A926",""]
[{"$f":"INDEX(学校種!B:B,MATCH(D30078,学校種!A:A,0))","v":"幼保連携型認定こども園"},{"$f":"INDEX(_tmp2!B:B,MATCH(E30078,_tmp2!A:A,0))","v":"愛知県"},"A223310001886","A2","23",3,1,"中央台幼稚園","春日井市中央台３丁目１－３",4870011,"2021-05-27","","23A724",""]
[{"$f":"INDEX(学校種!B:B,MATCH(D30108,学校種!A:A,0))","v":"小学校"},{"$f":"INDEX(_tmp2!B:B,MATCH(E30108,_tmp2!A:A,0))","v":"愛知県"},"B123210000209","B1","23","2","1","名古屋市立山吹小学校","名古屋市東区橦木町２－２４","4610014","2020-12-22","","230046",""]
[{"$f":"INDEX(学校種!B:B,MATCH(D30139,学校種!A:A,0))","v":"小学校"},{"$f":"INDEX(_tmp2!B:B,MATCH(E30139,_tmp2!A:A,0))","v":"愛知県"},"B123210000511","B1","23","2","1","名古屋市立稲生小学校","名古屋市西区香呑町２－８４","4510015","2020-12-22","","230102",""]
[{"$f":"INDEX(学校種!B:B,MATCH(D30173,学校種!A:A,0))","v":"小学校"},{"$f":"INDEX(_tmp2!B:B,MATCH(E30173,_tmp2!A:A,0))","v":"愛知県"},"B123210000851","B1","23","2","1","名古屋市立正木小学校","名古屋市中区正木１ー１７ー３３","4600024","2020-12-22","","230161",""]
[{"$f":"INDEX(学校種!B:B,MATCH(D30200,学校種!A:A,0))","v":"小学校"},{"$f":"INDEX(_tmp2!B:B,MATCH(E30200,_tmp2!A:A,0))","v":"愛知県"},"B123210001128","B1","23","2","1","名古屋市立船方小学校","名古屋市熱田区四番２－１０－４３","4560051","2020-12-22","","230224",""]
[{"$f":"INDEX(学校種!B:B,MATCH(D30238,学校種!A:A,0))","v":"小学校"},{"$f":"INDEX(_tmp2!B:B,MATCH(E30238,_tmp2!A:A,0))","v":"愛知県"},"B123210001501","B1","23","2","1","名古屋市立港楽小学校","名古屋市港区港楽２－３－３６","4550014","2020-12-22","","230293",""]
[{"$f":"INDEX(学校種!B:B,MATCH(D30257,学校種!A:A,0))","v":"小学校"},{"$f":"INDEX(_tmp2!B:B,MATCH(E30257,_tmp2!A:A,0))","v":"愛知県"},"B123210001690","B1","23","2","1","名古屋市立笠寺小学校","名古屋市南区本星崎町本城７６５","4570056","2020-12-22","","230320",""]
[{"$f":"INDEX(学校種!B:B,MATCH(D30276,学校種!A:A,0))","v":"小学校"},{"$f":"INDEX(_tmp2!B:B,MATCH(E30276,_tmp2!A:A,0))","v":"愛知県"},"B123210001887","B1","23","2","1","名古屋市立本地丘小学校","名古屋市守山区本地が丘９０８","4630031","2020-12-22","","230351",""]
[{"$f":"INDEX(学校種!B:B,MATCH(D30318,学校種!A:A,0))","v":"小学校"},{"$f":"INDEX(_tmp2!B:B,MATCH(E30318,_tmp2!A:A,0))","v":"愛知県"},"B123210002305","B1","23","2","1","名古屋市立名東小学校","名古屋市名東区亀の井３－１３４","4650094","2020-12-22","","230405",""]
[{"$f":"INDEX(学校種!B:B,MATCH(D30341,学校種!A:A,0))","v":"小学校"},{"$f":"INDEX(_tmp2!B:B,MATCH(E30341,_tmp2!A:A,0))","v":"愛知県"},"B123210002537","B1","23","2","1","名古屋市立山根小学校","名古屋市天白区山根町１８９","4680038","2020-12-22","","230439",""]
[{"$f":"INDEX(学校種!B:B,MATCH(D30379,学校種!A:A,0))","v":"小学校"},{"$f":"INDEX(_tmp2!B:B,MATCH(E30379,_tmp2!A:A,0))","v":"愛知県"},"B123210002911","B1","23","2","1","豊橋市立西郷小学校","豊橋市石巻萩平町字城脇１６４－２","4411103","2020-12-22","","230530",""]
[{"$f":"INDEX(学校種!B:B,MATCH(D30384,学校種!A:A,0))","v":"小学校"},{"$f":"INDEX(_tmp2!B:B,MATCH(E30384,_tmp2!A:A,0))","v":"愛知県"},"B123210002966","B1","23","2","1","豊橋市立小沢小学校","豊橋市小島町字荒巻８１－１","4413122","2020-12-22","","230535",""]
[{"$f":"INDEX(学校種!B:B,MATCH(D30412,学校種!A:A,0))","v":"小学校"},{"$f":"INDEX(_tmp2!B:B,MATCH(E30412,_tmp2!A:A,0))","v":"愛知県"},"B123210003242","B1","23","2","1","岡崎市立連尺小学校","岡崎市城北町４番地","4440064","2020-12-22","","230589",""]
[{"$f":"INDEX(学校種!B:B,MATCH(D30449,学校種!A:A,0))","v":"小学校"},{"$f":"INDEX(_tmp2!B:B,MATCH(E30449,_tmp2!A:A,0))","v":"愛知県"},"B123210003616","B1","23","2","1","一宮市立宮西小学校","一宮市大宮４－５－３３","4910044","2020-12-22","","230651",""]
[{"$f":"INDEX(学校種!B:B,MATCH(D30469,学校種!A:A,0))","v":"小学校"},{"$f":"INDEX(_tmp2!B:B,MATCH(E30469,_tmp2!A:A,0))","v":"愛知県"},"B123210003812","B1","23","2","1","一宮市立萩原小学校","一宮市萩原町萩原字河原崎１５４４","4910353","2020-12-22","","230672",""]
[{"$f":"INDEX(学校種!B:B,MATCH(D30514,学校種!A:A,0))","v":"小学校"},{"$f":"INDEX(_tmp2!B:B,MATCH(E30514,_tmp2!A:A,0))","v":"愛知県"},"B123210004269","B1","23","2","1","半田市立亀崎小学校","半田市亀崎月見町３－１０","4750022","2020-12-22","","230755",""]
[{"$f":"INDEX(学校種!B:B,MATCH(D30530,学校種!A:A,0))","v":"小学校"},{"$f":"INDEX(_tmp2!B:B,MATCH(E30530,_tmp2!A:A,0))","v":"愛知県"},"B123210004429","B1","23","2","1","春日井市立八幡小学校","春日井市春見町２３－２","4860837","2020-12-22","","230790",""]
[{"$f":"INDEX(学校種!B:B,MATCH(D30552,学校種!A:A,0))","v":"小学校"},{"$f":"INDEX(_tmp2!B:B,MATCH(E30552,_tmp2!A:A,0))","v":"愛知県"},"B123210004642","B1","23","2","1","春日井市立東高森台小学校","春日井市高森台７－３","4870032","2020-12-22","","230814",""]
[{"$f":"INDEX(学校種!B:B,MATCH(D30591,学校種!A:A,0))","v":"小学校"},{"$f":"INDEX(_tmp2!B:B,MATCH(E30591,_tmp2!A:A,0))","v":"愛知県"},"B123210005035","B1","23","2","1","津島市立高台寺小学校","津島市神尾町江西６１","4960013","2020-12-22","","230867",""]
[{"$f":"INDEX(学校種!B:B,MATCH(D30620,学校種!A:A,0))","v":"小学校"},{"$f":"INDEX(_tmp2!B:B,MATCH(E30620,_tmp2!A:A,0))","v":"愛知県"},"B123210005320","B1","23","2","1","豊田市立山之手小学校","豊田市山之手６－６","4710833","2020-12-22","","230936",""]
[{"$f":"INDEX(学校種!B:B,MATCH(D30639,学校種!A:A,0))","v":"小学校"},{"$f":"INDEX(_tmp2!B:B,MATCH(E30639,_tmp2!A:A,0))","v":"愛知県"},"B123210005516","B1","23","2","1","豊田市立西広瀬小学校","豊田市西広瀬町清水３４番地","4700309","2020-12-22","","230955",""]
[{"$f":"INDEX(学校種!B:B,MATCH(D30681,学校種!A:A,0))","v":"小学校"},{"$f":"INDEX(_tmp2!B:B,MATCH(E30681,_tmp2!A:A,0))","v":"愛知県"},"B123210005936","B1","23","2","1","豊田市立大蔵小学校","豊田市大蔵町本城９－２","4442511","2020-12-22","","232093",""]
[{"$f":"INDEX(学校種!B:B,MATCH(D30704,学校種!A:A,0))","v":"小学校"},{"$f":"INDEX(_tmp2!B:B,MATCH(E30704,_tmp2!A:A,0))","v":"愛知県"},"B123210006169","B1","23","2","1","安城市立里町小学校","安城市里町足取１番地５","4460001","2020-12-22","","231025",""]
[{"$f":"INDEX(学校種!B:B,MATCH(D30714,学校種!A:A,0))","v":"小学校"},{"$f":"INDEX(_tmp2!B:B,MATCH(E30714,_tmp2!A:A,0))","v":"愛知県"},"B123210006267","B1","23","2","1","西尾市立西野町小学校","西尾市上町御所ノ下２０番地","4450894","2020-12-22","","231044",""]
[{"$f":"INDEX(学校種!B:B,MATCH(D30747,学校種!A:A,0))","v":"小学校"},{"$f":"INDEX(_tmp2!B:B,MATCH(E30747,_tmp2!A:A,0))","v":"愛知県"},"B123210006597","B1","23","2","1","蒲郡市立三谷東小学校","蒲郡市三谷町南山１－７","4430021","2020-12-22","","231082",""]
[{"$f":"INDEX(学校種!B:B,MATCH(D30775,学校種!A:A,0))","v":"小学校"},{"$f":"INDEX(_tmp2!B:B,MATCH(E30775,_tmp2!A:A,0))","v":"愛知県"},"B123210006873","B1","23","2","1","江南市立草井小学校","江南市小杁町長者毛西１","4838409","2020-12-22","","231148",""]
[{"$f":"INDEX(学校種!B:B,MATCH(D30812,学校種!A:A,0))","v":"小学校"},{"$f":"INDEX(_tmp2!B:B,MATCH(E30812,_tmp2!A:A,0))","v":"愛知県"},"B123210007248","B1","23","2","1","稲沢市立牧川小学校","稲沢市祖父江町両寺内砂崎９９０番地","4950025","2020-12-22","","231665",""]
[{"$f":"INDEX(学校種!B:B,MATCH(D30832,学校種!A:A,0))","v":"小学校"},{"$f":"INDEX(_tmp2!B:B,MATCH(E30832,_tmp2!A:A,0))","v":"愛知県"},"B123210007444","B1","23","2","1","東海市立渡内小学校","東海市荒尾町義呂１－１","4760003","2020-12-22","","231280",""]
[{"$f":"INDEX(学校種!B:B,MATCH(D30850,学校種!A:A,0))","v":"小学校"},{"$f":"INDEX(_tmp2!B:B,MATCH(E30850,_tmp2!A:A,0))","v":"愛知県"},"B123210007621","B1","23","2","1","大府市立石ヶ瀬小学校","大府市江端町６－９９","4740035","2020-12-22","","231306",""]
[{"$f":"INDEX(学校種!B:B,MATCH(D30893,学校種!A:A,0))","v":"小学校"},{"$f":"INDEX(_tmp2!B:B,MATCH(E30893,_tmp2!A:A,0))","v":"愛知県"},"B123210008050","B1","23","2","9","豊明市立唐竹小学校","豊明市二村台１－２７","4701131","2020-12-22","2021-05-27","231407","B123210009656"]
[{"$f":"INDEX(学校種!B:B,MATCH(D30915,学校種!A:A,0))","v":"小学校"},{"$f":"INDEX(_tmp2!B:B,MATCH(E30915,_tmp2!A:A,0))","v":"愛知県"},"B123210008274","B1","23","2","1","田原市立高松小学校","田原市高松町蔵屋敷１８番地","4413501","2020-12-22","","232361",""]
[{"$f":"INDEX(学校種!B:B,MATCH(D30954,学校種!A:A,0))","v":"小学校"},{"$f":"INDEX(_tmp2!B:B,MATCH(E30954,_tmp2!A:A,0))","v":"愛知県"},"B123210008666","B1","23","2","1","弥富市立十四山東部小学校","弥富市神戸二丁目４番地","4901405","2020-12-22","","231751",""]
[{"$f":"INDEX(学校種!B:B,MATCH(D30958,学校種!A:A,0))","v":"小学校"},{"$f":"INDEX(_tmp2!B:B,MATCH(E30958,_tmp2!A:A,0))","v":"愛知県"},"B123210008700","B1","23","2","1","弥富市立栄南小学校","弥富市狐地２－１６３","4980051","2020-12-22","","231773",""]
[{"$f":"INDEX(学校種!B:B,MATCH(D30987,学校種!A:A,0))","v":"小学校"},{"$f":"INDEX(_tmp2!B:B,MATCH(E30987,_tmp2!A:A,0))","v":"愛知県"},"B123210008997","B1","23","2","1","長久手市立市が洞小学校","長久手市市が洞一丁目１２０３番地","4801147","2020-12-22","","231536",""]
[{"$f":"INDEX(学校種!B:B,MATCH(D31023,学校種!A:A,0))","v":"小学校"},{"$f":"INDEX(_tmp2!B:B,MATCH(E31023,_tmp2!A:A,0))","v":"愛知県"},"B123210009353","B1","23","2","1","南知多町立内海小学校","知多郡南知多町内海中浜田３","4703321","2020-12-22","","231881",""]
[{"$f":"INDEX(学校種!B:B,MATCH(D31044,学校種!A:A,0))","v":"小学校"},{"$f":"INDEX(_tmp2!B:B,MATCH(E31044,_tmp2!A:A,0))","v":"愛知県"},"B123210009567","B1","23","2","1","幸田町立豊坂小学校","額田郡幸田町大字野場鶏島５５","4440128","2020-12-22","","231985",""]
[{"$f":"INDEX(学校種!B:B,MATCH(D31088,学校種!A:A,0))","v":"中学校"},{"$f":"INDEX(_tmp2!B:B,MATCH(E31088,_tmp2!A:A,0))","v":"愛知県"},"C123210000270","C1","23","2","1","名古屋市立笈瀬中学校","名古屋市中村区佐古前町５－４","4530018","2020-12-22","","233568",""]
[{"$f":"INDEX(学校種!B:B,MATCH(D31105,学校種!A:A,0))","v":"中学校"},{"$f":"INDEX(_tmp2!B:B,MATCH(E31105,_tmp2!A:A,0))","v":"愛知県"},"C123210000449","C1","23","2","1","名古屋市立萩山中学校","名古屋市瑞穂区市丘町１－４８","4670063","2020-12-22","","233608",""]
[{"$f":"INDEX(学校種!B:B,MATCH(D31138,学校種!A:A,0))","v":"中学校"},{"$f":"INDEX(_tmp2!B:B,MATCH(E31138,_tmp2!A:A,0))","v":"愛知県"},"C123210000779","C1","23","2","1","名古屋市立守山中学校","名古屋市守山区大屋敷１３－６３","4630016","2020-12-22","","233681",""]
[{"$f":"INDEX(学校種!B:B,MATCH(D31175,学校種!A:A,0))","v":"中学校"},{"$f":"INDEX(_tmp2!B:B,MATCH(E31175,_tmp2!A:A,0))","v":"愛知県"},"C123210001144","C1","23","2","1","豊橋市立豊城中学校","豊橋市今橋町２番地の１","4400801","2020-12-22","","233803",""]
[{"$f":"INDEX(学校種!B:B,MATCH(D31195,学校種!A:A,0))","v":"中学校"},{"$f":"INDEX(_tmp2!B:B,MATCH(E31195,_tmp2!A:A,0))","v":"愛知県"},"C123210001340","C1","23","2","1","岡崎市立甲山中学校","岡崎市中町字北野東20番地１","4440015","2020-12-22","","233841",""]
[{"$f":"INDEX(学校種!B:B,MATCH(D31213,学校種!A:A,0))","v":"中学校"},{"$f":"INDEX(_tmp2!B:B,MATCH(E31213,_tmp2!A:A,0))","v":"愛知県"},"C123210001527","C1","23","2","1","岡崎市立額田中学校","岡崎市樫山町字原新田88番地","4443622","2020-12-22","","234386",""]
[{"$f":"INDEX(学校種!B:B,MATCH(D31256,学校種!A:A,0))","v":"中学校"},{"$f":"INDEX(_tmp2!B:B,MATCH(E31256,_tmp2!A:A,0))","v":"愛知県"},"C123210001956","C1","23","2","1","春日井市立高森台中学校","春日井市高森台８－６","4870032","2020-12-22","","233935",""]
[{"$f":"INDEX(学校種!B:B,MATCH(D31278,学校種!A:A,0))","v":"中学校"},{"$f":"INDEX(_tmp2!B:B,MATCH(E31278,_tmp2!A:A,0))","v":"愛知県"},"C123210002170","C1","23","2","1","碧南市立南中学校","碧南市春日町１－１","4470888","2020-12-22","","233972",""]
[{"$f":"INDEX(学校種!B:B,MATCH(D31289,学校種!A:A,0))","v":"中学校"},{"$f":"INDEX(_tmp2!B:B,MATCH(E31289,_tmp2!A:A,0))","v":"愛知県"},"C123210002287","C1","23","2","1","豊田市立朝日丘中学校","豊田市朝日ケ丘５－３４","4710858","2020-12-22","","233992",""]
[{"$f":"INDEX(学校種!B:B,MATCH(D31321,学校種!A:A,0))","v":"中学校"},{"$f":"INDEX(_tmp2!B:B,MATCH(E31321,_tmp2!A:A,0))","v":"愛知県"},"C123210002606","C1","23","2","1","安城市立東山中学校","安城市里町東山１","4460001","2020-12-22","","234026",""]
[{"$f":"INDEX(学校種!B:B,MATCH(D31350,学校種!A:A,0))","v":"中学校"},{"$f":"INDEX(_tmp2!B:B,MATCH(E31350,_tmp2!A:A,0))","v":"愛知県"},"C123210002893","C1","23","2","1","江南市立宮田中学校","江南市後飛保町前川２１０","4838383","2020-12-22","","234088",""]
[{"$f":"INDEX(学校種!B:B,MATCH(D31386,学校種!A:A,0))","v":"中学校"},{"$f":"INDEX(_tmp2!B:B,MATCH(E31386,_tmp2!A:A,0))","v":"愛知県"},"C123210003259","C1","23","2","1","大府市立大府南中学校","大府市馬池町３－２１","4740045","2020-12-22","","234154",""]
[{"$f":"INDEX(学校種!B:B,MATCH(D31407,学校種!A:A,0))","v":"中学校"},{"$f":"INDEX(_tmp2!B:B,MATCH(E31407,_tmp2!A:A,0))","v":"愛知県"},"C123210003464","C1","23","2","1","日進市立日進西中学校","日進市梅森町向江１５９７","4700132","2020-12-22","","234208",""]
[{"$f":"INDEX(学校種!B:B,MATCH(D31451,学校種!A:A,0))","v":"中学校"},{"$f":"INDEX(_tmp2!B:B,MATCH(E31451,_tmp2!A:A,0))","v":"愛知県"},"C123210003909","C1","23","2","1","扶桑町立扶桑中学校","丹羽郡扶桑町大字柏森字辻田６７０","4800103","2020-12-22","","234256",""]
[{"$f":"INDEX(学校種!B:B,MATCH(D31468,学校種!A:A,0))","v":"中学校"},{"$f":"INDEX(_tmp2!B:B,MATCH(E31468,_tmp2!A:A,0))","v":"愛知県"},"C123210004070","C1","23","2","1","武豊町立富貴中学校","知多郡武豊町大字東大高字熊野西８","4702521","2020-12-22","","234362",""]
[{"$f":"INDEX(学校種!B:B,MATCH(D31489,学校種!A:A,0))","v":"中学校"},{"$f":"INDEX(_tmp2!B:B,MATCH(E31489,_tmp2!A:A,0))","v":"愛知県"},"C123310000134","C1","23","3","1","桜丘中学校","豊橋市南牛川２－１－１１","4408516","2020-12-22","","235101",""]
[{"$f":"INDEX(学校種!B:B,MATCH(D31529,学校種!A:A,0))","v":"高等学校"},{"$f":"INDEX(_tmp2!B:B,MATCH(E31529,_tmp2!A:A,0))","v":"愛知県"},"D123210000278","D1","23","2","1","愛知県立天白高等学校","名古屋市天白区植田東１－６０１","4680006","2020-12-22","","235586",""]
[{"$f":"INDEX(学校種!B:B,MATCH(D31559,学校種!A:A,0))","v":"高等学校"},{"$f":"INDEX(_tmp2!B:B,MATCH(E31559,_tmp2!A:A,0))","v":"愛知県"},"D123210000571","D1","23","2","1","愛知県立一宮北高等学校","一宮市笹野字氏神東１番地","4910131","2020-12-22","","235606",""]
[{"$f":"INDEX(学校種!B:B,MATCH(D31590,学校種!A:A,0))","v":"高等学校"},{"$f":"INDEX(_tmp2!B:B,MATCH(E31590,_tmp2!A:A,0))","v":"愛知県"},"D123210000884","D1","23","2","1","愛知県立常滑高等学校","常滑市金山四井池１０","4790003","2020-12-22","","235648",""]
[{"$f":"INDEX(学校種!B:B,MATCH(D31597,学校種!A:A,0))","v":"高等学校"},{"$f":"INDEX(_tmp2!B:B,MATCH(E31597,_tmp2!A:A,0))","v":"愛知県"},"D123210000955","D1","23","2","1","愛知県立鶴城丘高等学校","西尾市亀沢町３００","4450847","2020-12-22","","235792",""]
[{"$f":"INDEX(学校種!B:B,MATCH(D31619,学校種!A:A,0))","v":"高等学校"},{"$f":"INDEX(_tmp2!B:B,MATCH(E31619,_tmp2!A:A,0))","v":"愛知県"},"D123210001179","D1","23","2","1","愛知県立猿投農林高等学校","豊田市井上町１２－１７９","4700372","2020-12-22","","235778",""]
[{"$f":"INDEX(学校種!B:B,MATCH(D31652,学校種!A:A,0))","v":"高等学校"},{"$f":"INDEX(_tmp2!B:B,MATCH(E31652,_tmp2!A:A,0))","v":"愛知県"},"D123210001507","D1","23","2","1","愛知県立豊橋西高等学校","豊橋市牟呂町西明治新右前４","4418087","2020-12-22","","235857",""]
[{"$f":"INDEX(学校種!B:B,MATCH(D31684,学校種!A:A,0))","v":"高等学校"},{"$f":"INDEX(_tmp2!B:B,MATCH(E31684,_tmp2!A:A,0))","v":"愛知県"},"D123310000169","D1","23","3","1","南山高等学校","名古屋市昭和区五軒家町６番地","4660838","2020-12-22","","236117",""]
[{"$f":"INDEX(学校種!B:B,MATCH(D31713,学校種!A:A,0))","v":"高等学校"},{"$f":"INDEX(_tmp2!B:B,MATCH(E31713,_tmp2!A:A,0))","v":"愛知県"},"D123310000454","D1","23","3","1","安城学園高等学校","安城市小堤町４番２５号","4468635","2020-12-22","","236184",""]
[{"$f":"INDEX(学校種!B:B,MATCH(D31749,学校種!A:A,0))","v":"特別支援学校"},{"$f":"INDEX(_tmp2!B:B,MATCH(E31749,_tmp2!A:A,0))","v":"愛知県"},"E123210000239","E1","23","2","1","愛知県立港特別支援学校","名古屋市港区港明１－１０－２","4550018","2020-12-22","","239924",""]
[{"$f":"INDEX(学校種!B:B,MATCH(D31770,学校種!A:A,0))","v":"専修学校"},{"$f":"INDEX(_tmp2!B:B,MATCH(E31770,_tmp2!A:A,0))","v":"愛知県"},"H123210000046","H1","23","2","1","半田常滑看護専門学校","半田市東洋町２－４５","4750817","2020-12-22","","238526",""]
[{"$f":"INDEX(学校種!B:B,MATCH(D31787,学校種!A:A,0))","v":"専修学校"},{"$f":"INDEX(_tmp2!B:B,MATCH(E31787,_tmp2!A:A,0))","v":"愛知県"},"H123310000053","H1","23","3","1","ニチエイ調理専門学校","名古屋市中区新栄１－４３－９","4600007","2020-12-22","","238547",""]
[{"$f":"INDEX(学校種!B:B,MATCH(D31831,学校種!A:A,0))","v":"専修学校"},{"$f":"INDEX(_tmp2!B:B,MATCH(E31831,_tmp2!A:A,0))","v":"愛知県"},"H123310000491","H1","23","3","1","明美文化服装専門学校","名古屋市熱田区金山町１－１１－８","4560002","2020-12-22","","238621",""]
[{"$f":"INDEX(学校種!B:B,MATCH(D31852,学校種!A:A,0))","v":"専修学校"},{"$f":"INDEX(_tmp2!B:B,MATCH(E31852,_tmp2!A:A,0))","v":"愛知県"},"H123310000703","H1","23","3","1","名古屋市医師会看護専門学校","名古屋市港区千鳥１－１３－２２","4550031","2020-12-22","","238644",""]
[{"$f":"INDEX(学校種!B:B,MATCH(D31892,学校種!A:A,0))","v":"専修学校"},{"$f":"INDEX(_tmp2!B:B,MATCH(E31892,_tmp2!A:A,0))","v":"愛知県"},"H123310001105","H1","23","3","1","西尾市医師会准看護学校","西尾市熊味町小松島３４番地","4450071","2020-12-22","","238838",""]
[{"$f":"INDEX(学校種!B:B,MATCH(D31895,学校種!A:A,0))","v":"専修学校"},{"$f":"INDEX(_tmp2!B:B,MATCH(E31895,_tmp2!A:A,0))","v":"愛知県"},"H123310001132","H1","23","3","1","穂の香看護専門学校","新城市川路字萩平１番１２５","4411306","2020-12-22","","238876",""]
[{"$f":"INDEX(学校種!B:B,MATCH(D31925,学校種!A:A,0))","v":"専修学校"},{"$f":"INDEX(_tmp2!B:B,MATCH(E31925,_tmp2!A:A,0))","v":"愛知県"},"H123310001436","H1","23","3","1","専門学校セントラルトリミングアカデミー","名古屋市中村区則武２－１－８","4530014","2020-12-22","","239029",""]
[{"$f":"INDEX(学校種!B:B,MATCH(D31960,学校種!A:A,0))","v":"各種学校"},{"$f":"INDEX(_tmp2!B:B,MATCH(E31960,_tmp2!A:A,0))","v":"愛知県"},"H223310000150","H2","23","3","1","名古屋国際学校","名古屋市守山区大字中志段味字南原２６８６","4630002","2020-12-22","","239310",""]
[{"$f":"INDEX(学校種!B:B,MATCH(D31982,学校種!A:A,0))","v":"各種学校"},{"$f":"INDEX(_tmp2!B:B,MATCH(E31982,_tmp2!A:A,0))","v":"愛知県"},"H223310000374","H2","23","3","1","田中高等珠算学校","豊田市昭和町４丁目８３番地","4710078","2020-12-22","","239479",""]
[{"$f":"INDEX(学校種!B:B,MATCH(D32025,学校種!A:A,0))","v":"幼稚園(幼稚園型認定こども園を含む)"},{"$f":"INDEX(_tmp2!B:B,MATCH(E32025,_tmp2!A:A,0))","v":"三重県"},"A124220100137","A1","24","2","1","津市立戸木幼稚園","津市戸木町２３３７","5141138","2020-12-22","","247354",""]
[{"$f":"INDEX(学校種!B:B,MATCH(D32043,学校種!A:A,0))","v":"幼稚園(幼稚園型認定こども園を含む)"},{"$f":"INDEX(_tmp2!B:B,MATCH(E32043,_tmp2!A:A,0))","v":"三重県"},"A124220200056","A1","24","2","1","四日市市立富田幼稚園","四日市市富田１丁目２４－２６","5108014","2020-12-22","","246554",""]
[{"$f":"INDEX(学校種!B:B,MATCH(D32063,学校種!A:A,0))","v":"幼稚園(幼稚園型認定こども園を含む)"},{"$f":"INDEX(_tmp2!B:B,MATCH(E32063,_tmp2!A:A,0))","v":"三重県"},"A124220300055","A1","24","2","1","伊勢市立神社幼稚園","伊勢市神社港２９５の２０","5160004","2020-12-22","","246605",""]
[{"$f":"INDEX(学校種!B:B,MATCH(D32104,学校種!A:A,0))","v":"幼稚園(幼稚園型認定こども園を含む)"},{"$f":"INDEX(_tmp2!B:B,MATCH(E32104,_tmp2!A:A,0))","v":"三重県"},"A124220700051","A1","24","2","1","鈴鹿市立飯野幼稚園","鈴鹿市三日市南２－１－７","5130804","2020-12-22","","246817",""]
[{"$f":"INDEX(学校種!B:B,MATCH(D32133,学校種!A:A,0))","v":"幼稚園(幼稚園型認定こども園を含む)"},{"$f":"INDEX(_tmp2!B:B,MATCH(E32133,_tmp2!A:A,0))","v":"三重県"},"A124232400068","A1","24","2","1","東員町立城山幼稚園","員弁郡東員町城山１丁目４４","5110233","2020-12-22","","247167",""]
[{"$f":"INDEX(学校種!B:B,MATCH(D32165,学校種!A:A,0))","v":"幼稚園(幼稚園型認定こども園を含む)"},{"$f":"INDEX(_tmp2!B:B,MATCH(E32165,_tmp2!A:A,0))","v":"三重県"},"A124320205148","A1","24","3","1","めぐみの園幼稚園","四日市市室山町４７５－１","5100948","2020-12-22","","248085",""]
[{"$f":"INDEX(学校種!B:B,MATCH(D32194,学校種!A:A,0))","v":"幼保連携型認定こども園"},{"$f":"INDEX(_tmp2!B:B,MATCH(E32194,_tmp2!A:A,0))","v":"三重県"},"A224220110045","A2","24","2","1","津市立一志こども園","津市一志町高野１４５１番地","5152504","2020-12-22","","24A029",""]
[{"$f":"INDEX(学校種!B:B,MATCH(D32215,学校種!A:A,0))","v":"幼保連携型認定こども園"},{"$f":"INDEX(_tmp2!B:B,MATCH(E32215,_tmp2!A:A,0))","v":"三重県"},"A224320115128","A2","24","3","1","ルーテル二葉認定こども園","津市南が丘１－１７","5140822","2020-12-22","","24A122",""]
[{"$f":"INDEX(学校種!B:B,MATCH(D32227,学校種!A:A,0))","v":"幼保連携型認定こども園"},{"$f":"INDEX(_tmp2!B:B,MATCH(E32227,_tmp2!A:A,0))","v":"三重県"},"A224320515017","A2","24","3","1","安永保育園","桑名市安永字七区割１１０１－３","5110839","2020-12-22","","24A124",""]
[{"$f":"INDEX(学校種!B:B,MATCH(D32258,学校種!A:A,0))","v":"小学校"},{"$f":"INDEX(_tmp2!B:B,MATCH(E32258,_tmp2!A:A,0))","v":"三重県"},"B124220120104","B1","24","2","1","津市立神戸小学校","津市神戸３３２－１","5140824","2020-12-22","","240020",""]
[{"$f":"INDEX(学校種!B:B,MATCH(D32288,学校種!A:A,0))","v":"小学校"},{"$f":"INDEX(_tmp2!B:B,MATCH(E32288,_tmp2!A:A,0))","v":"三重県"},"B124220120408","B1","24","2","1","津市立榊原小学校","津市榊原町５８４８","5141251","2020-12-22","","242007",""]
[{"$f":"INDEX(学校種!B:B,MATCH(D32323,学校種!A:A,0))","v":"小学校"},{"$f":"INDEX(_tmp2!B:B,MATCH(E32323,_tmp2!A:A,0))","v":"三重県"},"B124220220265","B1","24","2","1","四日市市立三重西小学校","四日市市三重３－１２９","5120912","2020-12-22","","240137",""]
[{"$f":"INDEX(学校種!B:B,MATCH(D32345,学校種!A:A,0))","v":"小学校"},{"$f":"INDEX(_tmp2!B:B,MATCH(E32345,_tmp2!A:A,0))","v":"三重県"},"B124220320111","B1","24","2","1","伊勢市立宮山小学校","伊勢市旭町３１９","5160045","2020-12-22","","240213",""]
[{"$f":"INDEX(学校種!B:B,MATCH(D32388,学校種!A:A,0))","v":"小学校"},{"$f":"INDEX(_tmp2!B:B,MATCH(E32388,_tmp2!A:A,0))","v":"三重県"},"B124220420307","B1","24","2","1","松阪市立天白小学校","松阪市曽原町７７４","5152112","2020-12-22","","242035",""]
[{"$f":"INDEX(学校種!B:B,MATCH(D32406,学校種!A:A,0))","v":"小学校"},{"$f":"INDEX(_tmp2!B:B,MATCH(E32406,_tmp2!A:A,0))","v":"三重県"},"B124220520075","B1","24","2","1","桑名市立大成小学校","桑名市東方２１５７","5110811","2020-12-22","","240407",""]
[{"$f":"INDEX(学校種!B:B,MATCH(D32426,学校種!A:A,0))","v":"小学校"},{"$f":"INDEX(_tmp2!B:B,MATCH(E32426,_tmp2!A:A,0))","v":"三重県"},"B124220520271","B1","24","2","1","桑名市立伊曽島小学校","桑名市長島町福吉５６７","5111137","2020-12-22","","241508",""]
[{"$f":"INDEX(学校種!B:B,MATCH(D32467,学校種!A:A,0))","v":"小学校"},{"$f":"INDEX(_tmp2!B:B,MATCH(E32467,_tmp2!A:A,0))","v":"三重県"},"B124220820107","B1","24","2","1","名張市立桔梗が丘東小学校","名張市桔梗が丘７－１－８６","5180627","2020-12-22","","240716",""]
[{"$f":"INDEX(学校種!B:B,MATCH(D32496,学校種!A:A,0))","v":"小学校"},{"$f":"INDEX(_tmp2!B:B,MATCH(E32496,_tmp2!A:A,0))","v":"三重県"},"B124221120040","B1","24","2","1","鳥羽市立菅島小学校","鳥羽市菅島町１－２","5170004","2020-12-22","","241007",""]
[{"$f":"INDEX(学校種!B:B,MATCH(D32500,学校種!A:A,0))","v":"小学校"},{"$f":"INDEX(_tmp2!B:B,MATCH(E32500,_tmp2!A:A,0))","v":"三重県"},"B124221120086","B1","24","2","1","鳥羽市立弘道小学校","鳥羽市相差町１０１４","5170032","2020-12-22","","241011",""]
[{"$f":"INDEX(学校種!B:B,MATCH(D32534,学校種!A:A,0))","v":"小学校"},{"$f":"INDEX(_tmp2!B:B,MATCH(E32534,_tmp2!A:A,0))","v":"三重県"},"B124221520046","B1","24","2","1","志摩市立鵜方小学校","志摩市阿児町鵜方１７７５","5170501","2020-12-22","","242614",""]
[{"$f":"INDEX(学校種!B:B,MATCH(D32557,学校種!A:A,0))","v":"小学校"},{"$f":"INDEX(_tmp2!B:B,MATCH(E32557,_tmp2!A:A,0))","v":"三重県"},"B124221620205","B1","24","2","1","伊賀市立大山田小学校","伊賀市平田２５","5181422","2020-12-22","","242410",""]
[{"$f":"INDEX(学校種!B:B,MATCH(D32599,学校種!A:A,0))","v":"小学校"},{"$f":"INDEX(_tmp2!B:B,MATCH(E32599,_tmp2!A:A,0))","v":"三重県"},"B124247220026","B1","24","2","1","南伊勢町立南島東小学校","度会郡南伊勢町贄浦１８８－２","5161307","2020-12-22","","242338",""]
[{"$f":"INDEX(学校種!B:B,MATCH(D32618,学校種!A:A,0))","v":"小学校"},{"$f":"INDEX(_tmp2!B:B,MATCH(E32618,_tmp2!A:A,0))","v":"三重県"},"B124256220054","B1","24","2","1","紀宝町立鵜殿小学校","南牟婁郡紀宝町鵜殿１２３２－１","5195701","2020-12-22","","242823",""]
[{"$f":"INDEX(学校種!B:B,MATCH(D32637,学校種!A:A,0))","v":"中学校"},{"$f":"INDEX(_tmp2!B:B,MATCH(E32637,_tmp2!A:A,0))","v":"三重県"},"C124220130164","C1","24","2","1","津市立久居東中学校","津市久居井戸山町７２１－１","5141114","2020-12-22","","244754",""]
[{"$f":"INDEX(学校種!B:B,MATCH(D32679,学校種!A:A,0))","v":"中学校"},{"$f":"INDEX(_tmp2!B:B,MATCH(E32679,_tmp2!A:A,0))","v":"三重県"},"C124220430063","C1","24","2","1","松阪市立中部中学校","松阪市立野町１３４４","5150054","2020-12-22","","243657",""]
[{"$f":"INDEX(学校種!B:B,MATCH(D32708,学校種!A:A,0))","v":"中学校"},{"$f":"INDEX(_tmp2!B:B,MATCH(E32708,_tmp2!A:A,0))","v":"三重県"},"C124220830032","C1","24","2","1","名張市立桔梗が丘中学校","名張市桔梗が丘７番町１街区１９２６番地１","5180627","2020-12-22","","243854",""]
[{"$f":"INDEX(学校種!B:B,MATCH(D32724,学校種!A:A,0))","v":"中学校"},{"$f":"INDEX(_tmp2!B:B,MATCH(E32724,_tmp2!A:A,0))","v":"三重県"},"C124221230027","C1","24","2","1","熊野市立新鹿中学校","熊野市新鹿町９１６－４","5194206","2020-12-22","","244052",""]
[{"$f":"INDEX(学校種!B:B,MATCH(D32769,学校種!A:A,0))","v":"中学校"},{"$f":"INDEX(_tmp2!B:B,MATCH(E32769,_tmp2!A:A,0))","v":"三重県"},"C124247230013","C1","24","2","1","南伊勢町立南勢中学校","度会郡南伊勢町船越２１００","5160109","2020-12-22","","244905",""]
[{"$f":"INDEX(学校種!B:B,MATCH(D32789,学校種!A:A,0))","v":"義務教育学校"},{"$f":"INDEX(_tmp2!B:B,MATCH(E32789,_tmp2!A:A,0))","v":"三重県"},"C224220140018","C2","24","2","1","津市立みさとの丘学園","津市美里町三郷８４番地","5142113","2020-12-22","","24C011",""]
[{"$f":"INDEX(学校種!B:B,MATCH(D32802,学校種!A:A,0))","v":"高等学校"},{"$f":"INDEX(_tmp2!B:B,MATCH(E32802,_tmp2!A:A,0))","v":"三重県"},"D124210050132","D1","24","2","1","三重県立四日市工業高等学校","四日市市日永東３丁目４番６３号","5100886","2020-12-22","","245517",""]
[{"$f":"INDEX(学校種!B:B,MATCH(D32832,学校種!A:A,0))","v":"高等学校"},{"$f":"INDEX(_tmp2!B:B,MATCH(E32832,_tmp2!A:A,0))","v":"三重県"},"D124210050436","D1","24","2","1","三重県立伊勢まなび高等学校","伊勢市神田久志本町１５６０","5160016","2020-12-22","","245603",""]
[{"$f":"INDEX(学校種!B:B,MATCH(D32863,学校種!A:A,0))","v":"高等学校"},{"$f":"INDEX(_tmp2!B:B,MATCH(E32863,_tmp2!A:A,0))","v":"三重県"},"D124310059042","D1","24","3","1","英心高等学校","伊勢市河崎１－３－２５","5160009","2020-12-22","","246101",""]
[{"$f":"INDEX(学校種!B:B,MATCH(D32897,学校種!A:A,0))","v":"専修学校"},{"$f":"INDEX(_tmp2!B:B,MATCH(E32897,_tmp2!A:A,0))","v":"三重県"},"H124320185085","H1","24","3","1","大原簿記医療観光専門学校津校","津市大谷町１４８番１","5140007","2020-12-22","","248520",""]
[{"$f":"INDEX(学校種!B:B,MATCH(D32920,学校種!A:A,0))","v":"専修学校"},{"$f":"INDEX(_tmp2!B:B,MATCH(E32920,_tmp2!A:A,0))","v":"三重県"},"H124320785025","H1","24","3","1","三重文化経済専門学校","鈴鹿市白子１丁目１８－２","5100243","2020-12-22","","248622",""]
[{"$f":"INDEX(学校種!B:B,MATCH(D32962,学校種!A:A,0))","v":"幼稚園(幼稚園型認定こども園を含む)"},{"$f":"INDEX(_tmp2!B:B,MATCH(E32962,_tmp2!A:A,0))","v":"滋賀県"},"A125110000014","A1","25","1","1","滋賀大学教育学部附属幼稚園","大津市昭和町１０－３","5200817","2020-12-22","","256501",""]
[{"$f":"INDEX(学校種!B:B,MATCH(D32981,学校種!A:A,0))","v":"幼稚園(幼稚園型認定こども園を含む)"},{"$f":"INDEX(_tmp2!B:B,MATCH(E32981,_tmp2!A:A,0))","v":"滋賀県"},"A125220100190","A1","25","2","1","大津市立坂本幼稚園","大津市坂本６－１－１２","5200113","2020-12-22","","256533",""]
[{"$f":"INDEX(学校種!B:B,MATCH(D33000,学校種!A:A,0))","v":"幼稚園(幼稚園型認定こども園を含む)"},{"$f":"INDEX(_tmp2!B:B,MATCH(E33000,_tmp2!A:A,0))","v":"滋賀県"},"A125220200073","A1","25","2","1","彦根市立佐和山幼稚園","彦根市芹川町４８１－１","5220033","2020-12-22","","256545",""]
[{"$f":"INDEX(学校種!B:B,MATCH(D33042,学校種!A:A,0))","v":"幼稚園(幼稚園型認定こども園を含む)"},{"$f":"INDEX(_tmp2!B:B,MATCH(E33042,_tmp2!A:A,0))","v":"滋賀県"},"A125220900021","A1","25","2","1","甲賀市立土山幼稚園","甲賀市土山町南土山甲４１７","5280212","2020-12-22","","256891",""]
[{"$f":"INDEX(学校種!B:B,MATCH(D33070,学校種!A:A,0))","v":"幼稚園(幼稚園型認定こども園を含む)"},{"$f":"INDEX(_tmp2!B:B,MATCH(E33070,_tmp2!A:A,0))","v":"滋賀県"},"A125244100010","A1","25","2","1","豊郷町立豊郷幼稚園","犬上郡豊郷町石畑５４５","5291169","2020-12-22","","257431",""]
[{"$f":"INDEX(学校種!B:B,MATCH(D33103,学校種!A:A,0))","v":"幼保連携型認定こども園"},{"$f":"INDEX(_tmp2!B:B,MATCH(E33103,_tmp2!A:A,0))","v":"滋賀県"},"A225220300080","A2","25","2","1","長浜市立にしあざい認定こども園","長浜市西浅井町塩津中2066","5290704","2020-12-22","","25A038",""]
[{"$f":"INDEX(学校種!B:B,MATCH(D33108,学校種!A:A,0))","v":"幼保連携型認定こども園"},{"$f":"INDEX(_tmp2!B:B,MATCH(E33108,_tmp2!A:A,0))","v":"滋賀県"},"A225220700013","A2","25","2","1","守山市立小津こども園","守山市欲賀町879番地","5240063","2020-12-22","","25A071",""]
[{"$f":"INDEX(学校種!B:B,MATCH(D33136,学校種!A:A,0))","v":"幼保連携型認定こども園"},{"$f":"INDEX(_tmp2!B:B,MATCH(E33136,_tmp2!A:A,0))","v":"滋賀県"},"A225320100053","A2","25","3","1","認定こども園第二本福寺こども園","大津市本堅田6-14-11","5200242","2020-12-22","","25A514",""]
[{"$f":"INDEX(学校種!B:B,MATCH(D33173,学校種!A:A,0))","v":"幼保連携型認定こども園"},{"$f":"INDEX(_tmp2!B:B,MATCH(E33173,_tmp2!A:A,0))","v":"滋賀県"},"A225320600101","A2","25","3","1","ののみちこども園","草津市野路六丁目８番１０号","5250059","2020-12-22","","25A712",""]
[{"$f":"INDEX(学校種!B:B,MATCH(D33193,学校種!A:A,0))","v":"幼保連携型認定こども園"},{"$f":"INDEX(_tmp2!B:B,MATCH(E33193,_tmp2!A:A,0))","v":"滋賀県"},"A225321200050","A2","25","3","1","安曇川はこぶね保育園","高島市安曇川町青柳700番地1","5201221","2020-12-22","","25A625",""]
[{"$f":"INDEX(学校種!B:B,MATCH(D33226,学校種!A:A,0))","v":"小学校"},{"$f":"INDEX(_tmp2!B:B,MATCH(E33226,_tmp2!A:A,0))","v":"滋賀県"},"B125220100223","B1","25","2","1","大津市立富士見小学校","大津市富士見台４２番１６号","5200846","2020-12-22","","250036",""]
[{"$f":"INDEX(学校種!B:B,MATCH(D33260,学校種!A:A,0))","v":"小学校"},{"$f":"INDEX(_tmp2!B:B,MATCH(E33260,_tmp2!A:A,0))","v":"滋賀県"},"B125220300025","B1","25","2","1","長浜市立長浜北小学校","長浜市八幡中山町１３１０番地","5260021","2020-12-22","","250072",""]
[{"$f":"INDEX(学校種!B:B,MATCH(D33283,学校種!A:A,0))","v":"小学校"},{"$f":"INDEX(_tmp2!B:B,MATCH(E33283,_tmp2!A:A,0))","v":"滋賀県"},"B125220400024","B1","25","2","1","近江八幡市立島小学校","近江八幡市島１６０３","5230804","2020-12-22","","250102",""]
[{"$f":"INDEX(学校種!B:B,MATCH(D33298,学校種!A:A,0))","v":"小学校"},{"$f":"INDEX(_tmp2!B:B,MATCH(E33298,_tmp2!A:A,0))","v":"滋賀県"},"B125220600059","B1","25","2","1","草津市立山田小学校","草津市北山田町３５０","5250061","2020-12-22","","250164",""]
[{"$f":"INDEX(学校種!B:B,MATCH(D33344,学校種!A:A,0))","v":"小学校"},{"$f":"INDEX(_tmp2!B:B,MATCH(E33344,_tmp2!A:A,0))","v":"滋賀県"},"B125220900190","B1","25","2","1","甲賀市立朝宮小学校","甲賀市信楽町下朝宮２６８番地","5291842","2020-12-22","","250526",""]
[{"$f":"INDEX(学校種!B:B,MATCH(D33363,学校種!A:A,0))","v":"小学校"},{"$f":"INDEX(_tmp2!B:B,MATCH(E33363,_tmp2!A:A,0))","v":"滋賀県"},"B125221200024","B1","25","2","1","高島市立マキノ西小学校","高島市マキノ町寺久保５５２－１","5201834","2020-12-22","","251362",""]
[{"$f":"INDEX(学校種!B:B,MATCH(D33405,学校種!A:A,0))","v":"小学校"},{"$f":"INDEX(_tmp2!B:B,MATCH(E33405,_tmp2!A:A,0))","v":"滋賀県"},"B125221400095","B1","25","2","1","米原市立息長小学校","米原市能登瀬１３３９","5210082","2020-12-22","","251092",""]
[{"$f":"INDEX(学校種!B:B,MATCH(D33433,学校種!A:A,0))","v":"中学校"},{"$f":"INDEX(_tmp2!B:B,MATCH(E33433,_tmp2!A:A,0))","v":"滋賀県"},"C125220100098","C1","25","2","1","大津市立田上中学校","大津市新免１丁目１番１２号","5202115","2020-12-22","","253520",""]
[{"$f":"INDEX(学校種!B:B,MATCH(D33438,学校種!A:A,0))","v":"中学校"},{"$f":"INDEX(_tmp2!B:B,MATCH(E33438,_tmp2!A:A,0))","v":"滋賀県"},"C125220100141","C1","25","2","1","大津市立南郷中学校","大津市赤尾町５７－１","5200864","2020-12-22","","253525",""]
[{"$f":"INDEX(学校種!B:B,MATCH(D33471,学校種!A:A,0))","v":"中学校"},{"$f":"INDEX(_tmp2!B:B,MATCH(E33471,_tmp2!A:A,0))","v":"滋賀県"},"C125220700029","C1","25","2","1","守山市立守山北中学校","守山市荒見町２３５","5240016","2020-12-22","","253732",""]
[{"$f":"INDEX(学校種!B:B,MATCH(D33495,学校種!A:A,0))","v":"中学校"},{"$f":"INDEX(_tmp2!B:B,MATCH(E33495,_tmp2!A:A,0))","v":"滋賀県"},"C125221200068","C1","25","2","1","高島市立湖西中学校","高島市新旭町北畑５６４－２","5201521","2020-12-22","","254571",""]
[{"$f":"INDEX(学校種!B:B,MATCH(D33536,学校種!A:A,0))","v":"高等学校"},{"$f":"INDEX(_tmp2!B:B,MATCH(E33536,_tmp2!A:A,0))","v":"滋賀県"},"D125220100087","D1","25","2","1","滋賀県立大津商業高等学校","大津市御陵町２－１","5200037","2020-12-22","","255516",""]
[{"$f":"INDEX(学校種!B:B,MATCH(D33556,学校種!A:A,0))","v":"高等学校"},{"$f":"INDEX(_tmp2!B:B,MATCH(E33556,_tmp2!A:A,0))","v":"滋賀県"},"D125220700027","D1","25","2","1","滋賀県立守山北高等学校","守山市笠原町１２６３","5240004","2020-12-22","","255551",""]
[{"$f":"INDEX(学校種!B:B,MATCH(D33574,学校種!A:A,0))","v":"高等学校"},{"$f":"INDEX(_tmp2!B:B,MATCH(E33574,_tmp2!A:A,0))","v":"滋賀県"},"D125242500014","D1","25","2","1","滋賀県立愛知高等学校","愛知郡愛荘町愛知川１０２","5291331","2020-12-22","","255535",""]
[{"$f":"INDEX(学校種!B:B,MATCH(D33617,学校種!A:A,0))","v":"専修学校"},{"$f":"INDEX(_tmp2!B:B,MATCH(E33617,_tmp2!A:A,0))","v":"滋賀県"},"H125320200012","H1","25","3","1","スワン服飾専門学校","彦根市錦町３番２５号","5220089","2020-12-22","","258531",""]
[{"$f":"INDEX(学校種!B:B,MATCH(D33644,学校種!A:A,0))","v":"幼稚園(幼稚園型認定こども園を含む)"},{"$f":"INDEX(_tmp2!B:B,MATCH(E33644,_tmp2!A:A,0))","v":"京都府"},"A126210000066","A1","26","2","1","京都市立明徳幼稚園","京都市左京区岩倉忠在地町２２１","6060081","2020-12-22","","266542",""]
[{"$f":"INDEX(学校種!B:B,MATCH(D33678,学校種!A:A,0))","v":"幼稚園(幼稚園型認定こども園を含む)"},{"$f":"INDEX(_tmp2!B:B,MATCH(E33678,_tmp2!A:A,0))","v":"京都府"},"A126210000404","A1","26","2","1","京田辺市立松井ケ丘幼稚園","京田辺市大住上西野２０－５","6100343","2020-12-22","","266952",""]
[{"$f":"INDEX(学校種!B:B,MATCH(D33709,学校種!A:A,0))","v":"幼稚園(幼稚園型認定こども園を含む)"},{"$f":"INDEX(_tmp2!B:B,MATCH(E33709,_tmp2!A:A,0))","v":"京都府"},"A126310000242","A1","26","3","1","聖マリア幼稚園","京都市左京区岡崎入江町８４","6068322","2020-12-22","","266554",""]
[{"$f":"INDEX(学校種!B:B,MATCH(D33711,学校種!A:A,0))","v":"幼稚園(幼稚園型認定こども園を含む)"},{"$f":"INDEX(_tmp2!B:B,MATCH(E33711,_tmp2!A:A,0))","v":"京都府"},"A126310000260","A1","26","3","1","永観堂幼稚園","京都市左京区永観堂町５０","6068445","2020-12-22","","266558",""]
[{"$f":"INDEX(学校種!B:B,MATCH(D33740,学校種!A:A,0))","v":"幼稚園(幼稚園型認定こども園を含む)"},{"$f":"INDEX(_tmp2!B:B,MATCH(E33740,_tmp2!A:A,0))","v":"京都府"},"A126310000554","A1","26","3","1","春日幼稚園","京都市右京区西院春日町１７－１","6150015","2020-12-22","","266612",""]
[{"$f":"INDEX(学校種!B:B,MATCH(D33769,学校種!A:A,0))","v":"幼稚園(幼稚園型認定こども園を含む)"},{"$f":"INDEX(_tmp2!B:B,MATCH(E33769,_tmp2!A:A,0))","v":"京都府"},"A126310000849","A1","26","3","1","石田幼稚園","京都市伏見区小栗栖中山田町３５－１","6011463","2020-12-22","","266649",""]
[{"$f":"INDEX(学校種!B:B,MATCH(D33801,学校種!A:A,0))","v":"幼稚園(幼稚園型認定こども園を含む)"},{"$f":"INDEX(_tmp2!B:B,MATCH(E33801,_tmp2!A:A,0))","v":"京都府"},"A126310001161","A1","26","3","1","平川幼稚園","城陽市平川大将軍７７－３","6100101","2020-12-22","","266851",""]
[{"$f":"INDEX(学校種!B:B,MATCH(D33834,学校種!A:A,0))","v":"幼稚園(幼稚園型認定こども園を含む)"},{"$f":"INDEX(_tmp2!B:B,MATCH(E33834,_tmp2!A:A,0))","v":"京都府"},"A126310001492","A1","26","3","1","うぐいす宇治田原幼稚園","綴喜郡宇治田原町大字立川小字谷１００","6100231","2020-12-22","","266962",""]
[{"$f":"INDEX(学校種!B:B,MATCH(D33858,学校種!A:A,0))","v":"幼保連携型認定こども園"},{"$f":"INDEX(_tmp2!B:B,MATCH(E33858,_tmp2!A:A,0))","v":"京都府"},"A226310000072","A2","26","3","1","おおやけこども園","京都市山科区大宅五反畑町69-5","6078178","2020-12-22","","26A030",""]
[{"$f":"INDEX(学校種!B:B,MATCH(D33899,学校種!A:A,0))","v":"幼保連携型認定こども園"},{"$f":"INDEX(_tmp2!B:B,MATCH(E33899,_tmp2!A:A,0))","v":"京都府"},"A226310000483","A2","26","3","1","京都たからこども園","京都市左京区岩倉幡枝町２２７８番地","6060015","2020-12-22","","26A082",""]
[{"$f":"INDEX(学校種!B:B,MATCH(D33919,学校種!A:A,0))","v":"幼保連携型認定こども園"},{"$f":"INDEX(_tmp2!B:B,MATCH(E33919,_tmp2!A:A,0))","v":"京都府"},"A226310000688","A2","26","3","1","平こども園","舞鶴市中田町字村下４４０番地１","6250131","2020-12-22","","26A106",""]
[{"$f":"INDEX(学校種!B:B,MATCH(D33937,学校種!A:A,0))","v":"幼保連携型認定こども園"},{"$f":"INDEX(_tmp2!B:B,MATCH(E33937,_tmp2!A:A,0))","v":"京都府"},"A226310000866","A2","26","3","1","横大路こども園","京都市伏見区横大路柿ノ本町１","6128296","2020-12-22","","26A124",""]
[{"$f":"INDEX(学校種!B:B,MATCH(D33980,学校種!A:A,0))","v":"小学校"},{"$f":"INDEX(_tmp2!B:B,MATCH(E33980,_tmp2!A:A,0))","v":"京都府"},"B126210000135","B1","26","2","1","京都市立大将軍小学校","京都市北区大将軍一条町４８","6038337","2020-12-22","","260025",""]
[{"$f":"INDEX(学校種!B:B,MATCH(D34007,学校種!A:A,0))","v":"小学校"},{"$f":"INDEX(_tmp2!B:B,MATCH(E34007,_tmp2!A:A,0))","v":"京都府"},"B126210000402","B1","26","2","1","京都市立朱雀第一小学校","京都市中京区壬生朱雀町８－２","6048871","2020-12-22","","260084",""]
[{"$f":"INDEX(学校種!B:B,MATCH(D34013,学校種!A:A,0))","v":"小学校"},{"$f":"INDEX(_tmp2!B:B,MATCH(E34013,_tmp2!A:A,0))","v":"京都府"},"B126210000466","B1","26","2","1","京都市立朱雀第八小学校","京都市中京区西ノ京中御門西町２５","6048475","2020-12-22","","260090",""]
[{"$f":"INDEX(学校種!B:B,MATCH(D34045,学校種!A:A,0))","v":"小学校"},{"$f":"INDEX(_tmp2!B:B,MATCH(E34045,_tmp2!A:A,0))","v":"京都府"},"B126210000787","B1","26","2","1","京都市立大原野小学校","京都市西京区大原野灰方町４３９","6101132","2020-12-22","","260153",""]
[{"$f":"INDEX(学校種!B:B,MATCH(D34070,学校種!A:A,0))","v":"小学校"},{"$f":"INDEX(_tmp2!B:B,MATCH(E34070,_tmp2!A:A,0))","v":"京都府"},"B126210001036","B1","26","2","1","京都市立常磐野小学校","京都市右京区太秦京ノ道町２０－５","6168181","2020-12-22","","260189",""]
[{"$f":"INDEX(学校種!B:B,MATCH(D34110,学校種!A:A,0))","v":"小学校"},{"$f":"INDEX(_tmp2!B:B,MATCH(E34110,_tmp2!A:A,0))","v":"京都府"},"B126210001438","B1","26","2","1","京都市立桂徳小学校","京都市西京区桂徳大寺南町２","6158302","2020-12-22","","260246",""]
[{"$f":"INDEX(学校種!B:B,MATCH(D34131,学校種!A:A,0))","v":"小学校"},{"$f":"INDEX(_tmp2!B:B,MATCH(E34131,_tmp2!A:A,0))","v":"京都府"},"B126210001642","B1","26","2","1","福知山市立六人部小学校","福知山市字長田２３２","6200845","2020-12-22","","260311",""]
[{"$f":"INDEX(学校種!B:B,MATCH(D34175,学校種!A:A,0))","v":"小学校"},{"$f":"INDEX(_tmp2!B:B,MATCH(E34175,_tmp2!A:A,0))","v":"京都府"},"B126210002080","B1","26","2","1","亀岡市立本梅小学校","亀岡市本梅町井手早田垣内２３","6210253","2020-12-22","","260392",""]
[{"$f":"INDEX(学校種!B:B,MATCH(D34192,学校種!A:A,0))","v":"小学校"},{"$f":"INDEX(_tmp2!B:B,MATCH(E34192,_tmp2!A:A,0))","v":"京都府"},"B126210002259","B1","26","2","1","宇治市立岡屋小学校","宇治市五ヶ庄寺界道３７－３","6110011","2020-12-22","","260413",""]
[{"$f":"INDEX(学校種!B:B,MATCH(D34218,学校種!A:A,0))","v":"小学校"},{"$f":"INDEX(_tmp2!B:B,MATCH(E34218,_tmp2!A:A,0))","v":"京都府"},"B126210002516","B1","26","2","1","城陽市立久津川小学校","城陽市平川指月１","6100101","2020-12-22","","260506",""]
[{"$f":"INDEX(学校種!B:B,MATCH(D34253,学校種!A:A,0))","v":"小学校"},{"$f":"INDEX(_tmp2!B:B,MATCH(E34253,_tmp2!A:A,0))","v":"京都府"},"B126210002865","B1","26","2","1","与謝野町立三河内小学校","与謝郡与謝野町字三河内１８５８","6292313","2020-12-22","","260608",""]
[{"$f":"INDEX(学校種!B:B,MATCH(D34283,学校種!A:A,0))","v":"小学校"},{"$f":"INDEX(_tmp2!B:B,MATCH(E34283,_tmp2!A:A,0))","v":"京都府"},"B126210003169","B1","26","2","1","京丹後市立長岡小学校","京丹後市峰山町長岡６０番地","6270042","2020-12-22","","260678",""]
[{"$f":"INDEX(学校種!B:B,MATCH(D34314,学校種!A:A,0))","v":"小学校"},{"$f":"INDEX(_tmp2!B:B,MATCH(E34314,_tmp2!A:A,0))","v":"京都府"},"B126210003472","B1","26","2","1","舞鶴市立岡田小学校","舞鶴市字久田美930番地","6240103","2020-12-22","","260720",""]
[{"$f":"INDEX(学校種!B:B,MATCH(D34343,学校種!A:A,0))","v":"中学校"},{"$f":"INDEX(_tmp2!B:B,MATCH(E34343,_tmp2!A:A,0))","v":"京都府"},"C126210000044","C1","26","2","1","京都市立旭丘中学校","京都市北区紫野東蓮台野町１","6038244","2020-12-22","","263514",""]
[{"$f":"INDEX(学校種!B:B,MATCH(D34370,学校種!A:A,0))","v":"中学校"},{"$f":"INDEX(_tmp2!B:B,MATCH(E34370,_tmp2!A:A,0))","v":"京都府"},"C126210000311","C1","26","2","1","京都市立桂中学校","京都市西京区上桂森上町２６","6158226","2020-12-22","","263580",""]
[{"$f":"INDEX(学校種!B:B,MATCH(D34376,学校種!A:A,0))","v":"中学校"},{"$f":"INDEX(_tmp2!B:B,MATCH(E34376,_tmp2!A:A,0))","v":"京都府"},"C126210000375","C1","26","2","1","京都市立伏見中学校","京都市伏見区御駕籠町９７","6128065","2020-12-22","","263588",""]
[{"$f":"INDEX(学校種!B:B,MATCH(D34408,学校種!A:A,0))","v":"中学校"},{"$f":"INDEX(_tmp2!B:B,MATCH(E34408,_tmp2!A:A,0))","v":"京都府"},"C126210000696","C1","26","2","1","舞鶴市立白糸中学校","舞鶴市字浜８４０","6250036","2020-12-22","","263708",""]
[{"$f":"INDEX(学校種!B:B,MATCH(D34433,学校種!A:A,0))","v":"中学校"},{"$f":"INDEX(_tmp2!B:B,MATCH(E34433,_tmp2!A:A,0))","v":"京都府"},"C126210000945","C1","26","2","1","長岡京市立長岡第三中学校","長岡京市勝竜寺２８番１号","6170836","2020-12-22","","263746",""]
[{"$f":"INDEX(学校種!B:B,MATCH(D34473,学校種!A:A,0))","v":"中学校"},{"$f":"INDEX(_tmp2!B:B,MATCH(E34473,_tmp2!A:A,0))","v":"京都府"},"C126210001347","C1","26","2","1","京丹後市立峰山中学校","京丹後市峰山町荒山８８番地","6270004","2020-12-22","","263834",""]
[{"$f":"INDEX(学校種!B:B,MATCH(D34494,学校種!A:A,0))","v":"中学校"},{"$f":"INDEX(_tmp2!B:B,MATCH(E34494,_tmp2!A:A,0))","v":"京都府"},"C126210001551","C1","26","2","1","京都府立園部高等学校附属中学校","南丹市園部町小桜町９７","6220004","2020-12-22","","263867",""]
[{"$f":"INDEX(学校種!B:B,MATCH(D34511,学校種!A:A,0))","v":"中学校"},{"$f":"INDEX(_tmp2!B:B,MATCH(E34511,_tmp2!A:A,0))","v":"京都府"},"C126310000097","C1","26","3","1","両洋中学校","京都市中京区壬生上大竹町１３","6048851","2020-12-22","","263554",""]
[{"$f":"INDEX(学校種!B:B,MATCH(D34555,学校種!A:A,0))","v":"高等学校"},{"$f":"INDEX(_tmp2!B:B,MATCH(E34555,_tmp2!A:A,0))","v":"京都府"},"D126210000168","D1","26","2","1","京都府立東稜高等学校","京都市伏見区醍醐新町裏町２５－１","6011326","2020-12-22","","265556",""]
[{"$f":"INDEX(学校種!B:B,MATCH(D34581,学校種!A:A,0))","v":"高等学校"},{"$f":"INDEX(_tmp2!B:B,MATCH(E34581,_tmp2!A:A,0))","v":"京都府"},"D126210000426","D1","26","2","1","京都府立乙訓高等学校","長岡京市友岡１－１－１","6170843","2020-12-22","","265701",""]
[{"$f":"INDEX(学校種!B:B,MATCH(D34616,学校種!A:A,0))","v":"高等学校"},{"$f":"INDEX(_tmp2!B:B,MATCH(E34616,_tmp2!A:A,0))","v":"京都府"},"D126310000077","D1","26","3","1","東山高等学校","京都市左京区永観堂町５１","6068445","2020-12-22","","265523",""]
[{"$f":"INDEX(学校種!B:B,MATCH(D34619,学校種!A:A,0))","v":"高等学校"},{"$f":"INDEX(_tmp2!B:B,MATCH(E34619,_tmp2!A:A,0))","v":"京都府"},"D126310000102","D1","26","3","1","ノートルダム女学院高等学校","京都市左京区鹿ケ谷桜谷町１１０","6068423","2020-12-22","","265526",""]
[{"$f":"INDEX(学校種!B:B,MATCH(D34649,学校種!A:A,0))","v":"高等学校"},{"$f":"INDEX(_tmp2!B:B,MATCH(E34649,_tmp2!A:A,0))","v":"京都府"},"D126310000406","D1","26","3","1","京都つくば開成高等学校","京都市下京区西洞院通七条上る福本町406番地","6008320","2020-12-22","","265742",""]
[{"$f":"INDEX(学校種!B:B,MATCH(D34684,学校種!A:A,0))","v":"専修学校"},{"$f":"INDEX(_tmp2!B:B,MATCH(E34684,_tmp2!A:A,0))","v":"京都府"},"H126310000050","H1","26","3","1","裏千家学園茶道専門学校","京都市上京区小川通寺之内上ル本法寺前町６５１","6020061","2020-12-22","","268520",""]
[{"$f":"INDEX(学校種!B:B,MATCH(D34706,学校種!A:A,0))","v":"専修学校"},{"$f":"INDEX(_tmp2!B:B,MATCH(E34706,_tmp2!A:A,0))","v":"京都府"},"H126310000274","H1","26","3","1","京都府看護専修学校","京都市伏見区深草佐野屋敷町１１－１","6120089","2020-12-22","","268564",""]
[{"$f":"INDEX(学校種!B:B,MATCH(D34749,学校種!A:A,0))","v":"各種学校"},{"$f":"INDEX(_tmp2!B:B,MATCH(E34749,_tmp2!A:A,0))","v":"京都府"},"H226310000120","H2","26","3","1","清和学園","京都市中京区麩屋町二条下ル尾張町２２１","6040934","2020-12-22","","269175",""]
[{"$f":"INDEX(学校種!B:B,MATCH(D34767,学校種!A:A,0))","v":"各種学校"},{"$f":"INDEX(_tmp2!B:B,MATCH(E34767,_tmp2!A:A,0))","v":"京都府"},"H226310000308","H2","26","3","1","東山女子技芸学校","京都市東山区宮川筋４丁目３０６","6050801","2020-12-22","","269245",""]
[{"$f":"INDEX(学校種!B:B,MATCH(D34792,学校種!A:A,0))","v":"幼稚園(幼稚園型認定こども園を含む)"},{"$f":"INDEX(_tmp2!B:B,MATCH(E34792,_tmp2!A:A,0))","v":"大阪府"},"A127210000010","A1","27","2","1","大阪市立菅南幼稚園","大阪市北区菅原町１１－２","5300046","2020-12-22","","276511",""]
[{"$f":"INDEX(学校種!B:B,MATCH(D34828,学校種!A:A,0))","v":"幼稚園(幼稚園型認定こども園を含む)"},{"$f":"INDEX(_tmp2!B:B,MATCH(E34828,_tmp2!A:A,0))","v":"大阪府"},"A127210000378","A1","27","2","1","大阪市立鶴橋幼稚園","大阪市生野区桃谷２－２０－１４","5440034","2020-12-22","","276661",""]
[{"$f":"INDEX(学校種!B:B,MATCH(D34857,学校種!A:A,0))","v":"幼稚園(幼稚園型認定こども園を含む)"},{"$f":"INDEX(_tmp2!B:B,MATCH(E34857,_tmp2!A:A,0))","v":"大阪府"},"A127210000662","A1","27","2","1","岸和田市立修斉幼稚園","岸和田市土生滝町１３１０","5960844","2020-12-22","","276836",""]
[{"$f":"INDEX(学校種!B:B,MATCH(D34874,学校種!A:A,0))","v":"幼稚園(幼稚園型認定こども園を含む)"},{"$f":"INDEX(_tmp2!B:B,MATCH(E34874,_tmp2!A:A,0))","v":"大阪府"},"A127210000831","A1","27","2","1","岸和田市立太田幼稚園","岸和田市畑町３－１２－２","5960831","2020-12-22","","276853",""]
[{"$f":"INDEX(学校種!B:B,MATCH(D34918,学校種!A:A,0))","v":"幼稚園(幼稚園型認定こども園を含む)"},{"$f":"INDEX(_tmp2!B:B,MATCH(E34918,_tmp2!A:A,0))","v":"大阪府"},"A127210001279","A1","27","2","1","茨木市立認定こども園水尾幼稚園","茨木市真砂２－３－２","5670851","2020-12-22","","276991",""]
[{"$f":"INDEX(学校種!B:B,MATCH(D34944,学校種!A:A,0))","v":"幼稚園(幼稚園型認定こども園を含む)"},{"$f":"INDEX(_tmp2!B:B,MATCH(E34944,_tmp2!A:A,0))","v":"大阪府"},"A127210001536","A1","27","2","1","河内長野市立三日市幼稚園","河内長野市上田町２００－１","5860034","2020-12-22","","277081",""]
[{"$f":"INDEX(学校種!B:B,MATCH(D34951,学校種!A:A,0))","v":"幼稚園(幼稚園型認定こども園を含む)"},{"$f":"INDEX(_tmp2!B:B,MATCH(E34951,_tmp2!A:A,0))","v":"大阪府"},"A127210001607","A1","27","2","1","大東市立諸福幼稚園","大東市諸福１－２－１","5740044","2020-12-22","","277101",""]
[{"$f":"INDEX(学校種!B:B,MATCH(D34982,学校種!A:A,0))","v":"幼稚園(幼稚園型認定こども園を含む)"},{"$f":"INDEX(_tmp2!B:B,MATCH(E34982,_tmp2!A:A,0))","v":"大阪府"},"A127210001910","A1","27","2","1","東大阪市立枚岡幼稚園","東大阪市箱殿町８－１０","5798038","2020-12-22","","277194",""]
[{"$f":"INDEX(学校種!B:B,MATCH(D35008,学校種!A:A,0))","v":"幼稚園(幼稚園型認定こども園を含む)"},{"$f":"INDEX(_tmp2!B:B,MATCH(E35008,_tmp2!A:A,0))","v":"大阪府"},"A127210002170","A1","27","2","1","忠岡町立東忠岡幼稚園","泉北郡忠岡町馬瀬２－１７－２","5950804","2020-12-22","","277332",""]
[{"$f":"INDEX(学校種!B:B,MATCH(D35047,学校種!A:A,0))","v":"幼稚園(幼稚園型認定こども園を含む)"},{"$f":"INDEX(_tmp2!B:B,MATCH(E35047,_tmp2!A:A,0))","v":"大阪府"},"A127310000269","A1","27","3","1","日本橋幼稚園","大阪市浪速区難波中２－７－５","5560011","2020-12-22","","277575",""]
[{"$f":"INDEX(学校種!B:B,MATCH(D35069,学校種!A:A,0))","v":"幼稚園(幼稚園型認定こども園を含む)"},{"$f":"INDEX(_tmp2!B:B,MATCH(E35069,_tmp2!A:A,0))","v":"大阪府"},"A127310000483","A1","27","3","1","巽幼稚園","大阪市生野区巽東４－８－２８","5440014","2020-12-22","","277657",""]
[{"$f":"INDEX(学校種!B:B,MATCH(D35112,学校種!A:A,0))","v":"幼稚園(幼稚園型認定こども園を含む)"},{"$f":"INDEX(_tmp2!B:B,MATCH(E35112,_tmp2!A:A,0))","v":"大阪府"},"A127310000919","A1","27","3","1","育和学園幼稚園","大阪市東住吉区西今川１－１９－２","5460042","2020-12-22","","277763",""]
[{"$f":"INDEX(学校種!B:B,MATCH(D35130,学校種!A:A,0))","v":"幼稚園(幼稚園型認定こども園を含む)"},{"$f":"INDEX(_tmp2!B:B,MATCH(E35130,_tmp2!A:A,0))","v":"大阪府"},"A127310001099","A1","27","3","1","新金岡幼稚園","堺市北区新金岡町２－５－２","5918021","2020-12-22","","277805",""]
[{"$f":"INDEX(学校種!B:B,MATCH(D35155,学校種!A:A,0))","v":"幼稚園(幼稚園型認定こども園を含む)"},{"$f":"INDEX(_tmp2!B:B,MATCH(E35155,_tmp2!A:A,0))","v":"大阪府"},"A127310001348","A1","27","3","1","蛍池文化幼稚園","豊中市蛍池西町１－１１－３","5600036","2020-12-22","","277839",""]
[{"$f":"INDEX(学校種!B:B,MATCH(D35191,学校種!A:A,0))","v":"幼稚園(幼稚園型認定こども園を含む)"},{"$f":"INDEX(_tmp2!B:B,MATCH(E35191,_tmp2!A:A,0))","v":"大阪府"},"A127310001703","A1","27","3","1","桜ヶ丘幼稚園","高槻市桜ヶ丘北町１１－１７","5690817","2020-12-22","","277897",""]
[{"$f":"INDEX(学校種!B:B,MATCH(D35220,学校種!A:A,0))","v":"幼稚園(幼稚園型認定こども園を含む)"},{"$f":"INDEX(_tmp2!B:B,MATCH(E35220,_tmp2!A:A,0))","v":"大阪府"},"A127310001990","A1","27","3","1","寝屋川幼稚園","寝屋川市大利町３２－３３","5720048","2020-12-22","","277939",""]
[{"$f":"INDEX(学校種!B:B,MATCH(D35224,学校種!A:A,0))","v":"幼稚園(幼稚園型認定こども園を含む)"},{"$f":"INDEX(_tmp2!B:B,MATCH(E35224,_tmp2!A:A,0))","v":"大阪府"},"A127310002034","A1","27","3","1","認定こども園ひなぎく幼稚園","河内長野市木戸１丁目５－８",5860001,"2020-12-22","","277944",""]
[{"$f":"INDEX(学校種!B:B,MATCH(D35258,学校種!A:A,0))","v":"幼稚園(幼稚園型認定こども園を含む)"},{"$f":"INDEX(_tmp2!B:B,MATCH(E35258,_tmp2!A:A,0))","v":"大阪府"},"A127310002374","A1","27","3","1","大阪芸術大学附属金剛幼稚園","富田林市久野喜台２－６－１","5840074","2020-12-22","","278005",""]
[{"$f":"INDEX(学校種!B:B,MATCH(D35281,学校種!A:A,0))","v":"幼稚園(幼稚園型認定こども園を含む)"},{"$f":"INDEX(_tmp2!B:B,MATCH(E35281,_tmp2!A:A,0))","v":"大阪府"},"A127310002604","A1","27","3","1","認定こども園新宝珠幼稚園","堺市北区金岡町１０８６","5918022","2020-12-22","","278038",""]
[{"$f":"INDEX(学校種!B:B,MATCH(D35323,学校種!A:A,0))","v":"幼稚園(幼稚園型認定こども園を含む)"},{"$f":"INDEX(_tmp2!B:B,MATCH(E35323,_tmp2!A:A,0))","v":"大阪府"},"A127310003024","A1","27","3","1","大阪芸術大学附属泉北幼稚園","堺市南区御池台２－４－１","5900134","2020-12-22","","278092",""]
[{"$f":"INDEX(学校種!B:B,MATCH(D35342,学校種!A:A,0))","v":"幼稚園(幼稚園型認定こども園を含む)"},{"$f":"INDEX(_tmp2!B:B,MATCH(E35342,_tmp2!A:A,0))","v":"大阪府"},"A127310003211","A1","27","3","1","さつき台幼稚園","阪南市さつき台２－９","5990215","2020-12-22","","278213",""]
[{"$f":"INDEX(学校種!B:B,MATCH(D35371,学校種!A:A,0))","v":"幼保連携型認定こども園"},{"$f":"INDEX(_tmp2!B:B,MATCH(E35371,_tmp2!A:A,0))","v":"大阪府"},"A227210000126","A2","27","2","1","豊中市立のばたけこども園","豊中市北緑丘１－３－１","5600001","2020-12-22","","27A047",""]
[{"$f":"INDEX(学校種!B:B,MATCH(D35410,学校種!A:A,0))","v":"幼保連携型認定こども園"},{"$f":"INDEX(_tmp2!B:B,MATCH(E35410,_tmp2!A:A,0))","v":"大阪府"},"A227210000518","A2","27","2","1","八尾市立志紀おおぞらこども園","八尾市志紀町西２－１－１０","5810094","2020-12-22","","27A114",""]
[{"$f":"INDEX(学校種!B:B,MATCH(D35432,学校種!A:A,0))","v":"幼保連携型認定こども園"},{"$f":"INDEX(_tmp2!B:B,MATCH(E35432,_tmp2!A:A,0))","v":"大阪府"},"A227210000732","A2","27","2","1","堺市立宮園こども園","堺市中区宮園町２－１３","5998274","2020-12-22","","27B005",""]
[{"$f":"INDEX(学校種!B:B,MATCH(D35448,学校種!A:A,0))","v":"幼保連携型認定こども園"},{"$f":"INDEX(_tmp2!B:B,MATCH(E35448,_tmp2!A:A,0))","v":"大阪府"},"A227310000017","A2","27","3","1","認定こども園都島児童センター","大阪市都島区都島本通３－４－３ ","5340021","2020-12-22","","27A271",""]
[{"$f":"INDEX(学校種!B:B,MATCH(D35493,学校種!A:A,0))","v":"幼保連携型認定こども園"},{"$f":"INDEX(_tmp2!B:B,MATCH(E35493,_tmp2!A:A,0))","v":"大阪府"},"A227310000464","A2","27","3","1","認定こども園喜連幼稚園","大阪市平野区喜連６－２－２","5470027","2020-12-22","","27A377",""]
[{"$f":"INDEX(学校種!B:B,MATCH(D35518,学校種!A:A,0))","v":"幼保連携型認定こども園"},{"$f":"INDEX(_tmp2!B:B,MATCH(E35518,_tmp2!A:A,0))","v":"大阪府"},"A227310000712","A2","27","3","1","まつのみこども園","堺市中区平井４８２","5998251","2020-12-22","","27A418",""]
[{"$f":"INDEX(学校種!B:B,MATCH(D35554,学校種!A:A,0))","v":"幼保連携型認定こども園"},{"$f":"INDEX(_tmp2!B:B,MATCH(E35554,_tmp2!A:A,0))","v":"大阪府"},"A227310001070","A2","27","3","1","幼保連携型認定こども園がんば白鷺保育園","堺市北区金岡町１６３４－１","5918022","2020-12-22","","27A461",""]
[{"$f":"INDEX(学校種!B:B,MATCH(D35556,学校種!A:A,0))","v":"幼保連携型認定こども園"},{"$f":"INDEX(_tmp2!B:B,MATCH(E35556,_tmp2!A:A,0))","v":"大阪府"},"A227310001098","A2","27","3","1","なないろこども園","堺市北区金岡町３０４２－４","5918022","2020-12-22","","27A464",""]
[{"$f":"INDEX(学校種!B:B,MATCH(D35583,学校種!A:A,0))","v":"幼保連携型認定こども園"},{"$f":"INDEX(_tmp2!B:B,MATCH(E35583,_tmp2!A:A,0))","v":"大阪府"},"A227310001365","A2","27","3","2","幼保連携型認定こども園サン子ども園分園鳳東乳児園","堺市西区鳳東町７丁８４７－１","5938326","2020-12-22","","27A494",""]
[{"$f":"INDEX(学校種!B:B,MATCH(D35621,学校種!A:A,0))","v":"幼保連携型認定こども園"},{"$f":"INDEX(_tmp2!B:B,MATCH(E35621,_tmp2!A:A,0))","v":"大阪府"},"A227310001748","A2","27","3","1","認定こども園あけぼのドロップス","豊中市上新田４－１８－３","5600085","2020-12-22","","27A534",""]
[{"$f":"INDEX(学校種!B:B,MATCH(D35644,学校種!A:A,0))","v":"幼保連携型認定こども園"},{"$f":"INDEX(_tmp2!B:B,MATCH(E35644,_tmp2!A:A,0))","v":"大阪府"},"A227310001971","A2","27","3","1","認定こども園アンビーこども園","泉大津市旭町２２－２８","5950025","2020-12-22","","27A561",""]
[{"$f":"INDEX(学校種!B:B,MATCH(D35686,学校種!A:A,0))","v":"幼保連携型認定こども園"},{"$f":"INDEX(_tmp2!B:B,MATCH(E35686,_tmp2!A:A,0))","v":"大阪府"},"A227310002391","A2","27","3","1","にしき認定こども園","守口市寺方本通４－４－２２","5700048","2020-12-22","","27A604",""]
[{"$f":"INDEX(学校種!B:B,MATCH(D35705,学校種!A:A,0))","v":"幼保連携型認定こども園"},{"$f":"INDEX(_tmp2!B:B,MATCH(E35705,_tmp2!A:A,0))","v":"大阪府"},"A227310002587","A2","27","3","1","認定こども園春日丘幼稚園","枚方市田口山２－５－１","5730001","2020-12-22","","27A624",""]
[{"$f":"INDEX(学校種!B:B,MATCH(D35729,学校種!A:A,0))","v":"幼保連携型認定こども園"},{"$f":"INDEX(_tmp2!B:B,MATCH(E35729,_tmp2!A:A,0))","v":"大阪府"},"A227310002827","A2","27","3","1","彩都保育園","茨木市彩都あさぎ５－１２－２","5670085","2020-12-22","","27A652",""]
[{"$f":"INDEX(学校種!B:B,MATCH(D35766,学校種!A:A,0))","v":"幼保連携型認定こども園"},{"$f":"INDEX(_tmp2!B:B,MATCH(E35766,_tmp2!A:A,0))","v":"大阪府"},"A227310003194","A2","27","3","1","ねやがわ成美の森こども園","寝屋川市錦町２１番６号","5720043","2020-12-22","","27A700",""]
[{"$f":"INDEX(学校種!B:B,MATCH(D35794,学校種!A:A,0))","v":"幼保連携型認定こども園"},{"$f":"INDEX(_tmp2!B:B,MATCH(E35794,_tmp2!A:A,0))","v":"大阪府"},"A227310003470","A2","27","3","1","さかとがはらこども園","羽曳野市東阪田２６４","5830846","2020-12-22","","27A762",""]
[{"$f":"INDEX(学校種!B:B,MATCH(D35827,学校種!A:A,0))","v":"幼保連携型認定こども園"},{"$f":"INDEX(_tmp2!B:B,MATCH(E35827,_tmp2!A:A,0))","v":"大阪府"},"A227310003808","A2","27","3","1","認定こども園鴻池学園幼稚園","東大阪市鴻池元町１０－３８","5780974","2020-12-22","","27A811",""]
[{"$f":"INDEX(学校種!B:B,MATCH(D35832,学校種!A:A,0))","v":"幼保連携型認定こども園"},{"$f":"INDEX(_tmp2!B:B,MATCH(E35832,_tmp2!A:A,0))","v":"大阪府"},"A227310003853","A2","27","3","1","さつきこども園","東大阪市近江堂２－６－３０","5770817","2020-12-22","","27A816",""]
[{"$f":"INDEX(学校種!B:B,MATCH(D35884,学校種!A:A,0))","v":"幼保連携型認定こども園"},{"$f":"INDEX(_tmp2!B:B,MATCH(E35884,_tmp2!A:A,0))","v":"大阪府"},"A227310004371","A2","27","3","1","西若宮こども園","東大阪市東山町7‐8","5798027","2020-12-22","","27A938",""]
[{"$f":"INDEX(学校種!B:B,MATCH(D35889,学校種!A:A,0))","v":"幼保連携型認定こども園"},{"$f":"INDEX(_tmp2!B:B,MATCH(E35889,_tmp2!A:A,0))","v":"大阪府"},"A227310004424","A2","27","3","1","認定こども園仁和寺保育園","寝屋川市仁和寺本町６－７－２","5720076","2020-12-22","","27A962",""]
[{"$f":"INDEX(学校種!B:B,MATCH(D35919,学校種!A:A,0))","v":"幼保連携型認定こども園"},{"$f":"INDEX(_tmp2!B:B,MATCH(E35919,_tmp2!A:A,0))","v":"大阪府"},"A227310004727","A2","27","3","2","認定こども園せっつ遊育園分園","摂津市摂津市三島３－１３－１","5660022","2020-12-22","","27G053",""]
[{"$f":"INDEX(学校種!B:B,MATCH(D35946,学校種!A:A,0))","v":"幼保連携型認定こども園"},{"$f":"INDEX(_tmp2!B:B,MATCH(E35946,_tmp2!A:A,0))","v":"大阪府"},"A227310004996","A2","27","3","1","幼保連携型認定こども園たつのおか保育園","和泉市三林町１２７３番地の２","5941112","2020-12-22","","27G254",""]
[{"$f":"INDEX(学校種!B:B,MATCH(D35984,学校種!A:A,0))","v":"幼保連携型認定こども園"},{"$f":"INDEX(_tmp2!B:B,MATCH(E35984,_tmp2!A:A,0))","v":"大阪府"},"A227310005370","A2","27",3,1,"幼保連携型認定こども園淡路幼稚園","大阪市東淀川区東淡路４－１２－２５",5330023,"2021-05-27","","27A319",""]
[{"$f":"INDEX(学校種!B:B,MATCH(D36007,学校種!A:A,0))","v":"幼保連携型認定こども園"},{"$f":"INDEX(_tmp2!B:B,MATCH(E36007,_tmp2!A:A,0))","v":"大阪府"},"A227310005600","A2","27",3,1,"きらりこども園","大阪狭山市金剛２丁目１３－１６",5890006,"2021-05-27","","27A865",""]
[{"$f":"INDEX(学校種!B:B,MATCH(D36049,学校種!A:A,0))","v":"小学校"},{"$f":"INDEX(_tmp2!B:B,MATCH(E36049,_tmp2!A:A,0))","v":"大阪府"},"B127210000367","B1","27","2","1","大阪市立開平小学校","大阪市中央区今橋１－５－７","5410042","2020-12-22","","270097",""]
[{"$f":"INDEX(学校種!B:B,MATCH(D36068,学校種!A:A,0))","v":"小学校"},{"$f":"INDEX(_tmp2!B:B,MATCH(E36068,_tmp2!A:A,0))","v":"大阪府"},"B127210000553","B1","27","2","1","大阪市立弁天小学校","大阪市港区弁天町２－９－３５","5520007","2020-12-22","","270140",""]
[{"$f":"INDEX(学校種!B:B,MATCH(D36092,学校種!A:A,0))","v":"小学校"},{"$f":"INDEX(_tmp2!B:B,MATCH(E36092,_tmp2!A:A,0))","v":"大阪府"},"B127210000795","B1","27","2","1","大阪市立大国小学校","大阪市浪速区大国１－９－３","5560014","2020-12-22","","270214",""]
[{"$f":"INDEX(学校種!B:B,MATCH(D36129,学校種!A:A,0))","v":"小学校"},{"$f":"INDEX(_tmp2!B:B,MATCH(E36129,_tmp2!A:A,0))","v":"大阪府"},"B127210001160","B1","27","2","1","大阪市立木川南小学校","大阪市淀川区木川東１－２－３６","5320012","2020-12-22","","270284",""]
[{"$f":"INDEX(学校種!B:B,MATCH(D36157,学校種!A:A,0))","v":"小学校"},{"$f":"INDEX(_tmp2!B:B,MATCH(E36157,_tmp2!A:A,0))","v":"大阪府"},"B127210001446","B1","27","2","1","大阪市立神路小学校","大阪市東成区大今里４－６－１９","5370012","2020-12-22","","270319",""]
[{"$f":"INDEX(学校種!B:B,MATCH(D36162,学校種!A:A,0))","v":"小学校"},{"$f":"INDEX(_tmp2!B:B,MATCH(E36162,_tmp2!A:A,0))","v":"大阪府"},"B127210001491","B1","27","2","1","大阪市立鶴橋小学校","大阪市生野区桃谷２－２０－３２","5440034","2020-12-22","","270333",""]
[{"$f":"INDEX(学校種!B:B,MATCH(D36195,学校種!A:A,0))","v":"小学校"},{"$f":"INDEX(_tmp2!B:B,MATCH(E36195,_tmp2!A:A,0))","v":"大阪府"},"B127210001829","B1","27","2","1","大阪市立中浜小学校","大阪市城東区中浜２－１２－３５","5360024","2020-12-22","","270387",""]
[{"$f":"INDEX(学校種!B:B,MATCH(D36219,学校種!A:A,0))","v":"小学校"},{"$f":"INDEX(_tmp2!B:B,MATCH(E36219,_tmp2!A:A,0))","v":"大阪府"},"B127210002061","B1","27","2","2","大阪市立常盤小学校分校","大阪市阿倍野区松崎町３－２－９","5450053","2020-12-22","","270423",""]
[{"$f":"INDEX(学校種!B:B,MATCH(D36260,学校種!A:A,0))","v":"小学校"},{"$f":"INDEX(_tmp2!B:B,MATCH(E36260,_tmp2!A:A,0))","v":"大阪府"},"B127210002472","B1","27","2","1","大阪市立南田辺小学校","大阪市東住吉区南田辺４－３－４","5460033","2020-12-22","","270485",""]
[{"$f":"INDEX(学校種!B:B,MATCH(D36280,学校種!A:A,0))","v":"小学校"},{"$f":"INDEX(_tmp2!B:B,MATCH(E36280,_tmp2!A:A,0))","v":"大阪府"},"B127210002677","B1","27","2","1","大阪市立新今宮小学校","大阪市西成区花園北１－８－３２","5570016","2020-12-22","","270517",""]
[{"$f":"INDEX(学校種!B:B,MATCH(D36303,学校種!A:A,0))","v":"小学校"},{"$f":"INDEX(_tmp2!B:B,MATCH(E36303,_tmp2!A:A,0))","v":"大阪府"},"B127210002908","B1","27","2","1","大阪市立加美東小学校","大阪市平野区加美東５－９－２５","5470002","2020-12-22","","270572",""]
[{"$f":"INDEX(学校種!B:B,MATCH(D36341,学校種!A:A,0))","v":"小学校"},{"$f":"INDEX(_tmp2!B:B,MATCH(E36341,_tmp2!A:A,0))","v":"大阪府"},"B127210003284","B1","27","2","1","堺市立百舌鳥小学校","堺市北区百舌鳥梅町２－４９８","5918032","2020-12-22","","271038",""]
[{"$f":"INDEX(学校種!B:B,MATCH(D36368,学校種!A:A,0))","v":"小学校"},{"$f":"INDEX(_tmp2!B:B,MATCH(E36368,_tmp2!A:A,0))","v":"大阪府"},"B127210003550","B1","27","2","1","堺市立城山台小学校","堺市南区城山台１－２０－１","5900137","2020-12-22","","271069",""]
[{"$f":"INDEX(学校種!B:B,MATCH(D36402,学校種!A:A,0))","v":"小学校"},{"$f":"INDEX(_tmp2!B:B,MATCH(E36402,_tmp2!A:A,0))","v":"大阪府"},"B127210003890","B1","27","2","1","岸和田市立大宮小学校","岸和田市宮前町７－１","5960043","2020-12-22","","271112",""]
[{"$f":"INDEX(学校種!B:B,MATCH(D36431,学校種!A:A,0))","v":"小学校"},{"$f":"INDEX(_tmp2!B:B,MATCH(E36431,_tmp2!A:A,0))","v":"大阪府"},"B127210004185","B1","27","2","1","豊中市立庄内南小学校","豊中市大黒町１－２－１５","5610827","2020-12-22","","271167",""]
[{"$f":"INDEX(学校種!B:B,MATCH(D36455,学校種!A:A,0))","v":"小学校"},{"$f":"INDEX(_tmp2!B:B,MATCH(E36455,_tmp2!A:A,0))","v":"大阪府"},"B127210004425","B1","27","2","1","豊中市立北緑丘小学校","豊中市北緑丘２－４－１","5600001","2020-12-22","","271192",""]
[{"$f":"INDEX(学校種!B:B,MATCH(D36464,学校種!A:A,0))","v":"小学校"},{"$f":"INDEX(_tmp2!B:B,MATCH(E36464,_tmp2!A:A,0))","v":"大阪府"},"B127210004513","B1","27","2","1","池田市立緑丘小学校","池田市緑丘２丁目５番１２号","5630026","2020-12-22","","271209",""]
[{"$f":"INDEX(学校種!B:B,MATCH(D36493,学校種!A:A,0))","v":"小学校"},{"$f":"INDEX(_tmp2!B:B,MATCH(E36493,_tmp2!A:A,0))","v":"大阪府"},"B127210004808","B1","27","2","1","吹田市立千里新田小学校","吹田市春日４ー１０－１","5650853","2020-12-22","","271280",""]
[{"$f":"INDEX(学校種!B:B,MATCH(D36521,学校種!A:A,0))","v":"小学校"},{"$f":"INDEX(_tmp2!B:B,MATCH(E36521,_tmp2!A:A,0))","v":"大阪府"},"B127210005086","B1","27","2","1","高槻市立川西小学校","高槻市川西町１－３４－７","5691133","2020-12-22","","271366",""]
[{"$f":"INDEX(学校種!B:B,MATCH(D36558,学校種!A:A,0))","v":"小学校"},{"$f":"INDEX(_tmp2!B:B,MATCH(E36558,_tmp2!A:A,0))","v":"大阪府"},"B127210005451","B1","27","2","1","貝塚市立中央小学校","貝塚市麻生中８５４","5970081","2020-12-22","","271409",""]
[{"$f":"INDEX(学校種!B:B,MATCH(D36582,学校種!A:A,0))","v":"小学校"},{"$f":"INDEX(_tmp2!B:B,MATCH(E36582,_tmp2!A:A,0))","v":"大阪府"},"B127210005692","B1","27","2","1","枚方市立明倫小学校","枚方市中宮西之町１０－６","5730021","2020-12-22","","271508",""]
[{"$f":"INDEX(学校種!B:B,MATCH(D36623,学校種!A:A,0))","v":"小学校"},{"$f":"INDEX(_tmp2!B:B,MATCH(E36623,_tmp2!A:A,0))","v":"大阪府"},"B127210006101","B1","27","2","1","茨木市立福井小学校","茨木市東福井二丁目４番２０号","5670062","2020-12-22","","271554",""]
[{"$f":"INDEX(学校種!B:B,MATCH(D36643,学校種!A:A,0))","v":"小学校"},{"$f":"INDEX(_tmp2!B:B,MATCH(E36643,_tmp2!A:A,0))","v":"大阪府"},"B127210006307","B1","27","2","1","茨木市立畑田小学校","茨木市畑田町３番３１号","5670028","2020-12-22","","271574",""]
[{"$f":"INDEX(学校種!B:B,MATCH(D36666,学校種!A:A,0))","v":"小学校"},{"$f":"INDEX(_tmp2!B:B,MATCH(E36666,_tmp2!A:A,0))","v":"大阪府"},"B127210006539","B1","27","2","1","八尾市立高美小学校","八尾市高美町３－１－２６","5810017","2020-12-22","","271617",""]
[{"$f":"INDEX(学校種!B:B,MATCH(D36704,学校種!A:A,0))","v":"小学校"},{"$f":"INDEX(_tmp2!B:B,MATCH(E36704,_tmp2!A:A,0))","v":"大阪府"},"B127210006913","B1","27","2","1","富田林市立喜志西小学校","富田林市梅の里四丁目６番１号","5840001","2020-12-22","","271714",""]
[{"$f":"INDEX(学校種!B:B,MATCH(D36731,学校種!A:A,0))","v":"小学校"},{"$f":"INDEX(_tmp2!B:B,MATCH(E36731,_tmp2!A:A,0))","v":"大阪府"},"B127210007182","B1","27","2","1","寝屋川市立石津小学校","寝屋川市石津元町８－１","5720025","2020-12-22","","271779",""]
[{"$f":"INDEX(学校種!B:B,MATCH(D36765,学校種!A:A,0))","v":"小学校"},{"$f":"INDEX(_tmp2!B:B,MATCH(E36765,_tmp2!A:A,0))","v":"大阪府"},"B127210007529","B1","27","2","1","大東市立深野小学校","大東市深野４－１５－１","5740072","2020-12-22","","271906",""]
[{"$f":"INDEX(学校種!B:B,MATCH(D36769,学校種!A:A,0))","v":"小学校"},{"$f":"INDEX(_tmp2!B:B,MATCH(E36769,_tmp2!A:A,0))","v":"大阪府"},"B127210007565","B1","27","2","1","大東市立諸福小学校","大東市諸福１－２－２","5740044","2020-12-22","","271910",""]
[{"$f":"INDEX(学校種!B:B,MATCH(D36794,学校種!A:A,0))","v":"小学校"},{"$f":"INDEX(_tmp2!B:B,MATCH(E36794,_tmp2!A:A,0))","v":"大阪府"},"B127210007814","B1","27","2","1","箕面市立萱野小学校","箕面市萱野２－７－４０","5620014","2020-12-22","","272003",""]
[{"$f":"INDEX(学校種!B:B,MATCH(D36834,学校種!A:A,0))","v":"小学校"},{"$f":"INDEX(_tmp2!B:B,MATCH(E36834,_tmp2!A:A,0))","v":"大阪府"},"B127210008216","B1","27","2","1","門真市立沖小学校","門真市沖町２８－１","5710022","2020-12-22","","272160",""]
[{"$f":"INDEX(学校種!B:B,MATCH(D36855,学校種!A:A,0))","v":"小学校"},{"$f":"INDEX(_tmp2!B:B,MATCH(E36855,_tmp2!A:A,0))","v":"大阪府"},"B127210008421","B1","27","2","1","高石市立高陽小学校","高石市千代田５丁目８番４０号","5920005","2020-12-22","","272253",""]
[{"$f":"INDEX(学校種!B:B,MATCH(D36877,学校種!A:A,0))","v":"小学校"},{"$f":"INDEX(_tmp2!B:B,MATCH(E36877,_tmp2!A:A,0))","v":"大阪府"},"B127210008644","B1","27","2","1","東大阪市立玉美小学校","東大阪市瓜生堂１－６－１","5780946","2020-12-22","","272362",""]
[{"$f":"INDEX(学校種!B:B,MATCH(D36916,学校種!A:A,0))","v":"小学校"},{"$f":"INDEX(_tmp2!B:B,MATCH(E36916,_tmp2!A:A,0))","v":"大阪府"},"B127210009037","B1","27","2","1","島本町立第一小学校","三島郡島本町広瀬１－５－５","6180011","2020-12-22","","272501",""]
[{"$f":"INDEX(学校種!B:B,MATCH(D36945,学校種!A:A,0))","v":"小学校"},{"$f":"INDEX(_tmp2!B:B,MATCH(E36945,_tmp2!A:A,0))","v":"大阪府"},"B127210009322","B1","27","2","1","阪南市立下荘小学校","阪南市箱作２３２０番地","5990232","2020-12-22","","272643",""]
[{"$f":"INDEX(学校種!B:B,MATCH(D36959,学校種!A:A,0))","v":"小学校"},{"$f":"INDEX(_tmp2!B:B,MATCH(E36959,_tmp2!A:A,0))","v":"大阪府"},"B127210009466","B1","27","2","1","千早赤阪村立赤阪小学校","南河内郡千早赤阪村水分５６","5850041","2020-12-22","","272741",""]
[{"$f":"INDEX(学校種!B:B,MATCH(D37006,学校種!A:A,0))","v":"小学校"},{"$f":"INDEX(_tmp2!B:B,MATCH(E37006,_tmp2!A:A,0))","v":"大阪府"},"B127310000150","B1","27","3","1","はつしば学園小学校","堺市東区西野１９４－１","5998125","2020-12-22","","273109",""]
[{"$f":"INDEX(学校種!B:B,MATCH(D37029,学校種!A:A,0))","v":"中学校"},{"$f":"INDEX(_tmp2!B:B,MATCH(E37029,_tmp2!A:A,0))","v":"大阪府"},"C127210000187","C1","27","2","1","大阪市立堀江中学校","大阪市西区南堀江３－５－７","5500015","2020-12-22","","273563",""]
[{"$f":"INDEX(学校種!B:B,MATCH(D37067,学校種!A:A,0))","v":"中学校"},{"$f":"INDEX(_tmp2!B:B,MATCH(E37067,_tmp2!A:A,0))","v":"大阪府"},"C127210000560","C1","27","2","1","大阪市立大桐中学校","大阪市東淀川区大桐４－５－８","5330011","2020-12-22","","273658",""]
[{"$f":"INDEX(学校種!B:B,MATCH(D37094,学校種!A:A,0))","v":"中学校"},{"$f":"INDEX(_tmp2!B:B,MATCH(E37094,_tmp2!A:A,0))","v":"大阪府"},"C127210000837","C1","27","2","1","大阪市立横堤中学校","大阪市鶴見区横堤１－１１－２７","5380052","2020-12-22","","273715",""]
[{"$f":"INDEX(学校種!B:B,MATCH(D37100,学校種!A:A,0))","v":"中学校"},{"$f":"INDEX(_tmp2!B:B,MATCH(E37100,_tmp2!A:A,0))","v":"大阪府"},"C127210000891","C1","27","2","1","大阪市立住吉第一中学校","大阪市住之江区粉浜西１－５－１１","5590007","2020-12-22","","273731",""]
[{"$f":"INDEX(学校種!B:B,MATCH(D37132,学校種!A:A,0))","v":"中学校"},{"$f":"INDEX(_tmp2!B:B,MATCH(E37132,_tmp2!A:A,0))","v":"大阪府"},"C127210001211","C1","27","2","1","大阪市立加美南中学校","大阪市平野区加美南１－１０－１５","5470003","2020-12-22","","273770",""]
[{"$f":"INDEX(学校種!B:B,MATCH(D37157,学校種!A:A,0))","v":"中学校"},{"$f":"INDEX(_tmp2!B:B,MATCH(E37157,_tmp2!A:A,0))","v":"大阪府"},"C127210001462","C1","27","2","1","堺市立泉ケ丘東中学校","堺市中区陶器北１８４","5998242","2020-12-22","","274015",""]
[{"$f":"INDEX(学校種!B:B,MATCH(D37197,学校種!A:A,0))","v":"中学校"},{"$f":"INDEX(_tmp2!B:B,MATCH(E37197,_tmp2!A:A,0))","v":"大阪府"},"C127210001863","C1","27","2","1","豊中市立第五中学校","豊中市立花町１－１０－１","5600025","2020-12-22","","274065",""]
[{"$f":"INDEX(学校種!B:B,MATCH(D37218,学校種!A:A,0))","v":"中学校"},{"$f":"INDEX(_tmp2!B:B,MATCH(E37218,_tmp2!A:A,0))","v":"大阪府"},"C127210002078","C1","27","2","1","吹田市立第五中学校","吹田市幸町２１－１","5640015","2020-12-22","","274106",""]
[{"$f":"INDEX(学校種!B:B,MATCH(D37240,学校種!A:A,0))","v":"中学校"},{"$f":"INDEX(_tmp2!B:B,MATCH(E37240,_tmp2!A:A,0))","v":"大阪府"},"C127210002292","C1","27","2","1","高槻市立第七中学校","高槻市西面北一丁目４５－１","5690841","2020-12-22","","274147",""]
[{"$f":"INDEX(学校種!B:B,MATCH(D37279,学校種!A:A,0))","v":"中学校"},{"$f":"INDEX(_tmp2!B:B,MATCH(E37279,_tmp2!A:A,0))","v":"大阪府"},"C127210002684","C1","27","2","1","枚方市立渚西中学校","枚方市渚西３－２５－１","5731178","2020-12-22","","274216",""]
[{"$f":"INDEX(学校種!B:B,MATCH(D37305,学校種!A:A,0))","v":"中学校"},{"$f":"INDEX(_tmp2!B:B,MATCH(E37305,_tmp2!A:A,0))","v":"大阪府"},"C127210002942","C1","27","2","1","八尾市立志紀中学校","八尾市志紀町西２－２","5810094","2020-12-22","","274249",""]
[{"$f":"INDEX(学校種!B:B,MATCH(D37340,学校種!A:A,0))","v":"中学校"},{"$f":"INDEX(_tmp2!B:B,MATCH(E37340,_tmp2!A:A,0))","v":"大阪府"},"C127210003291","C1","27","2","1","河内長野市立西中学校","河内長野市下里町２５７－３","5860087","2020-12-22","","274329",""]
[{"$f":"INDEX(学校種!B:B,MATCH(D37370,学校種!A:A,0))","v":"中学校"},{"$f":"INDEX(_tmp2!B:B,MATCH(E37370,_tmp2!A:A,0))","v":"大阪府"},"C127210003594","C1","27","2","1","箕面市立第二中学校","箕面市萱野１－１５－１２","5620014","2020-12-22","","274403",""]
[{"$f":"INDEX(学校種!B:B,MATCH(D37397,学校種!A:A,0))","v":"中学校"},{"$f":"INDEX(_tmp2!B:B,MATCH(E37397,_tmp2!A:A,0))","v":"大阪府"},"C127210003861","C1","27","2","1","摂津市立第四中学校","摂津市東別府４－６－１","5660042","2020-12-22","","274484",""]
[{"$f":"INDEX(学校種!B:B,MATCH(D37408,学校種!A:A,0))","v":"中学校"},{"$f":"INDEX(_tmp2!B:B,MATCH(E37408,_tmp2!A:A,0))","v":"大阪府"},"C127210003978","C1","27","2","1","東大阪市立盾津中学校","東大阪市新庄南１番３３号","5780958","2020-12-22","","274544",""]
[{"$f":"INDEX(学校種!B:B,MATCH(D37430,学校種!A:A,0))","v":"中学校"},{"$f":"INDEX(_tmp2!B:B,MATCH(E37430,_tmp2!A:A,0))","v":"大阪府"},"C127210004192","C1","27","2","1","豊能町立東能勢中学校","豊能郡豊能町余野１５９－２","5630219","2020-12-22","","274711",""]
[{"$f":"INDEX(学校種!B:B,MATCH(D37459,学校種!A:A,0))","v":"中学校"},{"$f":"INDEX(_tmp2!B:B,MATCH(E37459,_tmp2!A:A,0))","v":"大阪府"},"C127210004487","C1","27","2","1","交野市立第四中学校","交野市天野が原町５－６５－１","5760034","2020-12-22","","274854",""]
[{"$f":"INDEX(学校種!B:B,MATCH(D37495,学校種!A:A,0))","v":"中学校"},{"$f":"INDEX(_tmp2!B:B,MATCH(E37495,_tmp2!A:A,0))","v":"大阪府"},"C127310000318","C1","27","3","1","金蘭千里中学校","吹田市藤白台５－２５－２","5650873","2020-12-22","","275105",""]
[{"$f":"INDEX(学校種!B:B,MATCH(D37520,学校種!A:A,0))","v":"中学校"},{"$f":"INDEX(_tmp2!B:B,MATCH(E37520,_tmp2!A:A,0))","v":"大阪府"},"C127310000568","C1","27","3","1","関西大倉中学校","茨木市室山２－１４－１","5670052","2020-12-22","","275137",""]
[{"$f":"INDEX(学校種!B:B,MATCH(D37560,学校種!A:A,0))","v":"高等学校"},{"$f":"INDEX(_tmp2!B:B,MATCH(E37560,_tmp2!A:A,0))","v":"大阪府"},"D127210000256","D1","27","2","1","大阪府立千里高等学校","吹田市高野台２－１７－１","5650861","2020-12-22","","275540",""]
[{"$f":"INDEX(学校種!B:B,MATCH(D37581,学校種!A:A,0))","v":"高等学校"},{"$f":"INDEX(_tmp2!B:B,MATCH(E37581,_tmp2!A:A,0))","v":"大阪府"},"D127210000461","D1","27","2","1","大阪府立摂津高等学校","摂津市学園町１－５－１","5660033","2020-12-22","","275570",""]
[{"$f":"INDEX(学校種!B:B,MATCH(D37603,学校種!A:A,0))","v":"高等学校"},{"$f":"INDEX(_tmp2!B:B,MATCH(E37603,_tmp2!A:A,0))","v":"大阪府"},"D127210000684","D1","27","2","1","大阪府立泉鳥取高等学校","阪南市緑ヶ丘１丁目１番１０号","5990216","2020-12-22","","275598",""]
[{"$f":"INDEX(学校種!B:B,MATCH(D37642,学校種!A:A,0))","v":"高等学校"},{"$f":"INDEX(_tmp2!B:B,MATCH(E37642,_tmp2!A:A,0))","v":"大阪府"},"D127210001077","D1","27","2","1","大阪府立枚方なぎさ高等学校","枚方市磯島元町２０番地１","5731187","2020-12-22","","275691",""]
[{"$f":"INDEX(学校種!B:B,MATCH(D37668,学校種!A:A,0))","v":"高等学校"},{"$f":"INDEX(_tmp2!B:B,MATCH(E37668,_tmp2!A:A,0))","v":"大阪府"},"D127210001335","D1","27","2","1","大阪府立大阪わかば高等学校","大阪市生野区巽東３－１０－７５","5440014","2020-12-22","","275726",""]
[{"$f":"INDEX(学校種!B:B,MATCH(D37675,学校種!A:A,0))","v":"高等学校"},{"$f":"INDEX(_tmp2!B:B,MATCH(E37675,_tmp2!A:A,0))","v":"大阪府"},"D127210001406","D1","27","2","1","大阪市立大阪ビジネスフロンティア高等学校","大阪市天王寺区烏ヶ辻２－９－２６","5430042","2020-12-22","","275808",""]
[{"$f":"INDEX(学校種!B:B,MATCH(D37706,学校種!A:A,0))","v":"高等学校"},{"$f":"INDEX(_tmp2!B:B,MATCH(E37706,_tmp2!A:A,0))","v":"大阪府"},"D127310000129","D1","27","3","1","大阪夕陽丘学園高等学校","大阪市天王寺区生玉寺町７－７２","5430073","2020-12-22","","276109",""]
[{"$f":"INDEX(学校種!B:B,MATCH(D37732,学校種!A:A,0))","v":"高等学校"},{"$f":"INDEX(_tmp2!B:B,MATCH(E37732,_tmp2!A:A,0))","v":"大阪府"},"D127310000389","D1","27","3","1","追手門学院大手前高等学校","大阪市中央区大手前１－３－２０","5400008","2020-12-22","","276136",""]
[{"$f":"INDEX(学校種!B:B,MATCH(D37771,学校種!A:A,0))","v":"高等学校"},{"$f":"INDEX(_tmp2!B:B,MATCH(E37771,_tmp2!A:A,0))","v":"大阪府"},"D127310000771","D1","27","3","1","関西大学北陽高等学校","大阪市東淀川区上新庄１－３－２６","5330006","2020-12-22","","276203",""]
[{"$f":"INDEX(学校種!B:B,MATCH(D37793,学校種!A:A,0))","v":"高等学校"},{"$f":"INDEX(_tmp2!B:B,MATCH(E37793,_tmp2!A:A,0))","v":"大阪府"},"D127310000995","D1","27","3","1","藍野高等学校","茨木市東太田４－５－１１","5670012","2020-12-22","","276259",""]
[{"$f":"INDEX(学校種!B:B,MATCH(D37814,学校種!A:A,0))","v":"特別支援学校"},{"$f":"INDEX(_tmp2!B:B,MATCH(E37814,_tmp2!A:A,0))","v":"大阪府"},"E127210000119","E1","27","2","1","大阪府立なにわ高等支援学校","大阪市浪速区木津川2-3-30","5560027","2020-12-22","","279726",""]
[{"$f":"INDEX(学校種!B:B,MATCH(D37854,学校種!A:A,0))","v":"専修学校"},{"$f":"INDEX(_tmp2!B:B,MATCH(E37854,_tmp2!A:A,0))","v":"大阪府"},"H127210000015","H1","27","2","1","大阪市立デザイン教育研究所","大阪市阿倍野区文の里１丁目７番４８号","5450004","2020-12-22","","278519",""]
[{"$f":"INDEX(学校種!B:B,MATCH(D37879,学校種!A:A,0))","v":"専修学校"},{"$f":"INDEX(_tmp2!B:B,MATCH(E37879,_tmp2!A:A,0))","v":"大阪府"},"H127310000255","H1","27","3","1","東朋高等専修学校","大阪市天王寺区城南寺町７－１９","5430017","2020-12-22","","278565",""]
[{"$f":"INDEX(学校種!B:B,MATCH(D37915,学校種!A:A,0))","v":"専修学校"},{"$f":"INDEX(_tmp2!B:B,MATCH(E37915,_tmp2!A:A,0))","v":"大阪府"},"H127310000610","H1","27","3","1","河﨑会看護専門学校","貝塚市水間５１１番地","5970104","2020-12-22","","278621",""]
[{"$f":"INDEX(学校種!B:B,MATCH(D37944,学校種!A:A,0))","v":"専修学校"},{"$f":"INDEX(_tmp2!B:B,MATCH(E37944,_tmp2!A:A,0))","v":"大阪府"},"H127310000905","H1","27","3","1","大阪航空専門学校","堺市西区鳳西町３丁７１２","5938326","2020-12-22","","278692",""]
[{"$f":"INDEX(学校種!B:B,MATCH(D37972,学校種!A:A,0))","v":"専修学校"},{"$f":"INDEX(_tmp2!B:B,MATCH(E37972,_tmp2!A:A,0))","v":"大阪府"},"H127310001183","H1","27","3","1","大阪コミュニティワーカー専門学校","大阪市淀川区十三元今里１－１－５２","5320028","2020-12-22","","278825",""]
[{"$f":"INDEX(学校種!B:B,MATCH(D37977,学校種!A:A,0))","v":"専修学校"},{"$f":"INDEX(_tmp2!B:B,MATCH(E37977,_tmp2!A:A,0))","v":"大阪府"},"H127310001236","H1","27","3","1","大阪ベルェベル美容専門学校","大阪市北区茶屋町５－１０","5300013","2020-12-22","","278832",""]
[{"$f":"INDEX(学校種!B:B,MATCH(D38031,学校種!A:A,0))","v":"専修学校"},{"$f":"INDEX(_tmp2!B:B,MATCH(E38031,_tmp2!A:A,0))","v":"大阪府"},"H127310001771","H1","27","3","1","大阪ビューティーアート専門学校","大阪市淀川区西中島３－８－２９","5320011","2020-12-22","","278965",""]
[{"$f":"INDEX(学校種!B:B,MATCH(D38034,学校種!A:A,0))","v":"専修学校"},{"$f":"INDEX(_tmp2!B:B,MATCH(E38034,_tmp2!A:A,0))","v":"大阪府"},"H127310001806","H1","27","3","9","関西健康・製菓専門学校","大阪市北区天神橋二丁目北１－２","5300041","2020-12-22","2021-05-27","278968",""]
[{"$f":"INDEX(学校種!B:B,MATCH(D38069,学校種!A:A,0))","v":"専修学校"},{"$f":"INDEX(_tmp2!B:B,MATCH(E38069,_tmp2!A:A,0))","v":"大阪府"},"H127310002155","H1","27","3","1","専修学校クラーク高等学院大阪梅田校","大阪市北区堂島２－３－２９","5300003","2020-12-22","","279007",""]
[{"$f":"INDEX(学校種!B:B,MATCH(D38095,学校種!A:A,0))","v":"各種学校"},{"$f":"INDEX(_tmp2!B:B,MATCH(E38095,_tmp2!A:A,0))","v":"大阪府"},"H227310000183","H2","27","3","1","中大阪朝鮮初・中級学校","大阪市東成区東中本３－１７－６","5370021","2020-12-22","","279308",""]
[{"$f":"INDEX(学校種!B:B,MATCH(D38134,学校種!A:A,0))","v":"幼稚園(幼稚園型認定こども園を含む)"},{"$f":"INDEX(_tmp2!B:B,MATCH(E38134,_tmp2!A:A,0))","v":"兵庫県"},"A128210000144","A1","28","2","1","神戸市立西野幼稚園","神戸市長田区重池町１丁目１０－８","6530802","2020-12-22","","287138",""]
[{"$f":"INDEX(学校種!B:B,MATCH(D38156,学校種!A:A,0))","v":"幼稚園(幼稚園型認定こども園を含む)"},{"$f":"INDEX(_tmp2!B:B,MATCH(E38156,_tmp2!A:A,0))","v":"兵庫県"},"A128210000368","A1","28","2","1","姫路市立城西幼稚園","姫路市新在家３丁目５番１号","6700095","2020-12-22","","287205",""]
[{"$f":"INDEX(学校種!B:B,MATCH(D38177,学校種!A:A,0))","v":"幼稚園(幼稚園型認定こども園を含む)"},{"$f":"INDEX(_tmp2!B:B,MATCH(E38177,_tmp2!A:A,0))","v":"兵庫県"},"A128210000572","A1","28","2","1","姫路市立別所幼稚園","姫路市別所町別所１７２１番地","6710221","2020-12-22","","287237",""]
[{"$f":"INDEX(学校種!B:B,MATCH(D38217,学校種!A:A,0))","v":"幼稚園(幼稚園型認定こども園を含む)"},{"$f":"INDEX(_tmp2!B:B,MATCH(E38217,_tmp2!A:A,0))","v":"兵庫県"},"A128210000974","A1","28","2","1","明石市立清水幼稚園","明石市魚住町清水１７５２－２","6740074","2020-12-22","","287314",""]
[{"$f":"INDEX(学校種!B:B,MATCH(D38242,学校種!A:A,0))","v":"幼稚園(幼稚園型認定こども園を含む)"},{"$f":"INDEX(_tmp2!B:B,MATCH(E38242,_tmp2!A:A,0))","v":"兵庫県"},"A128210001223","A1","28","2","1","西宮市立子育て総合センター付属あおぞら幼稚園","西宮市津田町３－４０","6620853","2020-12-22","","287344",""]
[{"$f":"INDEX(学校種!B:B,MATCH(D38278,学校種!A:A,0))","v":"幼稚園(幼稚園型認定こども園を含む)"},{"$f":"INDEX(_tmp2!B:B,MATCH(E38278,_tmp2!A:A,0))","v":"兵庫県"},"A128210001580","A1","28","2","1","加古川市立尾上幼稚園","加古川市尾上町長田５１７－７０","6750024","2020-12-22","","287437",""]
[{"$f":"INDEX(学校種!B:B,MATCH(D38280,学校種!A:A,0))","v":"幼稚園(幼稚園型認定こども園を含む)"},{"$f":"INDEX(_tmp2!B:B,MATCH(E38280,_tmp2!A:A,0))","v":"兵庫県"},"A128210001606","A1","28","2","1","加古川市立西神吉幼稚園","加古川市西神吉町西村１３９","6750042","2020-12-22","","287443",""]
[{"$f":"INDEX(学校種!B:B,MATCH(D38307,学校種!A:A,0))","v":"幼稚園(幼稚園型認定こども園を含む)"},{"$f":"INDEX(_tmp2!B:B,MATCH(E38307,_tmp2!A:A,0))","v":"兵庫県"},"A128210001875","A1","28","2","1","三木市立自由が丘幼稚園","三木市志染町中自由が丘３ー７０","6730552","2020-12-22","","287501",""]
[{"$f":"INDEX(学校種!B:B,MATCH(D38345,学校種!A:A,0))","v":"幼稚園(幼稚園型認定こども園を含む)"},{"$f":"INDEX(_tmp2!B:B,MATCH(E38345,_tmp2!A:A,0))","v":"兵庫県"},"A128210002259","A1","28","2","1","姫路市立坊勢幼稚園","姫路市家島町坊勢３０３－３","6720103","2020-12-22","","287639",""]
[{"$f":"INDEX(学校種!B:B,MATCH(D38368,学校種!A:A,0))","v":"幼稚園(幼稚園型認定こども園を含む)"},{"$f":"INDEX(_tmp2!B:B,MATCH(E38368,_tmp2!A:A,0))","v":"兵庫県"},"A128210002482","A1","28","2","9","宍粟市立都多幼稚園","宍粟市山崎町中野１００３－１","6712502","2020-12-22","2021-05-27","287737",""]
[{"$f":"INDEX(学校種!B:B,MATCH(D38415,学校種!A:A,0))","v":"幼稚園(幼稚園型認定こども園を含む)"},{"$f":"INDEX(_tmp2!B:B,MATCH(E38415,_tmp2!A:A,0))","v":"兵庫県"},"A128310000179","A1","28","3","1","かおる幼稚園","神戸市灘区薬師通４－２－８","6570815","2020-12-22","","286541",""]
[{"$f":"INDEX(学校種!B:B,MATCH(D38429,学校種!A:A,0))","v":"幼稚園(幼稚園型認定こども園を含む)"},{"$f":"INDEX(_tmp2!B:B,MATCH(E38429,_tmp2!A:A,0))","v":"兵庫県"},"A128310000311","A1","28","3","1","認定こども園みなと幼稚園","神戸市兵庫区荒田町３―２０―４","6520032","2020-12-22","","286584",""]
[{"$f":"INDEX(学校種!B:B,MATCH(D38453,学校種!A:A,0))","v":"幼稚園(幼稚園型認定こども園を含む)"},{"$f":"INDEX(_tmp2!B:B,MATCH(E38453,_tmp2!A:A,0))","v":"兵庫県"},"A128310000552","A1","28","3","1","湊川短期大学附属西舞子幼稚園","神戸市垂水区南多聞台５丁目８－１","6550043","2020-12-22","","286639",""]
[{"$f":"INDEX(学校種!B:B,MATCH(D38490,学校種!A:A,0))","v":"幼稚園(幼稚園型認定こども園を含む)"},{"$f":"INDEX(_tmp2!B:B,MATCH(E38490,_tmp2!A:A,0))","v":"兵庫県"},"A128310000927","A1","28","3","1","明和幼稚園","尼崎市富松町２－３５－４６","6610003","2020-12-22","","286704",""]
[{"$f":"INDEX(学校種!B:B,MATCH(D38519,学校種!A:A,0))","v":"幼稚園(幼稚園型認定こども園を含む)"},{"$f":"INDEX(_tmp2!B:B,MATCH(E38519,_tmp2!A:A,0))","v":"兵庫県"},"A128310001212","A1","28","3","1","花園幼稚園","西宮市上鳴尾町１９－１９","6638186","2020-12-22","","286760",""]
[{"$f":"INDEX(学校種!B:B,MATCH(D38540,学校種!A:A,0))","v":"幼稚園(幼稚園型認定こども園を含む)"},{"$f":"INDEX(_tmp2!B:B,MATCH(E38540,_tmp2!A:A,0))","v":"兵庫県"},"A128310001427","A1","28","3","1","幸幼稚園","西宮市北六甲台１－２３－１０","6511413","2020-12-22","","286787",""]
[{"$f":"INDEX(学校種!B:B,MATCH(D38580,学校種!A:A,0))","v":"幼稚園(幼稚園型認定こども園を含む)"},{"$f":"INDEX(_tmp2!B:B,MATCH(E38580,_tmp2!A:A,0))","v":"兵庫県"},"A128310001828","A1","28","3","1","佐用マリア幼稚園","佐用郡佐用町佐用２８４７","6795301","2020-12-22","","286886",""]
[{"$f":"INDEX(学校種!B:B,MATCH(D38605,学校種!A:A,0))","v":"幼保連携型認定こども園"},{"$f":"INDEX(_tmp2!B:B,MATCH(E38605,_tmp2!A:A,0))","v":"兵庫県"},"A228210000143","A2","28","2","1","高砂市立阿弥陀こども園","高砂市阿弥陀町阿弥陀１１７６－２","6760827","2020-12-22","","28A753",""]
[{"$f":"INDEX(学校種!B:B,MATCH(D38613,学校種!A:A,0))","v":"幼保連携型認定こども園"},{"$f":"INDEX(_tmp2!B:B,MATCH(E38613,_tmp2!A:A,0))","v":"兵庫県"},"A228210000223","A2","28","2","1","加西市立加西こども園","加西市中野町１１－１","6752102","2020-12-22","","28A789",""]
[{"$f":"INDEX(学校種!B:B,MATCH(D38643,学校種!A:A,0))","v":"幼保連携型認定こども園"},{"$f":"INDEX(_tmp2!B:B,MATCH(E38643,_tmp2!A:A,0))","v":"兵庫県"},"A228210000526","A2","28","2","1","たつの市立小宅南こども園","たつの市龍野町富永４０４","6794167","2020-12-22","","28A870",""]
[{"$f":"INDEX(学校種!B:B,MATCH(D38670,学校種!A:A,0))","v":"幼保連携型認定こども園"},{"$f":"INDEX(_tmp2!B:B,MATCH(E38670,_tmp2!A:A,0))","v":"兵庫県"},"A228210000795","A2","28","2","1","新温泉町立大庭認定こども園","美方郡新温泉町二日市７５３－１","6696731","2020-12-22","","28A947",""]
[{"$f":"INDEX(学校種!B:B,MATCH(D38708,学校種!A:A,0))","v":"幼保連携型認定こども園"},{"$f":"INDEX(_tmp2!B:B,MATCH(E38708,_tmp2!A:A,0))","v":"兵庫県"},"A228310000285","A2","28","3","1","青谷愛児園","神戸市灘区青谷町２－１－９","6570805","2020-12-22","","28A048",""]
[{"$f":"INDEX(学校種!B:B,MATCH(D38731,学校種!A:A,0))","v":"幼保連携型認定こども園"},{"$f":"INDEX(_tmp2!B:B,MATCH(E38731,_tmp2!A:A,0))","v":"兵庫県"},"A228310000515","A2","28","3","1","認定こども園大手幼稚園","神戸市須磨区大手町７－１－１","6540013","2020-12-22","","28A071",""]
[{"$f":"INDEX(学校種!B:B,MATCH(D38751,学校種!A:A,0))","v":"幼保連携型認定こども園"},{"$f":"INDEX(_tmp2!B:B,MATCH(E38751,_tmp2!A:A,0))","v":"兵庫県"},"A228310000711","A2","28","3","1","認定こども園明舞幼稚園","神戸市垂水区狩口台５－１４－１","6550049","2020-12-22","","28A091",""]
[{"$f":"INDEX(学校種!B:B,MATCH(D38792,学校種!A:A,0))","v":"幼保連携型認定こども園"},{"$f":"INDEX(_tmp2!B:B,MATCH(E38792,_tmp2!A:A,0))","v":"兵庫県"},"A228310001122","A2","28","3","1","幼保連携型認定こども園おっこう山","神戸市西区神出町五百蔵１４２－４００","6512303","2020-12-22","","28A133",""]
[{"$f":"INDEX(学校種!B:B,MATCH(D38816,学校種!A:A,0))","v":"幼保連携型認定こども園"},{"$f":"INDEX(_tmp2!B:B,MATCH(E38816,_tmp2!A:A,0))","v":"兵庫県"},"A228310001364","A2","28","3","1","幼保連携型認定こども園ベビー・メーソン","尼崎市武庫元町２丁目２０－１５","6610043","2020-12-22","","28A157",""]
[{"$f":"INDEX(学校種!B:B,MATCH(D38853,学校種!A:A,0))","v":"幼保連携型認定こども園"},{"$f":"INDEX(_tmp2!B:B,MATCH(E38853,_tmp2!A:A,0))","v":"兵庫県"},"A228310001738","A2","28","3","1","幼保連携型認定こども園花音つばさこども園","神戸市灘区城内通１－６－３２","6570836","2020-12-22","","28A194",""]
[{"$f":"INDEX(学校種!B:B,MATCH(D38881,学校種!A:A,0))","v":"幼保連携型認定こども園"},{"$f":"INDEX(_tmp2!B:B,MATCH(E38881,_tmp2!A:A,0))","v":"兵庫県"},"A228310002014","A2","28","3","2","幼保連携型認定こども園おおいしこども園乳児分園","神戸市灘区大石北町３－３３","6570843","2020-12-22","","28A222",""]
[{"$f":"INDEX(学校種!B:B,MATCH(D38910,学校種!A:A,0))","v":"幼保連携型認定こども園"},{"$f":"INDEX(_tmp2!B:B,MATCH(E38910,_tmp2!A:A,0))","v":"兵庫県"},"A228310002309","A2","28","3","1","野の花こども園","明石市二見町西二見２１６","6740094","2020-12-22","","28A268",""]
[{"$f":"INDEX(学校種!B:B,MATCH(D38919,学校種!A:A,0))","v":"幼保連携型認定こども園"},{"$f":"INDEX(_tmp2!B:B,MATCH(E38919,_tmp2!A:A,0))","v":"兵庫県"},"A228310002390","A2","28","3","1","認定こども園ゆりのきＣＯＣＯＲＯ","明石市大久保町ゆりのき通２丁目５０－２","6740068","2020-12-22","","28A277",""]
[{"$f":"INDEX(学校種!B:B,MATCH(D38943,学校種!A:A,0))","v":"幼保連携型認定こども園"},{"$f":"INDEX(_tmp2!B:B,MATCH(E38943,_tmp2!A:A,0))","v":"兵庫県"},"A228310002639","A2","28","3","1","聖パウロこども園","高砂市阿弥陀町魚橋６８６","6760822","2020-12-22","","28A314",""]
[{"$f":"INDEX(学校種!B:B,MATCH(D38989,学校種!A:A,0))","v":"幼保連携型認定こども園"},{"$f":"INDEX(_tmp2!B:B,MATCH(E38989,_tmp2!A:A,0))","v":"兵庫県"},"A228310003095","A2","28","3","1","野里こども園","姫路市威徳寺町３３","6700816","2020-12-22","","28A400",""]
[{"$f":"INDEX(学校種!B:B,MATCH(D39004,学校種!A:A,0))","v":"幼保連携型認定こども園"},{"$f":"INDEX(_tmp2!B:B,MATCH(E39004,_tmp2!A:A,0))","v":"兵庫県"},"A228310003246","A2","28","3","2","勝原保育園分園","姫路市山戸１１３－６","6711214","2020-12-22","","28A419",""]
[{"$f":"INDEX(学校種!B:B,MATCH(D39027,学校種!A:A,0))","v":"幼保連携型認定こども園"},{"$f":"INDEX(_tmp2!B:B,MATCH(E39027,_tmp2!A:A,0))","v":"兵庫県"},"A228310003479","A2","28","3","1","安室保育園","姫路市田寺三丁目３－１５","6700086","2020-12-22","","28A443",""]
[{"$f":"INDEX(学校種!B:B,MATCH(D39065,学校種!A:A,0))","v":"幼保連携型認定こども園"},{"$f":"INDEX(_tmp2!B:B,MATCH(E39065,_tmp2!A:A,0))","v":"兵庫県"},"A228310003852","A2","28","3","1","たいようこども園","養父市八鹿町朝倉１２６１－１","6670024","2020-12-22","","28A543",""]
[{"$f":"INDEX(学校種!B:B,MATCH(D39094,学校種!A:A,0))","v":"幼保連携型認定こども園"},{"$f":"INDEX(_tmp2!B:B,MATCH(E39094,_tmp2!A:A,0))","v":"兵庫県"},"A228310004147","A2","28","3","2","やながせ保育園大津みやび野分園","姫路市大津区大津町1丁目31-111","6711146","2020-12-22","","28A454",""]
[{"$f":"INDEX(学校種!B:B,MATCH(D39114,学校種!A:A,0))","v":"幼保連携型認定こども園"},{"$f":"INDEX(_tmp2!B:B,MATCH(E39114,_tmp2!A:A,0))","v":"兵庫県"},"A228310004343","A2","28",3,1,"幼保連携型認定こども園夙川学院ソレイユ認定こども園","西宮市神園町２番街区",6620027,"2021-05-27","","28A280",""]
[{"$f":"INDEX(学校種!B:B,MATCH(D39155,学校種!A:A,0))","v":"小学校"},{"$f":"INDEX(_tmp2!B:B,MATCH(E39155,_tmp2!A:A,0))","v":"兵庫県"},"B128210000339","B1","28","2","1","神戸市立湊小学校","神戸市中央区東川崎町１－４－１","6500044","2020-12-22","","280080",""]
[{"$f":"INDEX(学校種!B:B,MATCH(D39179,学校種!A:A,0))","v":"小学校"},{"$f":"INDEX(_tmp2!B:B,MATCH(E39179,_tmp2!A:A,0))","v":"兵庫県"},"B128210000570","B1","28","2","1","神戸市立若宮小学校","神戸市須磨区若宮町２－１－２１","6540049","2020-12-22","","280153",""]
[{"$f":"INDEX(学校種!B:B,MATCH(D39188,学校種!A:A,0))","v":"小学校"},{"$f":"INDEX(_tmp2!B:B,MATCH(E39188,_tmp2!A:A,0))","v":"兵庫県"},"B128210000669","B1","28","2","1","神戸市立東落合小学校","神戸市須磨区東落合２－１８－１","6540152","2020-12-22","","280162",""]
[{"$f":"INDEX(学校種!B:B,MATCH(D39217,学校種!A:A,0))","v":"小学校"},{"$f":"INDEX(_tmp2!B:B,MATCH(E39217,_tmp2!A:A,0))","v":"兵庫県"},"B128210000954","B1","28","2","1","神戸市立多聞台小学校","神戸市垂水区多聞台３－９－２９","6550007","2020-12-22","","280202",""]
[{"$f":"INDEX(学校種!B:B,MATCH(D39245,学校種!A:A,0))","v":"小学校"},{"$f":"INDEX(_tmp2!B:B,MATCH(E39245,_tmp2!A:A,0))","v":"兵庫県"},"B128210001230","B1","28","2","1","神戸市立有馬小学校","神戸市北区有馬町１２７４","6511401","2020-12-22","","280231",""]
[{"$f":"INDEX(学校種!B:B,MATCH(D39282,学校種!A:A,0))","v":"小学校"},{"$f":"INDEX(_tmp2!B:B,MATCH(E39282,_tmp2!A:A,0))","v":"兵庫県"},"B128210001604","B1","28","2","1","神戸市立井吹西小学校","神戸市西区井吹台西町４－３","6512243","2020-12-22","","280274",""]
[{"$f":"INDEX(学校種!B:B,MATCH(D39306,学校種!A:A,0))","v":"小学校"},{"$f":"INDEX(_tmp2!B:B,MATCH(E39306,_tmp2!A:A,0))","v":"兵庫県"},"B128210001846","B1","28","2","1","尼崎市立水堂小学校","尼崎市水堂町１－３２－８","6610026","2020-12-22","","280329",""]
[{"$f":"INDEX(学校種!B:B,MATCH(D39352,学校種!A:A,0))","v":"小学校"},{"$f":"INDEX(_tmp2!B:B,MATCH(E39352,_tmp2!A:A,0))","v":"兵庫県"},"B128210002300","B1","28","2","1","西宮市立甲陽園小学校","西宮市甲陽園本庄町１－７２","6620015","2020-12-22","","280429",""]
[{"$f":"INDEX(学校種!B:B,MATCH(D39367,学校種!A:A,0))","v":"小学校"},{"$f":"INDEX(_tmp2!B:B,MATCH(E39367,_tmp2!A:A,0))","v":"兵庫県"},"B128210002453","B1","28","2","1","芦屋市立精道小学校","芦屋市精道町８－２５","6590064","2020-12-22","","280501",""]
[{"$f":"INDEX(学校種!B:B,MATCH(D39390,学校種!A:A,0))","v":"小学校"},{"$f":"INDEX(_tmp2!B:B,MATCH(E39390,_tmp2!A:A,0))","v":"兵庫県"},"B128210002685","B1","28","2","1","伊丹市立池尻小学校","伊丹市池尻６－２２１","6640027","2020-12-22","","280526",""]
[{"$f":"INDEX(学校種!B:B,MATCH(D39428,学校種!A:A,0))","v":"小学校"},{"$f":"INDEX(_tmp2!B:B,MATCH(E39428,_tmp2!A:A,0))","v":"兵庫県"},"B128210003069","B1","28","2","1","川西市立加茂小学校","川西市加茂３－１４－１","6660025","2020-12-22","","280569",""]
[{"$f":"INDEX(学校種!B:B,MATCH(D39455,学校種!A:A,0))","v":"小学校"},{"$f":"INDEX(_tmp2!B:B,MATCH(E39455,_tmp2!A:A,0))","v":"兵庫県"},"B128210003336","B1","28","2","1","三田市立つつじが丘小学校","三田市つつじが丘南３丁目８２９－１","6691347","2020-12-22","","280617",""]
[{"$f":"INDEX(学校種!B:B,MATCH(D39485,学校種!A:A,0))","v":"小学校"},{"$f":"INDEX(_tmp2!B:B,MATCH(E39485,_tmp2!A:A,0))","v":"兵庫県"},"B128210003639","B1","28","2","1","丹波篠山市立城東小学校","丹波篠山市日置１６２番地","6692441","2020-12-22","","280714",""]
[{"$f":"INDEX(学校種!B:B,MATCH(D39493,学校種!A:A,0))","v":"小学校"},{"$f":"INDEX(_tmp2!B:B,MATCH(E39493,_tmp2!A:A,0))","v":"兵庫県"},"B128210003719","B1","28","2","1","丹波篠山市立古市小学校","丹波篠山市波賀野新田７４","6692122","2020-12-22","","280745",""]
[{"$f":"INDEX(学校種!B:B,MATCH(D39518,学校種!A:A,0))","v":"小学校"},{"$f":"INDEX(_tmp2!B:B,MATCH(E39518,_tmp2!A:A,0))","v":"兵庫県"},"B128210003960","B1","28","2","1","明石市立清水小学校","明石市魚住町清水１７５２－２","6740074","2020-12-22","","280825",""]
[{"$f":"INDEX(学校種!B:B,MATCH(D39558,学校種!A:A,0))","v":"小学校"},{"$f":"INDEX(_tmp2!B:B,MATCH(E39558,_tmp2!A:A,0))","v":"兵庫県"},"B128210004362","B1","28","2","1","三木市立志染小学校","三木市志染町御坂５８６","6730516","2020-12-22","","280886",""]
[{"$f":"INDEX(学校種!B:B,MATCH(D39579,学校種!A:A,0))","v":"小学校"},{"$f":"INDEX(_tmp2!B:B,MATCH(E39579,_tmp2!A:A,0))","v":"兵庫県"},"B128210004576","B1","28","2","1","小野市立市場小学校","小野市市場町８１６","6751327","2020-12-22","","280924",""]
[{"$f":"INDEX(学校種!B:B,MATCH(D39608,学校種!A:A,0))","v":"小学校"},{"$f":"INDEX(_tmp2!B:B,MATCH(E39608,_tmp2!A:A,0))","v":"兵庫県"},"B128210004861","B1","28","2","1","多可町立中町南小学校","多可郡多可町中区森本１５２番地１","6791124","2020-12-22","","281001",""]
[{"$f":"INDEX(学校種!B:B,MATCH(D39645,学校種!A:A,0))","v":"小学校"},{"$f":"INDEX(_tmp2!B:B,MATCH(E39645,_tmp2!A:A,0))","v":"兵庫県"},"B128210005236","B1","28","2","1","姫路市立白浜小学校","姫路市白浜町甲４５８番地","6728023","2020-12-22","","281121",""]
[{"$f":"INDEX(学校種!B:B,MATCH(D39669,学校種!A:A,0))","v":"小学校"},{"$f":"INDEX(_tmp2!B:B,MATCH(E39669,_tmp2!A:A,0))","v":"兵庫県"},"B128210005478","B1","28","2","1","姫路市立広峰小学校","姫路市峰南町２番１号","6700881","2020-12-22","","281147",""]
[{"$f":"INDEX(学校種!B:B,MATCH(D39688,学校種!A:A,0))","v":"小学校"},{"$f":"INDEX(_tmp2!B:B,MATCH(E39688,_tmp2!A:A,0))","v":"兵庫県"},"B128210005664","B1","28","2","1","たつの市立小宅小学校","たつの市龍野町日飼１０５","6794122","2020-12-22","","281212",""]
[{"$f":"INDEX(学校種!B:B,MATCH(D39730,学校種!A:A,0))","v":"小学校"},{"$f":"INDEX(_tmp2!B:B,MATCH(E39730,_tmp2!A:A,0))","v":"兵庫県"},"B128210006084","B1","28","2","1","たつの市立越部小学校","たつの市新宮町中野庄１９７","6794327","2020-12-22","","281325",""]
[{"$f":"INDEX(学校種!B:B,MATCH(D39753,学校種!A:A,0))","v":"小学校"},{"$f":"INDEX(_tmp2!B:B,MATCH(E39753,_tmp2!A:A,0))","v":"兵庫県"},"B128210006315","B1","28","2","1","宍粟市立都多小学校","宍粟市山崎町中野１１１０","6712502","2020-12-22","","281428",""]
[{"$f":"INDEX(学校種!B:B,MATCH(D39791,学校種!A:A,0))","v":"小学校"},{"$f":"INDEX(_tmp2!B:B,MATCH(E39791,_tmp2!A:A,0))","v":"兵庫県"},"B128210006690","B1","28","2","1","豊岡市立寺坂小学校","豊岡市出石町日野辺１－１","6680246","2020-12-22","","281605",""]
[{"$f":"INDEX(学校種!B:B,MATCH(D39818,学校種!A:A,0))","v":"小学校"},{"$f":"INDEX(_tmp2!B:B,MATCH(E39818,_tmp2!A:A,0))","v":"兵庫県"},"B128210006967","B1","28","2","1","朝来市立糸井小学校","朝来市和田山町高生田４－１","6695233","2020-12-22","","281744",""]
[{"$f":"INDEX(学校種!B:B,MATCH(D39848,学校種!A:A,0))","v":"小学校"},{"$f":"INDEX(_tmp2!B:B,MATCH(E39848,_tmp2!A:A,0))","v":"兵庫県"},"B128210007261","B1","28","2","1","南あわじ市立倭文小学校","南あわじ市倭文庄田２５０","6560153","2020-12-22","","281901",""]
[{"$f":"INDEX(学校種!B:B,MATCH(D39856,学校種!A:A,0))","v":"小学校"},{"$f":"INDEX(_tmp2!B:B,MATCH(E39856,_tmp2!A:A,0))","v":"兵庫県"},"B128210007341","B1","28","2","1","南あわじ市立賀集小学校","南あわじ市賀集１０００","6560514","2020-12-22","","281931",""]
[{"$f":"INDEX(学校種!B:B,MATCH(D39881,学校種!A:A,0))","v":"中学校"},{"$f":"INDEX(_tmp2!B:B,MATCH(E39881,_tmp2!A:A,0))","v":"兵庫県"},"C128210000024","C1","28","2","1","神戸市立本庄中学校","神戸市東灘区青木４－４－２","6580027","2020-12-22","","284001",""]
[{"$f":"INDEX(学校種!B:B,MATCH(D39926,学校種!A:A,0))","v":"中学校"},{"$f":"INDEX(_tmp2!B:B,MATCH(E39926,_tmp2!A:A,0))","v":"兵庫県"},"C128210000471","C1","28","2","1","神戸市立垂水東中学校","神戸市垂水区青山台３丁目４番１号","6550873","2020-12-22","","284062",""]
[{"$f":"INDEX(学校種!B:B,MATCH(D39942,学校種!A:A,0))","v":"中学校"},{"$f":"INDEX(_tmp2!B:B,MATCH(E39942,_tmp2!A:A,0))","v":"兵庫県"},"C128210000630","C1","28","2","1","神戸市立王塚台中学校","神戸市西区王塚台４丁目５８番地","6512135","2020-12-22","","284078",""]
[{"$f":"INDEX(学校種!B:B,MATCH(D39964,学校種!A:A,0))","v":"中学校"},{"$f":"INDEX(_tmp2!B:B,MATCH(E39964,_tmp2!A:A,0))","v":"兵庫県"},"C128210000854","C1","28","2","1","神戸市立大原中学校","神戸市北区大原１丁目１９番地","6511222","2020-12-22","","284100",""]
[{"$f":"INDEX(学校種!B:B,MATCH(D40003,学校種!A:A,0))","v":"中学校"},{"$f":"INDEX(_tmp2!B:B,MATCH(E40003,_tmp2!A:A,0))","v":"兵庫県"},"C128210001247","C1","28","2","1","西宮市立鳴尾南中学校","西宮市高須町一町目一の三六","6638141","2020-12-22","","284156",""]
[{"$f":"INDEX(学校種!B:B,MATCH(D40029,学校種!A:A,0))","v":"中学校"},{"$f":"INDEX(_tmp2!B:B,MATCH(E40029,_tmp2!A:A,0))","v":"兵庫県"},"C128210001504","C1","28","2","1","川西市立緑台中学校","川西市向陽台３丁目１１－３５","6660115","2020-12-22","","284187",""]
[{"$f":"INDEX(学校種!B:B,MATCH(D40060,学校種!A:A,0))","v":"中学校"},{"$f":"INDEX(_tmp2!B:B,MATCH(E40060,_tmp2!A:A,0))","v":"兵庫県"},"C128210001817","C1","28","2","1","明石市立魚住中学校","明石市魚住町清水３６４","6740074","2020-12-22","","284306",""]
[{"$f":"INDEX(学校種!B:B,MATCH(D40094,学校種!A:A,0))","v":"中学校"},{"$f":"INDEX(_tmp2!B:B,MATCH(E40094,_tmp2!A:A,0))","v":"兵庫県"},"C128210002157","C1","28","2","1","小野市立旭丘中学校","小野市古川町９４０－１","6751363","2020-12-22","","284365",""]
[{"$f":"INDEX(学校種!B:B,MATCH(D40121,学校種!A:A,0))","v":"中学校"},{"$f":"INDEX(_tmp2!B:B,MATCH(E40121,_tmp2!A:A,0))","v":"兵庫県"},"C128210002424","C1","28","2","1","姫路市立灘中学校","姫路市白浜町神田１－３３","6728011","2020-12-22","","284509",""]
[{"$f":"INDEX(学校種!B:B,MATCH(D40126,学校種!A:A,0))","v":"中学校"},{"$f":"INDEX(_tmp2!B:B,MATCH(E40126,_tmp2!A:A,0))","v":"兵庫県"},"C128210002479","C1","28","2","1","姫路市立網干中学校","姫路市網干区新在家１３２０－４","6711234","2020-12-22","","284514",""]
[{"$f":"INDEX(学校種!B:B,MATCH(D40154,学校種!A:A,0))","v":"中学校"},{"$f":"INDEX(_tmp2!B:B,MATCH(E40154,_tmp2!A:A,0))","v":"兵庫県"},"C128210002754","C1","28","2","1","市川町立鶴居中学校","神崎郡市川町神崎８７３","6792333","2020-12-22","","284578",""]
[{"$f":"INDEX(学校種!B:B,MATCH(D40183,学校種!A:A,0))","v":"中学校"},{"$f":"INDEX(_tmp2!B:B,MATCH(E40183,_tmp2!A:A,0))","v":"兵庫県"},"C128210003049","C1","28","2","9","香美町立香住第二中学校","美方郡香美町香住区無南垣１７８","6696401","2020-12-22","2021-05-27","284732",""]
[{"$f":"INDEX(学校種!B:B,MATCH(D40219,学校種!A:A,0))","v":"中学校"},{"$f":"INDEX(_tmp2!B:B,MATCH(E40219,_tmp2!A:A,0))","v":"兵庫県"},"C128310000013","C1","28","3","1","甲南女子中学校","神戸市東灘区森北町５－６－１","6580001","2020-12-22","","283601",""]
[{"$f":"INDEX(学校種!B:B,MATCH(D40244,学校種!A:A,0))","v":"中学校"},{"$f":"INDEX(_tmp2!B:B,MATCH(E40244,_tmp2!A:A,0))","v":"兵庫県"},"C128310000264","C1","28","3","1","園田学園中学校","尼崎市南塚口町１－２４－１６","6610012","2020-12-22","","283711",""]
[{"$f":"INDEX(学校種!B:B,MATCH(D40262,学校種!A:A,0))","v":"義務教育学校"},{"$f":"INDEX(_tmp2!B:B,MATCH(E40262,_tmp2!A:A,0))","v":"兵庫県"},"C228210000014","C2","28","2","1","神戸市立義務教育学校港島学園","神戸市中央区港島中町３－２－２","6500046","2020-12-22","","28C011",""]
[{"$f":"INDEX(学校種!B:B,MATCH(D40305,学校種!A:A,0))","v":"高等学校"},{"$f":"INDEX(_tmp2!B:B,MATCH(E40305,_tmp2!A:A,0))","v":"兵庫県"},"D128210000371","D1","28","2","1","兵庫県立湊川高等学校","神戸市長田区寺池町１－４－１","6530804","2020-12-22","","285552",""]
[{"$f":"INDEX(学校種!B:B,MATCH(D40327,学校種!A:A,0))","v":"高等学校"},{"$f":"INDEX(_tmp2!B:B,MATCH(E40327,_tmp2!A:A,0))","v":"兵庫県"},"D128210000594","D1","28","2","1","兵庫県立柏原高等学校","丹波市柏原町東奥５０","6693302","2020-12-22","","285598",""]
[{"$f":"INDEX(学校種!B:B,MATCH(D40366,学校種!A:A,0))","v":"高等学校"},{"$f":"INDEX(_tmp2!B:B,MATCH(E40366,_tmp2!A:A,0))","v":"兵庫県"},"D128210000987","D1","28","2","1","兵庫県立東播磨高等学校","加古郡稲美町中一色５９４－２","6751127","2020-12-22","","285646",""]
[{"$f":"INDEX(学校種!B:B,MATCH(D40392,学校種!A:A,0))","v":"高等学校"},{"$f":"INDEX(_tmp2!B:B,MATCH(E40392,_tmp2!A:A,0))","v":"兵庫県"},"D128210001245","D1","28","2","1","兵庫県立宝塚北高等学校","宝塚市すみれガ丘４－１－１","6650847","2020-12-22","","285686",""]
[{"$f":"INDEX(学校種!B:B,MATCH(D40423,学校種!A:A,0))","v":"高等学校"},{"$f":"INDEX(_tmp2!B:B,MATCH(E40423,_tmp2!A:A,0))","v":"兵庫県"},"D128310000011","D1","28","3","1","甲南女子高等学校","神戸市東灘区森北町５－６－１","6580001","2020-12-22","","285900",""]
[{"$f":"INDEX(学校種!B:B,MATCH(D40430,学校種!A:A,0))","v":"高等学校"},{"$f":"INDEX(_tmp2!B:B,MATCH(E40430,_tmp2!A:A,0))","v":"兵庫県"},"D128310000084","D1","28","3","1","神港学園高等学校","神戸市中央区山本通４－１９－２０","6500003","2020-12-22","","285907",""]
[{"$f":"INDEX(学校種!B:B,MATCH(D40456,学校種!A:A,0))","v":"高等学校"},{"$f":"INDEX(_tmp2!B:B,MATCH(E40456,_tmp2!A:A,0))","v":"兵庫県"},"D128310000342","D1","28","3","1","甲子園学院高等学校","西宮市瓦林町４－２５","6638107","2020-12-22","","285933",""]
[{"$f":"INDEX(学校種!B:B,MATCH(D40500,学校種!A:A,0))","v":"特別支援学校"},{"$f":"INDEX(_tmp2!B:B,MATCH(E40500,_tmp2!A:A,0))","v":"兵庫県"},"E128210000207","E1","28","2","1","兵庫県立いなみ野特別支援学校","加古郡稲美町国安１２８４－１","6751114","2020-12-22","","289917",""]
[{"$f":"INDEX(学校種!B:B,MATCH(D40517,学校種!A:A,0))","v":"特別支援学校"},{"$f":"INDEX(_tmp2!B:B,MATCH(E40517,_tmp2!A:A,0))","v":"兵庫県"},"E128210000378","E1","28","2","1","兵庫県立出石特別支援学校","豊岡市出石町宮内２－８","6680204","2020-12-22","","289975",""]
[{"$f":"INDEX(学校種!B:B,MATCH(D40538,学校種!A:A,0))","v":"専修学校"},{"$f":"INDEX(_tmp2!B:B,MATCH(E40538,_tmp2!A:A,0))","v":"兵庫県"},"H128310000012","H1","28","3","1","神戸電子専門学校","神戸市中央区山本通１－６－３５","6500003","2020-12-22","","288536",""]
[{"$f":"INDEX(学校種!B:B,MATCH(D40578,学校種!A:A,0))","v":"専修学校"},{"$f":"INDEX(_tmp2!B:B,MATCH(E40578,_tmp2!A:A,0))","v":"兵庫県"},"H128310000414","H1","28","3","1","姫路情報システム専門学校","姫路市東延末２－２５","6700965","2020-12-22","","288596",""]
[{"$f":"INDEX(学校種!B:B,MATCH(D40603,学校種!A:A,0))","v":"専修学校"},{"$f":"INDEX(_tmp2!B:B,MATCH(E40603,_tmp2!A:A,0))","v":"兵庫県"},"H128310000664","H1","28","3","1","アルファジャパン美容専門学校","姫路市綿町１４８番地","6700921","2020-12-22","","288636",""]
[{"$f":"INDEX(学校種!B:B,MATCH(D40635,学校種!A:A,0))","v":"各種学校"},{"$f":"INDEX(_tmp2!B:B,MATCH(E40635,_tmp2!A:A,0))","v":"兵庫県"},"H228310000093","H2","28","3","1","布引珠算学院","神戸市中央区二宮町１－１３－１９","6510093","2020-12-22","","289183",""]
[{"$f":"INDEX(学校種!B:B,MATCH(D40668,学校種!A:A,0))","v":"各種学校"},{"$f":"INDEX(_tmp2!B:B,MATCH(E40668,_tmp2!A:A,0))","v":"兵庫県"},"H228310000422","H2","28","3","1","高岡編物学院","尼崎市神田北通５－１４３","6600883","2020-12-22","","289372",""]
[{"$f":"INDEX(学校種!B:B,MATCH(D40690,学校種!A:A,0))","v":"各種学校"},{"$f":"INDEX(_tmp2!B:B,MATCH(E40690,_tmp2!A:A,0))","v":"兵庫県"},"H228310000645","H2","28","3","1","鍋谷鈴子デザインルーム","赤穂市加里屋１８７８番地","6780239","2020-12-22","","289554",""]
[{"$f":"INDEX(学校種!B:B,MATCH(D40729,学校種!A:A,0))","v":"幼稚園(幼稚園型認定こども園を含む)"},{"$f":"INDEX(_tmp2!B:B,MATCH(E40729,_tmp2!A:A,0))","v":"奈良県"},"A129210000269","A1","29","2","1","大和郡山市立片桐幼稚園","大和郡山市池ノ内町１６７番地","6391027","2020-12-22","","296605",""]
[{"$f":"INDEX(学校種!B:B,MATCH(D40755,学校種!A:A,0))","v":"幼稚園(幼稚園型認定こども園を含む)"},{"$f":"INDEX(_tmp2!B:B,MATCH(E40755,_tmp2!A:A,0))","v":"奈良県"},"A129210000526","A1","29","2","1","橿原市立畝傍東幼稚園","橿原市大軽町２８３番地","6340044","2020-12-22","","296713",""]
[{"$f":"INDEX(学校種!B:B,MATCH(D40758,学校種!A:A,0))","v":"幼稚園(幼稚園型認定こども園を含む)"},{"$f":"INDEX(_tmp2!B:B,MATCH(E40758,_tmp2!A:A,0))","v":"奈良県"},"A129210000553","A1","29","2","1","桜井市立三輪幼稚園","桜井市三輪３２４","6330001","2020-12-22","","296751",""]
[{"$f":"INDEX(学校種!B:B,MATCH(D40793,学校種!A:A,0))","v":"幼稚園(幼稚園型認定こども園を含む)"},{"$f":"INDEX(_tmp2!B:B,MATCH(E40793,_tmp2!A:A,0))","v":"奈良県"},"A129210000900","A1","29","2","1","葛城市立新庄北小学校附属幼稚園","葛城市疋田６１２","6392101","2020-12-22","","297092",""]
[{"$f":"INDEX(学校種!B:B,MATCH(D40819,学校種!A:A,0))","v":"幼稚園(幼稚園型認定こども園を含む)"},{"$f":"INDEX(_tmp2!B:B,MATCH(E40819,_tmp2!A:A,0))","v":"奈良県"},"A129210001160","A1","29","2","1","天川村立天川幼稚園","吉野郡天川村大字坪内２８９","6380321","2020-12-22","","298110",""]
[{"$f":"INDEX(学校種!B:B,MATCH(D40863,学校種!A:A,0))","v":"幼保連携型認定こども園"},{"$f":"INDEX(_tmp2!B:B,MATCH(E40863,_tmp2!A:A,0))","v":"奈良県"},"A229210000035","A2","29","2","1","奈良市立青和こども園","奈良市百楽園4-1-1","6310024","2020-12-22","","29A023",""]
[{"$f":"INDEX(学校種!B:B,MATCH(D40880,学校種!A:A,0))","v":"幼保連携型認定こども園"},{"$f":"INDEX(_tmp2!B:B,MATCH(E40880,_tmp2!A:A,0))","v":"奈良県"},"A229210000204","A2","29","2","1","大和高田市立土庫こども園","大和高田市土庫1-10-19","6350002","2020-12-22","","29A082",""]
[{"$f":"INDEX(学校種!B:B,MATCH(D40901,学校種!A:A,0))","v":"幼保連携型認定こども園"},{"$f":"INDEX(_tmp2!B:B,MATCH(E40901,_tmp2!A:A,0))","v":"奈良県"},"A229310000042","A2","29","3","1","鶴舞保育園","奈良市鶴舞東町１番79-101号","6310021","2020-12-22","","29A504",""]
[{"$f":"INDEX(学校種!B:B,MATCH(D40941,学校種!A:A,0))","v":"幼保連携型認定こども園"},{"$f":"INDEX(_tmp2!B:B,MATCH(E40941,_tmp2!A:A,0))","v":"奈良県"},"A229310000444","A2","29","3","2","やまとこども園mimi","大和郡山市高田町２８０－１","6391132","2020-12-22","","29A535",""]
[{"$f":"INDEX(学校種!B:B,MATCH(D40966,学校種!A:A,0))","v":"小学校"},{"$f":"INDEX(_tmp2!B:B,MATCH(E40966,_tmp2!A:A,0))","v":"奈良県"},"B129210000187","B1","29","2","1","奈良市立柳生小学校","奈良市柳生下町１３８番地","6301231","2020-12-22","","290031",""]
[{"$f":"INDEX(学校種!B:B,MATCH(D40998,学校種!A:A,0))","v":"小学校"},{"$f":"INDEX(_tmp2!B:B,MATCH(E40998,_tmp2!A:A,0))","v":"奈良県"},"B129210000506","B1","29","2","1","大和郡山市立郡山南小学校","大和郡山市柳町８５","6391134","2020-12-22","","290100",""]
[{"$f":"INDEX(学校種!B:B,MATCH(D41031,学校種!A:A,0))","v":"小学校"},{"$f":"INDEX(_tmp2!B:B,MATCH(E41031,_tmp2!A:A,0))","v":"奈良県"},"B129210000837","B1","29","2","1","橿原市立畝傍東小学校","橿原市大軽町２８３番地","6340044","2020-12-22","","290213",""]
[{"$f":"INDEX(学校種!B:B,MATCH(D41059,学校種!A:A,0))","v":"小学校"},{"$f":"INDEX(_tmp2!B:B,MATCH(E41059,_tmp2!A:A,0))","v":"奈良県"},"B129210001113","B1","29","2","1","奈良市立都祁小学校","奈良市都祁白石町９７４","6320221","2020-12-22","","290451",""]
[{"$f":"INDEX(学校種!B:B,MATCH(D41069,学校種!A:A,0))","v":"小学校"},{"$f":"INDEX(_tmp2!B:B,MATCH(E41069,_tmp2!A:A,0))","v":"奈良県"},"B129210001211","B1","29","2","1","生駒市立桜ヶ丘小学校 ","生駒市桜ケ丘７－１５","6300211","2020-12-22","","290559",""]
[{"$f":"INDEX(学校種!B:B,MATCH(D41092,学校種!A:A,0))","v":"小学校"},{"$f":"INDEX(_tmp2!B:B,MATCH(E41092,_tmp2!A:A,0))","v":"奈良県"},"B129210001444","B1","29","2","1","宇陀市立榛原東小学校","宇陀市榛原赤瀬１９０番地","6330207","2020-12-22","","291051",""]
[{"$f":"INDEX(学校種!B:B,MATCH(D41139,学校種!A:A,0))","v":"小学校"},{"$f":"INDEX(_tmp2!B:B,MATCH(E41139,_tmp2!A:A,0))","v":"奈良県"},"B129210001916","B1","29","2","1","十津川村立十津川第二小学校","吉野郡十津川村大字平谷２５６番地","6371554","2020-12-22","","292122",""]
[{"$f":"INDEX(学校種!B:B,MATCH(D41153,学校種!A:A,0))","v":"中学校"},{"$f":"INDEX(_tmp2!B:B,MATCH(E41153,_tmp2!A:A,0))","v":"奈良県"},"C129210000032","C1","29","2","1","奈良市立若草中学校","奈良市法蓮町１４１６－１","6308113","2020-12-22","","293513",""]
[{"$f":"INDEX(学校種!B:B,MATCH(D41182,学校種!A:A,0))","v":"中学校"},{"$f":"INDEX(_tmp2!B:B,MATCH(E41182,_tmp2!A:A,0))","v":"奈良県"},"C129210000327","C1","29","2","1","橿原市立畝傍中学校","橿原市石川町２０４","6340045","2020-12-22","","293560",""]
[{"$f":"INDEX(学校種!B:B,MATCH(D41199,学校種!A:A,0))","v":"中学校"},{"$f":"INDEX(_tmp2!B:B,MATCH(E41199,_tmp2!A:A,0))","v":"奈良県"},"C129210000498","C1","29","2","1","奈良市立月ヶ瀬中学校 ","奈良市月ヶ瀬尾山２５５１","6302302","2020-12-22","","293600",""]
[{"$f":"INDEX(学校種!B:B,MATCH(D41243,学校種!A:A,0))","v":"中学校"},{"$f":"INDEX(_tmp2!B:B,MATCH(E41243,_tmp2!A:A,0))","v":"奈良県"},"C129210000933","C1","29","2","9","野迫川村立野迫川中学校","吉野郡野迫川村北股５１","6480305","2020-12-22","2021-05-27","293922",""]
[{"$f":"INDEX(学校種!B:B,MATCH(D41264,学校種!A:A,0))","v":"高等学校"},{"$f":"INDEX(_tmp2!B:B,MATCH(E41264,_tmp2!A:A,0))","v":"奈良県"},"D129210000012","D1","29","2","1","奈良県立生駒高等学校","生駒市壱分町５３２－１","6300222","2020-12-22","","295511",""]
[{"$f":"INDEX(学校種!B:B,MATCH(D41304,学校種!A:A,0))","v":"高等学校"},{"$f":"INDEX(_tmp2!B:B,MATCH(E41304,_tmp2!A:A,0))","v":"奈良県"},"D129210000414","D1","29",2,1,"奈良県立商業高等学校","桜井市河西７７０",6330051,"2021-05-27","","295571",""]
[{"$f":"INDEX(学校種!B:B,MATCH(D41329,学校種!A:A,0))","v":"特別支援学校"},{"$f":"INDEX(_tmp2!B:B,MATCH(E41329,_tmp2!A:A,0))","v":"奈良県"},"E129210000019","E1","29","2","1","奈良県立盲学校","大和郡山市丹後庄町２２２－１","6391122","2020-12-22","","299711",""]
[{"$f":"INDEX(学校種!B:B,MATCH(D41361,学校種!A:A,0))","v":"専修学校"},{"$f":"INDEX(_tmp2!B:B,MATCH(E41361,_tmp2!A:A,0))","v":"奈良県"},"H129310000208","H1","29","3","1","奈良総合ビジネス専門学校","奈良市西大寺新田町１番１５号","6310832","2020-12-22","","298571",""]
[{"$f":"INDEX(学校種!B:B,MATCH(D41367,学校種!A:A,0))","v":"専修学校"},{"$f":"INDEX(_tmp2!B:B,MATCH(E41367,_tmp2!A:A,0))","v":"奈良県"},"H129310000262","H1","29","3","1","橿原美容専門学校","橿原市曽我町９１５－１","6340831","2020-12-22","","298700",""]
[{"$f":"INDEX(学校種!B:B,MATCH(D41394,学校種!A:A,0))","v":"各種学校"},{"$f":"INDEX(_tmp2!B:B,MATCH(E41394,_tmp2!A:A,0))","v":"奈良県"},"H229310000234","H2","29","3","1","王寺珠算学校","北葛城郡王寺町久度３丁目２－１３","6360003","2020-12-22","","299511",""]
[{"$f":"INDEX(学校種!B:B,MATCH(D41437,学校種!A:A,0))","v":"幼稚園(幼稚園型認定こども園を含む)"},{"$f":"INDEX(_tmp2!B:B,MATCH(E41437,_tmp2!A:A,0))","v":"和歌山県"},"A130210000346","A1","30","2","1","かつらぎ町立花園幼稚園","伊都郡かつらぎ町花園梁瀬６６４－５","6430611","2020-12-22","","307412",""]
[{"$f":"INDEX(学校種!B:B,MATCH(D41455,学校種!A:A,0))","v":"幼稚園(幼稚園型認定こども園を含む)"},{"$f":"INDEX(_tmp2!B:B,MATCH(E41455,_tmp2!A:A,0))","v":"和歌山県"},"A130310000120","A1","30","3","1","聖愛幼稚園","和歌山市吹上４丁目３－４５","6408137","2020-12-22","","308101",""]
[{"$f":"INDEX(学校種!B:B,MATCH(D41475,学校種!A:A,0))","v":"幼保連携型認定こども園"},{"$f":"INDEX(_tmp2!B:B,MATCH(E41475,_tmp2!A:A,0))","v":"和歌山県"},"A230210000032","A2","30","2","1","串本町立くしもとこども園","東牟婁郡串本町串本５０２番地、５０８番地の３","6493503","2020-12-22","","30A112",""]
[{"$f":"INDEX(学校種!B:B,MATCH(D41516,学校種!A:A,0))","v":"幼保連携型認定こども園"},{"$f":"INDEX(_tmp2!B:B,MATCH(E41516,_tmp2!A:A,0))","v":"和歌山県"},"A230310000389","A2","30","3","1","ほしや子ども園","和歌山市布施屋３－１","6496321","2020-12-22","","30A127",""]
[{"$f":"INDEX(学校種!B:B,MATCH(D41540,学校種!A:A,0))","v":"小学校"},{"$f":"INDEX(_tmp2!B:B,MATCH(E41540,_tmp2!A:A,0))","v":"和歌山県"},"B130210000193","B1","30","2","1","和歌山市立名草小学校","和歌山市紀三井寺２４０","6410012","2020-12-22","","300032",""]
[{"$f":"INDEX(学校種!B:B,MATCH(D41573,学校種!A:A,0))","v":"小学校"},{"$f":"INDEX(_tmp2!B:B,MATCH(E41573,_tmp2!A:A,0))","v":"和歌山県"},"B130210000521","B1","30","2","1","和歌山市立藤戸台小学校","和歌山市栄谷９７４－２４５","6408441","2020-12-22","","300074",""]
[{"$f":"INDEX(学校種!B:B,MATCH(D41605,学校種!A:A,0))","v":"小学校"},{"$f":"INDEX(_tmp2!B:B,MATCH(E41605,_tmp2!A:A,0))","v":"和歌山県"},"B130210000843","B1","30","2","1","御坊市立藤田小学校","御坊市藤田町藤井２０４７－１","6491341","2020-12-22","","300404",""]
[{"$f":"INDEX(学校種!B:B,MATCH(D41634,学校種!A:A,0))","v":"小学校"},{"$f":"INDEX(_tmp2!B:B,MATCH(E41634,_tmp2!A:A,0))","v":"和歌山県"},"B130210001138","B1","30","2","1","紀美野町立毛原小学校","海草郡紀美野町毛原宮２２２","6401473","2020-12-22","","300720",""]
[{"$f":"INDEX(学校種!B:B,MATCH(D41643,学校種!A:A,0))","v":"小学校"},{"$f":"INDEX(_tmp2!B:B,MATCH(E41643,_tmp2!A:A,0))","v":"和歌山県"},"B130210001227","B1","30","2","1","紀の川市立名手小学校","紀の川市名手西野３２８","6496621","2020-12-22","","300813",""]
[{"$f":"INDEX(学校種!B:B,MATCH(D41667,学校種!A:A,0))","v":"小学校"},{"$f":"INDEX(_tmp2!B:B,MATCH(E41667,_tmp2!A:A,0))","v":"和歌山県"},"B130210001469","B1","30","2","1","高野町立高野山小学校","伊都郡高野町高野山３７６","6480211","2020-12-22","","300926",""]
[{"$f":"INDEX(学校種!B:B,MATCH(D41696,学校種!A:A,0))","v":"小学校"},{"$f":"INDEX(_tmp2!B:B,MATCH(E41696,_tmp2!A:A,0))","v":"和歌山県"},"B130210001753","B1","30","2","1","日高町立内原小学校","日高郡日高町萩原９６４－１","6491202","2020-12-22","","301107",""]
[{"$f":"INDEX(学校種!B:B,MATCH(D41730,学校種!A:A,0))","v":"小学校"},{"$f":"INDEX(_tmp2!B:B,MATCH(E41730,_tmp2!A:A,0))","v":"和歌山県"},"B130210002093","B1","30","2","1","上富田町立岡小学校","西牟婁郡上富田町岡６３８－１","6492101","2020-12-22","","301236",""]
[{"$f":"INDEX(学校種!B:B,MATCH(D41757,学校種!A:A,0))","v":"小学校"},{"$f":"INDEX(_tmp2!B:B,MATCH(E41757,_tmp2!A:A,0))","v":"和歌山県"},"B130210002360","B1","30","2","1","北山村立北山小学校","東牟婁郡北山村大沼５６９","6471603","2020-12-22","","301354",""]
[{"$f":"INDEX(学校種!B:B,MATCH(D41800,学校種!A:A,0))","v":"中学校"},{"$f":"INDEX(_tmp2!B:B,MATCH(E41800,_tmp2!A:A,0))","v":"和歌山県"},"C130210000315","C1","30","2","1","御坊市立河南中学校","御坊市塩屋町北塩屋３００","6440025","2020-12-22","","303902",""]
[{"$f":"INDEX(学校種!B:B,MATCH(D41818,学校種!A:A,0))","v":"中学校"},{"$f":"INDEX(_tmp2!B:B,MATCH(E41818,_tmp2!A:A,0))","v":"和歌山県"},"C130210000495","C1","30","2","1","紀美野町立野上中学校","海草郡紀美野町下佐々９４０","6401121","2020-12-22","","304203",""]
[{"$f":"INDEX(学校種!B:B,MATCH(D41838,学校種!A:A,0))","v":"中学校"},{"$f":"INDEX(_tmp2!B:B,MATCH(E41838,_tmp2!A:A,0))","v":"和歌山県"},"C130210000690","C1","30","2","1","広川町立耐久中学校","有田郡広川町広１１２３","6430071","2020-12-22","","304502",""]
[{"$f":"INDEX(学校種!B:B,MATCH(D41879,学校種!A:A,0))","v":"中学校"},{"$f":"INDEX(_tmp2!B:B,MATCH(E41879,_tmp2!A:A,0))","v":"和歌山県"},"C130210001109","C1","30","2","1","田辺市立本宮中学校","田辺市本宮町本宮７３０","6471731","2020-12-22","","304907",""]
[{"$f":"INDEX(学校種!B:B,MATCH(D41903,学校種!A:A,0))","v":"高等学校"},{"$f":"INDEX(_tmp2!B:B,MATCH(E41903,_tmp2!A:A,0))","v":"和歌山県"},"D130210000064","D1","30","2","1","和歌山県立貴志川高等学校","紀の川市貴志川町長原４００","6400415","2020-12-22","","305517",""]
[{"$f":"INDEX(学校種!B:B,MATCH(D41936,学校種!A:A,0))","v":"高等学校"},{"$f":"INDEX(_tmp2!B:B,MATCH(E41936,_tmp2!A:A,0))","v":"和歌山県"},"D130310000017","D1","30","3","1","和歌山信愛高等学校","和歌山市屋形町２－２３","6408151","2020-12-22","","305701",""]
[{"$f":"INDEX(学校種!B:B,MATCH(D41941,学校種!A:A,0))","v":"高等学校"},{"$f":"INDEX(_tmp2!B:B,MATCH(E41941,_tmp2!A:A,0))","v":"和歌山県"},"D130310000062","D1","30","3","1","近畿大学附属和歌山高等学校","和歌山市善明寺５１６","6408471","2020-12-22","","305708",""]
[{"$f":"INDEX(学校種!B:B,MATCH(D41969,学校種!A:A,0))","v":"専修学校"},{"$f":"INDEX(_tmp2!B:B,MATCH(E41969,_tmp2!A:A,0))","v":"和歌山県"},"H130310000063","H1","30","3","1","海南文化服装学院","海南市日方１２０１","6420002","2020-12-22","","308531",""]
[{"$f":"INDEX(学校種!B:B,MATCH(D42011,学校種!A:A,0))","v":"幼稚園(幼稚園型認定こども園を含む)"},{"$f":"INDEX(_tmp2!B:B,MATCH(E42011,_tmp2!A:A,0))","v":"鳥取県"},"A131210000014","A1","31","2","1","鳥取市立福部未来学園幼稚園","鳥取市福部町高江188番地","6890103","2020-12-22","","316562",""]
[{"$f":"INDEX(学校種!B:B,MATCH(D42030,学校種!A:A,0))","v":"幼保連携型認定こども園"},{"$f":"INDEX(_tmp2!B:B,MATCH(E42030,_tmp2!A:A,0))","v":"鳥取県"},"A231210000013","A2","31","2","1","若桜町立わかさこども園","八頭郡若桜町若桜７３２－２","6800701","2020-12-22","","31A034",""]
[{"$f":"INDEX(学校種!B:B,MATCH(D42076,学校種!A:A,0))","v":"小学校"},{"$f":"INDEX(_tmp2!B:B,MATCH(E42076,_tmp2!A:A,0))","v":"鳥取県"},"B131210000094","B1","31","2","1","鳥取市立美保小学校","鳥取市吉成一丁目１０番２５号","6800864","2020-12-22","","310019",""]
[{"$f":"INDEX(学校種!B:B,MATCH(D42091,学校種!A:A,0))","v":"小学校"},{"$f":"INDEX(_tmp2!B:B,MATCH(E42091,_tmp2!A:A,0))","v":"鳥取県"},"B131210000245","B1","31","2","1","鳥取市立美保南小学校","鳥取市宮長２００番地１","6800872","2020-12-22","","310037",""]
[{"$f":"INDEX(学校種!B:B,MATCH(D42114,学校種!A:A,0))","v":"小学校"},{"$f":"INDEX(_tmp2!B:B,MATCH(E42114,_tmp2!A:A,0))","v":"鳥取県"},"B131210000478","B1","31","2","1","倉吉市立河北小学校","倉吉市海田西町１丁目１３０","6820016","2020-12-22","","310061",""]
[{"$f":"INDEX(学校種!B:B,MATCH(D42148,学校種!A:A,0))","v":"小学校"},{"$f":"INDEX(_tmp2!B:B,MATCH(E42148,_tmp2!A:A,0))","v":"鳥取県"},"B131210000815","B1","31","2","1","琴浦町立八橋小学校","東伯郡琴浦町八橋７０５","6892301","2020-12-22","","310197",""]
[{"$f":"INDEX(学校種!B:B,MATCH(D42179,学校種!A:A,0))","v":"小学校"},{"$f":"INDEX(_tmp2!B:B,MATCH(E42179,_tmp2!A:A,0))","v":"鳥取県"},"B131210001128","B1","31","2","1","琴浦町立船上小学校","東伯郡琴浦町佐崎１６番地","6892531","2020-12-22","","310297",""]
[{"$f":"INDEX(学校種!B:B,MATCH(D42209,学校種!A:A,0))","v":"中学校"},{"$f":"INDEX(_tmp2!B:B,MATCH(E42209,_tmp2!A:A,0))","v":"鳥取県"},"C131210000243","C1","31","2","1","境港市立第二中学校","境港市竹内町２４３８","6840043","2020-12-22","","313540",""]
[{"$f":"INDEX(学校種!B:B,MATCH(D42242,学校種!A:A,0))","v":"中学校"},{"$f":"INDEX(_tmp2!B:B,MATCH(E42242,_tmp2!A:A,0))","v":"鳥取県"},"C131310000036","C1","31","3","1","青翔開智中学校","鳥取市国府町新通り３丁目３０１－２","6808066","2020-12-22","","313606",""]
[{"$f":"INDEX(学校種!B:B,MATCH(D42266,学校種!A:A,0))","v":"高等学校"},{"$f":"INDEX(_tmp2!B:B,MATCH(E42266,_tmp2!A:A,0))","v":"鳥取県"},"D131210000205","D1","31","2","1","鳥取県立倉吉総合産業高等学校","倉吉市小田２０４－５","6820044","2020-12-22","","315573",""]
[{"$f":"INDEX(学校種!B:B,MATCH(D42271,学校種!A:A,0))","v":"高等学校"},{"$f":"INDEX(_tmp2!B:B,MATCH(E42271,_tmp2!A:A,0))","v":"鳥取県"},"D131310000016","D1","31","3","1","鳥取敬愛高等学校","鳥取市西町１－１１１","6800022","2020-12-22","","315562",""]
[{"$f":"INDEX(学校種!B:B,MATCH(D42304,学校種!A:A,0))","v":"専修学校"},{"$f":"INDEX(_tmp2!B:B,MATCH(E42304,_tmp2!A:A,0))","v":"鳥取県"},"H131310000115","H1","31","3","1","鳥取社会福祉専門学校","鳥取市気高町日光９６９－１","6890222","2020-12-22","","318539",""]
[{"$f":"INDEX(学校種!B:B,MATCH(D42332,学校種!A:A,0))","v":"幼稚園(幼稚園型認定こども園を含む)"},{"$f":"INDEX(_tmp2!B:B,MATCH(E42332,_tmp2!A:A,0))","v":"島根県"},"A132220100039","A1","32","2","1","松江市立母衣幼稚園","松江市北田町２７３","6900883","2020-12-22","","326515",""]
[{"$f":"INDEX(学校種!B:B,MATCH(D42374,学校種!A:A,0))","v":"幼稚園(幼稚園型認定こども園を含む)"},{"$f":"INDEX(_tmp2!B:B,MATCH(E42374,_tmp2!A:A,0))","v":"島根県"},"A132220300395","A1","32","2","1","出雲市立神門幼稚園","出雲市知井宮町４８１－１","6930033","2020-12-22","","326556",""]
[{"$f":"INDEX(学校種!B:B,MATCH(D42393,学校種!A:A,0))","v":"幼稚園(幼稚園型認定こども園を含む)"},{"$f":"INDEX(_tmp2!B:B,MATCH(E42393,_tmp2!A:A,0))","v":"島根県"},"A132220500721","A1","32","2","1","大田市立井田幼稚園","大田市温泉津町井田ロ２５５番地","6992507","2020-12-22","","326651",""]
[{"$f":"INDEX(学校種!B:B,MATCH(D42412,学校種!A:A,0))","v":"幼稚園(幼稚園型認定こども園を含む)"},{"$f":"INDEX(_tmp2!B:B,MATCH(E42412,_tmp2!A:A,0))","v":"島根県"},"A132320400800","A1","32","3","1","益田幼稚園","益田市七尾町１－４０","6980017","2020-12-22","","326693",""]
[{"$f":"INDEX(学校種!B:B,MATCH(D42454,学校種!A:A,0))","v":"小学校"},{"$f":"INDEX(_tmp2!B:B,MATCH(E42454,_tmp2!A:A,0))","v":"島根県"},"B132220100153","B1","32","2","1","松江市立生馬小学校","松江市西生馬町８","6900865","2020-12-22","","320026",""]
[{"$f":"INDEX(学校種!B:B,MATCH(D42477,学校種!A:A,0))","v":"小学校"},{"$f":"INDEX(_tmp2!B:B,MATCH(E42477,_tmp2!A:A,0))","v":"島根県"},"B132220201204","B1","32","2","1","浜田市立石見小学校","浜田市黒川町３７３８－４","6970024","2020-12-22","","320038",""]
[{"$f":"INDEX(学校種!B:B,MATCH(D42511,学校種!A:A,0))","v":"小学校"},{"$f":"INDEX(_tmp2!B:B,MATCH(E42511,_tmp2!A:A,0))","v":"島根県"},"B132220300730","B1","32","2","9","出雲市立東小学校","出雲市鹿園寺町１００４－６","6910075","2020-12-22","2021-05-27","320159","B132220300749"]
[{"$f":"INDEX(学校種!B:B,MATCH(D42542,学校種!A:A,0))","v":"小学校"},{"$f":"INDEX(_tmp2!B:B,MATCH(E42542,_tmp2!A:A,0))","v":"島根県"},"B132220501345","B1","32","2","1","大田市立長久小学校","大田市長久町長久イ７８２","6940041","2020-12-22","","320104",""]
[{"$f":"INDEX(学校種!B:B,MATCH(D42572,学校種!A:A,0))","v":"小学校"},{"$f":"INDEX(_tmp2!B:B,MATCH(E42572,_tmp2!A:A,0))","v":"島根県"},"B132220600504","B1","32","2","1","安来市立井尻小学校","安来市伯太町井尻８５９－２","6920213","2020-12-22","","320203",""]
[{"$f":"INDEX(学校種!B:B,MATCH(D42580,学校種!A:A,0))","v":"小学校"},{"$f":"INDEX(_tmp2!B:B,MATCH(E42580,_tmp2!A:A,0))","v":"島根県"},"B132220701557","B1","32","2","1","江津市立桜江小学校","江津市桜江町川戸１２８０","6994226","2020-12-22","","320481",""]
[{"$f":"INDEX(学校種!B:B,MATCH(D42605,学校種!A:A,0))","v":"小学校"},{"$f":"INDEX(_tmp2!B:B,MATCH(E42605,_tmp2!A:A,0))","v":"島根県"},"B132234301124","B1","32","2","1","奥出雲町立馬木小学校","仁多郡奥出雲町大馬木１８５７－１","6991941","2020-12-22","","320221",""]
[{"$f":"INDEX(学校種!B:B,MATCH(D42650,学校種!A:A,0))","v":"中学校"},{"$f":"INDEX(_tmp2!B:B,MATCH(E42650,_tmp2!A:A,0))","v":"島根県"},"C132220100106","C1","32","2","1","松江市立島根中学校","松江市島根町加賀１４２６","6900401","2020-12-22","","323715",""]
[{"$f":"INDEX(学校種!B:B,MATCH(D42666,学校種!A:A,0))","v":"中学校"},{"$f":"INDEX(_tmp2!B:B,MATCH(E42666,_tmp2!A:A,0))","v":"島根県"},"C132220300220","C1","32","2","1","出雲市立第一中学校","出雲市大津町２２１４","6930011","2020-12-22","","323525",""]
[{"$f":"INDEX(学校種!B:B,MATCH(D42688,学校種!A:A,0))","v":"中学校"},{"$f":"INDEX(_tmp2!B:B,MATCH(E42688,_tmp2!A:A,0))","v":"島根県"},"C132220400808","C1","32","2","1","益田市立中西中学校","益田市白上町イ１０２2","6982141","2020-12-22","","323543",""]
[{"$f":"INDEX(学校種!B:B,MATCH(D42723,学校種!A:A,0))","v":"中学校"},{"$f":"INDEX(_tmp2!B:B,MATCH(E42723,_tmp2!A:A,0))","v":"島根県"},"C132250100835","C1","32","2","1","津和野町立津和野中学校","鹿足郡津和野町町田イ２６","6995611","2020-12-22","","323671",""]
[{"$f":"INDEX(学校種!B:B,MATCH(D42756,学校種!A:A,0))","v":"高等学校"},{"$f":"INDEX(_tmp2!B:B,MATCH(E42756,_tmp2!A:A,0))","v":"島根県"},"D132220300193","D1","32","2","1","島根県立出雲農林高等学校","出雲市下横町９５０","6930046","2020-12-22","","325528",""]
[{"$f":"INDEX(学校種!B:B,MATCH(D42775,学校種!A:A,0))","v":"高等学校"},{"$f":"INDEX(_tmp2!B:B,MATCH(E42775,_tmp2!A:A,0))","v":"島根県"},"D132252500354","D1","32","2","1","島根県立隠岐島前高等学校","隠岐郡海士町大字福井１４０３","6840404","2020-12-22","","325554",""]
[{"$f":"INDEX(学校種!B:B,MATCH(D42817,学校種!A:A,0))","v":"専修学校"},{"$f":"INDEX(_tmp2!B:B,MATCH(E42817,_tmp2!A:A,0))","v":"島根県"},"H132320600162","H1","32","3","1","島根総合福祉専門学校","安来市広瀬町広瀬７５３－１５","6920404","2020-12-22","","328603",""]
[{"$f":"INDEX(学校種!B:B,MATCH(D42840,学校種!A:A,0))","v":"各種学校"},{"$f":"INDEX(_tmp2!B:B,MATCH(E42840,_tmp2!A:A,0))","v":"島根県"},"H232320300173","H2","32","3","2","坪内珠算学校西野校","出雲市斐川町富村621-1","6990621","2020-12-22","","329165",""]
[{"$f":"INDEX(学校種!B:B,MATCH(D42874,学校種!A:A,0))","v":"幼稚園(幼稚園型認定こども園を含む)"},{"$f":"INDEX(_tmp2!B:B,MATCH(E42874,_tmp2!A:A,0))","v":"岡山県"},"A133210000263","A1","33","2",1,"倉敷市立万寿幼稚園","倉敷市浜町２－３－１","7100062","2020-12-22","","336571",""]
[{"$f":"INDEX(学校種!B:B,MATCH(D42878,学校種!A:A,0))","v":"幼稚園(幼稚園型認定こども園を含む)"},{"$f":"INDEX(_tmp2!B:B,MATCH(E42878,_tmp2!A:A,0))","v":"岡山県"},"A133210000307","A1","33","2",1,"倉敷市立帯江幼稚園","倉敷市加須山４６６－２","7100026","2020-12-22","","336577",""]
[{"$f":"INDEX(学校種!B:B,MATCH(D42907,学校種!A:A,0))","v":"幼稚園(幼稚園型認定こども園を含む)"},{"$f":"INDEX(_tmp2!B:B,MATCH(E42907,_tmp2!A:A,0))","v":"岡山県"},"A133210000593","A1","33","2",1,"玉野市立宇野幼稚園","玉野市宇野２－１４－１６","7060011","2020-12-22","","336668",""]
[{"$f":"INDEX(学校種!B:B,MATCH(D42948,学校種!A:A,0))","v":"幼稚園(幼稚園型認定こども園を含む)"},{"$f":"INDEX(_tmp2!B:B,MATCH(E42948,_tmp2!A:A,0))","v":"岡山県"},"A133210001002","A1","33","2",1,"総社市立池田幼稚園","総社市見延６４０","7191152","2020-12-22","","336730",""]
[{"$f":"INDEX(学校種!B:B,MATCH(D42968,学校種!A:A,0))","v":"幼稚園(幼稚園型認定こども園を含む)"},{"$f":"INDEX(_tmp2!B:B,MATCH(E42968,_tmp2!A:A,0))","v":"岡山県"},"A133210001208","A1","33","2",1,"吉備中央町立円城幼稚園","加賀郡吉備中央町円城７８８－１","7092412","2020-12-22","","336773",""]
[{"$f":"INDEX(学校種!B:B,MATCH(D43013,学校種!A:A,0))","v":"幼稚園(幼稚園型認定こども園を含む)"},{"$f":"INDEX(_tmp2!B:B,MATCH(E43013,_tmp2!A:A,0))","v":"岡山県"},"A133210001654","A1","33","2",1,"岡山市立足守幼稚園","岡山市北区足守１５８８－１","7011463","2020-12-22","","337176",""]
[{"$f":"INDEX(学校種!B:B,MATCH(D43029,学校種!A:A,0))","v":"幼稚園(幼稚園型認定こども園を含む)"},{"$f":"INDEX(_tmp2!B:B,MATCH(E43029,_tmp2!A:A,0))","v":"岡山県"},"A133210001814","A1","33","2","9","美作市立美作北幼稚園","美作市楢原中２７７－１","7070021","2020-12-22","2021-05-27","337312","A233210000609"]
[{"$f":"INDEX(学校種!B:B,MATCH(D43051,学校種!A:A,0))","v":"幼稚園(幼稚園型認定こども園を含む)"},{"$f":"INDEX(_tmp2!B:B,MATCH(E43051,_tmp2!A:A,0))","v":"岡山県"},"A133310000109","A1","33","3",1,"中仙道幼稚園","岡山市北区中仙道２丁目１０－１７","7000964","2020-12-22","","336561",""]
[{"$f":"INDEX(学校種!B:B,MATCH(D43086,学校種!A:A,0))","v":"幼保連携型認定こども園"},{"$f":"INDEX(_tmp2!B:B,MATCH(E43086,_tmp2!A:A,0))","v":"岡山県"},"A233210000155","A2","33","2",1,"岡山市太伯認定こども園","岡山市東区神崎町２２－１","7048138","2020-12-22","","33A035",""]
[{"$f":"INDEX(学校種!B:B,MATCH(D43116,学校種!A:A,0))","v":"幼保連携型認定こども園"},{"$f":"INDEX(_tmp2!B:B,MATCH(E43116,_tmp2!A:A,0))","v":"岡山県"},"A233210000459","A2","33","2",1,"高梁市立成羽こども園","高梁市成羽町成羽２２５１－１","7160121","2020-12-22","","33A099",""]
[{"$f":"INDEX(学校種!B:B,MATCH(D43147,学校種!A:A,0))","v":"幼保連携型認定こども園"},{"$f":"INDEX(_tmp2!B:B,MATCH(E43147,_tmp2!A:A,0))","v":"岡山県"},"A233310000162","A2","33","3",1,"江西桜こども園","岡山市東区瀬戸町下２８６番地１","7090856","2020-12-22","","33A073",""]
[{"$f":"INDEX(学校種!B:B,MATCH(D43154,学校種!A:A,0))","v":"幼保連携型認定こども園"},{"$f":"INDEX(_tmp2!B:B,MATCH(E43154,_tmp2!A:A,0))","v":"岡山県"},"A233310000233","A2","33","3",1,"つばくろ認定こども園","笠岡市西大島１７５６","7140032","2020-12-22","","33A080",""]
[{"$f":"INDEX(学校種!B:B,MATCH(D43180,学校種!A:A,0))","v":"幼保連携型認定こども園"},{"$f":"INDEX(_tmp2!B:B,MATCH(E43180,_tmp2!A:A,0))","v":"岡山県"},"A233310000493","A2","33",3,1,"浮田とちのみこども園","岡山市東区沼１１８８",7090621,"2021-05-27","","33A125",""]
[{"$f":"INDEX(学校種!B:B,MATCH(D43224,学校種!A:A,0))","v":"小学校"},{"$f":"INDEX(_tmp2!B:B,MATCH(E43224,_tmp2!A:A,0))","v":"岡山県"},"B133210000421","B1","33","2",1,"倉敷市立菅生小学校","倉敷市西坂５３８","7100004","2020-12-22","","330059",""]
[{"$f":"INDEX(学校種!B:B,MATCH(D43241,学校種!A:A,0))","v":"小学校"},{"$f":"INDEX(_tmp2!B:B,MATCH(E43241,_tmp2!A:A,0))","v":"岡山県"},"B133210000591","B1","33","2",1,"倉敷市立下津井東小学校","倉敷市下津井田之浦２－４－６６","7110925","2020-12-22","","330077",""]
[{"$f":"INDEX(学校種!B:B,MATCH(D43270,学校種!A:A,0))","v":"小学校"},{"$f":"INDEX(_tmp2!B:B,MATCH(E43270,_tmp2!A:A,0))","v":"岡山県"},"B133210000886","B1","33","2",1,"津山市立西小学校","津山市小田中１３６０","7080006","2020-12-22","","330121",""]
[{"$f":"INDEX(学校種!B:B,MATCH(D43311,学校種!A:A,0))","v":"小学校"},{"$f":"INDEX(_tmp2!B:B,MATCH(E43311,_tmp2!A:A,0))","v":"岡山県"},"B133210001297","B1","33","2",1,"笠岡市立白石小学校","笠岡市白石島２４８２番地の１","7140036","2020-12-22","","330181",""]
[{"$f":"INDEX(学校種!B:B,MATCH(D43331,学校種!A:A,0))","v":"小学校"},{"$f":"INDEX(_tmp2!B:B,MATCH(E43331,_tmp2!A:A,0))","v":"岡山県"},"B133210001493","B1","33","2",1,"井原市立稲倉小学校","井原市下稲木町８８８","7150017","2020-12-22","","330218",""]
[{"$f":"INDEX(学校種!B:B,MATCH(D43349,学校種!A:A,0))","v":"小学校"},{"$f":"INDEX(_tmp2!B:B,MATCH(E43349,_tmp2!A:A,0))","v":"岡山県"},"B133210001670","B1","33","2",1,"総社市立総社中央小学校","総社市門田９５９","7191156","2020-12-22","","330246",""]
[{"$f":"INDEX(学校種!B:B,MATCH(D43392,学校種!A:A,0))","v":"小学校"},{"$f":"INDEX(_tmp2!B:B,MATCH(E43392,_tmp2!A:A,0))","v":"岡山県"},"B133210002107","B1","33","2",1,"赤磐市立山陽北小学校","赤磐市桜が丘西８丁目２３番地","7090802","2020-12-22","","330372",""]
[{"$f":"INDEX(学校種!B:B,MATCH(D43414,学校種!A:A,0))","v":"小学校"},{"$f":"INDEX(_tmp2!B:B,MATCH(E43414,_tmp2!A:A,0))","v":"岡山県"},"B133210002321","B1","33","2",1,"瀬戸内市立牛窓東小学校","瀬戸内市牛窓町牛窓４４３３－１０","7014302","2020-12-22","","330457",""]
[{"$f":"INDEX(学校種!B:B,MATCH(D43449,学校種!A:A,0))","v":"小学校"},{"$f":"INDEX(_tmp2!B:B,MATCH(E43449,_tmp2!A:A,0))","v":"岡山県"},"B133210002679","B1","33","2",1,"総社市立清音小学校","総社市清音軽部６６６－１","7191172","2020-12-22","","330571",""]
[{"$f":"INDEX(学校種!B:B,MATCH(D43479,学校種!A:A,0))","v":"小学校"},{"$f":"INDEX(_tmp2!B:B,MATCH(E43479,_tmp2!A:A,0))","v":"岡山県"},"B133210002973","B1","33","2",1,"倉敷市立二万小学校","倉敷市真備町上二万３３４６","7101315","2020-12-22","","330658",""]
[{"$f":"INDEX(学校種!B:B,MATCH(D43482,学校種!A:A,0))","v":"小学校"},{"$f":"INDEX(_tmp2!B:B,MATCH(E43482,_tmp2!A:A,0))","v":"岡山県"},"B133210003008","B1","33","2",1,"総社市立昭和小学校","総社市美袋２０７","7191311","2020-12-22","","330665",""]
[{"$f":"INDEX(学校種!B:B,MATCH(D43517,学校種!A:A,0))","v":"小学校"},{"$f":"INDEX(_tmp2!B:B,MATCH(E43517,_tmp2!A:A,0))","v":"岡山県"},"B133210003357","B1","33","2",1,"真庭市立余野小学校","真庭市余野下４７５","7193222","2020-12-22","","330801",""]
[{"$f":"INDEX(学校種!B:B,MATCH(D43543,学校種!A:A,0))","v":"小学校"},{"$f":"INDEX(_tmp2!B:B,MATCH(E43543,_tmp2!A:A,0))","v":"岡山県"},"B133210003614","B1","33","2",1,"美作市立江見小学校","美作市江見５７３","7094234","2020-12-22","","330925",""]
[{"$f":"INDEX(学校種!B:B,MATCH(D43587,学校種!A:A,0))","v":"中学校"},{"$f":"INDEX(_tmp2!B:B,MATCH(E43587,_tmp2!A:A,0))","v":"岡山県"},"C133210000161","C1","33","2",1,"岡山市立芳田中学校","岡山市南区当新田４６８－１","7000956","2020-12-22","","333531",""]
[{"$f":"INDEX(学校種!B:B,MATCH(D43604,学校種!A:A,0))","v":"中学校"},{"$f":"INDEX(_tmp2!B:B,MATCH(E43604,_tmp2!A:A,0))","v":"岡山県"},"C133210000330","C1","33","2",1,"倉敷市立郷内中学校","倉敷市林６２０番地","7100142","2020-12-22","","333551",""]
[{"$f":"INDEX(学校種!B:B,MATCH(D43625,学校種!A:A,0))","v":"中学校"},{"$f":"INDEX(_tmp2!B:B,MATCH(E43625,_tmp2!A:A,0))","v":"岡山県"},"C133210000544","C1","33","2",1,"玉野市立八浜中学校","玉野市八浜町八浜１４３８","7060221","2020-12-22","","333582",""]
[{"$f":"INDEX(学校種!B:B,MATCH(D43661,学校種!A:A,0))","v":"中学校"},{"$f":"INDEX(_tmp2!B:B,MATCH(E43661,_tmp2!A:A,0))","v":"岡山県"},"C133210000900","C1","33","2",1,"赤磐市立赤坂中学校","赤磐市町苅田４２５－１","7012222","2020-12-22","","333686",""]
[{"$f":"INDEX(学校種!B:B,MATCH(D43690,学校種!A:A,0))","v":"中学校"},{"$f":"INDEX(_tmp2!B:B,MATCH(E43690,_tmp2!A:A,0))","v":"岡山県"},"C133210001197","C1","33","2",1,"井原市立美星中学校","井原市美星町星田１","7141415","2020-12-22","","333799",""]
[{"$f":"INDEX(学校種!B:B,MATCH(D43722,学校種!A:A,0))","v":"中学校"},{"$f":"INDEX(_tmp2!B:B,MATCH(E43722,_tmp2!A:A,0))","v":"岡山県"},"C133210001516","C1","33","2",1,"美咲町立旭中学校","久米郡美咲町西川８２９－２","7093404","2020-12-22","","333963",""]
[{"$f":"INDEX(学校種!B:B,MATCH(D43755,学校種!A:A,0))","v":"高等学校"},{"$f":"INDEX(_tmp2!B:B,MATCH(E43755,_tmp2!A:A,0))","v":"岡山県"},"D133210000203","D1","33","2",1,"岡山県立笠岡高等学校","笠岡市笠岡３０７３－２","7140081","2020-12-22","","335535",""]
[{"$f":"INDEX(学校種!B:B,MATCH(D43783,学校種!A:A,0))","v":"高等学校"},{"$f":"INDEX(_tmp2!B:B,MATCH(E43783,_tmp2!A:A,0))","v":"岡山県"},"D133210000481","D1","33","2",1,"岡山県立真庭高等学校","真庭市落合垂水448-1","7193144","2020-12-22","","335589",""]
[{"$f":"INDEX(学校種!B:B,MATCH(D43798,学校種!A:A,0))","v":"高等学校"},{"$f":"INDEX(_tmp2!B:B,MATCH(E43798,_tmp2!A:A,0))","v":"岡山県"},"D133210000631","D1","33","2",1,"倉敷市立倉敷翔南高等学校","倉敷市児島稗田町１６０","7110937","2020-12-22","","335626",""]
[{"$f":"INDEX(学校種!B:B,MATCH(D43816,学校種!A:A,0))","v":"高等学校"},{"$f":"INDEX(_tmp2!B:B,MATCH(E43816,_tmp2!A:A,0))","v":"岡山県"},"D133310000185","D1","33","3",1,"金光学園高等学校","浅口市金光町占見新田１３５０","7190104","2020-12-22","","335648",""]
[{"$f":"INDEX(学校種!B:B,MATCH(D43845,学校種!A:A,0))","v":"専修学校"},{"$f":"INDEX(_tmp2!B:B,MATCH(E43845,_tmp2!A:A,0))","v":"岡山県"},"H133310000015","H1","33","3",1,"専門学校岡山ファッションスクール","岡山市北区厚生町２丁目１０－３","7000985","2020-12-22","","338521",""]
[{"$f":"INDEX(学校種!B:B,MATCH(D43885,学校種!A:A,0))","v":"専修学校"},{"$f":"INDEX(_tmp2!B:B,MATCH(E43885,_tmp2!A:A,0))","v":"岡山県"},"H133310000417","H1","33","3",1,"玉野総合医療専門学校","玉野市築港１－１－２０","7060002","2020-12-22","","338928",""]
[{"$f":"INDEX(学校種!B:B,MATCH(D43906,学校種!A:A,0))","v":"各種学校"},{"$f":"INDEX(_tmp2!B:B,MATCH(E43906,_tmp2!A:A,0))","v":"岡山県"},"H233310000096","H2","33","3",1,"菅公学生服家政学園","倉敷市児島田の口３－１０－２５","7110903","2020-12-22","","339285",""]
[{"$f":"INDEX(学校種!B:B,MATCH(D43923,学校種!A:A,0))","v":"幼稚園(幼稚園型認定こども園を含む)"},{"$f":"INDEX(_tmp2!B:B,MATCH(E43923,_tmp2!A:A,0))","v":"広島県"},"A134210000093","A1","34","2","1","三原市立中之町幼稚園","三原市中之町６丁目４番３号","7230003","2020-12-22","","346634",""]
[{"$f":"INDEX(学校種!B:B,MATCH(D43967,学校種!A:A,0))","v":"幼稚園(幼稚園型認定こども園を含む)"},{"$f":"INDEX(_tmp2!B:B,MATCH(E43967,_tmp2!A:A,0))","v":"広島県"},"A134210000538","A1","34","2","1","広島市立長束幼稚園","広島市安佐南区長束２丁目５番３７号","7310135","2020-12-22","","346942",""]
[{"$f":"INDEX(学校種!B:B,MATCH(D43988,学校種!A:A,0))","v":"幼稚園(幼稚園型認定こども園を含む)"},{"$f":"INDEX(_tmp2!B:B,MATCH(E43988,_tmp2!A:A,0))","v":"広島県"},"A134310000046","A1","34","3","1","比治山幼稚園","広島市南区比冶山本町１－１１","7320816","2020-12-22","","347305",""]
[{"$f":"INDEX(学校種!B:B,MATCH(D44024,学校種!A:A,0))","v":"幼稚園(幼稚園型認定こども園を含む)"},{"$f":"INDEX(_tmp2!B:B,MATCH(E44024,_tmp2!A:A,0))","v":"広島県"},"A134310000402","A1","34","3","1","安田幼稚園安東園舎","広島市安佐南区安東６－１３－１","7310153","2020-12-22","","347368",""]
[{"$f":"INDEX(学校種!B:B,MATCH(D44053,学校種!A:A,0))","v":"幼稚園(幼稚園型認定こども園を含む)"},{"$f":"INDEX(_tmp2!B:B,MATCH(E44053,_tmp2!A:A,0))","v":"広島県"},"A134310000698","A1","34","3","1","私立スミレ幼稚園","尾道市西久保町７－４","7220044","2020-12-22","","347461",""]
[{"$f":"INDEX(学校種!B:B,MATCH(D44085,学校種!A:A,0))","v":"幼稚園(幼稚園型認定こども園を含む)"},{"$f":"INDEX(_tmp2!B:B,MATCH(E44085,_tmp2!A:A,0))","v":"広島県"},"A134310001018","A1","34","3","1","東海田幼稚園","安芸郡海田町寺迫１－４－１２","7360011","2020-12-22","","347661",""]
[{"$f":"INDEX(学校種!B:B,MATCH(D44091,学校種!A:A,0))","v":"幼稚園(幼稚園型認定こども園を含む)"},{"$f":"INDEX(_tmp2!B:B,MATCH(E44091,_tmp2!A:A,0))","v":"広島県"},"A134310001072","A1","34","3","1","聖徳幼稚園","安芸郡熊野町中溝4-17-1","7314214","2020-12-22","","347674",""]
[{"$f":"INDEX(学校種!B:B,MATCH(D44118,学校種!A:A,0))","v":"幼稚園(幼稚園型認定こども園を含む)"},{"$f":"INDEX(_tmp2!B:B,MATCH(E44118,_tmp2!A:A,0))","v":"広島県"},"A134310001349","A1","34","3","1","ゆうき幼稚園","広島市東区戸坂大上４丁目１２番１５号","7320014","2020-12-22","","347767",""]
[{"$f":"INDEX(学校種!B:B,MATCH(D44161,学校種!A:A,0))","v":"幼保連携型認定こども園"},{"$f":"INDEX(_tmp2!B:B,MATCH(E44161,_tmp2!A:A,0))","v":"広島県"},"A234310000189","A2","34","3","1","認定こども園安芸幼稚園","広島市南区比治山本町１２-６０","7320816","2020-12-22","","34A424",""]
[{"$f":"INDEX(学校種!B:B,MATCH(D44179,学校種!A:A,0))","v":"幼保連携型認定こども園"},{"$f":"INDEX(_tmp2!B:B,MATCH(E44179,_tmp2!A:A,0))","v":"広島県"},"A234310000367","A2","34","3","1","認定こども園天応めぐみ園","呉市天応西条１丁目3-12","7370875","2020-12-22","","34A579",""]
[{"$f":"INDEX(学校種!B:B,MATCH(D44199,学校種!A:A,0))","v":"幼保連携型認定こども園"},{"$f":"INDEX(_tmp2!B:B,MATCH(E44199,_tmp2!A:A,0))","v":"広島県"},"A234310000562","A2","34","3","1","愛育認定こども園","三原市本郷南三丁目4-7","7290417","2020-12-22","","34A625",""]
[{"$f":"INDEX(学校種!B:B,MATCH(D44236,学校種!A:A,0))","v":"幼保連携型認定こども園"},{"$f":"INDEX(_tmp2!B:B,MATCH(E44236,_tmp2!A:A,0))","v":"広島県"},"A234310000937","A2","34","3","1","瀬戸こども園","福山市瀬戸町長和１３７９－２","7200836","2020-12-22","","34A679",""]
[{"$f":"INDEX(学校種!B:B,MATCH(D44264,学校種!A:A,0))","v":"幼保連携型認定こども園"},{"$f":"INDEX(_tmp2!B:B,MATCH(E44264,_tmp2!A:A,0))","v":"広島県"},"A234310001213","A2","34","3","1","認定妙徳こども園","東広島市八本松町飯田５７２","7390141","2020-12-22","","34A743",""]
[{"$f":"INDEX(学校種!B:B,MATCH(D44297,学校種!A:A,0))","v":"小学校"},{"$f":"INDEX(_tmp2!B:B,MATCH(E44297,_tmp2!A:A,0))","v":"広島県"},"B134110000011","B1","34","1","1","広島大学附属小学校","広島市南区翠１－１－１","7340005","2020-12-22","","340001",""]
[{"$f":"INDEX(学校種!B:B,MATCH(D44329,学校種!A:A,0))","v":"小学校"},{"$f":"INDEX(_tmp2!B:B,MATCH(E44329,_tmp2!A:A,0))","v":"広島県"},"B134210000304","B1","34","2","1","広島市立三篠小学校","広島市西区三篠町１－９－２５","7330003","2020-12-22","","340040",""]
[{"$f":"INDEX(学校種!B:B,MATCH(D44358,学校種!A:A,0))","v":"小学校"},{"$f":"INDEX(_tmp2!B:B,MATCH(E44358,_tmp2!A:A,0))","v":"広島県"},"B134210000590","B1","34","2","1","広島市立長束西小学校","広島市安佐南区長束西１－２６－１","7310136","2020-12-22","","340069",""]
[{"$f":"INDEX(学校種!B:B,MATCH(D44387,学校種!A:A,0))","v":"小学校"},{"$f":"INDEX(_tmp2!B:B,MATCH(E44387,_tmp2!A:A,0))","v":"広島県"},"B134210000885","B1","34","2","1","呉市立明立小学校","呉市伏原２丁目６－３８","7370077","2020-12-22","","340241",""]
[{"$f":"INDEX(学校種!B:B,MATCH(D44416,学校種!A:A,0))","v":"小学校"},{"$f":"INDEX(_tmp2!B:B,MATCH(E44416,_tmp2!A:A,0))","v":"広島県"},"B134210001170","B1","34","2","1","尾道市立久保小学校","尾道市防地町22番40号","7220043","2020-12-22","","340500",""]
[{"$f":"INDEX(学校種!B:B,MATCH(D44420,学校種!A:A,0))","v":"小学校"},{"$f":"INDEX(_tmp2!B:B,MATCH(E44420,_tmp2!A:A,0))","v":"広島県"},"B134210001214","B1","34","2","1","尾道市立吉和小学校","尾道市東元町２６－３","7220003","2020-12-22","","340505",""]
[{"$f":"INDEX(学校種!B:B,MATCH(D44459,学校種!A:A,0))","v":"小学校"},{"$f":"INDEX(_tmp2!B:B,MATCH(E44459,_tmp2!A:A,0))","v":"広島県"},"B134210001606","B1","34","2","1","福山市立松永小学校","福山市松永町六丁目７－１１－８","7290104","2020-12-22","","340682",""]
[{"$f":"INDEX(学校種!B:B,MATCH(D44481,学校種!A:A,0))","v":"小学校"},{"$f":"INDEX(_tmp2!B:B,MATCH(E44481,_tmp2!A:A,0))","v":"広島県"},"B134210001820","B1","34","2","1","福山市立遺芳丘小学校","福山市今津町１５６１","7290111","2020-12-22","","340704",""]
[{"$f":"INDEX(学校種!B:B,MATCH(D44524,学校種!A:A,0))","v":"小学校"},{"$f":"INDEX(_tmp2!B:B,MATCH(E44524,_tmp2!A:A,0))","v":"広島県"},"B134210002259","B1","34","2","1","広島市立畑賀小学校","広島市安芸区畑賀３－２８－１６","7360088","2020-12-22","","341070",""]
[{"$f":"INDEX(学校種!B:B,MATCH(D44542,学校種!A:A,0))","v":"小学校"},{"$f":"INDEX(_tmp2!B:B,MATCH(E44542,_tmp2!A:A,0))","v":"広島県"},"B134210002437","B1","34","2","1","呉市立倉橋小学校","呉市倉橋町３８３－２","7371377","2020-12-22","","341199",""]
[{"$f":"INDEX(学校種!B:B,MATCH(D44562,学校種!A:A,0))","v":"小学校"},{"$f":"INDEX(_tmp2!B:B,MATCH(E44562,_tmp2!A:A,0))","v":"広島県"},"B134210002632","B1","34","2","1","廿日市市立原小学校","廿日市市原４３３","7380031","2020-12-22","","341252",""]
[{"$f":"INDEX(学校種!B:B,MATCH(D44599,学校種!A:A,0))","v":"小学校"},{"$f":"INDEX(_tmp2!B:B,MATCH(E44599,_tmp2!A:A,0))","v":"広島県"},"B134210003007","B1","34","2","1","広島市立緑井小学校","広島市安佐南区緑井４－３１－１","7310103","2020-12-22","","341412",""]
[{"$f":"INDEX(学校種!B:B,MATCH(D44627,学校種!A:A,0))","v":"小学校"},{"$f":"INDEX(_tmp2!B:B,MATCH(E44627,_tmp2!A:A,0))","v":"広島県"},"B134210003285","B1","34","2","1","北広島町立八重東小学校","山県郡北広島町有田１８９７－１","7311533","2020-12-22","","341583",""]
[{"$f":"INDEX(学校種!B:B,MATCH(D44660,学校種!A:A,0))","v":"小学校"},{"$f":"INDEX(_tmp2!B:B,MATCH(E44660,_tmp2!A:A,0))","v":"広島県"},"B134210003613","B1","34","2","1","東広島市立三ツ城小学校","東広島市西条中央７－２３－５５","7390025","2020-12-22","","341738",""]
[{"$f":"INDEX(学校種!B:B,MATCH(D44692,学校種!A:A,0))","v":"小学校"},{"$f":"INDEX(_tmp2!B:B,MATCH(E44692,_tmp2!A:A,0))","v":"広島県"},"B134210003935","B1","34","2","1","大崎上島町立大崎小学校","豊田郡大崎上島町中野２０７８－１","7250301","2020-12-22","","342002",""]
[{"$f":"INDEX(学校種!B:B,MATCH(D44693,学校種!A:A,0))","v":"小学校"},{"$f":"INDEX(_tmp2!B:B,MATCH(E44693,_tmp2!A:A,0))","v":"広島県"},"B134210003944","B1","34","2","1","大崎上島町立東野小学校","豊田郡大崎上島町東野１８４５","7250231","2020-12-22","","342010",""]
[{"$f":"INDEX(学校種!B:B,MATCH(D44735,学校種!A:A,0))","v":"小学校"},{"$f":"INDEX(_tmp2!B:B,MATCH(E44735,_tmp2!A:A,0))","v":"広島県"},"B134210004364","B1","34","2","1","神石高原町立油木小学校","神石郡神石高原町油木乙１","7201812","2020-12-22","","342353",""]
[{"$f":"INDEX(学校種!B:B,MATCH(D44754,学校種!A:A,0))","v":"小学校"},{"$f":"INDEX(_tmp2!B:B,MATCH(E44754,_tmp2!A:A,0))","v":"広島県"},"B134210004550","B1","34","2","9","庄原市立口南小学校","庄原市口和町永田３－２","7270114","2020-12-22","2021-05-27","342540",""]
[{"$f":"INDEX(学校種!B:B,MATCH(D44800,学校種!A:A,0))","v":"中学校"},{"$f":"INDEX(_tmp2!B:B,MATCH(E44800,_tmp2!A:A,0))","v":"広島県"},"C134210000231","C1","34","2","1","広島市立三入中学校","広島市安佐北区三入東１－７－１","7310212","2020-12-22","","343533",""]
[{"$f":"INDEX(学校種!B:B,MATCH(D44811,学校種!A:A,0))","v":"中学校"},{"$f":"INDEX(_tmp2!B:B,MATCH(E44811,_tmp2!A:A,0))","v":"広島県"},"C134210000348","C1","34","2","1","呉市立横路中学校","呉市広横路４－９－１５","7370113","2020-12-22","","343594",""]
[{"$f":"INDEX(学校種!B:B,MATCH(D44838,学校種!A:A,0))","v":"中学校"},{"$f":"INDEX(_tmp2!B:B,MATCH(E44838,_tmp2!A:A,0))","v":"広島県"},"C134210000614","C1","34","2","1","尾道市立久保中学校","尾道市防地町２２－４０","7220041","2020-12-22","","343731",""]
[{"$f":"INDEX(学校種!B:B,MATCH(D44872,学校種!A:A,0))","v":"中学校"},{"$f":"INDEX(_tmp2!B:B,MATCH(E44872,_tmp2!A:A,0))","v":"広島県"},"C134210000954","C1","34","2","1","三次市立八次中学校","三次市畠敷町１８６０","7280006","2020-12-22","","343915",""]
[{"$f":"INDEX(学校種!B:B,MATCH(D44905,学校種!A:A,0))","v":"中学校"},{"$f":"INDEX(_tmp2!B:B,MATCH(E44905,_tmp2!A:A,0))","v":"広島県"},"C134210001285","C1","34","2","1","廿日市市立四季が丘中学校","廿日市市四季が丘２－１－１","7380036","2020-12-22","","344125",""]
[{"$f":"INDEX(学校種!B:B,MATCH(D44925,学校種!A:A,0))","v":"中学校"},{"$f":"INDEX(_tmp2!B:B,MATCH(E44925,_tmp2!A:A,0))","v":"広島県"},"C134210001481","C1","34","2","1","広島市立亀山中学校","広島市安佐北区亀山南３－２８－１","7310232","2020-12-22","","344232",""]
[{"$f":"INDEX(学校種!B:B,MATCH(D44962,学校種!A:A,0))","v":"中学校"},{"$f":"INDEX(_tmp2!B:B,MATCH(E44962,_tmp2!A:A,0))","v":"広島県"},"C134210001855","C1","34","2","1","尾道市立御調中学校","尾道市御調町高尾９３","7220353","2020-12-22","","344532",""]
[{"$f":"INDEX(学校種!B:B,MATCH(D44990,学校種!A:A,0))","v":"中学校"},{"$f":"INDEX(_tmp2!B:B,MATCH(E44990,_tmp2!A:A,0))","v":"広島県"},"C134210002131","C1","34","2","1","三次市立君田中学校","三次市君田町東入君１０３６１－２","7280401","2020-12-22","","344726",""]
[{"$f":"INDEX(学校種!B:B,MATCH(D45023,学校種!A:A,0))","v":"中学校"},{"$f":"INDEX(_tmp2!B:B,MATCH(E45023,_tmp2!A:A,0))","v":"広島県"},"C134310000122","C1","34","3","1","広島学院中学校","広島市西区古江上一丁目６３０","7330875","2020-12-22","","344915",""]
[{"$f":"INDEX(学校種!B:B,MATCH(D45028,学校種!A:A,0))","v":"中学校"},{"$f":"INDEX(_tmp2!B:B,MATCH(E45028,_tmp2!A:A,0))","v":"広島県"},"C134310000177","C1","34","3","1","福山暁の星女子中学校","福山市西深津町３－４－１","7218545","2020-12-22","","344931",""]
[{"$f":"INDEX(学校種!B:B,MATCH(D45056,学校種!A:A,0))","v":"高等学校"},{"$f":"INDEX(_tmp2!B:B,MATCH(E45056,_tmp2!A:A,0))","v":"広島県"},"D134210000097","D1","34","2","1","広島県立呉昭和高等学校","呉市焼山町山の神","7370905","2020-12-22","","345547",""]
[{"$f":"INDEX(学校種!B:B,MATCH(D45098,学校種!A:A,0))","v":"高等学校"},{"$f":"INDEX(_tmp2!B:B,MATCH(E45098,_tmp2!A:A,0))","v":"広島県"},"D134210000514","D1","34","2","1","広島県立高陽東高等学校","広島市安佐北区落合南８－１２－１","7391732","2020-12-22","","345741",""]
[{"$f":"INDEX(学校種!B:B,MATCH(D45117,学校種!A:A,0))","v":"高等学校"},{"$f":"INDEX(_tmp2!B:B,MATCH(E45117,_tmp2!A:A,0))","v":"広島県"},"D134210000701","D1","34","2","1","広島県立戸手高等学校","福山市新市町相方２００","7293102","2020-12-22","","345850",""]
[{"$f":"INDEX(学校種!B:B,MATCH(D45136,学校種!A:A,0))","v":"高等学校"},{"$f":"INDEX(_tmp2!B:B,MATCH(E45136,_tmp2!A:A,0))","v":"広島県"},"D134210000890","D1","34","2","1","尾道市立広島県尾道南高等学校","尾道市長江二丁目１０－３４","7220046","2020-12-22","","346160",""]
[{"$f":"INDEX(学校種!B:B,MATCH(D45174,学校種!A:A,0))","v":"高等学校"},{"$f":"INDEX(_tmp2!B:B,MATCH(E45174,_tmp2!A:A,0))","v":"広島県"},"D134310000335","D1","34","3","1","広島修道大学ひろしま協創高等学校","広島市西区井口４丁目６－１８","7338622","2020-12-22","","346361",""]
[{"$f":"INDEX(学校種!B:B,MATCH(D45201,学校種!A:A,0))","v":"専修学校"},{"$f":"INDEX(_tmp2!B:B,MATCH(E45201,_tmp2!A:A,0))","v":"広島県"},"H134210000016","H1","34","2","1","広島市立看護専門学校","広島市中区富士見町１１番２７号","7300043","2020-12-22","","348513",""]
[{"$f":"INDEX(学校種!B:B,MATCH(D45235,学校種!A:A,0))","v":"専修学校"},{"$f":"INDEX(_tmp2!B:B,MATCH(E45235,_tmp2!A:A,0))","v":"広島県"},"H134310000327","H1","34","3","1","ＭＳＨ医療専門学校","広島市西区天満町６－５","7330022","2020-12-22","","348651",""]
[{"$f":"INDEX(学校種!B:B,MATCH(D45266,学校種!A:A,0))","v":"専修学校"},{"$f":"INDEX(_tmp2!B:B,MATCH(E45266,_tmp2!A:A,0))","v":"広島県"},"H134310000639","H1","34","3","1","広島製菓専門学校","広島市中区加古町１－１９","7300812","2020-12-22","","348930",""]
[{"$f":"INDEX(学校種!B:B,MATCH(D45296,学校種!A:A,0))","v":"各種学校"},{"$f":"INDEX(_tmp2!B:B,MATCH(E45296,_tmp2!A:A,0))","v":"広島県"},"H234310000193","H2","34","3","1","江能准看護学院","江田島市江田島町秋月２－４８－２","7372131","2020-12-22","","349534",""]
[{"$f":"INDEX(学校種!B:B,MATCH(D45309,学校種!A:A,0))","v":"幼稚園(幼稚園型認定こども園を含む)"},{"$f":"INDEX(_tmp2!B:B,MATCH(E45309,_tmp2!A:A,0))","v":"山口県"},"A135210000074","A1","35","2","1","下関市立川中幼稚園","下関市伊倉本町２１－１","7510863","2020-12-22","","356543",""]
[{"$f":"INDEX(学校種!B:B,MATCH(D45329,学校種!A:A,0))","v":"幼稚園(幼稚園型認定こども園を含む)"},{"$f":"INDEX(_tmp2!B:B,MATCH(E45329,_tmp2!A:A,0))","v":"山口県"},"A135210000270","A1","35","2","1","山陽小野田市立埴生幼稚園","山陽小野田市大字埴生９７２－１","7570012","2020-12-22","","356984",""]
[{"$f":"INDEX(学校種!B:B,MATCH(D45374,学校種!A:A,0))","v":"幼稚園(幼稚園型認定こども園を含む)"},{"$f":"INDEX(_tmp2!B:B,MATCH(E45374,_tmp2!A:A,0))","v":"山口県"},"A135310000401","A1","35","3","1","北双葉幼稚園","山口市名田島２８７","7540892","2020-12-22","","356595",""]
[{"$f":"INDEX(学校種!B:B,MATCH(D45386,学校種!A:A,0))","v":"幼稚園(幼稚園型認定こども園を含む)"},{"$f":"INDEX(_tmp2!B:B,MATCH(E45386,_tmp2!A:A,0))","v":"山口県"},"A135310000526","A1","35","3","1","徳山中央幼稚園","周南市城ヶ丘３丁目１８－２２","7450807","2020-12-22","","356640",""]
[{"$f":"INDEX(学校種!B:B,MATCH(D45419,学校種!A:A,0))","v":"幼稚園(幼稚園型認定こども園を含む)"},{"$f":"INDEX(_tmp2!B:B,MATCH(E45419,_tmp2!A:A,0))","v":"山口県"},"A135310000857","A1","35","3","1","室木幼稚園","岩国市室の木町２丁目５－７","7400021","2020-12-22","","356689",""]
[{"$f":"INDEX(学校種!B:B,MATCH(D45461,学校種!A:A,0))","v":"幼稚園(幼稚園型認定こども園を含む)"},{"$f":"INDEX(_tmp2!B:B,MATCH(E45461,_tmp2!A:A,0))","v":"山口県"},"A135310001277","A1","35","3","1","有倫舘幼稚園","山口市徳池岸見８５８","7470233","2020-12-22","","356941",""]
[{"$f":"INDEX(学校種!B:B,MATCH(D45480,学校種!A:A,0))","v":"幼保連携型認定こども園"},{"$f":"INDEX(_tmp2!B:B,MATCH(E45480,_tmp2!A:A,0))","v":"山口県"},"A235210000126","A2","35","2","1","岩国市立さかうえこども園","岩国市美和町渋前４３１－１","7401225","2020-12-22","","35A048",""]
[{"$f":"INDEX(学校種!B:B,MATCH(D45499,学校種!A:A,0))","v":"小学校"},{"$f":"INDEX(_tmp2!B:B,MATCH(E45499,_tmp2!A:A,0))","v":"山口県"},"B135110000010","B1","35","1","1","山口大学教育学部附属山口小学校","山口市白石３－１－１","7530070","2020-12-22","","350001",""]
[{"$f":"INDEX(学校種!B:B,MATCH(D45537,学校種!A:A,0))","v":"小学校"},{"$f":"INDEX(_tmp2!B:B,MATCH(E45537,_tmp2!A:A,0))","v":"山口県"},"B135210000376","B1","35","2","1","宇部市立岬小学校","宇部市松山町５丁目８－１０","7550026","2020-12-22","","350056",""]
[{"$f":"INDEX(学校種!B:B,MATCH(D45564,学校種!A:A,0))","v":"小学校"},{"$f":"INDEX(_tmp2!B:B,MATCH(E45564,_tmp2!A:A,0))","v":"山口県"},"B135210000642","B1","35","2","1","山口市立嘉川小学校","山口市嘉川４９８６","7540897","2020-12-22","","350091",""]
[{"$f":"INDEX(学校種!B:B,MATCH(D45598,学校種!A:A,0))","v":"小学校"},{"$f":"INDEX(_tmp2!B:B,MATCH(E45598,_tmp2!A:A,0))","v":"山口県"},"B135210000982","B1","35","2","1","周南市立中須小学校","周南市大字中須南２５８３","7450512","2020-12-22","","350147",""]
[{"$f":"INDEX(学校種!B:B,MATCH(D45602,学校種!A:A,0))","v":"小学校"},{"$f":"INDEX(_tmp2!B:B,MATCH(E45602,_tmp2!A:A,0))","v":"山口県"},"B135210001026","B1","35","2","1","周南市立桜木小学校","周南市桜木１丁目１１－１","7450806","2020-12-22","","350153",""]
[{"$f":"INDEX(学校種!B:B,MATCH(D45631,学校種!A:A,0))","v":"小学校"},{"$f":"INDEX(_tmp2!B:B,MATCH(E45631,_tmp2!A:A,0))","v":"山口県"},"B135210001311","B1","35","2","1","岩国市立御庄小学校","岩国市御庄１３６２","7410083","2020-12-22","","350205",""]
[{"$f":"INDEX(学校種!B:B,MATCH(D45672,学校種!A:A,0))","v":"小学校"},{"$f":"INDEX(_tmp2!B:B,MATCH(E45672,_tmp2!A:A,0))","v":"山口県"},"B135210001721","B1","35","2","1","柳井市立柳東小学校","柳井市柳井９６４－１","7420021","2020-12-22","","350264",""]
[{"$f":"INDEX(学校種!B:B,MATCH(D45692,学校種!A:A,0))","v":"小学校"},{"$f":"INDEX(_tmp2!B:B,MATCH(E45692,_tmp2!A:A,0))","v":"山口県"},"B135210001927","B1","35","2","1","周防大島町立沖浦小学校","大島郡周防大島町大字横見３４６－１","7422715","2020-12-22","","350316",""]
[{"$f":"INDEX(学校種!B:B,MATCH(D45737,学校種!A:A,0))","v":"小学校"},{"$f":"INDEX(_tmp2!B:B,MATCH(E45737,_tmp2!A:A,0))","v":"山口県"},"B135210002374","B1","35","2","1","周南市立鹿野小学校","周南市大字鹿野上３０５４－１","7450302","2020-12-22","","350511",""]
[{"$f":"INDEX(学校種!B:B,MATCH(D45749,学校種!A:A,0))","v":"小学校"},{"$f":"INDEX(_tmp2!B:B,MATCH(E45749,_tmp2!A:A,0))","v":"山口県"},"B135210002490","B1","35","2","1","山口市立大海小学校","山口市秋穂東２２９９","7541101","2020-12-22","","350552",""]
[{"$f":"INDEX(学校種!B:B,MATCH(D45775,学校種!A:A,0))","v":"小学校"},{"$f":"INDEX(_tmp2!B:B,MATCH(E45775,_tmp2!A:A,0))","v":"山口県"},"B135210002757","B1","35","2","1","美祢市立大田小学校","美祢市美東町大田６２１５","7540211","2020-12-22","","350643",""]
[{"$f":"INDEX(学校種!B:B,MATCH(D45810,学校種!A:A,0))","v":"中学校"},{"$f":"INDEX(_tmp2!B:B,MATCH(E45810,_tmp2!A:A,0))","v":"山口県"},"C135210000070","C1","35","2","1","下関市立勝山中学校","下関市秋根上町２丁目５－１","7510878","2020-12-22","","353607",""]
[{"$f":"INDEX(学校種!B:B,MATCH(D45840,学校種!A:A,0))","v":"中学校"},{"$f":"INDEX(_tmp2!B:B,MATCH(E45840,_tmp2!A:A,0))","v":"山口県"},"C135210000374","C1","35","2","1","山口市立仁保中学校","山口市仁保中郷８４","7530302","2020-12-22","","353649",""]
[{"$f":"INDEX(学校種!B:B,MATCH(D45871,学校種!A:A,0))","v":"中学校"},{"$f":"INDEX(_tmp2!B:B,MATCH(E45871,_tmp2!A:A,0))","v":"山口県"},"C135210000686","C1","35","2","1","防府市立小野中学校","防府市大字奈美２５番地","7470106","2020-12-22","","353708",""]
[{"$f":"INDEX(学校種!B:B,MATCH(D45883,学校種!A:A,0))","v":"中学校"},{"$f":"INDEX(_tmp2!B:B,MATCH(E45883,_tmp2!A:A,0))","v":"山口県"},"C135210000800","C1","35","2","1","岩国市立灘中学校","岩国市藤生町２丁目２５－１","7400036","2020-12-22","","353742",""]
[{"$f":"INDEX(学校種!B:B,MATCH(D45904,学校種!A:A,0))","v":"中学校"},{"$f":"INDEX(_tmp2!B:B,MATCH(E45904,_tmp2!A:A,0))","v":"山口県"},"C135210001015","C1","35","2","1","美祢市立大嶺中学校","美祢市大嶺町東分３０２０番地","7592212","2020-12-22","","353793",""]
[{"$f":"INDEX(学校種!B:B,MATCH(D45933,学校種!A:A,0))","v":"中学校"},{"$f":"INDEX(_tmp2!B:B,MATCH(E45933,_tmp2!A:A,0))","v":"山口県"},"C135210001300","C1","35","2","1","山口市立小郡中学校","山口市小郡下郷８７９－１","7540002","2020-12-22","","354021",""]
[{"$f":"INDEX(学校種!B:B,MATCH(D45970,学校種!A:A,0))","v":"高等学校"},{"$f":"INDEX(_tmp2!B:B,MATCH(E45970,_tmp2!A:A,0))","v":"山口県"},"D135210000041","D1","35","2","1","山口県立岩国工業高等学校","岩国市錦見２丁目４－８５","7410061","2020-12-22","","355607",""]
[{"$f":"INDEX(学校種!B:B,MATCH(D45994,学校種!A:A,0))","v":"高等学校"},{"$f":"INDEX(_tmp2!B:B,MATCH(E45994,_tmp2!A:A,0))","v":"山口県"},"D135210000283","D1","35","2","1","山口県立豊浦高等学校","下関市長府宮崎町１－１","7520984","2020-12-22","","355654",""]
[{"$f":"INDEX(学校種!B:B,MATCH(D46035,学校種!A:A,0))","v":"高等学校"},{"$f":"INDEX(_tmp2!B:B,MATCH(E46035,_tmp2!A:A,0))","v":"山口県"},"D135310000101","D1","35","3","1","萩光塩学院高等学校","萩市大字東田町１５","7580047","2020-12-22","","355688",""]
[{"$f":"INDEX(学校種!B:B,MATCH(D46055,学校種!A:A,0))","v":"特別支援学校"},{"$f":"INDEX(_tmp2!B:B,MATCH(E46055,_tmp2!A:A,0))","v":"山口県"},"E135210000066","E1","35","2","1","山口県立田布施総合支援学校","熊毛郡田布施町大字川西１０３０","7421504","2020-12-22","","359954",""]
[{"$f":"INDEX(学校種!B:B,MATCH(D46073,学校種!A:A,0))","v":"専修学校"},{"$f":"INDEX(_tmp2!B:B,MATCH(E46073,_tmp2!A:A,0))","v":"山口県"},"H135310000086","H1","35","3","1","さくら国際言語学院","下関市竹崎町３丁目５番１９号","7500025","2020-12-22","","358521",""]
[{"$f":"INDEX(学校種!B:B,MATCH(D46112,学校種!A:A,0))","v":"各種学校"},{"$f":"INDEX(_tmp2!B:B,MATCH(E46112,_tmp2!A:A,0))","v":"山口県"},"H235310000085","H2","35","3","9","鴻城自動車学園","宇部市厚南北三丁目２番１２号","7590209","2020-12-22","2021-05-27","359152",""]
[{"$f":"INDEX(学校種!B:B,MATCH(D46138,学校種!A:A,0))","v":"各種学校"},{"$f":"INDEX(_tmp2!B:B,MATCH(E46138,_tmp2!A:A,0))","v":"山口県"},"H235310000343","H2","35","3","1","山口公務員学校","山口市小郡下郷１６４７－７－１","7540002","2020-12-22","","359550",""]
[{"$f":"INDEX(学校種!B:B,MATCH(D46173,学校種!A:A,0))","v":"幼稚園(幼稚園型認定こども園を含む)"},{"$f":"INDEX(_tmp2!B:B,MATCH(E46173,_tmp2!A:A,0))","v":"徳島県"},"A136220200061","A1","36","2","1","鳴門市里浦幼稚園","鳴門市里浦町里浦字西浜４０１","7720021","2020-12-22","","366616",""]
[{"$f":"INDEX(学校種!B:B,MATCH(D46203,学校種!A:A,0))","v":"幼稚園(幼稚園型認定こども園を含む)"},{"$f":"INDEX(_tmp2!B:B,MATCH(E46203,_tmp2!A:A,0))","v":"徳島県"},"A136220800047","A1","36","2","1","三好市立三繩幼稚園","三好市池田町中西イバ５０４－１１","7795161","2020-12-22","","367924",""]
[{"$f":"INDEX(学校種!B:B,MATCH(D46234,学校種!A:A,0))","v":"幼稚園(幼稚園型認定こども園を含む)"},{"$f":"INDEX(_tmp2!B:B,MATCH(E46234,_tmp2!A:A,0))","v":"徳島県"},"A136240500020","A1","36","2","1","上板町立東光幼稚園","板野郡上板町西分字東光８番地","7711330","2020-12-22","","367552",""]
[{"$f":"INDEX(学校種!B:B,MATCH(D46246,学校種!A:A,0))","v":"幼稚園(幼稚園型認定こども園を含む)"},{"$f":"INDEX(_tmp2!B:B,MATCH(E46246,_tmp2!A:A,0))","v":"徳島県"},"A136248900056","A1","36","2","9","東みよし町立東山幼稚園","三好郡東みよし町東山字中村９０番地","7712503","2020-12-22","2021-05-27","367913",""]
[{"$f":"INDEX(学校種!B:B,MATCH(D46267,学校種!A:A,0))","v":"幼保連携型認定こども園"},{"$f":"INDEX(_tmp2!B:B,MATCH(E46267,_tmp2!A:A,0))","v":"徳島県"},"A236220600057","A2","36",2,1,"大俣認定こども園","阿波市市場町大俣字行峯２５７－１",7711613,"2021-05-27","","36A285",""]
[{"$f":"INDEX(学校種!B:B,MATCH(D46311,学校種!A:A,0))","v":"幼保連携型認定こども園"},{"$f":"INDEX(_tmp2!B:B,MATCH(E46311,_tmp2!A:A,0))","v":"徳島県"},"A236340200011","A2","36","3","1","認定こども園めばえ","板野郡北島町中村字前田道添１１－６","7710203","2020-12-22","","36A740",""]
[{"$f":"INDEX(学校種!B:B,MATCH(D46324,学校種!A:A,0))","v":"小学校"},{"$f":"INDEX(_tmp2!B:B,MATCH(E46324,_tmp2!A:A,0))","v":"徳島県"},"B136220100122","B1","36","2","1","徳島市八万小学校","徳島市城南町４丁目１番５２号","7708064","2020-12-22","","361522",""]
[{"$f":"INDEX(学校種!B:B,MATCH(D46349,学校種!A:A,0))","v":"小学校"},{"$f":"INDEX(_tmp2!B:B,MATCH(E46349,_tmp2!A:A,0))","v":"徳島県"},"B136220200078","B1","36","2","1","鳴門市鳴門東小学校","鳴門市鳴門町土佐泊浦字高砂６５－３","7720053","2020-12-22","","361618",""]
[{"$f":"INDEX(学校種!B:B,MATCH(D46385,学校種!A:A,0))","v":"小学校"},{"$f":"INDEX(_tmp2!B:B,MATCH(E46385,_tmp2!A:A,0))","v":"徳島県"},"B136220400165","B1","36","2","1","阿南市立椿小学校","阿南市椿町黒田４７","7791750","2020-12-22","","361828",""]
[{"$f":"INDEX(学校種!B:B,MATCH(D46414,学校種!A:A,0))","v":"小学校"},{"$f":"INDEX(_tmp2!B:B,MATCH(E46414,_tmp2!A:A,0))","v":"徳島県"},"B136220600083","B1","36","2","1","阿波市立大影小学校","阿波市市場町大影字境目３９番地１","7711615","2020-12-22","","362615",""]
[{"$f":"INDEX(学校種!B:B,MATCH(D46446,学校種!A:A,0))","v":"小学校"},{"$f":"INDEX(_tmp2!B:B,MATCH(E46446,_tmp2!A:A,0))","v":"徳島県"},"B136232100010","B1","36","2","1","佐那河内村立佐那河内小学校","名東郡佐那河内村下字中川原３０番地","7714101","2020-12-22","","362111",""]
[{"$f":"INDEX(学校種!B:B,MATCH(D46475,学校種!A:A,0))","v":"小学校"},{"$f":"INDEX(_tmp2!B:B,MATCH(E46475,_tmp2!A:A,0))","v":"徳島県"},"B136240200030","B1","36","2","1","北島町立北島南小学校","板野郡北島町江尻字宮ノ本４０番地２","7710205","2020-12-22","","362523",""]
[{"$f":"INDEX(学校種!B:B,MATCH(D46501,学校種!A:A,0))","v":"小学校"},{"$f":"INDEX(_tmp2!B:B,MATCH(E46501,_tmp2!A:A,0))","v":"徳島県"},"B136320100022","B1","36","3","1","徳島文理小学校","徳島市山城町東浜傍示６８ー１０","7708055","2020-12-22","","363012",""]
[{"$f":"INDEX(学校種!B:B,MATCH(D46536,学校種!A:A,0))","v":"中学校"},{"$f":"INDEX(_tmp2!B:B,MATCH(E46536,_tmp2!A:A,0))","v":"徳島県"},"C136220400109","C1","36","2","1","阿南市立那賀川中学校","阿南市那賀川町苅屋３７０－１","7791235","2020-12-22","","364311",""]
[{"$f":"INDEX(学校種!B:B,MATCH(D46539,学校種!A:A,0))","v":"中学校"},{"$f":"INDEX(_tmp2!B:B,MATCH(E46539,_tmp2!A:A,0))","v":"徳島県"},"C136220500028","C1","36","2","1","吉野川市立鴨島東中学校","吉野川市鴨島町麻植塚２１５番地３","7760002","2020-12-22","","364711",""]
[{"$f":"INDEX(学校種!B:B,MATCH(D46569,学校種!A:A,0))","v":"中学校"},{"$f":"INDEX(_tmp2!B:B,MATCH(E46569,_tmp2!A:A,0))","v":"徳島県"},"C136236800049","C1","36","2","1","那賀町立木頭中学校","那賀郡那賀町木頭和無田字ナカスジ１番地","7716403","2020-12-22","","364371",""]
[{"$f":"INDEX(学校種!B:B,MATCH(D46609,学校種!A:A,0))","v":"高等学校"},{"$f":"INDEX(_tmp2!B:B,MATCH(E46609,_tmp2!A:A,0))","v":"徳島県"},"D136220500017","D1","36","2","1","徳島県立吉野川高等学校","吉野川市鴨島町喜来６８１－９","7760005","2020-12-22","","366025",""]
[{"$f":"INDEX(学校種!B:B,MATCH(D46630,学校種!A:A,0))","v":"特別支援学校"},{"$f":"INDEX(_tmp2!B:B,MATCH(E46630,_tmp2!A:A,0))","v":"徳島県"},"E136220100018","E1","36","2","1","徳島県立徳島視覚支援学校","徳島市南二軒屋２－４－５５","7708063","2020-12-22","","369711",""]
[{"$f":"INDEX(学校種!B:B,MATCH(D46674,学校種!A:A,0))","v":"幼稚園(幼稚園型認定こども園を含む)"},{"$f":"INDEX(_tmp2!B:B,MATCH(E46674,_tmp2!A:A,0))","v":"香川県"},"A137220100141","A1","37","2","1","高松市立春日幼稚園","高松市春日町７４４","7610101","2020-12-22","","376617",""]
[{"$f":"INDEX(学校種!B:B,MATCH(D46687,学校種!A:A,0))","v":"幼稚園(幼稚園型認定こども園を含む)"},{"$f":"INDEX(_tmp2!B:B,MATCH(E46687,_tmp2!A:A,0))","v":"香川県"},"A137220200051","A1","37","2","1","丸亀市立本島幼稚園","丸亀市本島町泊３４番地","7630223","2020-12-22","","376708",""]
[{"$f":"INDEX(学校種!B:B,MATCH(D46712,学校種!A:A,0))","v":"幼稚園(幼稚園型認定こども園を含む)"},{"$f":"INDEX(_tmp2!B:B,MATCH(E46712,_tmp2!A:A,0))","v":"香川県"},"A137220700010","A1","37","2","1","東かがわ市立本町幼稚園","東かがわ市松原１７０番地６","7692702","2020-12-22","","377621",""]
[{"$f":"INDEX(学校種!B:B,MATCH(D46748,学校種!A:A,0))","v":"幼稚園(幼稚園型認定こども園を含む)"},{"$f":"INDEX(_tmp2!B:B,MATCH(E46748,_tmp2!A:A,0))","v":"香川県"},"A137320100023","A1","37","3","1","ときわ幼稚園","高松市飯田町１３８","7618033","2020-12-22","","376652",""]
[{"$f":"INDEX(学校種!B:B,MATCH(D46777,学校種!A:A,0))","v":"幼稚園(幼稚園型認定こども園を含む)"},{"$f":"INDEX(_tmp2!B:B,MATCH(E46777,_tmp2!A:A,0))","v":"香川県"},"A137334100015","A1","37","3","1","あおば幼稚園","木田郡三木町井戸２３９４","7610823","2020-12-22","","377851",""]
[{"$f":"INDEX(学校種!B:B,MATCH(D46809,学校種!A:A,0))","v":"幼保連携型認定こども園"},{"$f":"INDEX(_tmp2!B:B,MATCH(E46809,_tmp2!A:A,0))","v":"香川県"},"A237236400018","A2","37","2","1","直島町立直島幼児学園","香川郡直島町1841","7613110","2020-12-22","","37A691",""]
[{"$f":"INDEX(学校種!B:B,MATCH(D46820,学校種!A:A,0))","v":"幼保連携型認定こども園"},{"$f":"INDEX(_tmp2!B:B,MATCH(E46820,_tmp2!A:A,0))","v":"香川県"},"A237320100040","A2","37","3","1","認定こども園高松東幼稚園","高松市春日町688","7610101","2020-12-22","","37A105",""]
[{"$f":"INDEX(学校種!B:B,MATCH(D46842,学校種!A:A,0))","v":"幼保連携型認定こども園"},{"$f":"INDEX(_tmp2!B:B,MATCH(E46842,_tmp2!A:A,0))","v":"香川県"},"A237320400010","A2","37","3","1","香川短期大学附属のぞみこども園","善通寺市上吉田町８－７－２４","7650011","2020-12-22","","37A281",""]
[{"$f":"INDEX(学校種!B:B,MATCH(D46885,学校種!A:A,0))","v":"小学校"},{"$f":"INDEX(_tmp2!B:B,MATCH(E46885,_tmp2!A:A,0))","v":"香川県"},"B137220100274","B1","37","2","1","高松市立男木小学校","高松市男木町１６５番地","7600091","2020-12-22","","371130",""]
[{"$f":"INDEX(学校種!B:B,MATCH(D46899,学校種!A:A,0))","v":"小学校"},{"$f":"INDEX(_tmp2!B:B,MATCH(E46899,_tmp2!A:A,0))","v":"香川県"},"B137220100416","B1","37","2","1","高松市立牟礼北小学校","高松市牟礼町牟礼２９００番地１","7610121","2020-12-22","","372322",""]
[{"$f":"INDEX(学校種!B:B,MATCH(D46923,学校種!A:A,0))","v":"小学校"},{"$f":"INDEX(_tmp2!B:B,MATCH(E46923,_tmp2!A:A,0))","v":"香川県"},"B137220200148","B1","37","2","1","丸亀市立富熊小学校","丸亀市綾歌町富熊１２２７番地","7612407","2020-12-22","","372541",""]
[{"$f":"INDEX(学校種!B:B,MATCH(D46960,学校種!A:A,0))","v":"小学校"},{"$f":"INDEX(_tmp2!B:B,MATCH(E46960,_tmp2!A:A,0))","v":"香川県"},"B137220600046","B1","37","2","1","さぬき市立さぬき北小学校","さぬき市鴨庄２９４７番地","7692102","2020-12-22","","372165",""]
[{"$f":"INDEX(学校種!B:B,MATCH(D46993,学校種!A:A,0))","v":"小学校"},{"$f":"INDEX(_tmp2!B:B,MATCH(E46993,_tmp2!A:A,0))","v":"香川県"},"B137234100024","B1","37","2","1","三木町立田中小学校","木田郡三木町大字田中４６２０番地の２","7610611","2020-12-22","","372314",""]
[{"$f":"INDEX(学校種!B:B,MATCH(D47010,学校種!A:A,0))","v":"小学校"},{"$f":"INDEX(_tmp2!B:B,MATCH(E47010,_tmp2!A:A,0))","v":"香川県"},"B137240400046","B1","37","2","1","多度津町立白方小学校","仲多度郡多度津町大字奥白方１１４２番地","7640035","2020-12-22","","372644",""]
[{"$f":"INDEX(学校種!B:B,MATCH(D47050,学校種!A:A,0))","v":"中学校"},{"$f":"INDEX(_tmp2!B:B,MATCH(E47050,_tmp2!A:A,0))","v":"香川県"},"C137220200075","C1","37","2","1","丸亀市立綾歌中学校","丸亀市綾歌町栗熊東４３１番地","7612406","2020-12-22","","375041",""]
[{"$f":"INDEX(学校種!B:B,MATCH(D47075,学校種!A:A,0))","v":"中学校"},{"$f":"INDEX(_tmp2!B:B,MATCH(E47075,_tmp2!A:A,0))","v":"香川県"},"C137220800060","C1","37","2","1","三豊市立和光中学校","三豊市財田町財田上２７９０番地","7690401","2020-12-22","","375291",""]
[{"$f":"INDEX(学校種!B:B,MATCH(D47111,学校種!A:A,0))","v":"高等学校"},{"$f":"INDEX(_tmp2!B:B,MATCH(E47111,_tmp2!A:A,0))","v":"香川県"},"D137220500025","D1","37","2","1","香川県立観音寺総合高等学校","観音寺市天神町1丁目1-15","7680068","2020-12-22","","376269",""]
[{"$f":"INDEX(学校種!B:B,MATCH(D47140,学校種!A:A,0))","v":"特別支援学校"},{"$f":"INDEX(_tmp2!B:B,MATCH(E47140,_tmp2!A:A,0))","v":"香川県"},"E137220100044","E1","37","2","1","香川県立高松養護学校","高松市田村町１０９８番地１","7618057","2020-12-22","","379927",""]
[{"$f":"INDEX(学校種!B:B,MATCH(D47144,学校種!A:A,0))","v":"特別支援学校"},{"$f":"INDEX(_tmp2!B:B,MATCH(E47144,_tmp2!A:A,0))","v":"香川県"},"E137220600012","E1","37","2","1","香川県立香川東部養護学校","さぬき市長尾西４７５番地","7692302","2020-12-22","","379924",""]
[{"$f":"INDEX(学校種!B:B,MATCH(D47183,学校種!A:A,0))","v":"各種学校"},{"$f":"INDEX(_tmp2!B:B,MATCH(E47183,_tmp2!A:A,0))","v":"香川県"},"H237332200012","H2","37","3","1","米倉洋裁学苑","小豆郡土庄町大部甲５２３","7614145","2020-12-22","","379193",""]
[{"$f":"INDEX(学校種!B:B,MATCH(D47205,学校種!A:A,0))","v":"幼稚園(幼稚園型認定こども園を含む)"},{"$f":"INDEX(_tmp2!B:B,MATCH(E47205,_tmp2!A:A,0))","v":"愛媛県"},"A138220700037","A1","38","2","1","大洲市立平野幼稚園","大洲市平野町平地２８番地","7950022","2020-12-22","","386522",""]
[{"$f":"INDEX(学校種!B:B,MATCH(D47248,学校種!A:A,0))","v":"幼稚園(幼稚園型認定こども園を含む)"},{"$f":"INDEX(_tmp2!B:B,MATCH(E47248,_tmp2!A:A,0))","v":"愛媛県"},"A138320100102","A1","38","3","1","番町幼稚園","松山市南斉院町７３９－１","7918032","2020-12-22","","386616",""]
[{"$f":"INDEX(学校種!B:B,MATCH(D47262,学校種!A:A,0))","v":"幼稚園(幼稚園型認定こども園を含む)"},{"$f":"INDEX(_tmp2!B:B,MATCH(E47262,_tmp2!A:A,0))","v":"愛媛県"},"A138320100246","A1","38","3","1","慶応幼稚園","松山市森松町１１１０","7911113","2020-12-22","","386706",""]
[{"$f":"INDEX(学校種!B:B,MATCH(D47286,学校種!A:A,0))","v":"幼稚園(幼稚園型認定こども園を含む)"},{"$f":"INDEX(_tmp2!B:B,MATCH(E47286,_tmp2!A:A,0))","v":"愛媛県"},"A138320300048","A1","38","3","1","愛和聖母幼稚園","宇和島市丸之内１丁目４－１８","7980060","2020-12-22","","386642",""]
[{"$f":"INDEX(学校種!B:B,MATCH(D47323,学校種!A:A,0))","v":"幼保連携型認定こども園"},{"$f":"INDEX(_tmp2!B:B,MATCH(E47323,_tmp2!A:A,0))","v":"愛媛県"},"A238221300029","A2","38","2","1","四国中央市立川之江こども園","四国中央市川之江町１０６１－６","7990101","2020-12-22","","38A077",""]
[{"$f":"INDEX(学校種!B:B,MATCH(D47351,学校種!A:A,0))","v":"幼保連携型認定こども園"},{"$f":"INDEX(_tmp2!B:B,MATCH(E47351,_tmp2!A:A,0))","v":"愛媛県"},"A238320200057","A2","38","3","1","はしはまこがく認定こども園","今治市地堀２丁目３番１２号","7992117","2020-12-22","","38A060",""]
[{"$f":"INDEX(学校種!B:B,MATCH(D47384,学校種!A:A,0))","v":"小学校"},{"$f":"INDEX(_tmp2!B:B,MATCH(E47384,_tmp2!A:A,0))","v":"愛媛県"},"B138220100166","B1","38","2","1","松山市立味生小学校","松山市別府町１６６－４","7918056","2020-12-22","","380026",""]
[{"$f":"INDEX(学校種!B:B,MATCH(D47394,学校種!A:A,0))","v":"小学校"},{"$f":"INDEX(_tmp2!B:B,MATCH(E47394,_tmp2!A:A,0))","v":"愛媛県"},"B138220100264","B1","38","2","1","松山市立日浦小学校","松山市河中町甲７９－２","7910132","2020-12-22","","380037",""]
[{"$f":"INDEX(学校種!B:B,MATCH(D47445,学校種!A:A,0))","v":"小学校"},{"$f":"INDEX(_tmp2!B:B,MATCH(E47445,_tmp2!A:A,0))","v":"愛媛県"},"B138220200183","B1","38","2","1","今治市立大西小学校","今治市大西町大井浜１０３","7992204","2020-12-22","","380233",""]
[{"$f":"INDEX(学校種!B:B,MATCH(D47459,学校種!A:A,0))","v":"小学校"},{"$f":"INDEX(_tmp2!B:B,MATCH(E47459,_tmp2!A:A,0))","v":"愛媛県"},"B138220300066","B1","38","2","1","宇和島市立住吉小学校","宇和島市住吉町８７０－２","7980003","2020-12-22","","380067",""]
[{"$f":"INDEX(学校種!B:B,MATCH(D47478,学校種!A:A,0))","v":"小学校"},{"$f":"INDEX(_tmp2!B:B,MATCH(E47478,_tmp2!A:A,0))","v":"愛媛県"},"B138220300253","B1","38","2","1","宇和島市立御槙小学校","宇和島市槙川１９６７","7983272","2020-12-22","","380461",""]
[{"$f":"INDEX(学校種!B:B,MATCH(D47507,学校種!A:A,0))","v":"小学校"},{"$f":"INDEX(_tmp2!B:B,MATCH(E47507,_tmp2!A:A,0))","v":"愛媛県"},"B138220500126","B1","38","2","1","新居浜市立船木小学校","新居浜市船木４２９９－１","7920856","2020-12-22","","380103",""]
[{"$f":"INDEX(学校種!B:B,MATCH(D47546,学校種!A:A,0))","v":"小学校"},{"$f":"INDEX(_tmp2!B:B,MATCH(E47546,_tmp2!A:A,0))","v":"愛媛県"},"B138220700106","B1","38","2","1","大洲市立長浜小学校","大洲市長浜甲１９０番地","7993401","2020-12-22","","380341",""]
[{"$f":"INDEX(学校種!B:B,MATCH(D47568,学校種!A:A,0))","v":"小学校"},{"$f":"INDEX(_tmp2!B:B,MATCH(E47568,_tmp2!A:A,0))","v":"愛媛県"},"B138221300117","B1","38","2","1","四国中央市立中之庄小学校","四国中央市中之庄町１４０","7990422","2020-12-22","","380165",""]
[{"$f":"INDEX(学校種!B:B,MATCH(D47584,学校種!A:A,0))","v":"小学校"},{"$f":"INDEX(_tmp2!B:B,MATCH(E47584,_tmp2!A:A,0))","v":"愛媛県"},"B138221400081","B1","38","2","1","西予市立野村小学校","西予市野村町野村１１－４３－１","7971212","2020-12-22","","380415",""]
[{"$f":"INDEX(学校種!B:B,MATCH(D47625,学校種!A:A,0))","v":"小学校"},{"$f":"INDEX(_tmp2!B:B,MATCH(E47625,_tmp2!A:A,0))","v":"愛媛県"},"B138244200021","B1","38","2","1","伊方町立九町小学校","西宇和郡伊方町九町１番耕地１７１２番地１","7960421","2020-12-22","","380378",""]
[{"$f":"INDEX(学校種!B:B,MATCH(D47649,学校種!A:A,0))","v":"中学校"},{"$f":"INDEX(_tmp2!B:B,MATCH(E47649,_tmp2!A:A,0))","v":"愛媛県"},"C138110000015","C1","38","1","1","愛媛大学教育学部附属中学校","松山市持田町１－５－２２","7900855","2020-12-22","","383501",""]
[{"$f":"INDEX(学校種!B:B,MATCH(D47686,学校種!A:A,0))","v":"中学校"},{"$f":"INDEX(_tmp2!B:B,MATCH(E47686,_tmp2!A:A,0))","v":"愛媛県"},"C138220200083","C1","38","2","1","今治市立朝倉中学校","今治市朝倉北甲２７３","7991604","2020-12-22","","383617",""]
[{"$f":"INDEX(学校種!B:B,MATCH(D47714,学校種!A:A,0))","v":"中学校"},{"$f":"INDEX(_tmp2!B:B,MATCH(E47714,_tmp2!A:A,0))","v":"愛媛県"},"C138220500106","C1","38","2","1","新居浜市立角野中学校","新居浜市宮原町１１－５１","7920833","2020-12-22","","383573",""]
[{"$f":"INDEX(学校種!B:B,MATCH(D47747,学校種!A:A,0))","v":"中学校"},{"$f":"INDEX(_tmp2!B:B,MATCH(E47747,_tmp2!A:A,0))","v":"愛媛県"},"C138221400016","C1","38","2","1","西予市立明浜中学校","西予市明浜町俵津８番耕地３１６番地１","7970111","2020-12-22","","383816",""]
[{"$f":"INDEX(学校種!B:B,MATCH(D47757,学校種!A:A,0))","v":"中学校"},{"$f":"INDEX(_tmp2!B:B,MATCH(E47757,_tmp2!A:A,0))","v":"愛媛県"},"C138235600041","C1","38","2","1","上島町立岩城中学校","越智郡上島町岩城１２１８","7942410","2020-12-22","","383631",""]
[{"$f":"INDEX(学校種!B:B,MATCH(D47780,学校種!A:A,0))","v":"中学校"},{"$f":"INDEX(_tmp2!B:B,MATCH(E47780,_tmp2!A:A,0))","v":"愛媛県"},"C138320100028","C1","38","3","1","愛光中学校","松山市衣山５－１６１０－１","7918501","2020-12-22","","383802",""]
[{"$f":"INDEX(学校種!B:B,MATCH(D47822,学校種!A:A,0))","v":"高等学校"},{"$f":"INDEX(_tmp2!B:B,MATCH(E47822,_tmp2!A:A,0))","v":"愛媛県"},"D138221300024","D1","38","2","1","愛媛県立三島高等学校","四国中央市三島中央５－１１－３０","7990405","2020-12-22","","385512",""]
[{"$f":"INDEX(学校種!B:B,MATCH(D47837,学校種!A:A,0))","v":"高等学校"},{"$f":"INDEX(_tmp2!B:B,MATCH(E47837,_tmp2!A:A,0))","v":"愛媛県"},"D138320100017","D1","38","3","1","済美高等学校","松山市湊町７－９－１","7908560","2020-12-22","","385613",""]
[{"$f":"INDEX(学校種!B:B,MATCH(D47860,学校種!A:A,0))","v":"特別支援学校"},{"$f":"INDEX(_tmp2!B:B,MATCH(E47860,_tmp2!A:A,0))","v":"愛媛県"},"E138220100034","E1","38","2","2","愛媛県立みなら特別支援学校松山城北分校","松山市馬木町２３２５","7992655","2020-12-22","","389926",""]
[{"$f":"INDEX(学校種!B:B,MATCH(D47898,学校種!A:A,0))","v":"専修学校"},{"$f":"INDEX(_tmp2!B:B,MATCH(E47898,_tmp2!A:A,0))","v":"愛媛県"},"H138320700012","H1","38","3","1","ドレスメーカー大洲専門学校","大洲市大洲２４－１","7950012","2020-12-22","","388532",""]
[{"$f":"INDEX(学校種!B:B,MATCH(D47925,学校種!A:A,0))","v":"幼稚園(幼稚園型認定こども園を含む)"},{"$f":"INDEX(_tmp2!B:B,MATCH(E47925,_tmp2!A:A,0))","v":"高知県"},"A139210000098","A1","39","2","1","いの町立脇の山幼稚園","吾川郡いの町脇ノ山２２８－４","7812611","2020-12-22","","397340",""]
[{"$f":"INDEX(学校種!B:B,MATCH(D47959,学校種!A:A,0))","v":"幼保連携型認定こども園"},{"$f":"INDEX(_tmp2!B:B,MATCH(E47959,_tmp2!A:A,0))","v":"高知県"},"A239210000060","A2","39","2","1","梼原町立梼原こども園","高岡郡梼原町梼原１２１２番地２","7850610","2020-12-22","","39A029",""]
[{"$f":"INDEX(学校種!B:B,MATCH(D47995,学校種!A:A,0))","v":"小学校"},{"$f":"INDEX(_tmp2!B:B,MATCH(E47995,_tmp2!A:A,0))","v":"高知県"},"B139210000247","B1","39","2","1","高知市立一ツ橋小学校","高知市吉田町４－１０","7800048","2020-12-22","","390038",""]
[{"$f":"INDEX(学校種!B:B,MATCH(D48020,学校種!A:A,0))","v":"小学校"},{"$f":"INDEX(_tmp2!B:B,MATCH(E48020,_tmp2!A:A,0))","v":"高知県"},"B139210000498","B1","39","2","1","安芸市立井ノ口小学校","安芸市井ノ口乙８１","7840052","2020-12-22","","390314",""]
[{"$f":"INDEX(学校種!B:B,MATCH(D48033,学校種!A:A,0))","v":"小学校"},{"$f":"INDEX(_tmp2!B:B,MATCH(E48033,_tmp2!A:A,0))","v":"高知県"},"B139210000620","B1","39","2","1","南国市立岡豊小学校","南国市岡豊町八幡９０３","7830044","2020-12-22","","390407",""]
[{"$f":"INDEX(学校種!B:B,MATCH(D48053,学校種!A:A,0))","v":"小学校"},{"$f":"INDEX(_tmp2!B:B,MATCH(E48053,_tmp2!A:A,0))","v":"高知県"},"B139210000826","B1","39","2","1","須崎市立須崎小学校","須崎市東糺町２番９号","7850011","2020-12-22","","390607",""]
[{"$f":"INDEX(学校種!B:B,MATCH(D48082,学校種!A:A,0))","v":"小学校"},{"$f":"INDEX(_tmp2!B:B,MATCH(E48082,_tmp2!A:A,0))","v":"高知県"},"B139210001111","B1","39","2","1","宿毛市立山奈小学校","宿毛市山奈町山田１９９９－１","7880784","2020-12-22","","390818",""]
[{"$f":"INDEX(学校種!B:B,MATCH(D48120,学校種!A:A,0))","v":"小学校"},{"$f":"INDEX(_tmp2!B:B,MATCH(E48120,_tmp2!A:A,0))","v":"高知県"},"B139210001497","B1","39","2","1","本山町立本山小学校","長岡郡本山町本山４５８","7813601","2020-12-22","","391750",""]
[{"$f":"INDEX(学校種!B:B,MATCH(D48143,学校種!A:A,0))","v":"小学校"},{"$f":"INDEX(_tmp2!B:B,MATCH(E48143,_tmp2!A:A,0))","v":"高知県"},"B139210001727","B1","39","2","1","いの町立清水第二小学校","吾川郡いの町清水上分２１０６番地","7812511","2020-12-22","","392406",""]
[{"$f":"INDEX(学校種!B:B,MATCH(D48185,学校種!A:A,0))","v":"小学校"},{"$f":"INDEX(_tmp2!B:B,MATCH(E48185,_tmp2!A:A,0))","v":"高知県"},"B139210002147","B1","39","2","1","四万十町立十川小学校","高岡郡四万十町十和川口５０５－１","7860535","2020-12-22","","393150",""]
[{"$f":"INDEX(学校種!B:B,MATCH(D48200,学校種!A:A,0))","v":"中学校"},{"$f":"INDEX(_tmp2!B:B,MATCH(E48200,_tmp2!A:A,0))","v":"高知県"},"C139210000012","C1","39","2","1","高知市立城北中学校","高知市八反町１丁目８－１４","7800912","2020-12-22","","393511",""]
[{"$f":"INDEX(学校種!B:B,MATCH(D48223,学校種!A:A,0))","v":"中学校"},{"$f":"INDEX(_tmp2!B:B,MATCH(E48223,_tmp2!A:A,0))","v":"高知県"},"C139210000245","C1","39","2","1","安芸市立上尾川中学校","安芸市尾川乙３７８","7840056","2020-12-22","","393656",""]
[{"$f":"INDEX(学校種!B:B,MATCH(D48261,学校種!A:A,0))","v":"中学校"},{"$f":"INDEX(_tmp2!B:B,MATCH(E48261,_tmp2!A:A,0))","v":"高知県"},"C139210000628","C1","39","2","1","東洋町立甲浦中学校","安芸郡東洋町大字白浜３－２","7817413","2020-12-22","","394000",""]
[{"$f":"INDEX(学校種!B:B,MATCH(D48288,学校種!A:A,0))","v":"中学校"},{"$f":"INDEX(_tmp2!B:B,MATCH(E48288,_tmp2!A:A,0))","v":"高知県"},"C139210000897","C1","39","2","1","高知市立春野中学校","高知市春野町西分３２８","7810304","2020-12-22","","394420",""]
[{"$f":"INDEX(学校種!B:B,MATCH(D48322,学校種!A:A,0))","v":"中学校"},{"$f":"INDEX(_tmp2!B:B,MATCH(E48322,_tmp2!A:A,0))","v":"高知県"},"C139310000047","C1","39","3","1","清和女子中学校","南国市明見９８","7830007","2020-12-22","","395003",""]
[{"$f":"INDEX(学校種!B:B,MATCH(D48331,学校種!A:A,0))","v":"高等学校"},{"$f":"INDEX(_tmp2!B:B,MATCH(E48331,_tmp2!A:A,0))","v":"高知県"},"D139210000038","D1","39","2","1","安芸高等学校","安芸市清和町１－５４","7848505","2020-12-22","","395516",""]
[{"$f":"INDEX(学校種!B:B,MATCH(D48355,学校種!A:A,0))","v":"高等学校"},{"$f":"INDEX(_tmp2!B:B,MATCH(E48355,_tmp2!A:A,0))","v":"高知県"},"D139210000270","D1","39","2","1","高知県立高知工業高等学校","高知市桟橋通２－１１－６","7808010","2020-12-22","","395556",""]
[{"$f":"INDEX(学校種!B:B,MATCH(D48396,学校種!A:A,0))","v":"専修学校"},{"$f":"INDEX(_tmp2!B:B,MATCH(E48396,_tmp2!A:A,0))","v":"高知県"},"H139310000046","H1","39","3","1","高知文化服装専門学校","高知市上町３－１６－１","7800901","2020-12-22","","398521",""]
[{"$f":"INDEX(学校種!B:B,MATCH(D48412,学校種!A:A,0))","v":"専修学校"},{"$f":"INDEX(_tmp2!B:B,MATCH(E48412,_tmp2!A:A,0))","v":"高知県"},"H139310000206","H1","39","3","1","高知語学＆ビジネス専門学校","高知市鷹匠町１－２－４７","7812123","2020-12-22","","398610",""]
[{"$f":"INDEX(学校種!B:B,MATCH(D48461,学校種!A:A,0))","v":"幼稚園(幼稚園型認定こども園を含む)"},{"$f":"INDEX(_tmp2!B:B,MATCH(E48461,_tmp2!A:A,0))","v":"福岡県"},"A140310000048","A1","40","3","1","愛光幼稚園","北九州市門司区老松町１２－３","8010864","2020-12-22","","406957",""]
[{"$f":"INDEX(学校種!B:B,MATCH(D48473,学校種!A:A,0))","v":"幼稚園(幼稚園型認定こども園を含む)"},{"$f":"INDEX(_tmp2!B:B,MATCH(E48473,_tmp2!A:A,0))","v":"福岡県"},"A140310000164","A1","40","3","1","浜町幼稚園","北九州市若松区北浜１－１－２５","8080023","2020-12-22","","406982",""]
[{"$f":"INDEX(学校種!B:B,MATCH(D48499,学校種!A:A,0))","v":"幼稚園(幼稚園型認定こども園を含む)"},{"$f":"INDEX(_tmp2!B:B,MATCH(E48499,_tmp2!A:A,0))","v":"福岡県"},"A140310000422","A1","40","3","1","光沢寺中井幼稚園","北九州市小倉北区中井２－１７－３６","8030836","2020-12-22","","406977",""]
[{"$f":"INDEX(学校種!B:B,MATCH(D48534,学校種!A:A,0))","v":"幼稚園(幼稚園型認定こども園を含む)"},{"$f":"INDEX(_tmp2!B:B,MATCH(E48534,_tmp2!A:A,0))","v":"福岡県"},"A140310000770","A1","40","3","1","こじか幼稚園","北九州市八幡西区幸神４－１－９","8060055","2020-12-22","","406995",""]
[{"$f":"INDEX(学校種!B:B,MATCH(D48569,学校種!A:A,0))","v":"幼稚園(幼稚園型認定こども園を含む)"},{"$f":"INDEX(_tmp2!B:B,MATCH(E48569,_tmp2!A:A,0))","v":"福岡県"},"A140313000202","A1","40","3","1","吉塚ゆりの樹幼稚園","福岡市博多区吉塚５－５－３９","8120041","2020-12-22","","406602",""]
[{"$f":"INDEX(学校種!B:B,MATCH(D48595,学校種!A:A,0))","v":"幼稚園(幼稚園型認定こども園を含む)"},{"$f":"INDEX(_tmp2!B:B,MATCH(E48595,_tmp2!A:A,0))","v":"福岡県"},"A140313000462","A1","40","3","1","福岡女学院幼稚園","福岡市南区曰佐３－４２－１","8111313","2020-12-22","","406603",""]
[{"$f":"INDEX(学校種!B:B,MATCH(D48624,学校種!A:A,0))","v":"幼稚園(幼稚園型認定こども園を含む)"},{"$f":"INDEX(_tmp2!B:B,MATCH(E48624,_tmp2!A:A,0))","v":"福岡県"},"A140313000756","A1","40","3","1","まつばら幼稚園","福岡市西区今宿１丁目２５番３号","8190167","2020-12-22","","406935",""]
[{"$f":"INDEX(学校種!B:B,MATCH(D48651,学校種!A:A,0))","v":"幼稚園(幼稚園型認定こども園を含む)"},{"$f":"INDEX(_tmp2!B:B,MATCH(E48651,_tmp2!A:A,0))","v":"福岡県"},"A140313001023","A1","40","3","1","高取幼稚園","福岡市早良区昭代２－８－３３","8140012","2020-12-22","","406700",""]
[{"$f":"INDEX(学校種!B:B,MATCH(D48657,学校種!A:A,0))","v":"幼稚園(幼稚園型認定こども園を含む)"},{"$f":"INDEX(_tmp2!B:B,MATCH(E48657,_tmp2!A:A,0))","v":"福岡県"},"A140313001087","A1","40","3","1","原幼稚園","福岡市早良区原２－１３－１１","8140022","2020-12-22","","406946",""]
[{"$f":"INDEX(学校種!B:B,MATCH(D48694,学校種!A:A,0))","v":"幼稚園(幼稚園型認定こども園を含む)"},{"$f":"INDEX(_tmp2!B:B,MATCH(E48694,_tmp2!A:A,0))","v":"福岡県"},"A140320300160","A1","40","3","1","正進幼稚園","久留米市津福今町４７１の１０","8300061","2020-12-22","","407159",""]
[{"$f":"INDEX(学校種!B:B,MATCH(D48718,学校種!A:A,0))","v":"幼稚園(幼稚園型認定こども園を含む)"},{"$f":"INDEX(_tmp2!B:B,MATCH(E48718,_tmp2!A:A,0))","v":"福岡県"},"A140320700013","A1","40","3","1","ポッポ幼稚園","柳川市大字新町５番地の１０","8320032","2020-12-22","","406780",""]
[{"$f":"INDEX(学校種!B:B,MATCH(D48759,学校種!A:A,0))","v":"幼稚園(幼稚園型認定こども園を含む)"},{"$f":"INDEX(_tmp2!B:B,MATCH(E48759,_tmp2!A:A,0))","v":"福岡県"},"A140321800038","A1","40","3","1","認定こども園恵星幼稚園","春日市春日原北町４－２３","8160802","2020-12-22","","407071",""]
[{"$f":"INDEX(学校種!B:B,MATCH(D48775,学校種!A:A,0))","v":"幼稚園(幼稚園型認定こども園を含む)"},{"$f":"INDEX(_tmp2!B:B,MATCH(E48775,_tmp2!A:A,0))","v":"福岡県"},"A140322000043","A1","40","3","1","浄徳寺幼稚園","宗像市光岡６８６番地","8113414","2020-12-22","","407056",""]
[{"$f":"INDEX(学校種!B:B,MATCH(D48797,学校種!A:A,0))","v":"幼稚園(幼稚園型認定こども園を含む)"},{"$f":"INDEX(_tmp2!B:B,MATCH(E48797,_tmp2!A:A,0))","v":"福岡県"},"A140322700046","A1","40","3","1","稲築幼稚園","嘉麻市口春６５０－１０","8200207","2020-12-22","","407122",""]
[{"$f":"INDEX(学校種!B:B,MATCH(D48836,学校種!A:A,0))","v":"幼稚園(幼稚園型認定こども園を含む)"},{"$f":"INDEX(_tmp2!B:B,MATCH(E48836,_tmp2!A:A,0))","v":"福岡県"},"A140344700040","A1","40","3","1","みなみ幼稚園","朝倉郡筑前町野町１４１０","8380815","2020-12-22","","407113",""]
[{"$f":"INDEX(学校種!B:B,MATCH(D48862,学校種!A:A,0))","v":"幼保連携型認定こども園"},{"$f":"INDEX(_tmp2!B:B,MATCH(E48862,_tmp2!A:A,0))","v":"福岡県"},"A240320300052","A2","40","3","1","幼保連携型認定こども園合川幼稚園","久留米市合川町５０２－１","8390861","2020-12-22","","40A036",""]
[{"$f":"INDEX(学校種!B:B,MATCH(D48897,学校種!A:A,0))","v":"幼保連携型認定こども園"},{"$f":"INDEX(_tmp2!B:B,MATCH(E48897,_tmp2!A:A,0))","v":"福岡県"},"A240323000031","A2","40",3,1,"幼保連携型認定こども園福吉保育園","糸島市二丈吉井３５０９－３",8191641,"2021-05-27","","40A076",""]
[{"$f":"INDEX(学校種!B:B,MATCH(D48905,学校種!A:A,0))","v":"幼保連携型認定こども園"},{"$f":"INDEX(_tmp2!B:B,MATCH(E48905,_tmp2!A:A,0))","v":"福岡県"},"A240340200015","A2","40",3,1,"鞍手あゆみこども園","鞍手郡鞍手町中山２２１３－１",8071312,"2021-05-27","","40A080",""]
[{"$f":"INDEX(学校種!B:B,MATCH(D48958,学校種!A:A,0))","v":"小学校"},{"$f":"INDEX(_tmp2!B:B,MATCH(E48958,_tmp2!A:A,0))","v":"福岡県"},"B140210000501","B1","40","2","1","北九州市立日明小学校","北九州市小倉北区日明４－４－１","8030831","2020-12-22","","400265",""]
[{"$f":"INDEX(学校種!B:B,MATCH(D48970,学校種!A:A,0))","v":"小学校"},{"$f":"INDEX(_tmp2!B:B,MATCH(E48970,_tmp2!A:A,0))","v":"福岡県"},"B140210000627","B1","40","2","1","北九州市立城野小学校","北九州市小倉南区富士見３－２－１","8020801","2020-12-22","","400273",""]
[{"$f":"INDEX(学校種!B:B,MATCH(D48991,学校種!A:A,0))","v":"小学校"},{"$f":"INDEX(_tmp2!B:B,MATCH(E48991,_tmp2!A:A,0))","v":"福岡県"},"B140210000832","B1","40","2","1","北九州市立高蔵小学校","北九州市小倉南区上吉田３丁目１１番１号","8000201","2020-12-22","","400302",""]
[{"$f":"INDEX(学校種!B:B,MATCH(D49035,学校種!A:A,0))","v":"小学校"},{"$f":"INDEX(_tmp2!B:B,MATCH(E49035,_tmp2!A:A,0))","v":"福岡県"},"B140210001270","B1","40","2","1","北九州市立八枝小学校","北九州市八幡西区八枝４－５－１","8070856","2020-12-22","","400424",""]
[{"$f":"INDEX(学校種!B:B,MATCH(D49048,学校種!A:A,0))","v":"小学校"},{"$f":"INDEX(_tmp2!B:B,MATCH(E49048,_tmp2!A:A,0))","v":"福岡県"},"B140213000113","B1","40","2","1","福岡市立千早小学校","福岡市東区千早３－１３－１","8130044","2020-12-22","","400081",""]
[{"$f":"INDEX(学校種!B:B,MATCH(D49073,学校種!A:A,0))","v":"小学校"},{"$f":"INDEX(_tmp2!B:B,MATCH(E49073,_tmp2!A:A,0))","v":"福岡県"},"B140213000364","B1","40","2","1","福岡市立席田小学校","福岡市博多区空港前４ー１７ー１","8120002","2020-12-22","","400034",""]
[{"$f":"INDEX(学校種!B:B,MATCH(D49109,学校種!A:A,0))","v":"小学校"},{"$f":"INDEX(_tmp2!B:B,MATCH(E49109,_tmp2!A:A,0))","v":"福岡県"},"B140213000729","B1","40","2","1","福岡市立西花畑小学校","福岡市南区桧原２－２０－１","8111355","2020-12-22","","400089",""]
[{"$f":"INDEX(学校種!B:B,MATCH(D49138,学校種!A:A,0))","v":"小学校"},{"$f":"INDEX(_tmp2!B:B,MATCH(E49138,_tmp2!A:A,0))","v":"福岡県"},"B140213001014","B1","40","2","1","福岡市立壱岐東小学校","福岡市西区橋本１－１４－１","8190031","2020-12-22","","400120",""]
[{"$f":"INDEX(学校種!B:B,MATCH(D49160,学校種!A:A,0))","v":"小学校"},{"$f":"INDEX(_tmp2!B:B,MATCH(E49160,_tmp2!A:A,0))","v":"福岡県"},"B140213001238","B1","40","2","1","福岡市立高取小学校","福岡市早良区昭代２－１５－５１","8140012","2020-12-22","","400044",""]
[{"$f":"INDEX(学校種!B:B,MATCH(D49199,学校種!A:A,0))","v":"小学校"},{"$f":"INDEX(_tmp2!B:B,MATCH(E49199,_tmp2!A:A,0))","v":"福岡県"},"B140220200170","B1","40","2","1","大牟田市立天の原小学校","大牟田市笹原町３－１１６","8360884","2020-12-22","","400731",""]
[{"$f":"INDEX(学校種!B:B,MATCH(D49225,学校種!A:A,0))","v":"小学校"},{"$f":"INDEX(_tmp2!B:B,MATCH(E49225,_tmp2!A:A,0))","v":"福岡県"},"B140220300240","B1","40","2","1","久留米市立善導寺小学校","久留米市善導寺町与田４５０","8390823","2020-12-22","","400625",""]
[{"$f":"INDEX(学校種!B:B,MATCH(D49260,学校種!A:A,0))","v":"小学校"},{"$f":"INDEX(_tmp2!B:B,MATCH(E49260,_tmp2!A:A,0))","v":"福岡県"},"B140220500024","B1","40","2","1","飯塚市立菰田小学校","飯塚市菰田東２丁目１９番５号","8200016","2020-12-22","","400552",""]
[{"$f":"INDEX(学校種!B:B,MATCH(D49268,学校種!A:A,0))","v":"小学校"},{"$f":"INDEX(_tmp2!B:B,MATCH(E49268,_tmp2!A:A,0))","v":"福岡県"},"B140220500104","B1","40","2","1","飯塚市立庄内小学校","飯塚市有安１－２２","8200111","2020-12-22","","402241",""]
[{"$f":"INDEX(学校種!B:B,MATCH(D49293,学校種!A:A,0))","v":"小学校"},{"$f":"INDEX(_tmp2!B:B,MATCH(E49293,_tmp2!A:A,0))","v":"福岡県"},"B140220700077","B1","40","2","1","柳川市立昭代第二小学校","柳川市西浜武１４９０","8320081","2020-12-22","","400857",""]
[{"$f":"INDEX(学校種!B:B,MATCH(D49333,学校種!A:A,0))","v":"小学校"},{"$f":"INDEX(_tmp2!B:B,MATCH(E49333,_tmp2!A:A,0))","v":"福岡県"},"B140221200034","B1","40","2","1","大川市立三又小学校","大川市大字中古賀１９８","8310006","2020-12-22","","401103",""]
[{"$f":"INDEX(学校種!B:B,MATCH(D49350,学校種!A:A,0))","v":"小学校"},{"$f":"INDEX(_tmp2!B:B,MATCH(E49350,_tmp2!A:A,0))","v":"福岡県"},"B140221400014","B1","40","2","1","豊前市立八屋小学校","豊前市大字八屋２２３２－１","8280021","2020-12-22","","401201",""]
[{"$f":"INDEX(学校種!B:B,MATCH(D49398,学校種!A:A,0))","v":"小学校"},{"$f":"INDEX(_tmp2!B:B,MATCH(E49398,_tmp2!A:A,0))","v":"福岡県"},"B140221900028","B1","40","2","1","大野城市立大野北小学校","大野城市山田４－１７－１","8160922","2020-12-22","","402332",""]
[{"$f":"INDEX(学校種!B:B,MATCH(D49411,学校種!A:A,0))","v":"小学校"},{"$f":"INDEX(_tmp2!B:B,MATCH(E49411,_tmp2!A:A,0))","v":"福岡県"},"B140222000052","B1","40","2","1","宗像市立東郷小学校","宗像市田熊３－４－１","8113431","2020-12-22","","402075",""]
[{"$f":"INDEX(学校種!B:B,MATCH(D49436,学校種!A:A,0))","v":"小学校"},{"$f":"INDEX(_tmp2!B:B,MATCH(E49436,_tmp2!A:A,0))","v":"福岡県"},"B140222400012","B1","40","2","1","福津市立神興小学校","福津市東福間６－４－１","8113225","2020-12-22","","402081",""]
[{"$f":"INDEX(学校種!B:B,MATCH(D49472,学校種!A:A,0))","v":"小学校"},{"$f":"INDEX(_tmp2!B:B,MATCH(E49472,_tmp2!A:A,0))","v":"福岡県"},"B140222800107","B1","40","2","1","朝倉市立大福小学校","朝倉市大庭３５９４","8381316","2020-12-22","","402302",""]
[{"$f":"INDEX(学校種!B:B,MATCH(D49506,学校種!A:A,0))","v":"小学校"},{"$f":"INDEX(_tmp2!B:B,MATCH(E49506,_tmp2!A:A,0))","v":"福岡県"},"B140223100077","B1","40","2","1","片縄小学校","那珂川市片縄北１－１５－１","8111203","2020-12-22","","402377",""]
[{"$f":"INDEX(学校種!B:B,MATCH(D49533,学校種!A:A,0))","v":"小学校"},{"$f":"INDEX(_tmp2!B:B,MATCH(E49533,_tmp2!A:A,0))","v":"福岡県"},"B140234900030","B1","40","2","1","粕屋町立粕屋西小学校","糟屋郡粕屋町仲原２４４５","8112304","2020-12-22","","402003",""]
[{"$f":"INDEX(学校種!B:B,MATCH(D49544,学校種!A:A,0))","v":"小学校"},{"$f":"INDEX(_tmp2!B:B,MATCH(E49544,_tmp2!A:A,0))","v":"福岡県"},"B140238300028","B1","40","2","1","岡垣町立吉木小学校","遠賀郡岡垣町吉木西１－１７－５","8114242","2020-12-22","","402122",""]
[{"$f":"INDEX(学校種!B:B,MATCH(D49566,学校種!A:A,0))","v":"小学校"},{"$f":"INDEX(_tmp2!B:B,MATCH(E49566,_tmp2!A:A,0))","v":"福岡県"},"B140244800012","B1","40","2","1","東峰村立東峰小学校","朝倉郡東峰村福井２２９６－４","8381702","2020-12-22","","402281",""]
[{"$f":"INDEX(学校種!B:B,MATCH(D49609,学校種!A:A,0))","v":"小学校"},{"$f":"INDEX(_tmp2!B:B,MATCH(E49609,_tmp2!A:A,0))","v":"福岡県"},"B140262500053","B1","40","2","1","みやこ町立豊津小学校","京都郡みやこ町豊津９ー１","8240121","2020-12-22","","402742",""]
[{"$f":"INDEX(学校種!B:B,MATCH(D49623,学校種!A:A,0))","v":"小学校"},{"$f":"INDEX(_tmp2!B:B,MATCH(E49623,_tmp2!A:A,0))","v":"福岡県"},"B140264700066","B1","40","2","1","築上町立葛城小学校","築上郡築上町水原７７","8290333","2020-12-22","","402773",""]
[{"$f":"INDEX(学校種!B:B,MATCH(D49656,学校種!A:A,0))","v":"中学校"},{"$f":"INDEX(_tmp2!B:B,MATCH(E49656,_tmp2!A:A,0))","v":"福岡県"},"C140210000199","C1","40","2","1","北九州市立足立中学校","北九州市小倉北区萩崎町３番１号","8020066","2020-12-22","","403691",""]
[{"$f":"INDEX(学校種!B:B,MATCH(D49696,学校種!A:A,0))","v":"中学校"},{"$f":"INDEX(_tmp2!B:B,MATCH(E49696,_tmp2!A:A,0))","v":"福岡県"},"C140210000590","C1","40","2","1","北九州市立永犬丸中学校","北九州市八幡西区永犬丸４－５－１","8070851","2020-12-22","","403790",""]
[{"$f":"INDEX(学校種!B:B,MATCH(D49713,学校種!A:A,0))","v":"中学校"},{"$f":"INDEX(_tmp2!B:B,MATCH(E49713,_tmp2!A:A,0))","v":"福岡県"},"C140213000139","C1","40","2","1","福岡市立箱崎清松中学校","福岡市東区松田２－３－１","8120064","2020-12-22","","403578",""]
[{"$f":"INDEX(学校種!B:B,MATCH(D49734,学校種!A:A,0))","v":"中学校"},{"$f":"INDEX(_tmp2!B:B,MATCH(E49734,_tmp2!A:A,0))","v":"福岡県"},"C140213000344","C1","40","2","1","福岡市立花畑中学校","福岡市南区桧原２－２１－１","8111355","2020-12-22","","403533",""]
[{"$f":"INDEX(学校種!B:B,MATCH(D49774,学校種!A:A,0))","v":"中学校"},{"$f":"INDEX(_tmp2!B:B,MATCH(E49774,_tmp2!A:A,0))","v":"福岡県"},"C140220200052","C1","40","2","1","大牟田市立橘中学校","大牟田市大字橘６６４番地１","8370911","2020-12-22","","403970",""]
[{"$f":"INDEX(学校種!B:B,MATCH(D49799,学校種!A:A,0))","v":"中学校"},{"$f":"INDEX(_tmp2!B:B,MATCH(E49799,_tmp2!A:A,0))","v":"福岡県"},"C140220500013","C1","40","2","1","飯塚市立飯塚第一中学校","飯塚市新立岩１６－１８","8200004","2020-12-22","","403881",""]
[{"$f":"INDEX(学校種!B:B,MATCH(D49835,学校種!A:A,0))","v":"中学校"},{"$f":"INDEX(_tmp2!B:B,MATCH(E49835,_tmp2!A:A,0))","v":"福岡県"},"C140221200014","C1","40","2","1","大川桐英中学校","大川市大字向島１８５０","8310005","2020-12-22","","404135",""]
[{"$f":"INDEX(学校種!B:B,MATCH(D49842,学校種!A:A,0))","v":"中学校"},{"$f":"INDEX(_tmp2!B:B,MATCH(E49842,_tmp2!A:A,0))","v":"福岡県"},"C140221300068","C1","40","2","1","行橋市立長峡中学校","行橋市大字延永６番地","8240068","2020-12-22","","404156",""]
[{"$f":"INDEX(学校種!B:B,MATCH(D49868,学校種!A:A,0))","v":"中学校"},{"$f":"INDEX(_tmp2!B:B,MATCH(E49868,_tmp2!A:A,0))","v":"福岡県"},"C140221900026","C1","40","2","1","大野城市立大野東中学校","大野城市乙金台２－５－１","8160903","2020-12-22","","404622",""]
[{"$f":"INDEX(学校種!B:B,MATCH(D49907,学校種!A:A,0))","v":"中学校"},{"$f":"INDEX(_tmp2!B:B,MATCH(E49907,_tmp2!A:A,0))","v":"福岡県"},"C140222900042","C1","40","2","1","みやま市立高田中学校","みやま市高田町岩津３２６","8390223","2020-12-22","","404788",""]
[{"$f":"INDEX(学校種!B:B,MATCH(D49929,学校種!A:A,0))","v":"中学校"},{"$f":"INDEX(_tmp2!B:B,MATCH(E49929,_tmp2!A:A,0))","v":"福岡県"},"C140234500023","C1","40","2","2","新宮町立新宮中学校相島分校","糟屋郡新宮町相島７３５","8110118","2020-12-22","","404447",""]
[{"$f":"INDEX(学校種!B:B,MATCH(D49972,学校種!A:A,0))","v":"中学校"},{"$f":"INDEX(_tmp2!B:B,MATCH(E49972,_tmp2!A:A,0))","v":"福岡県"},"C140310000035","C1","40","3","1","西南女学院中学校","北九州市小倉北区上到津１－１０－１","8030845","2020-12-22","","405010",""]
[{"$f":"INDEX(学校種!B:B,MATCH(D49986,学校種!A:A,0))","v":"中学校"},{"$f":"INDEX(_tmp2!B:B,MATCH(E49986,_tmp2!A:A,0))","v":"福岡県"},"C140313000093","C1","40","3","1","中村学園三陽中学校","福岡市西区今宿青木１０４２－３３","8190162","2020-12-22","","405016",""]
[{"$f":"INDEX(学校種!B:B,MATCH(D50010,学校種!A:A,0))","v":"高等学校"},{"$f":"INDEX(_tmp2!B:B,MATCH(E50010,_tmp2!A:A,0))","v":"福岡県"},"D140210000099","D1","40","2","1","福岡県立小倉高等学校","北九州市小倉北区愛宕２－８－１","8030828","2020-12-22","","405525",""]
[{"$f":"INDEX(学校種!B:B,MATCH(D50047,学校種!A:A,0))","v":"高等学校"},{"$f":"INDEX(_tmp2!B:B,MATCH(E50047,_tmp2!A:A,0))","v":"福岡県"},"D140220300013","D1","40","2","1","福岡県立久留米筑水高等学校","久留米市山川町１４９３番地","8390817","2020-12-22","","405559",""]
[{"$f":"INDEX(学校種!B:B,MATCH(D50080,学校種!A:A,0))","v":"高等学校"},{"$f":"INDEX(_tmp2!B:B,MATCH(E50080,_tmp2!A:A,0))","v":"福岡県"},"D140222100011","D1","40","2","1","福岡県立福岡農業高等学校","太宰府市大佐野２５０","8180134","2020-12-22","","405554",""]
[{"$f":"INDEX(学校種!B:B,MATCH(D50108,学校種!A:A,0))","v":"高等学校"},{"$f":"INDEX(_tmp2!B:B,MATCH(E50108,_tmp2!A:A,0))","v":"福岡県"},"D140310000024","D1","40","3","1","敬愛高等学校","北九州市門司区別院６－１","8000035","2020-12-22","","406021",""]
[{"$f":"INDEX(学校種!B:B,MATCH(D50118,学校種!A:A,0))","v":"高等学校"},{"$f":"INDEX(_tmp2!B:B,MATCH(E50118,_tmp2!A:A,0))","v":"福岡県"},"D140310000122","D1","40","3","1","折尾愛真高等学校","北九州市八幡西区堀川町１２－１０","8070861","2020-12-22","","406032",""]
[{"$f":"INDEX(学校種!B:B,MATCH(D50169,学校種!A:A,0))","v":"中等教育学校"},{"$f":"INDEX(_tmp2!B:B,MATCH(E50169,_tmp2!A:A,0))","v":"福岡県"},"D240321700014","D2","40","3","1","リンデンホールスクール中高学部","筑紫野市二日市北３－１０－１","8180056","2020-12-22","","409791",""]
[{"$f":"INDEX(学校種!B:B,MATCH(D50198,学校種!A:A,0))","v":"特別支援学校"},{"$f":"INDEX(_tmp2!B:B,MATCH(E50198,_tmp2!A:A,0))","v":"福岡県"},"E140221600015","E1","40","2","1","福岡県立小郡特別支援学校","小郡市下岩田２３４１－３","8380123","2020-12-22","","409918",""]
[{"$f":"INDEX(学校種!B:B,MATCH(D50205,学校種!A:A,0))","v":"特別支援学校"},{"$f":"INDEX(_tmp2!B:B,MATCH(E50205,_tmp2!A:A,0))","v":"福岡県"},"E140234500019","E1","40","2","1","福岡県立福岡特別支援学校","糟屋郡新宮町緑ヶ浜４－１－１","8110119","2020-12-22","","409911",""]
[{"$f":"INDEX(学校種!B:B,MATCH(D50231,学校種!A:A,0))","v":"専修学校"},{"$f":"INDEX(_tmp2!B:B,MATCH(E50231,_tmp2!A:A,0))","v":"福岡県"},"H140310000221","H1","40","3","1","九州医療スポーツ専門学校","北九州市小倉北区馬借１－１－２","8020077","2020-12-22","","408832",""]
[{"$f":"INDEX(学校種!B:B,MATCH(D50270,学校種!A:A,0))","v":"専修学校"},{"$f":"INDEX(_tmp2!B:B,MATCH(E50270,_tmp2!A:A,0))","v":"福岡県"},"H140313000270","H1","40","3","1","福岡スクールオブミュージック＆ダンス専門学校","福岡市博多区石城町２１－２","8120032","2020-12-22","","408788",""]
[{"$f":"INDEX(学校種!B:B,MATCH(D50288,学校種!A:A,0))","v":"専修学校"},{"$f":"INDEX(_tmp2!B:B,MATCH(E50288,_tmp2!A:A,0))","v":"福岡県"},"H140313000458","H1","40","3","1","福岡ウェディング＆ホテル・ＩＲ専門学校","福岡市博多区石城町２０－９","8120032","2020-12-22","","408848",""]
[{"$f":"INDEX(学校種!B:B,MATCH(D50335,学校種!A:A,0))","v":"専修学校"},{"$f":"INDEX(_tmp2!B:B,MATCH(E50335,_tmp2!A:A,0))","v":"福岡県"},"H140320300058","H1","40","3","1","久留米歯科衛生専門学校","久留米市櫛原町９８","8300013","2020-12-22","","408709",""]
[{"$f":"INDEX(学校種!B:B,MATCH(D50349,学校種!A:A,0))","v":"専修学校"},{"$f":"INDEX(_tmp2!B:B,MATCH(E50349,_tmp2!A:A,0))","v":"福岡県"},"H140320700027","H1","40","3","1","専門学校柳川リハビリテーション学院","柳川市上宮永町１１６－１","8320058","2020-12-22","","408760",""]
[{"$f":"INDEX(学校種!B:B,MATCH(D50373,学校種!A:A,0))","v":"各種学校"},{"$f":"INDEX(_tmp2!B:B,MATCH(E50373,_tmp2!A:A,0))","v":"福岡県"},"H240210000017","H2","40","2","9","北九州市立高等理容美容学校","北九州市八幡東区西本町２－２－１","8050061","2020-12-22","2021-05-27","409113",""]
[{"$f":"INDEX(学校種!B:B,MATCH(D50410,学校種!A:A,0))","v":"幼稚園(幼稚園型認定こども園を含む)"},{"$f":"INDEX(_tmp2!B:B,MATCH(E50410,_tmp2!A:A,0))","v":"佐賀県"},"A141320100107","A1","41","3","1","千布幼稚園","佐賀市金立町大字千布２１４２－１","8490905","2020-12-22","","416661",""]
[{"$f":"INDEX(学校種!B:B,MATCH(D50443,学校種!A:A,0))","v":"幼稚園(幼稚園型認定こども園を含む)"},{"$f":"INDEX(_tmp2!B:B,MATCH(E50443,_tmp2!A:A,0))","v":"佐賀県"},"A141334600023","A1","41","3","1","松若幼稚園","三養基郡みやき町大字東尾２７９８","8490113","2020-12-22","","416714",""]
[{"$f":"INDEX(学校種!B:B,MATCH(D50471,学校種!A:A,0))","v":"幼保連携型認定こども園"},{"$f":"INDEX(_tmp2!B:B,MATCH(E50471,_tmp2!A:A,0))","v":"佐賀県"},"A241320200043","A2","41","3","1","昭和幼稚園・なかよし保育園","唐津市北城内４ー３","8470015","2020-12-22","","41A039",""]
[{"$f":"INDEX(学校種!B:B,MATCH(D50481,学校種!A:A,0))","v":"幼保連携型認定こども園"},{"$f":"INDEX(_tmp2!B:B,MATCH(E50481,_tmp2!A:A,0))","v":"佐賀県"},"A241320300033","A2","41","3","1","幼保連携型認定こども園鳥栖カトリック幼稚園","鳥栖市本通町１丁目８６４番地８","8410033","2020-12-22","","41A078",""]
[{"$f":"INDEX(学校種!B:B,MATCH(D50504,学校種!A:A,0))","v":"幼保連携型認定こども園"},{"$f":"INDEX(_tmp2!B:B,MATCH(E50504,_tmp2!A:A,0))","v":"佐賀県"},"A241320900037","A2","41","3","1","認定こども園嬉野幼稚園","嬉野市嬉野町大字下野甲１１５の１９","8430302","2020-12-22","","41A083",""]
[{"$f":"INDEX(学校種!B:B,MATCH(D50546,学校種!A:A,0))","v":"小学校"},{"$f":"INDEX(_tmp2!B:B,MATCH(E50546,_tmp2!A:A,0))","v":"佐賀県"},"B141220100241","B1","41","2","1","佐賀市立南川副小学校","佐賀市川副町大字鹿江６７４","8402213","2020-12-22","","410205",""]
[{"$f":"INDEX(学校種!B:B,MATCH(D50561,学校種!A:A,0))","v":"小学校"},{"$f":"INDEX(_tmp2!B:B,MATCH(E50561,_tmp2!A:A,0))","v":"佐賀県"},"B141220200044","B1","41","2","1","唐津市立西唐津小学校","唐津市二タ子２丁目６－１２０","8470861","2020-12-22","","410122",""]
[{"$f":"INDEX(学校種!B:B,MATCH(D50584,学校種!A:A,0))","v":"小学校"},{"$f":"INDEX(_tmp2!B:B,MATCH(E50584,_tmp2!A:A,0))","v":"佐賀県"},"B141220200277","B1","41","2","1","唐津市立馬渡小学校","唐津市鎮西町馬渡島４１","8470405","2020-12-22","","410637",""]
[{"$f":"INDEX(学校種!B:B,MATCH(D50622,学校種!A:A,0))","v":"小学校"},{"$f":"INDEX(_tmp2!B:B,MATCH(E50622,_tmp2!A:A,0))","v":"佐賀県"},"B141220600077","B1","41","2","1","武雄市立橘小学校","武雄市橘町大字片白８７１８番地１","8430012","2020-12-22","","410181",""]
[{"$f":"INDEX(学校種!B:B,MATCH(D50654,学校種!A:A,0))","v":"小学校"},{"$f":"INDEX(_tmp2!B:B,MATCH(E50654,_tmp2!A:A,0))","v":"佐賀県"},"B141220900092","B1","41","2","1","嬉野市立轟小学校","嬉野市嬉野町岩屋川内乙２５９７","8430304","2020-12-22","","410921",""]
[{"$f":"INDEX(学校種!B:B,MATCH(D50683,学校種!A:A,0))","v":"小学校"},{"$f":"INDEX(_tmp2!B:B,MATCH(E50683,_tmp2!A:A,0))","v":"佐賀県"},"B141242500081","B1","41","2","1","白石町立有明南小学校","杵島郡白石町大字深浦５５８１番地１","8491207","2020-12-22","","410820",""]
[{"$f":"INDEX(学校種!B:B,MATCH(D50712,学校種!A:A,0))","v":"中学校"},{"$f":"INDEX(_tmp2!B:B,MATCH(E50712,_tmp2!A:A,0))","v":"佐賀県"},"C141220200088","C1","41","2","1","唐津市立浜玉中学校","唐津市浜玉町大江６－１","8495103","2020-12-22","","413691",""]
[{"$f":"INDEX(学校種!B:B,MATCH(D50736,学校種!A:A,0))","v":"中学校"},{"$f":"INDEX(_tmp2!B:B,MATCH(E50736,_tmp2!A:A,0))","v":"佐賀県"},"C141220600020","C1","41","2","1","武雄市立川登中学校","武雄市東川登町袴野１６０８２","8430234","2020-12-22","","413640",""]
[{"$f":"INDEX(学校種!B:B,MATCH(D50773,学校種!A:A,0))","v":"中学校"},{"$f":"INDEX(_tmp2!B:B,MATCH(E50773,_tmp2!A:A,0))","v":"佐賀県"},"C141320100023","C1","41","3","1","龍谷中学校","佐賀市水ヶ江３－１－２５","8400054","2020-12-22","","414602",""]
[{"$f":"INDEX(学校種!B:B,MATCH(D50779,学校種!A:A,0))","v":"義務教育学校"},{"$f":"INDEX(_tmp2!B:B,MATCH(E50779,_tmp2!A:A,0))","v":"佐賀県"},"C241220400021","C2","41","2","1","多久市立東原庠舎東部校","多久市東多久町別府3182","8460012","2020-12-22","","41C013",""]
[{"$f":"INDEX(学校種!B:B,MATCH(D50806,学校種!A:A,0))","v":"高等学校"},{"$f":"INDEX(_tmp2!B:B,MATCH(E50806,_tmp2!A:A,0))","v":"佐賀県"},"D141290000232","D1","41","2","1","佐賀県立佐賀商業高等学校","佐賀市神野東４－１２－４０","8400804","2020-12-22","","416029",""]
[{"$f":"INDEX(学校種!B:B,MATCH(D50844,学校種!A:A,0))","v":"専修学校"},{"$f":"INDEX(_tmp2!B:B,MATCH(E50844,_tmp2!A:A,0))","v":"佐賀県"},"H141320100031","H1","41","3","1","佐賀工業専門学校","佐賀市高木瀬西３－７－１","8490921","2020-12-22","","418619",""]
[{"$f":"INDEX(学校種!B:B,MATCH(D50863,学校種!A:A,0))","v":"専修学校"},{"$f":"INDEX(_tmp2!B:B,MATCH(E50863,_tmp2!A:A,0))","v":"佐賀県"},"H141320300048","H1","41","3","1","アカデミー看護専門学校","鳥栖市田代外町１５２６－１","8410016","2020-12-22","","418641",""]
[{"$f":"INDEX(学校種!B:B,MATCH(D50909,学校種!A:A,0))","v":"幼稚園(幼稚園型認定こども園を含む)"},{"$f":"INDEX(_tmp2!B:B,MATCH(E50909,_tmp2!A:A,0))","v":"長崎県"},"A142310000135","A1","42","3","1","聖アントニオ幼稚園","長崎市三原２－２３－９","8528123","2020-12-22","","426581",""]
[{"$f":"INDEX(学校種!B:B,MATCH(D50924,学校種!A:A,0))","v":"幼稚園(幼稚園型認定こども園を含む)"},{"$f":"INDEX(_tmp2!B:B,MATCH(E50924,_tmp2!A:A,0))","v":"長崎県"},"A142310000288","A1","42","3","1","深信幼稚園","佐世保市城間町３０５番地ー２","8593237","2020-12-22","","426612",""]
[{"$f":"INDEX(学校種!B:B,MATCH(D50947,学校種!A:A,0))","v":"幼稚園(幼稚園型認定こども園を含む)"},{"$f":"INDEX(_tmp2!B:B,MATCH(E50947,_tmp2!A:A,0))","v":"長崎県"},"A142310000518","A1","42","3","1","南島原はらじょうこども園","南島原市南有馬町乙４３２番地","8592412","2020-12-22","","426662",""]
[{"$f":"INDEX(学校種!B:B,MATCH(D50985,学校種!A:A,0))","v":"幼保連携型認定こども園"},{"$f":"INDEX(_tmp2!B:B,MATCH(E50985,_tmp2!A:A,0))","v":"長崎県"},"A242210000065","A2","42",2,1,"西海市立大島こども園","西海市大島町１９２２－３０",8572413,"2021-05-27","","42A127",""]
[{"$f":"INDEX(学校種!B:B,MATCH(D51017,学校種!A:A,0))","v":"幼保連携型認定こども園"},{"$f":"INDEX(_tmp2!B:B,MATCH(E51017,_tmp2!A:A,0))","v":"長崎県"},"A242310000321","A2","42","3","1","幼保連携型認定こども園赤崎青い実幼児園","佐世保市赤崎町５９６－２０","8570064","2020-12-22","","42A054",""]
[{"$f":"INDEX(学校種!B:B,MATCH(D51046,学校種!A:A,0))","v":"幼保連携型認定こども園"},{"$f":"INDEX(_tmp2!B:B,MATCH(E51046,_tmp2!A:A,0))","v":"長崎県"},"A242310000615","A2","42","3","1","認定こども園中央こども園","長崎市琴海戸根町２５７３－１","8513103","2020-12-22","","42A084",""]
[{"$f":"INDEX(学校種!B:B,MATCH(D51055,学校種!A:A,0))","v":"幼保連携型認定こども園"},{"$f":"INDEX(_tmp2!B:B,MATCH(E51055,_tmp2!A:A,0))","v":"長崎県"},"A242310000704","A2","42","3","1","幼保連携型ローザ認定こども園","長崎市本原町３－２７","8528133","2020-12-22","","42A094",""]
[{"$f":"INDEX(学校種!B:B,MATCH(D51079,学校種!A:A,0))","v":"幼保連携型認定こども園"},{"$f":"INDEX(_tmp2!B:B,MATCH(E51079,_tmp2!A:A,0))","v":"長崎県"},"A242310000946","A2","42",3,1,"幼保連携型認定こども園瀬川こども園","西海市西海町丹納郷２７６６－５",8513501,"2021-05-27","","42A121",""]
[{"$f":"INDEX(学校種!B:B,MATCH(D51120,学校種!A:A,0))","v":"小学校"},{"$f":"INDEX(_tmp2!B:B,MATCH(E51120,_tmp2!A:A,0))","v":"長崎県"},"B142210000359","B1","42","2","1","長崎市立北陽小学校","長崎市滑石４丁目４番８号","8528062","2020-12-22","","420062",""]
[{"$f":"INDEX(学校種!B:B,MATCH(D51136,学校種!A:A,0))","v":"小学校"},{"$f":"INDEX(_tmp2!B:B,MATCH(E51136,_tmp2!A:A,0))","v":"長崎県"},"B142210000518","B1","42","2","1","佐世保市立山手小学校","佐世保市山手町１６－３８","8570022","2020-12-22","","420082",""]
[{"$f":"INDEX(学校種!B:B,MATCH(D51185,学校種!A:A,0))","v":"小学校"},{"$f":"INDEX(_tmp2!B:B,MATCH(E51185,_tmp2!A:A,0))","v":"長崎県"},"B142210001009","B1","42","2","1","五島市立本山小学校","五島市堤町１３４１","8530044","2020-12-22","","420151",""]
[{"$f":"INDEX(学校種!B:B,MATCH(D51197,学校種!A:A,0))","v":"小学校"},{"$f":"INDEX(_tmp2!B:B,MATCH(E51197,_tmp2!A:A,0))","v":"長崎県"},"B142210001125","B1","42","2","1","平戸市立度島小学校","平戸市度島町１０８２","8595101","2020-12-22","","420181",""]
[{"$f":"INDEX(学校種!B:B,MATCH(D51226,学校種!A:A,0))","v":"小学校"},{"$f":"INDEX(_tmp2!B:B,MATCH(E51226,_tmp2!A:A,0))","v":"長崎県"},"B142210001410","B1","42","2","1","西海市立大島西小学校","西海市大島町８５４４－２","8572426","2020-12-22","","420226",""]
[{"$f":"INDEX(学校種!B:B,MATCH(D51245,学校種!A:A,0))","v":"小学校"},{"$f":"INDEX(_tmp2!B:B,MATCH(E51245,_tmp2!A:A,0))","v":"長崎県"},"B142210001606","B1","42","2","1","諫早市立飯盛西小学校","諫早市飯盛町里６２０番地","8541123","2020-12-22","","420264",""]
[{"$f":"INDEX(学校種!B:B,MATCH(D51287,学校種!A:A,0))","v":"小学校"},{"$f":"INDEX(_tmp2!B:B,MATCH(E51287,_tmp2!A:A,0))","v":"長崎県"},"B142210002026","B1","42","2","1","小値賀町立小値賀小学校","北松浦郡小値賀町中村郷７１－２","8574703","2020-12-22","","420348",""]
[{"$f":"INDEX(学校種!B:B,MATCH(D51310,学校種!A:A,0))","v":"小学校"},{"$f":"INDEX(_tmp2!B:B,MATCH(E51310,_tmp2!A:A,0))","v":"長崎県"},"B142210002259","B1","42","2","9","新上五島町立浜ノ浦小学校","南松浦郡新上五島町続浜ノ浦郷１６８－１","8574415","2020-12-22","2021-05-27","420419",""]
[{"$f":"INDEX(学校種!B:B,MATCH(D51348,学校種!A:A,0))","v":"小学校"},{"$f":"INDEX(_tmp2!B:B,MATCH(E51348,_tmp2!A:A,0))","v":"長崎県"},"B142210002632","B1","42","2","1","対馬市立仁田小学校","対馬市上県町樫滝３２６","8171522","2020-12-22","","420499",""]
[{"$f":"INDEX(学校種!B:B,MATCH(D51380,学校種!A:A,0))","v":"小学校"},{"$f":"INDEX(_tmp2!B:B,MATCH(E51380,_tmp2!A:A,0))","v":"長崎県"},"B142210002954","B1","42","2","1","佐世保市立大塔小学校","佐世保市もみじが丘町６７４５","8571153","2020-12-22","","420548",""]
[{"$f":"INDEX(学校種!B:B,MATCH(D51409,学校種!A:A,0))","v":"小学校"},{"$f":"INDEX(_tmp2!B:B,MATCH(E51409,_tmp2!A:A,0))","v":"長崎県"},"B142310000044","B1","42","3","1","精道三川台小学校","長崎市三川町１２３４－１","8528121","2020-12-22","","420544",""]
[{"$f":"INDEX(学校種!B:B,MATCH(D51418,学校種!A:A,0))","v":"中学校"},{"$f":"INDEX(_tmp2!B:B,MATCH(E51418,_tmp2!A:A,0))","v":"長崎県"},"C142210000062","C1","42","2","1","長崎市立大浦中学校","長崎市高丘２－６－１","8500941","2020-12-22","","423516",""]
[{"$f":"INDEX(学校種!B:B,MATCH(D51442,学校種!A:A,0))","v":"中学校"},{"$f":"INDEX(_tmp2!B:B,MATCH(E51442,_tmp2!A:A,0))","v":"長崎県"},"C142210000302","C1","42","2","1","佐世保市立福石中学校","佐世保市干尽町２－１０","8570852","2020-12-22","","423547",""]
[{"$f":"INDEX(学校種!B:B,MATCH(D51483,学校種!A:A,0))","v":"中学校"},{"$f":"INDEX(_tmp2!B:B,MATCH(E51483,_tmp2!A:A,0))","v":"長崎県"},"C142210000712","C1","42","2","1","長崎市立伊王島中学校","長崎市伊王島町１丁目甲３２７３","8511201","2020-12-22","","423598",""]
[{"$f":"INDEX(学校種!B:B,MATCH(D51499,学校種!A:A,0))","v":"中学校"},{"$f":"INDEX(_tmp2!B:B,MATCH(E51499,_tmp2!A:A,0))","v":"長崎県"},"C142210000874","C1","42","2","1","波佐見町立波佐見中学校","東彼杵郡波佐見町折敷瀬郷１９９９","8593701","2020-12-22","","423630",""]
[{"$f":"INDEX(学校種!B:B,MATCH(D51521,学校種!A:A,0))","v":"中学校"},{"$f":"INDEX(_tmp2!B:B,MATCH(E51521,_tmp2!A:A,0))","v":"長崎県"},"C142210001098","C1","42","2","1","平戸市立生月中学校","平戸市生月町山田免２４５１ー１","8595704","2020-12-22","","423657",""]
[{"$f":"INDEX(学校種!B:B,MATCH(D51560,学校種!A:A,0))","v":"中学校"},{"$f":"INDEX(_tmp2!B:B,MATCH(E51560,_tmp2!A:A,0))","v":"長崎県"},"C142210001481","C1","42","2","1","大村市立大村中学校","大村市赤佐古町７８","8560048","2020-12-22","","423777",""]
[{"$f":"INDEX(学校種!B:B,MATCH(D51591,学校種!A:A,0))","v":"中学校"},{"$f":"INDEX(_tmp2!B:B,MATCH(E51591,_tmp2!A:A,0))","v":"長崎県"},"C142310000088","C1","42","3","1","聖和女子学院中学校","佐世保市松山町４９５","8570015","2020-12-22","","423761",""]
[{"$f":"INDEX(学校種!B:B,MATCH(D51621,学校種!A:A,0))","v":"高等学校"},{"$f":"INDEX(_tmp2!B:B,MATCH(E51621,_tmp2!A:A,0))","v":"長崎県"},"D142210000202","D1","42","2","1","長崎県立口加高等学校","南島原市口之津町甲３２７２","8592502","2020-12-22","","425535",""]
[{"$f":"INDEX(学校種!B:B,MATCH(D51656,学校種!A:A,0))","v":"高等学校"},{"$f":"INDEX(_tmp2!B:B,MATCH(E51656,_tmp2!A:A,0))","v":"長崎県"},"D142210000550","D1","42","2","1","長崎県立西陵高等学校","諫早市多良見町化屋１３８７－２","8590401","2020-12-22","","425619",""]
[{"$f":"INDEX(学校種!B:B,MATCH(D51682,学校種!A:A,0))","v":"特別支援学校"},{"$f":"INDEX(_tmp2!B:B,MATCH(E51682,_tmp2!A:A,0))","v":"長崎県"},"E142110000014","E1","42","1","1","長崎大学教育学部附属特別支援学校","長崎市柳谷町４２－１","8528046","2020-12-22","","429901",""]
[{"$f":"INDEX(学校種!B:B,MATCH(D51694,学校種!A:A,0))","v":"特別支援学校"},{"$f":"INDEX(_tmp2!B:B,MATCH(E51694,_tmp2!A:A,0))","v":"長崎県"},"E142210000129","E1","42","2","1","長崎県立桜が丘特別支援学校","東彼杵郡川棚町下組郷３８６－２","8593615","2020-12-22","","429926",""]
[{"$f":"INDEX(学校種!B:B,MATCH(D51739,学校種!A:A,0))","v":"各種学校"},{"$f":"INDEX(_tmp2!B:B,MATCH(E51739,_tmp2!A:A,0))","v":"長崎県"},"H242310000040","H2","42","3","1","長崎野田ゼミナール","長崎市大橋町２３－３","8528134","2020-12-22","","429184",""]
[{"$f":"INDEX(学校種!B:B,MATCH(D51744,学校種!A:A,0))","v":"幼稚園(幼稚園型認定こども園を含む)"},{"$f":"INDEX(_tmp2!B:B,MATCH(E51744,_tmp2!A:A,0))","v":"熊本県"},"A143110000012","A1","43","1","1","熊本大学教育学部附属幼稚園","熊本市中央区城東町５－９","8600846","2020-12-22","","436501",""]
[{"$f":"INDEX(学校種!B:B,MATCH(D51781,学校種!A:A,0))","v":"幼稚園(幼稚園型認定こども園を含む)"},{"$f":"INDEX(_tmp2!B:B,MATCH(E51781,_tmp2!A:A,0))","v":"熊本県"},"A143310000134","A1","43","3","1","立田幼稚園","熊本市北区龍田６丁目１２－１","8618006","2020-12-22","","436626",""]
[{"$f":"INDEX(学校種!B:B,MATCH(D51801,学校種!A:A,0))","v":"幼稚園(幼稚園型認定こども園を含む)"},{"$f":"INDEX(_tmp2!B:B,MATCH(E51801,_tmp2!A:A,0))","v":"熊本県"},"A143310000330","A1","43","3","1","認定こども園霊泉幼稚園","山鹿市山鹿２２５番地","8610501","2020-12-22","","436654",""]
[{"$f":"INDEX(学校種!B:B,MATCH(D51846,学校種!A:A,0))","v":"幼保連携型認定こども園"},{"$f":"INDEX(_tmp2!B:B,MATCH(E51846,_tmp2!A:A,0))","v":"熊本県"},"A243310000017","A2","43","3","1","幼保連携型認定こども園九州学院みどり幼稚園","熊本市中央区大江５丁目３－３６","8620971","2020-12-22","","43A021",""]
[{"$f":"INDEX(学校種!B:B,MATCH(D51862,学校種!A:A,0))","v":"幼保連携型認定こども園"},{"$f":"INDEX(_tmp2!B:B,MATCH(E51862,_tmp2!A:A,0))","v":"熊本県"},"A243310000179","A2","43","3","1","幼保連携型認定こども園芳野保育園","熊本市西区河内町岳８８０","8615344","2020-12-22","","43A037",""]
[{"$f":"INDEX(学校種!B:B,MATCH(D51884,学校種!A:A,0))","v":"幼保連携型認定こども園"},{"$f":"INDEX(_tmp2!B:B,MATCH(E51884,_tmp2!A:A,0))","v":"熊本県"},"A243310000393","A2","43","3","1","まこと幼稚園","宇城市松橋町豊福1017-3","8690524","2020-12-22","","43A060",""]
[{"$f":"INDEX(学校種!B:B,MATCH(D51923,学校種!A:A,0))","v":"幼保連携型認定こども園"},{"$f":"INDEX(_tmp2!B:B,MATCH(E51923,_tmp2!A:A,0))","v":"熊本県"},"A243310000785","A2","43","3","1","ひまわりメソドこども園","上天草市大矢野町登立１２５４１－２","8693601","2020-12-22","","43A099",""]
[{"$f":"INDEX(学校種!B:B,MATCH(D51954,学校種!A:A,0))","v":"幼保連携型認定こども園"},{"$f":"INDEX(_tmp2!B:B,MATCH(E51954,_tmp2!A:A,0))","v":"熊本県"},"A243310001098","A2","43","3","1","幼保連携型認定こども園千草保育園","熊本市中央区平成３丁目２－１２","8600833","2020-12-22","","43A131",""]
[{"$f":"INDEX(学校種!B:B,MATCH(D51984,学校種!A:A,0))","v":"小学校"},{"$f":"INDEX(_tmp2!B:B,MATCH(E51984,_tmp2!A:A,0))","v":"熊本県"},"B143210000143","B1","43","2","1","熊本市立春日小学校","熊本市西区春日５－３－５","8600047","2020-12-22","","430024",""]
[{"$f":"INDEX(学校種!B:B,MATCH(D51992,学校種!A:A,0))","v":"小学校"},{"$f":"INDEX(_tmp2!B:B,MATCH(E51992,_tmp2!A:A,0))","v":"熊本県"},"B143210000223","B1","43","2","1","熊本市立健軍小学校","熊本市東区健軍２－２５－５６","8620911","2020-12-22","","430032",""]
[{"$f":"INDEX(学校種!B:B,MATCH(D52017,学校種!A:A,0))","v":"小学校"},{"$f":"INDEX(_tmp2!B:B,MATCH(E52017,_tmp2!A:A,0))","v":"熊本県"},"B143210000474","B1","43","2","1","八代市立植柳小学校","八代市植柳上町４４９","8660081","2020-12-22","","430061",""]
[{"$f":"INDEX(学校種!B:B,MATCH(D52057,学校種!A:A,0))","v":"小学校"},{"$f":"INDEX(_tmp2!B:B,MATCH(E52057,_tmp2!A:A,0))","v":"熊本県"},"B143210000875","B1","43","2","1","玉名市立伊倉小学校","玉名市宮原６７８","8650042","2020-12-22","","430120",""]
[{"$f":"INDEX(学校種!B:B,MATCH(D52074,学校種!A:A,0))","v":"小学校"},{"$f":"INDEX(_tmp2!B:B,MATCH(E52074,_tmp2!A:A,0))","v":"熊本県"},"B143210001044","B1","43","2","1","宇土市立網津小学校","宇土市網津町２０８２－３","8690461","2020-12-22","","430179",""]
[{"$f":"INDEX(学校種!B:B,MATCH(D52122,学校種!A:A,0))","v":"小学校"},{"$f":"INDEX(_tmp2!B:B,MATCH(E52122,_tmp2!A:A,0))","v":"熊本県"},"B143210001525","B1","43","2","1","長洲町立腹赤小学校","玉名郡長洲町腹赤１２５","8690103","2020-12-22","","430266",""]
[{"$f":"INDEX(学校種!B:B,MATCH(D52135,学校種!A:A,0))","v":"小学校"},{"$f":"INDEX(_tmp2!B:B,MATCH(E52135,_tmp2!A:A,0))","v":"熊本県"},"B143210001650","B1","43","2","1","熊本市立菱形小学校","熊本市北区植木町円台寺１２４","8610153","2020-12-22","","430286",""]
[{"$f":"INDEX(学校種!B:B,MATCH(D52165,学校種!A:A,0))","v":"小学校"},{"$f":"INDEX(_tmp2!B:B,MATCH(E52165,_tmp2!A:A,0))","v":"熊本県"},"B143210001954","B1","43","2","1","御船町立滝尾小学校","上益城郡御船町滝尾９３４－１","8613208","2020-12-22","","430398",""]
[{"$f":"INDEX(学校種!B:B,MATCH(D52196,学校種!A:A,0))","v":"小学校"},{"$f":"INDEX(_tmp2!B:B,MATCH(E52196,_tmp2!A:A,0))","v":"熊本県"},"B143210002267","B1","43","2","1","芦北町立吉尾小学校","葦北郡芦北町吉尾５１","8696212","2020-12-22","","430493",""]
[{"$f":"INDEX(学校種!B:B,MATCH(D52230,学校種!A:A,0))","v":"小学校"},{"$f":"INDEX(_tmp2!B:B,MATCH(E52230,_tmp2!A:A,0))","v":"熊本県"},"B143210002604","B1","43","2","1","上天草市立今津小学校","上天草市松島町合津２６９７番地","8616102","2020-12-22","","430569",""]
[{"$f":"INDEX(学校種!B:B,MATCH(D52257,学校種!A:A,0))","v":"小学校"},{"$f":"INDEX(_tmp2!B:B,MATCH(E52257,_tmp2!A:A,0))","v":"熊本県"},"B143210002873","B1","43","2","1","熊本市立山ノ内小学校","熊本市東区山ノ内４－１－１","8620914","2020-12-22","","430655",""]
[{"$f":"INDEX(学校種!B:B,MATCH(D52286,学校種!A:A,0))","v":"小学校"},{"$f":"INDEX(_tmp2!B:B,MATCH(E52286,_tmp2!A:A,0))","v":"熊本県"},"B143210003168","B1","43","2","1","天草市立河浦小学校","天草市河浦町河浦４９３２番地２","8631202","2020-12-22","","430690",""]
[{"$f":"INDEX(学校種!B:B,MATCH(D52317,学校種!A:A,0))","v":"中学校"},{"$f":"INDEX(_tmp2!B:B,MATCH(E52317,_tmp2!A:A,0))","v":"熊本県"},"C143210000043","C1","43","2","1","熊本市立花陵中学校","熊本市西区八島２－１４－１","8600054","2020-12-22","","433514",""]
[{"$f":"INDEX(学校種!B:B,MATCH(D52319,学校種!A:A,0))","v":"中学校"},{"$f":"INDEX(_tmp2!B:B,MATCH(E52319,_tmp2!A:A,0))","v":"熊本県"},"C143210000061","C1","43","2","1","熊本市立京陵中学校","熊本市中央区京町本丁１番１４号","8600081","2020-12-22","","433516",""]
[{"$f":"INDEX(学校種!B:B,MATCH(D52355,学校種!A:A,0))","v":"中学校"},{"$f":"INDEX(_tmp2!B:B,MATCH(E52355,_tmp2!A:A,0))","v":"熊本県"},"C143210000427","C1","43","2","1","菊池市立菊池北中学校","菊池市隈府１５１５","8611331","2020-12-22","","433585",""]
[{"$f":"INDEX(学校種!B:B,MATCH(D52376,学校種!A:A,0))","v":"中学校"},{"$f":"INDEX(_tmp2!B:B,MATCH(E52376,_tmp2!A:A,0))","v":"熊本県"},"C143210000631","C1","43","2","1","玉東町立玉東中学校","玉名郡玉東町白木３４","8690312","2020-12-22","","433631",""]
[{"$f":"INDEX(学校種!B:B,MATCH(D52420,学校種!A:A,0))","v":"中学校"},{"$f":"INDEX(_tmp2!B:B,MATCH(E52420,_tmp2!A:A,0))","v":"熊本県"},"C143210001079","C1","43","2","1","宇城市立松橋中学校","宇城市松橋町松橋５２２－１","8690502","2020-12-22","","433779",""]
[{"$f":"INDEX(学校種!B:B,MATCH(D52437,学校種!A:A,0))","v":"中学校"},{"$f":"INDEX(_tmp2!B:B,MATCH(E52437,_tmp2!A:A,0))","v":"熊本県"},"C143210001248","C1","43","2","1","美里町立砥用中学校","下益城郡美里町原町３３０番地","8614727","2020-12-22","","433806",""]
[{"$f":"INDEX(学校種!B:B,MATCH(D52458,学校種!A:A,0))","v":"中学校"},{"$f":"INDEX(_tmp2!B:B,MATCH(E52458,_tmp2!A:A,0))","v":"熊本県"},"C143210001453","C1","43","2","1","熊本県立宇土中学校","宇土市古城町６３","8690454","2020-12-22","","433830",""]
[{"$f":"INDEX(学校種!B:B,MATCH(D52498,学校種!A:A,0))","v":"高等学校"},{"$f":"INDEX(_tmp2!B:B,MATCH(E52498,_tmp2!A:A,0))","v":"熊本県"},"D143210000121","D1","43","2","1","熊本県立八代工業高等学校","八代市大福寺町４７３","8660082","2020-12-22","","435524",""]
[{"$f":"INDEX(学校種!B:B,MATCH(D52528,学校種!A:A,0))","v":"高等学校"},{"$f":"INDEX(_tmp2!B:B,MATCH(E52528,_tmp2!A:A,0))","v":"熊本県"},"D143210000425","D1","43","2","1","熊本県立東稜高等学校","熊本市東区小峯４丁目５－１０","8620933","2020-12-22","","435587",""]
[{"$f":"INDEX(学校種!B:B,MATCH(D52559,学校種!A:A,0))","v":"高等学校"},{"$f":"INDEX(_tmp2!B:B,MATCH(E52559,_tmp2!A:A,0))","v":"熊本県"},"D143310000218","D1","43","3","1","城北高等学校","山鹿市志々岐７９８","8610542","2020-12-22","","435622",""]
[{"$f":"INDEX(学校種!B:B,MATCH(D52566,学校種!A:A,0))","v":"特別支援学校"},{"$f":"INDEX(_tmp2!B:B,MATCH(E52566,_tmp2!A:A,0))","v":"熊本県"},"E143210000039","E1","43","2","1","熊本県立松橋支援学校","宇城市南豊崎２５２","8690543","2020-12-22","","439911",""]
[{"$f":"INDEX(学校種!B:B,MATCH(D52620,学校種!A:A,0))","v":"専修学校"},{"$f":"INDEX(_tmp2!B:B,MATCH(E52620,_tmp2!A:A,0))","v":"熊本県"},"H143310000308","H1","43","3","1","専門学校湖東カレッジ唐人町校","熊本市中央区上鍛冶屋町８－２","8600021","2020-12-22","","438571",""]
[{"$f":"INDEX(学校種!B:B,MATCH(D52631,学校種!A:A,0))","v":"専修学校"},{"$f":"INDEX(_tmp2!B:B,MATCH(E52631,_tmp2!A:A,0))","v":"熊本県"},"H143310000415","H1","43","3","1","日本総合教育専門学校","玉名市中４","8658550","2020-12-22","","438586",""]
[{"$f":"INDEX(学校種!B:B,MATCH(D52649,学校種!A:A,0))","v":"幼稚園(幼稚園型認定こども園を含む)"},{"$f":"INDEX(_tmp2!B:B,MATCH(E52649,_tmp2!A:A,0))","v":"大分県"},"A144210000046","A1","44","2","9","大分市立南大分幼稚園","大分市二又町二丁目４番１号","8700879","2020-12-22","2021-05-27","446516",""]
[{"$f":"INDEX(学校種!B:B,MATCH(D52696,学校種!A:A,0))","v":"幼稚園(幼稚園型認定こども園を含む)"},{"$f":"INDEX(_tmp2!B:B,MATCH(E52696,_tmp2!A:A,0))","v":"大分県"},"A144210000518","A1","44","2","1","由布市立谷幼稚園","由布市挾間町谷６９９","8795531","2020-12-22","","446683",""]
[{"$f":"INDEX(学校種!B:B,MATCH(D52710,学校種!A:A,0))","v":"幼稚園(幼稚園型認定こども園を含む)"},{"$f":"INDEX(_tmp2!B:B,MATCH(E52710,_tmp2!A:A,0))","v":"大分県"},"A144210000652","A1","44","2","1","佐伯市立上堅田幼稚園","佐伯市大字長谷９１１８番地","8761511","2020-12-22","","446765",""]
[{"$f":"INDEX(学校種!B:B,MATCH(D52739,学校種!A:A,0))","v":"幼稚園(幼稚園型認定こども園を含む)"},{"$f":"INDEX(_tmp2!B:B,MATCH(E52739,_tmp2!A:A,0))","v":"大分県"},"A144210000947","A1","44","2","9","大分市立野津原幼稚園","大分市大字野津原１７３１の３","8701203","2020-12-22","2021-05-27","446844","A244210000054"]
[{"$f":"INDEX(学校種!B:B,MATCH(D52771,学校種!A:A,0))","v":"幼稚園(幼稚園型認定こども園を含む)"},{"$f":"INDEX(_tmp2!B:B,MATCH(E52771,_tmp2!A:A,0))","v":"大分県"},"A144310000213","A1","44","3","1","認定こども園カトリック日田幼稚園","日田市玉川町２６５－２","8770000","2020-12-22","","446580",""]
[{"$f":"INDEX(学校種!B:B,MATCH(D52804,学校種!A:A,0))","v":"幼稚園(幼稚園型認定こども園を含む)"},{"$f":"INDEX(_tmp2!B:B,MATCH(E52804,_tmp2!A:A,0))","v":"大分県"},"A144310000543","A1","44","3","1","のだ山幼稚園","大分市大字野田３２３－５","8700868","2020-12-22","","446841",""]
[{"$f":"INDEX(学校種!B:B,MATCH(D52832,学校種!A:A,0))","v":"幼保連携型認定こども園"},{"$f":"INDEX(_tmp2!B:B,MATCH(E52832,_tmp2!A:A,0))","v":"大分県"},"A244310000178","A2","44","3","1","どうわこども園","大分市大字本神崎８７１","8792111","2020-12-22","","44A037",""]
[{"$f":"INDEX(学校種!B:B,MATCH(D52861,学校種!A:A,0))","v":"幼保連携型認定こども園"},{"$f":"INDEX(_tmp2!B:B,MATCH(E52861,_tmp2!A:A,0))","v":"大分県"},"A244310000463","A2","44","3","1","くるみの森愛児園","玖珠郡玖珠町大字帆足２２０７－６","8794403","2020-12-22","","44A074",""]
[{"$f":"INDEX(学校種!B:B,MATCH(D52891,学校種!A:A,0))","v":"幼保連携型認定こども園"},{"$f":"INDEX(_tmp2!B:B,MATCH(E52891,_tmp2!A:A,0))","v":"大分県"},"A244310000766","A2","44","3","1","沖代こども園","中津市沖代町１丁目４－５５","8710021","2020-12-22","","44A106",""]
[{"$f":"INDEX(学校種!B:B,MATCH(D52922,学校種!A:A,0))","v":"幼保連携型認定こども園"},{"$f":"INDEX(_tmp2!B:B,MATCH(E52922,_tmp2!A:A,0))","v":"大分県"},"A244310001079","A2","44",3,1,"はさまこども園","由布市挾間町挾間１１４番地",8795506,"2021-05-27","","44A138",""]
[{"$f":"INDEX(学校種!B:B,MATCH(D52929,学校種!A:A,0))","v":"小学校"},{"$f":"INDEX(_tmp2!B:B,MATCH(E52929,_tmp2!A:A,0))","v":"大分県"},"B144210000044","B1","44","2","1","大分市立大道小学校","大分市大道町２－９－５７","8700822","2020-12-22","","440016",""]
[{"$f":"INDEX(学校種!B:B,MATCH(D52955,学校種!A:A,0))","v":"小学校"},{"$f":"INDEX(_tmp2!B:B,MATCH(E52955,_tmp2!A:A,0))","v":"大分県"},"B144210000302","B1","44","2","1","大分市立小佐井小学校","大分市小佐井三丁目１番１８号","8700327","2020-12-22","","440047",""]
[{"$f":"INDEX(学校種!B:B,MATCH(D52994,学校種!A:A,0))","v":"小学校"},{"$f":"INDEX(_tmp2!B:B,MATCH(E52994,_tmp2!A:A,0))","v":"大分県"},"B144210000696","B1","44","2","1","佐伯市立八幡小学校","佐伯市大字戸穴２９４２","8761106","2020-12-22","","440119",""]
[{"$f":"INDEX(学校種!B:B,MATCH(D53012,学校種!A:A,0))","v":"小学校"},{"$f":"INDEX(_tmp2!B:B,MATCH(E53012,_tmp2!A:A,0))","v":"大分県"},"B144210000874","B1","44","2","1","津久見市立日代小学校","津久見市網代１５３５－２","8792682","2020-12-22","","440149",""]
[{"$f":"INDEX(学校種!B:B,MATCH(D53059,学校種!A:A,0))","v":"小学校"},{"$f":"INDEX(_tmp2!B:B,MATCH(E53059,_tmp2!A:A,0))","v":"大分県"},"B144210001347","B1","44","2","1","国東市立小原小学校","国東市国東町小原１４６８","8730511","2020-12-22","","440243",""]
[{"$f":"INDEX(学校種!B:B,MATCH(D53073,学校種!A:A,0))","v":"小学校"},{"$f":"INDEX(_tmp2!B:B,MATCH(E53073,_tmp2!A:A,0))","v":"大分県"},"B144210001481","B1","44","2","1","由布市立阿南小学校","由布市庄内町東長宝５２３","8795405","2020-12-22","","440283",""]
[{"$f":"INDEX(学校種!B:B,MATCH(D53102,学校種!A:A,0))","v":"小学校"},{"$f":"INDEX(_tmp2!B:B,MATCH(E53102,_tmp2!A:A,0))","v":"大分県"},"B144210001775","B1","44","2","1","竹田市立白丹小学校","竹田市久住町大字白丹４７０７","8780205","2020-12-22","","440407",""]
[{"$f":"INDEX(学校種!B:B,MATCH(D53134,学校種!A:A,0))","v":"小学校"},{"$f":"INDEX(_tmp2!B:B,MATCH(E53134,_tmp2!A:A,0))","v":"大分県"},"B144210002097","B1","44","2","1","宇佐市立深見小学校","宇佐市安心院町矢畑４０－２","8720841","2020-12-22","","440514",""]
[{"$f":"INDEX(学校種!B:B,MATCH(D53167,学校種!A:A,0))","v":"小学校"},{"$f":"INDEX(_tmp2!B:B,MATCH(E53167,_tmp2!A:A,0))","v":"大分県"},"B144210002426","B1","44","2","1","大分市立大在西小学校","大分市角子原１－４－４１","8700271","2020-12-22","","440552",""]
[{"$f":"INDEX(学校種!B:B,MATCH(D53195,学校種!A:A,0))","v":"中学校"},{"$f":"INDEX(_tmp2!B:B,MATCH(E53195,_tmp2!A:A,0))","v":"大分県"},"C144210000042","C1","44","2","1","大分市立滝尾中学校","大分市大字羽田３４９","8700942","2020-12-22","","443515",""]
[{"$f":"INDEX(学校種!B:B,MATCH(D53205,学校種!A:A,0))","v":"中学校"},{"$f":"INDEX(_tmp2!B:B,MATCH(E53205,_tmp2!A:A,0))","v":"大分県"},"C144210000140","C1","44","2","1","大分市立大在中学校","大分市大字政所２６０２－１２","8700268","2020-12-22","","443525",""]
[{"$f":"INDEX(学校種!B:B,MATCH(D53252,学校種!A:A,0))","v":"中学校"},{"$f":"INDEX(_tmp2!B:B,MATCH(E53252,_tmp2!A:A,0))","v":"大分県"},"C144210000612","C1","44","2","1","宇佐市立宇佐中学校","宇佐市大字橋津４３４番地","8791134","2020-12-22","","443602",""]
[{"$f":"INDEX(学校種!B:B,MATCH(D53270,学校種!A:A,0))","v":"中学校"},{"$f":"INDEX(_tmp2!B:B,MATCH(E53270,_tmp2!A:A,0))","v":"大分県"},"C144210000792","C1","44","2","1","佐伯市立大島中学校","佐伯市鶴見大字大島７１７番地４","8761313","2020-12-22","","443671",""]
[{"$f":"INDEX(学校種!B:B,MATCH(D53285,学校種!A:A,0))","v":"中学校"},{"$f":"INDEX(_tmp2!B:B,MATCH(E53285,_tmp2!A:A,0))","v":"大分県"},"C144210000943","C1","44","2","1","日田市立東渓中学校","日田市天瀬町馬原２２７６","8794121","2020-12-22","","443737",""]
[{"$f":"INDEX(学校種!B:B,MATCH(D53313,学校種!A:A,0))","v":"中学校"},{"$f":"INDEX(_tmp2!B:B,MATCH(E53313,_tmp2!A:A,0))","v":"大分県"},"C144210001229","C1","44","2","2","大分市立竹中中学校二豊学園分校","大分市大字端登５番地","8797502","2020-12-22","","443784",""]
[{"$f":"INDEX(学校種!B:B,MATCH(D53346,学校種!A:A,0))","v":"高等学校"},{"$f":"INDEX(_tmp2!B:B,MATCH(E53346,_tmp2!A:A,0))","v":"大分県"},"D144210000237","D1","44","2","1","大分県立由布高等学校","由布市庄内町大竜２６７４－１","8795413","2020-12-22","","445584",""]
[{"$f":"INDEX(学校種!B:B,MATCH(D53375,学校種!A:A,0))","v":"高等学校"},{"$f":"INDEX(_tmp2!B:B,MATCH(E53375,_tmp2!A:A,0))","v":"大分県"},"D144310000119","D1","44","3","1","日本文理大学附属高等学校","佐伯市鶴谷町２丁目１－１０","8760811","2020-12-22","","445552",""]
[{"$f":"INDEX(学校種!B:B,MATCH(D53395,学校種!A:A,0))","v":"特別支援学校"},{"$f":"INDEX(_tmp2!B:B,MATCH(E53395,_tmp2!A:A,0))","v":"大分県"},"E144210000154","E1","44","2","2","大分県立別府支援学校石垣原校","別府市大字鶴見４０５０番地２９３","8740840","2020-12-22","","449929",""]
[{"$f":"INDEX(学校種!B:B,MATCH(D53436,学校種!A:A,0))","v":"専修学校"},{"$f":"INDEX(_tmp2!B:B,MATCH(E53436,_tmp2!A:A,0))","v":"大分県"},"H144310000398","H1","44","3","1","大分ドッググルーミング専門学校","別府市京町１３０６－４","8740926","2020-12-22","","448568",""]
[{"$f":"INDEX(学校種!B:B,MATCH(D53465,学校種!A:A,0))","v":"幼稚園(幼稚園型認定こども園を含む)"},{"$f":"INDEX(_tmp2!B:B,MATCH(E53465,_tmp2!A:A,0))","v":"宮崎県"},"A145220271091","A1","45","2","1","都城市立有水幼稚園","都城市高城町有水３３５４－１","8851311","2020-12-22","","457121",""]
[{"$f":"INDEX(学校種!B:B,MATCH(D53497,学校種!A:A,0))","v":"幼稚園(幼稚園型認定こども園を含む)"},{"$f":"INDEX(_tmp2!B:B,MATCH(E53497,_tmp2!A:A,0))","v":"宮崎県"},"A145320171768","A1","45","3","1","認定こども園本郷幼稚園","宮崎市本郷南方小迫４７５５－２","8800921","2020-12-22","","457656",""]
[{"$f":"INDEX(学校種!B:B,MATCH(D53503,学校種!A:A,0))","v":"幼稚園(幼稚園型認定こども園を含む)"},{"$f":"INDEX(_tmp2!B:B,MATCH(E53503,_tmp2!A:A,0))","v":"宮崎県"},"A145320271124","A1","45","3","1","天竜幼稚園","都城市牟田町２－１４","8850079","2020-12-22","","457502",""]
[{"$f":"INDEX(学校種!B:B,MATCH(D53530,学校種!A:A,0))","v":"幼稚園(幼稚園型認定こども園を含む)"},{"$f":"INDEX(_tmp2!B:B,MATCH(E53530,_tmp2!A:A,0))","v":"宮崎県"},"A145320671335","A1","45","3","1","学校法人宮崎カトリック学園日向カトリック幼稚園","日向市鶴町２－４－１３","8830052","2020-12-22","","457545",""]
[{"$f":"INDEX(学校種!B:B,MATCH(D53568,学校種!A:A,0))","v":"幼保連携型認定こども園"},{"$f":"INDEX(_tmp2!B:B,MATCH(E53568,_tmp2!A:A,0))","v":"宮崎県"},"A245320120484","A2","45","3","1","七つの星幼稚舎","宮崎市佐土原町下田島９１７５－１","8800211","2020-12-22","","45A600",""]
[{"$f":"INDEX(学校種!B:B,MATCH(D53587,学校種!A:A,0))","v":"幼保連携型認定こども園"},{"$f":"INDEX(_tmp2!B:B,MATCH(E53587,_tmp2!A:A,0))","v":"宮崎県"},"A245320120956","A2","45","3","1","横町さくら保育園","宮崎市大字恒久字西原5155-1","8800916","2020-12-22","","45A647",""]
[{"$f":"INDEX(学校種!B:B,MATCH(D53633,学校種!A:A,0))","v":"幼保連携型認定こども園"},{"$f":"INDEX(_tmp2!B:B,MATCH(E53633,_tmp2!A:A,0))","v":"宮崎県"},"A245320221320","A2","45","3","2","五十市認定こども園分園","都城市久保原町２８－１５","8850086","2020-12-22","","45A684",""]
[{"$f":"INDEX(学校種!B:B,MATCH(D53648,学校種!A:A,0))","v":"幼保連携型認定こども園"},{"$f":"INDEX(_tmp2!B:B,MATCH(E53648,_tmp2!A:A,0))","v":"宮崎県"},"A245320321338","A2","45","3","2","幼保連携型認定こども園こばと保育園分園おりいぶ","延岡市天神小路３１３","8820811","2020-12-22","","45A685",""]
[{"$f":"INDEX(学校種!B:B,MATCH(D53676,学校種!A:A,0))","v":"幼保連携型認定こども園"},{"$f":"INDEX(_tmp2!B:B,MATCH(E53676,_tmp2!A:A,0))","v":"宮崎県"},"A245320721389","A2","45","3","1","むつみ認定こども園","串間市大字西方１５１５３－３","8880001","2020-12-22","","45A690",""]
[{"$f":"INDEX(学校種!B:B,MATCH(D53709,学校種!A:A,0))","v":"小学校"},{"$f":"INDEX(_tmp2!B:B,MATCH(E53709,_tmp2!A:A,0))","v":"宮崎県"},"B145220111119","B1","45","2","1","宮崎市立恒久小学校","宮崎市恒久２丁目１５番地４","8800913","2020-12-22","","451111",""]
[{"$f":"INDEX(学校種!B:B,MATCH(D53741,学校種!A:A,0))","v":"小学校"},{"$f":"INDEX(_tmp2!B:B,MATCH(E53741,_tmp2!A:A,0))","v":"宮崎県"},"B145220111814","B1","45","2","1","宮崎市立檍北小学校","宮崎市阿波岐原町坂元１９８５","8800835","2020-12-22","","451181",""]
[{"$f":"INDEX(学校種!B:B,MATCH(D53770,学校種!A:A,0))","v":"小学校"},{"$f":"INDEX(_tmp2!B:B,MATCH(E53770,_tmp2!A:A,0))","v":"宮崎県"},"B145220213447","B1","45","2","1","都城市立山之口小学校","都城市山之口町花木２５８０","8891802","2020-12-22","","451344",""]
[{"$f":"INDEX(学校種!B:B,MATCH(D53779,学校種!A:A,0))","v":"小学校"},{"$f":"INDEX(_tmp2!B:B,MATCH(E53779,_tmp2!A:A,0))","v":"宮崎県"},"B145220213704","B1","45","2","1","都城市立高崎小学校","都城市高崎町大牟田１１７９－１","8894505","2020-12-22","","451370",""]
[{"$f":"INDEX(学校種!B:B,MATCH(D53827,学校種!A:A,0))","v":"小学校"},{"$f":"INDEX(_tmp2!B:B,MATCH(E53827,_tmp2!A:A,0))","v":"宮崎県"},"B145220514032","B1","45","2","1","小林市立南小学校","小林市細野１２６５番地","8860004","2020-12-22","","451403",""]
[{"$f":"INDEX(学校種!B:B,MATCH(D53844,学校種!A:A,0))","v":"小学校"},{"$f":"INDEX(_tmp2!B:B,MATCH(E53844,_tmp2!A:A,0))","v":"宮崎県"},"B145220616093","B1","45","2","1","日向市立美々津小学校","日向市美々津町３５０６番地","8891111","2020-12-22","","451609",""]
[{"$f":"INDEX(学校種!B:B,MATCH(D53860,学校種!A:A,0))","v":"小学校"},{"$f":"INDEX(_tmp2!B:B,MATCH(E53860,_tmp2!A:A,0))","v":"宮崎県"},"B145220712345","B1","45","2","1","串間市立大平小学校","串間市大字大平１８８１","8893532","2020-12-22","","451234",""]
[{"$f":"INDEX(学校種!B:B,MATCH(D53893,学校種!A:A,0))","v":"小学校"},{"$f":"INDEX(_tmp2!B:B,MATCH(E53893,_tmp2!A:A,0))","v":"宮崎県"},"B145240115275","B1","45","2","1","高鍋町立高鍋東小学校","児湯郡高鍋町大字北高鍋４６００","8840002","2020-12-22","","451527",""]
[{"$f":"INDEX(学校種!B:B,MATCH(D53931,学校種!A:A,0))","v":"小学校"},{"$f":"INDEX(_tmp2!B:B,MATCH(E53931,_tmp2!A:A,0))","v":"宮崎県"},"B145244318272","B1","45","2","1","五ヶ瀬町立鞍岡小学校","西臼杵郡五ヶ瀬町鞍岡１６９６","8821201","2020-12-22","","451827",""]
[{"$f":"INDEX(学校種!B:B,MATCH(D53950,学校種!A:A,0))","v":"中学校"},{"$f":"INDEX(_tmp2!B:B,MATCH(E53950,_tmp2!A:A,0))","v":"宮崎県"},"C145220141175","C1","45","2","1","宮崎市立大塚中学校","宮崎市大塚町鎌ヶ迫２２９６","8800951","2020-12-22","","454117",""]
[{"$f":"INDEX(学校種!B:B,MATCH(D53996,学校種!A:A,0))","v":"中学校"},{"$f":"INDEX(_tmp2!B:B,MATCH(E53996,_tmp2!A:A,0))","v":"宮崎県"},"C145220347319","C1","45","2","1","延岡市立北川中学校","延岡市北川町川内名７２４８番地","8890101","2020-12-22","","454731",""]
[{"$f":"INDEX(学校種!B:B,MATCH(D54011,学校種!A:A,0))","v":"中学校"},{"$f":"INDEX(_tmp2!B:B,MATCH(E54011,_tmp2!A:A,0))","v":"宮崎県"},"C145220544052","C1","45","2","1","小林市立永久津中学校","小林市北西方４５７８番地","8860006","2020-12-22","","454405",""]
[{"$f":"INDEX(学校種!B:B,MATCH(D54039,学校種!A:A,0))","v":"中学校"},{"$f":"INDEX(_tmp2!B:B,MATCH(E54039,_tmp2!A:A,0))","v":"宮崎県"},"C145238241416","C1","45","2","1","国富町立本庄中学校","東諸県郡国富町本庄６６８６","8801101","2020-12-22","","454141",""]
[{"$f":"INDEX(学校種!B:B,MATCH(D54072,学校種!A:A,0))","v":"中学校"},{"$f":"INDEX(_tmp2!B:B,MATCH(E54072,_tmp2!A:A,0))","v":"宮崎県"},"C145320449083","C1","45","3","1","日南学園中学校","日南市吾田東３丁目５－１","8870041","2020-12-22","","454908",""]
[{"$f":"INDEX(学校種!B:B,MATCH(D54104,学校種!A:A,0))","v":"高等学校"},{"$f":"INDEX(_tmp2!B:B,MATCH(E54104,_tmp2!A:A,0))","v":"宮崎県"},"D145220860528","D1","45","2","1","宮崎県立妻高等学校","西都市大字右松２３３０","8810003","2020-12-22","","456052",""]
[{"$f":"INDEX(学校種!B:B,MATCH(D54133,学校種!A:A,0))","v":"特別支援学校"},{"$f":"INDEX(_tmp2!B:B,MATCH(E54133,_tmp2!A:A,0))","v":"宮崎県"},"E145220298215","E1","45","2","1","宮崎県立都城さくら聴覚支援学校","都城市都原町７４３０","8850094","2020-12-22","","459811",""]
[{"$f":"INDEX(学校種!B:B,MATCH(D54142,学校種!A:A,0))","v":"専修学校"},{"$f":"INDEX(_tmp2!B:B,MATCH(E54142,_tmp2!A:A,0))","v":"宮崎県"},"H145320186114","H1","45","3","1","マナビヤ宮崎アカデミー","宮崎市大塚町地蔵田４６７８","8800951","2020-12-22","","458611",""]
[{"$f":"INDEX(学校種!B:B,MATCH(D54162,学校種!A:A,0))","v":"専修学校"},{"$f":"INDEX(_tmp2!B:B,MATCH(E54162,_tmp2!A:A,0))","v":"宮崎県"},"H145320286195","H1","45","3","1","都城調理師高等専修学校","都城市都島町２１０－４","8850083","2020-12-22","","458619",""]
[{"$f":"INDEX(学校種!B:B,MATCH(D54207,学校種!A:A,0))","v":"幼稚園(幼稚園型認定こども園を含む)"},{"$f":"INDEX(_tmp2!B:B,MATCH(E54207,_tmp2!A:A,0))","v":"鹿児島県"},"A146210000259","A1","46","2","1","薩摩川内市立里幼稚園","薩摩川内市里町里１６５０番地１","8961101","2020-12-22","","467060",""]
[{"$f":"INDEX(学校種!B:B,MATCH(D54223,学校種!A:A,0))","v":"幼稚園(幼稚園型認定こども園を含む)"},{"$f":"INDEX(_tmp2!B:B,MATCH(E54223,_tmp2!A:A,0))","v":"鹿児島県"},"A146210000419","A1","46","2","1","薩摩川内市立城上幼稚園","薩摩川内市城上町４３８７番地","8950213","2020-12-22","","467090",""]
[{"$f":"INDEX(学校種!B:B,MATCH(D54250,学校種!A:A,0))","v":"幼稚園(幼稚園型認定こども園を含む)"},{"$f":"INDEX(_tmp2!B:B,MATCH(E54250,_tmp2!A:A,0))","v":"鹿児島県"},"A146210000687","A1","46","2","1","伊仙町立糸木名小学校附属幼稚園","大島郡伊仙町糸木名７２４番地２","8918324","2020-12-22","","468032",""]
[{"$f":"INDEX(学校種!B:B,MATCH(D54284,学校種!A:A,0))","v":"幼稚園(幼稚園型認定こども園を含む)"},{"$f":"INDEX(_tmp2!B:B,MATCH(E54284,_tmp2!A:A,0))","v":"鹿児島県"},"A146310000293","A1","46","3","1","第一鹿屋幼稚園","鹿屋市寿５丁目１９－１４","8930014","2020-12-22","","467174",""]
[{"$f":"INDEX(学校種!B:B,MATCH(D54315,学校種!A:A,0))","v":"幼稚園(幼稚園型認定こども園を含む)"},{"$f":"INDEX(_tmp2!B:B,MATCH(E54315,_tmp2!A:A,0))","v":"鹿児島県"},"A146310000603","A1","46","3","1","日の出幼稚園","鹿屋市川西町３６３１","8930032","2020-12-22","","467260",""]
[{"$f":"INDEX(学校種!B:B,MATCH(D54345,学校種!A:A,0))","v":"幼保連携型認定こども園"},{"$f":"INDEX(_tmp2!B:B,MATCH(E54345,_tmp2!A:A,0))","v":"鹿児島県"},"A246310000158","A2","46","3","1","認定こども園武岡幼稚園","鹿児島市武岡５－２６－６","8900031","2020-12-22","","46A044",""]
[{"$f":"INDEX(学校種!B:B,MATCH(D54380,学校種!A:A,0))","v":"幼保連携型認定こども園"},{"$f":"INDEX(_tmp2!B:B,MATCH(E54380,_tmp2!A:A,0))","v":"鹿児島県"},"A246310000504","A2","46","3","1","認定こども園 おおぞら幼稚園","肝属郡肝付町後田9808","8931203","2020-12-22","","46A088",""]
[{"$f":"INDEX(学校種!B:B,MATCH(D54402,学校種!A:A,0))","v":"幼保連携型認定こども園"},{"$f":"INDEX(_tmp2!B:B,MATCH(E54402,_tmp2!A:A,0))","v":"鹿児島県"},"A246310000728","A2","46","3","1","認定こども園さかもと幼稚園","鹿児島市西坂元町57-23","8920862","2020-12-22","","46A129",""]
[{"$f":"INDEX(学校種!B:B,MATCH(D54435,学校種!A:A,0))","v":"幼保連携型認定こども園"},{"$f":"INDEX(_tmp2!B:B,MATCH(E54435,_tmp2!A:A,0))","v":"鹿児島県"},"A246310001059","A2","46","3","1","幼保連携型認定こども園しらゆきこども園","鹿児島市小松原二丁目10番15号","8910114","2020-12-22","","46A165",""]
[{"$f":"INDEX(学校種!B:B,MATCH(D54440,学校種!A:A,0))","v":"幼保連携型認定こども園"},{"$f":"INDEX(_tmp2!B:B,MATCH(E54440,_tmp2!A:A,0))","v":"鹿児島県"},"A246310001102","A2","46","3","1","認定こども園ひかりやま保育園","鹿児島市光山二丁目12番１号","8910151","2020-12-22","","46A170",""]
[{"$f":"INDEX(学校種!B:B,MATCH(D54468,学校種!A:A,0))","v":"幼保連携型認定こども園"},{"$f":"INDEX(_tmp2!B:B,MATCH(E54468,_tmp2!A:A,0))","v":"鹿児島県"},"A246310001380","A2","46","3","1","うおみ認定こども園","指宿市東方１１０１８－１１","8910404","2020-12-22","","46A198",""]
[{"$f":"INDEX(学校種!B:B,MATCH(D54505,学校種!A:A,0))","v":"幼保連携型認定こども園"},{"$f":"INDEX(_tmp2!B:B,MATCH(E54505,_tmp2!A:A,0))","v":"鹿児島県"},"A246310001754","A2","46","3","1","幼保連携型スイミー子ども園","曽於市大隅町坂元４８１－３１","8998422","2020-12-22","","46A235",""]
[{"$f":"INDEX(学校種!B:B,MATCH(D54525,学校種!A:A,0))","v":"幼保連携型認定こども園"},{"$f":"INDEX(_tmp2!B:B,MATCH(E54525,_tmp2!A:A,0))","v":"鹿児島県"},"A246310001950","A2","46","3","1","幼保連携型認定こども園わかば保育園","鹿屋市寿４－８－１４","8930014","2020-12-22","","46A255",""]
[{"$f":"INDEX(学校種!B:B,MATCH(D54570,学校種!A:A,0))","v":"小学校"},{"$f":"INDEX(_tmp2!B:B,MATCH(E54570,_tmp2!A:A,0))","v":"鹿児島県"},"B146210000051","B1","46","2","1","鹿児島市立名山小学校","鹿児島市山下町６番４３号","8920816","2020-12-22","","461006",""]
[{"$f":"INDEX(学校種!B:B,MATCH(D54586,学校種!A:A,0))","v":"小学校"},{"$f":"INDEX(_tmp2!B:B,MATCH(E54586,_tmp2!A:A,0))","v":"鹿児島県"},"B146210000211","B1","46","2","1","鹿児島市立宇宿小学校","鹿児島市宇宿４－２１－７","8900073","2020-12-22","","461022",""]
[{"$f":"INDEX(学校種!B:B,MATCH(D54613,学校種!A:A,0))","v":"小学校"},{"$f":"INDEX(_tmp2!B:B,MATCH(E54613,_tmp2!A:A,0))","v":"鹿児島県"},"B146210000480","B1","46","2","1","南さつま市立川畑小学校","南さつま市加世田川畑４２５７番地","8970003","2020-12-22","","461054",""]
[{"$f":"INDEX(学校種!B:B,MATCH(D54647,学校種!A:A,0))","v":"小学校"},{"$f":"INDEX(_tmp2!B:B,MATCH(E54647,_tmp2!A:A,0))","v":"鹿児島県"},"B146210000827","B1","46","2","1","阿久根市立脇本小学校","阿久根市８０６０番地","8991131","2020-12-22","","461100",""]
[{"$f":"INDEX(学校種!B:B,MATCH(D54678,学校種!A:A,0))","v":"小学校"},{"$f":"INDEX(_tmp2!B:B,MATCH(E54678,_tmp2!A:A,0))","v":"鹿児島県"},"B146210001130","B1","46","2","1","垂水市立水之上小学校","垂水市本城６４９番地１","8912112","2020-12-22","","461147",""]
[{"$f":"INDEX(学校種!B:B,MATCH(D54708,学校種!A:A,0))","v":"小学校"},{"$f":"INDEX(_tmp2!B:B,MATCH(E54708,_tmp2!A:A,0))","v":"鹿児島県"},"B146210001434","B1","46","2","1","奄美市立名瀬小学校","奄美市永田町１－１","8940023","2020-12-22","","461189",""]
[{"$f":"INDEX(学校種!B:B,MATCH(D54716,学校種!A:A,0))","v":"小学校"},{"$f":"INDEX(_tmp2!B:B,MATCH(E54716,_tmp2!A:A,0))","v":"鹿児島県"},"B146210001513","B1","46","2","1","奄美市立芦花部小学校","奄美市名瀬芦花部５８５","8940351","2020-12-22","","461198",""]
[{"$f":"INDEX(学校種!B:B,MATCH(D54765,学校種!A:A,0))","v":"小学校"},{"$f":"INDEX(_tmp2!B:B,MATCH(E54765,_tmp2!A:A,0))","v":"鹿児島県"},"B146210002004","B1","46","2","1","日置市立伊集院北小学校","日置市伊集院町下神殿１９９５","8992511","2020-12-22","","461266",""]
[{"$f":"INDEX(学校種!B:B,MATCH(D54781,学校種!A:A,0))","v":"小学校"},{"$f":"INDEX(_tmp2!B:B,MATCH(E54781,_tmp2!A:A,0))","v":"鹿児島県"},"B146210002166","B1","46","2","1","薩摩川内市立入来小学校","薩摩川内市入来町浦之名６０番地","8951402","2020-12-22","","461301",""]
[{"$f":"INDEX(学校種!B:B,MATCH(D54798,学校種!A:A,0))","v":"小学校"},{"$f":"INDEX(_tmp2!B:B,MATCH(E54798,_tmp2!A:A,0))","v":"鹿児島県"},"B146210002335","B1","46","2","1","薩摩川内市立手打小学校","薩摩川内市下甑町手打１０１０","8961601","2020-12-22","","461339",""]
[{"$f":"INDEX(学校種!B:B,MATCH(D54824,学校種!A:A,0))","v":"小学校"},{"$f":"INDEX(_tmp2!B:B,MATCH(E54824,_tmp2!A:A,0))","v":"鹿児島県"},"B146210002594","B1","46","2","1","姶良市立山田小学校","姶良市下名１０１８番地","8995543","2020-12-22","","461382",""]
[{"$f":"INDEX(学校種!B:B,MATCH(D54859,学校種!A:A,0))","v":"小学校"},{"$f":"INDEX(_tmp2!B:B,MATCH(E54859,_tmp2!A:A,0))","v":"鹿児島県"},"B146210002941","B1","46","2","1","曽於市立笠木小学校","曽於市大隅町中之内５７６２","8998103","2020-12-22","","461431",""]
[{"$f":"INDEX(学校種!B:B,MATCH(D54889,学校種!A:A,0))","v":"小学校"},{"$f":"INDEX(_tmp2!B:B,MATCH(E54889,_tmp2!A:A,0))","v":"鹿児島県"},"B146210003245","B1","46","2","1","志布志市立野神小学校","志布志市有明町野神３１３９","8997512","2020-12-22","","461472",""]
[{"$f":"INDEX(学校種!B:B,MATCH(D54920,学校種!A:A,0))","v":"小学校"},{"$f":"INDEX(_tmp2!B:B,MATCH(E54920,_tmp2!A:A,0))","v":"鹿児島県"},"B146210003557","B1","46","2","1","錦江町立大原小学校","肝属郡錦江町田代麓４８１８","8932401","2020-12-22","","461518",""]
[{"$f":"INDEX(学校種!B:B,MATCH(D54949,学校種!A:A,0))","v":"小学校"},{"$f":"INDEX(_tmp2!B:B,MATCH(E54949,_tmp2!A:A,0))","v":"鹿児島県"},"B146210003842","B1","46","2","1","十島村立悪石島小学校","鹿児島郡十島村悪石島６４番地１","8915204","2020-12-22","","461569",""]
[{"$f":"INDEX(学校種!B:B,MATCH(D54976,学校種!A:A,0))","v":"小学校"},{"$f":"INDEX(_tmp2!B:B,MATCH(E54976,_tmp2!A:A,0))","v":"鹿児島県"},"B146210004119","B1","46","2","1","瀬戸内町立嘉鉄小学校","大島郡瀬戸内町嘉鉄３５３","8941522","2020-12-22","","461606",""]
[{"$f":"INDEX(学校種!B:B,MATCH(D55010,学校種!A:A,0))","v":"小学校"},{"$f":"INDEX(_tmp2!B:B,MATCH(E55010,_tmp2!A:A,0))","v":"鹿児島県"},"B146210004459","B1","46","2","1","伊仙町立馬根小学校","大島郡伊仙町馬根４７５","8918326","2020-12-22","","461652",""]
[{"$f":"INDEX(学校種!B:B,MATCH(D55041,学校種!A:A,0))","v":"小学校"},{"$f":"INDEX(_tmp2!B:B,MATCH(E55041,_tmp2!A:A,0))","v":"鹿児島県"},"B146210004761","B1","46","2","1","鹿児島市立星峯西小学校","鹿児島市星ヶ峯４－９－１","8910102","2020-12-22","","461683",""]
[{"$f":"INDEX(学校種!B:B,MATCH(D55043,学校種!A:A,0))","v":"小学校"},{"$f":"INDEX(_tmp2!B:B,MATCH(E55043,_tmp2!A:A,0))","v":"鹿児島県"},"B146210004789","B1","46","2","1","鹿児島市立桜丘東小学校","鹿児島市桜ヶ丘６－１３","8910175","2020-12-22","","461685",""]
[{"$f":"INDEX(学校種!B:B,MATCH(D55079,学校種!A:A,0))","v":"中学校"},{"$f":"INDEX(_tmp2!B:B,MATCH(E55079,_tmp2!A:A,0))","v":"鹿児島県"},"C146210000077","C1","46","2","1","鹿児島市立甲南中学校","鹿児島市高麗町３６番３２号","8900051","2020-12-22","","464007",""]
[{"$f":"INDEX(学校種!B:B,MATCH(D55100,学校種!A:A,0))","v":"中学校"},{"$f":"INDEX(_tmp2!B:B,MATCH(E55100,_tmp2!A:A,0))","v":"鹿児島県"},"C146210000282","C1","46","2","1","南さつま市立万世中学校","南さつま市加世田唐仁原５８９８","8971121","2020-12-22","","464030",""]
[{"$f":"INDEX(学校種!B:B,MATCH(D55144,学校種!A:A,0))","v":"中学校"},{"$f":"INDEX(_tmp2!B:B,MATCH(E55144,_tmp2!A:A,0))","v":"鹿児島県"},"C146210000727","C1","46","2","1","鹿児島市立郡山中学校","鹿児島市鹿児島市郡山町１５００","8911105","2020-12-22","","464134",""]
[{"$f":"INDEX(学校種!B:B,MATCH(D55161,学校種!A:A,0))","v":"中学校"},{"$f":"INDEX(_tmp2!B:B,MATCH(E55161,_tmp2!A:A,0))","v":"鹿児島県"},"C146210000898","C1","46","2","1","長島町立長島中学校","出水郡長島町指江５４８","8991303","2020-12-22","","464175",""]
[{"$f":"INDEX(学校種!B:B,MATCH(D55187,学校種!A:A,0))","v":"中学校"},{"$f":"INDEX(_tmp2!B:B,MATCH(E55187,_tmp2!A:A,0))","v":"鹿児島県"},"C146210001156","C1","46","2","1","鹿屋市立細山田中学校","鹿屋市串良町細山田４９４３－１","8931601","2020-12-22","","464237",""]
[{"$f":"INDEX(学校種!B:B,MATCH(D55222,学校種!A:A,0))","v":"中学校"},{"$f":"INDEX(_tmp2!B:B,MATCH(E55222,_tmp2!A:A,0))","v":"鹿児島県"},"C146210001502","C1","46","2","1","瀬戸内町立油井中学校","大島郡瀬戸内町油井６０３－１","8941745","2020-12-22","","464325",""]
[{"$f":"INDEX(学校種!B:B,MATCH(D55252,学校種!A:A,0))","v":"中学校"},{"$f":"INDEX(_tmp2!B:B,MATCH(E55252,_tmp2!A:A,0))","v":"鹿児島県"},"C146210001806","C1","46","2","1","薩摩川内市立海陽中学校","薩摩川内市下甑町手打１４７２番地","8961601","2020-12-22","","464360",""]
[{"$f":"INDEX(学校種!B:B,MATCH(D55283,学校種!A:A,0))","v":"中学校"},{"$f":"INDEX(_tmp2!B:B,MATCH(E55283,_tmp2!A:A,0))","v":"鹿児島県"},"C146210002119","C1","46","2","1","南さつま市立大笠中学校","南さつま市大浦町24524番地","8971201","2020-12-22","","464926",""]
[{"$f":"INDEX(学校種!B:B,MATCH(D55317,学校種!A:A,0))","v":"高等学校"},{"$f":"INDEX(_tmp2!B:B,MATCH(E55317,_tmp2!A:A,0))","v":"鹿児島県"},"D146210000119","D1","46","2","1","鹿児島県立鹿児島水産高等学校","枕崎市板敷南町６５０番地","8980083","2020-12-22","","465611",""]
[{"$f":"INDEX(学校種!B:B,MATCH(D55340,学校種!A:A,0))","v":"高等学校"},{"$f":"INDEX(_tmp2!B:B,MATCH(E55340,_tmp2!A:A,0))","v":"鹿児島県"},"D146210000342","D1","46","2","1","鹿児島県立鹿屋高等学校","鹿屋市白崎町１３－１","8930016","2020-12-22","","465652",""]
[{"$f":"INDEX(学校種!B:B,MATCH(D55355,学校種!A:A,0))","v":"高等学校"},{"$f":"INDEX(_tmp2!B:B,MATCH(E55355,_tmp2!A:A,0))","v":"鹿児島県"},"D146210000495","D1","46","2","1","鹿児島市立鹿児島女子高等学校","鹿児島市玉里町２７－１","8900012","2020-12-22","","465674",""]
[{"$f":"INDEX(学校種!B:B,MATCH(D55373,学校種!A:A,0))","v":"高等学校"},{"$f":"INDEX(_tmp2!B:B,MATCH(E55373,_tmp2!A:A,0))","v":"鹿児島県"},"D146210000672","D1","46","2","1","鹿児島県立曽於高等学校","曽於市末吉町二之方6080","8998605","2020-12-22","","465933",""]
[{"$f":"INDEX(学校種!B:B,MATCH(D55420,学校種!A:A,0))","v":"専修学校"},{"$f":"INDEX(_tmp2!B:B,MATCH(E55420,_tmp2!A:A,0))","v":"鹿児島県"},"H146310000056","H1","46","3","1","仁心看護専門学校","霧島市真孝９１０－７","8995102","2020-12-22","","468526",""]
[{"$f":"INDEX(学校種!B:B,MATCH(D55434,学校種!A:A,0))","v":"専修学校"},{"$f":"INDEX(_tmp2!B:B,MATCH(E55434,_tmp2!A:A,0))","v":"鹿児島県"},"H146310000190","H1","46","3","1","鹿児島キャリアデザイン専門学校","鹿児島市谷山中央２丁目４１７３","8910141","2020-12-22","","468553",""]
[{"$f":"INDEX(学校種!B:B,MATCH(D55463,学校種!A:A,0))","v":"幼稚園(幼稚園型認定こども園を含む)"},{"$f":"INDEX(_tmp2!B:B,MATCH(E55463,_tmp2!A:A,0))","v":"沖縄県"},"A147220500047","A1","47","2","1","宜野湾市立宜野湾幼稚園","宜野湾市神山１丁目１番１号","9012207","2020-12-22","","476582",""]
[{"$f":"INDEX(学校種!B:B,MATCH(D55507,学校種!A:A,0))","v":"幼稚園(幼稚園型認定こども園を含む)"},{"$f":"INDEX(_tmp2!B:B,MATCH(E55507,_tmp2!A:A,0))","v":"沖縄県"},"A147221100094","A1","47","2","1","沖縄市立中の町幼稚園","沖縄市上地３丁目４番２号","9040031","2020-12-22","","476658",""]
[{"$f":"INDEX(学校種!B:B,MATCH(D55524,学校種!A:A,0))","v":"幼稚園(幼稚園型認定こども園を含む)"},{"$f":"INDEX(_tmp2!B:B,MATCH(E55524,_tmp2!A:A,0))","v":"沖縄県"},"A147221300109","A1","47","2","1","うるま市立高江洲幼稚園","うるま市字高江洲１１８番地１","9042242","2020-12-22","","476575",""]
[{"$f":"INDEX(学校種!B:B,MATCH(D55550,学校種!A:A,0))","v":"幼稚園(幼稚園型認定こども園を含む)"},{"$f":"INDEX(_tmp2!B:B,MATCH(E55550,_tmp2!A:A,0))","v":"沖縄県"},"A147230300020","A1","47","2","1","東村立東幼稚園","国頭郡東村字川田８３７番地","9051203","2020-12-22","","476679",""]
[{"$f":"INDEX(学校種!B:B,MATCH(D55585,学校種!A:A,0))","v":"幼稚園(幼稚園型認定こども園を含む)"},{"$f":"INDEX(_tmp2!B:B,MATCH(E55585,_tmp2!A:A,0))","v":"沖縄県"},"A147234800018","A1","47","2","1","与那原町立与那原幼稚園","島尻郡与那原町字与那原７２０番地","9011303","2020-12-22","","476770",""]
[{"$f":"INDEX(学校種!B:B,MATCH(D55615,学校種!A:A,0))","v":"幼稚園(幼稚園型認定こども園を含む)"},{"$f":"INDEX(_tmp2!B:B,MATCH(E55615,_tmp2!A:A,0))","v":"沖縄県"},"A147320100021","A1","47","3","1","愛児幼稚園","那覇市樋川１－１３－１０","9000022","2020-12-22","","476845",""]
[{"$f":"INDEX(学校種!B:B,MATCH(D55646,学校種!A:A,0))","v":"幼保連携型認定こども園"},{"$f":"INDEX(_tmp2!B:B,MATCH(E55646,_tmp2!A:A,0))","v":"沖縄県"},"A247220100022","A2","47","2","9","那覇市立石嶺こども園","那覇市首里石嶺町4丁目360-8","9030804","2020-12-22","2021-05-27","47A045","A247320100253"]
[{"$f":"INDEX(学校種!B:B,MATCH(D55653,学校種!A:A,0))","v":"幼保連携型認定こども園"},{"$f":"INDEX(_tmp2!B:B,MATCH(E55653,_tmp2!A:A,0))","v":"沖縄県"},"A247220100095","A2","47","2","1","那覇市立与儀こども園","那覇市与儀１－１－１","9020076","2020-12-22","","47A075",""]
[{"$f":"INDEX(学校種!B:B,MATCH(D55703,学校種!A:A,0))","v":"幼保連携型認定こども園"},{"$f":"INDEX(_tmp2!B:B,MATCH(E55703,_tmp2!A:A,0))","v":"沖縄県"},"A247320100182","A2","47","3","1","宇栄原こども園","那覇市字小禄１０６６","9010152","2020-12-22","","47A096",""]
[{"$f":"INDEX(学校種!B:B,MATCH(D55718,学校種!A:A,0))","v":"幼保連携型認定こども園"},{"$f":"INDEX(_tmp2!B:B,MATCH(E55718,_tmp2!A:A,0))","v":"沖縄県"},"A247320800041","A2","47","3","1","ハイジこども園","浦添市牧港二丁目23番5号","9012131","2020-12-22","","47A104",""]
[{"$f":"INDEX(学校種!B:B,MATCH(D55736,学校種!A:A,0))","v":"幼保連携型認定こども園"},{"$f":"INDEX(_tmp2!B:B,MATCH(E55736,_tmp2!A:A,0))","v":"沖縄県"},"A247321000083","A2","47","3","1","米須こども園","糸満市大度８４番地","9010334","2020-12-22","","47A107",""]
[{"$f":"INDEX(学校種!B:B,MATCH(D55761,学校種!A:A,0))","v":"幼保連携型認定こども園"},{"$f":"INDEX(_tmp2!B:B,MATCH(E55761,_tmp2!A:A,0))","v":"沖縄県"},"A247331400024","A2","47","3","1","みつばこども園","国頭郡金武町字金武10492-7","9041201","2020-12-22","","47A050",""]
[{"$f":"INDEX(学校種!B:B,MATCH(D55797,学校種!A:A,0))","v":"小学校"},{"$f":"INDEX(_tmp2!B:B,MATCH(E55797,_tmp2!A:A,0))","v":"沖縄県"},"B147220100272","B1","47","2","1","那覇市立石嶺小学校","那覇市首里石嶺町４－３６０－８","9030804","2020-12-22","","470039",""]
[{"$f":"INDEX(学校種!B:B,MATCH(D55826,学校種!A:A,0))","v":"小学校"},{"$f":"INDEX(_tmp2!B:B,MATCH(E55826,_tmp2!A:A,0))","v":"沖縄県"},"B147220700114","B1","47","2","1","石垣市立名蔵小学校","石垣市字名蔵２４３","9070021","2020-12-22","","470078",""]
[{"$f":"INDEX(学校種!B:B,MATCH(D55858,学校種!A:A,0))","v":"小学校"},{"$f":"INDEX(_tmp2!B:B,MATCH(E55858,_tmp2!A:A,0))","v":"沖縄県"},"B147220900121","B1","47","2","1","名護市立稲田小学校","名護市我部祖河４４０－１","9051155","2020-12-22","","470107",""]
[{"$f":"INDEX(学校種!B:B,MATCH(D55891,学校種!A:A,0))","v":"小学校"},{"$f":"INDEX(_tmp2!B:B,MATCH(E55891,_tmp2!A:A,0))","v":"沖縄県"},"B147221200046","B1","47","2","1","豊見城市立豊見城小学校","豊見城市字高嶺４４６－１５","9010213","2020-12-22","","470238",""]
[{"$f":"INDEX(学校種!B:B,MATCH(D55915,学校種!A:A,0))","v":"小学校"},{"$f":"INDEX(_tmp2!B:B,MATCH(E55915,_tmp2!A:A,0))","v":"沖縄県"},"B147221400026","B1","47","2","1","宮古島市立平良第一小学校","宮古島市平良字下里１１４１番地","9060013","2020-12-22","","470063",""]
[{"$f":"INDEX(学校種!B:B,MATCH(D55929,学校種!A:A,0))","v":"小学校"},{"$f":"INDEX(_tmp2!B:B,MATCH(E55929,_tmp2!A:A,0))","v":"沖縄県"},"B147221400160","B1","47","2","1","宮古島市立伊良部島小学校","宮古島市伊良部字池間添１７２０番地","9060502","2020-12-22","","470336",""]
[{"$f":"INDEX(学校種!B:B,MATCH(D55976,学校種!A:A,0))","v":"小学校"},{"$f":"INDEX(_tmp2!B:B,MATCH(E55976,_tmp2!A:A,0))","v":"沖縄県"},"B147232500013","B1","47","2","1","嘉手納町立屋良小学校","中頭郡嘉手納町屋良１－３１－１","9040202","2020-12-22","","470219",""]
[{"$f":"INDEX(学校種!B:B,MATCH(D55981,学校種!A:A,0))","v":"小学校"},{"$f":"INDEX(_tmp2!B:B,MATCH(E55981,_tmp2!A:A,0))","v":"沖縄県"},"B147232600049","B1","47","2","1","北谷町立北谷第二小学校","中頭郡北谷町字桑江５６７番地１","9040103","2020-12-22","","470221",""]
[{"$f":"INDEX(学校種!B:B,MATCH(D56016,学校種!A:A,0))","v":"小学校"},{"$f":"INDEX(_tmp2!B:B,MATCH(E56016,_tmp2!A:A,0))","v":"沖縄県"},"B147236200026","B1","47","2","1","八重瀬町立具志頭小学校","島尻郡八重瀬町字具志頭６６６番地","9010512","2020-12-22","","470244",""]
[{"$f":"INDEX(学校種!B:B,MATCH(D56038,学校種!A:A,0))","v":"中学校"},{"$f":"INDEX(_tmp2!B:B,MATCH(E56038,_tmp2!A:A,0))","v":"沖縄県"},"C147110000014","C1","47","1","1","琉球大学教育学部附属中学校","中頭郡西原町千原１番地","9030213","2020-12-22","","473501",""]
[{"$f":"INDEX(学校種!B:B,MATCH(D56081,学校種!A:A,0))","v":"中学校"},{"$f":"INDEX(_tmp2!B:B,MATCH(E56081,_tmp2!A:A,0))","v":"沖縄県"},"C147220900076","C1","47","2","1","名護市立東江中学校","名護市大東２－１－１","9050016","2020-12-22","","473570",""]
[{"$f":"INDEX(学校種!B:B,MATCH(D56099,学校種!A:A,0))","v":"中学校"},{"$f":"INDEX(_tmp2!B:B,MATCH(E56099,_tmp2!A:A,0))","v":"沖縄県"},"C147221200017","C1","47","2","1","豊見城市立豊見城中学校","豊見城市字宜保１－１－２","9010244","2020-12-22","","473654",""]
[{"$f":"INDEX(学校種!B:B,MATCH(D56124,学校種!A:A,0))","v":"中学校"},{"$f":"INDEX(_tmp2!B:B,MATCH(E56124,_tmp2!A:A,0))","v":"沖縄県"},"C147221400122","C1","47","2","9","宮古島市立福嶺中学校","宮古島市城辺字新城６３４番地","9060102","2020-12-22","2021-05-27","473695","C147221400159"]
[{"$f":"INDEX(学校種!B:B,MATCH(D56160,学校種!A:A,0))","v":"中学校"},{"$f":"INDEX(_tmp2!B:B,MATCH(E56160,_tmp2!A:A,0))","v":"沖縄県"},"C147235400024","C1","47","2","1","座間味村立阿嘉中学校","島尻郡座間味村字阿嘉３１６番地","9013311","2020-12-22","","473682",""]
[{"$f":"INDEX(学校種!B:B,MATCH(D56189,学校種!A:A,0))","v":"中学校"},{"$f":"INDEX(_tmp2!B:B,MATCH(E56189,_tmp2!A:A,0))","v":"沖縄県"},"C147320900010","C1","47","3","1","沖縄三育中学校","名護市旭川８３７","9050003","2020-12-22","","473720",""]
[{"$f":"INDEX(学校種!B:B,MATCH(D56221,学校種!A:A,0))","v":"高等学校"},{"$f":"INDEX(_tmp2!B:B,MATCH(E56221,_tmp2!A:A,0))","v":"沖縄県"},"D147221100052","D1","47","2","1","沖縄県立球陽高等学校","沖縄市南桃原１－１０－１","9040035","2020-12-22","","475582",""]
[{"$f":"INDEX(学校種!B:B,MATCH(D56227,学校種!A:A,0))","v":"高等学校"},{"$f":"INDEX(_tmp2!B:B,MATCH(E56227,_tmp2!A:A,0))","v":"沖縄県"},"D147221300032","D1","47","2","1","沖縄県立中部農林高等学校","うるま市字田場１５７０","9042213","2020-12-22","","475537",""]
[{"$f":"INDEX(学校種!B:B,MATCH(D56278,学校種!A:A,0))","v":"特別支援学校"},{"$f":"INDEX(_tmp2!B:B,MATCH(E56278,_tmp2!A:A,0))","v":"沖縄県"},"E147236200010","E1","47","2","1","沖縄県立島尻特別支援学校","島尻郡八重瀬町字友寄１６０","9010411","2020-12-22","","479919",""]
[{"$f":"INDEX(学校種!B:B,MATCH(D56292,学校種!A:A,0))","v":"専修学校"},{"$f":"INDEX(_tmp2!B:B,MATCH(E56292,_tmp2!A:A,0))","v":"沖縄県"},"H147320100133","H1","47","3","1","専修学校インターナショナルリゾートカレッジ","那覇市金城５－８－６","9010155","2020-12-22","","478557",""]
[{"$f":"INDEX(学校種!B:B,MATCH(D56311,学校種!A:A,0))","v":"専修学校"},{"$f":"INDEX(_tmp2!B:B,MATCH(E56311,_tmp2!A:A,0))","v":"沖縄県"},"H147320500013","H1","47","3","1","パシフィックテクノカレッジ学院","宜野湾市真志喜３丁目２９番１号","9012224","2020-12-22","","478546",""]
[{"$f":"INDEX(学校種!B:B,MATCH(D56357,学校種!A:A,0))","v":"各種学校"},{"$f":"INDEX(_tmp2!B:B,MATCH(E56357,_tmp2!A:A,0))","v":"沖縄県"},"H247332400018","H2","47","3","1","沖縄クリスチャンスクール","中頭郡読谷村字座喜味１８３５","9040301","2020-12-22","","479161",""]
[{"$f":"INDEX(学校種!B:B,MATCH(D56372,学校種!A:A,0))","v":"大学"},{"$f":"INDEX(_tmp2!B:B,MATCH(E56372,_tmp2!A:A,0))","v":"北海道"},"F101310100141","F1","01","3","1","札幌大学","札幌市豊平区西岡３条７丁目３－１","0628520","2021-01-20","","2001",""]
[{"$f":"INDEX(学校種!B:B,MATCH(D56400,学校種!A:A,0))","v":"短期大学"},{"$f":"INDEX(_tmp2!B:B,MATCH(E56400,_tmp2!A:A,0))","v":"北海道"},"F201310100426","F2","01","3","1","札幌大谷大学短期大学部","札幌市東区北一六条東９","0650016","2021-01-20","","5007",""]
[{"$f":"INDEX(学校種!B:B,MATCH(D56433,学校種!A:A,0))","v":"大学"},{"$f":"INDEX(_tmp2!B:B,MATCH(E56433,_tmp2!A:A,0))","v":"岩手県"},"F103310100755","F1","03","3","1","岩手医科大学","紫波郡矢巾町医大通一丁目1番1号","0283694","2021-01-20","","2052",""]
[{"$f":"INDEX(学校種!B:B,MATCH(D56465,学校種!A:A,0))","v":"大学"},{"$f":"INDEX(_tmp2!B:B,MATCH(E56465,_tmp2!A:A,0))","v":"秋田県"},"F105210101077","F1","05","2","1","国際教養大学","秋田市雄和椿川字奥椿岱","0101292","2021-01-20","","1121",""]
[{"$f":"INDEX(学校種!B:B,MATCH(D56490,学校種!A:A,0))","v":"大学"},{"$f":"INDEX(_tmp2!B:B,MATCH(E56490,_tmp2!A:A,0))","v":"福島県"},"F107310101322","F1","07","3","1","医療創生大学","いわき市中央台飯野５－５－１","9708551","2021-01-20","","2103",""]
[{"$f":"INDEX(学校種!B:B,MATCH(D56523,学校種!A:A,0))","v":"短期大学"},{"$f":"INDEX(_tmp2!B:B,MATCH(E56523,_tmp2!A:A,0))","v":"栃木県"},"F209310101659","F2","09","3","1","宇都宮短期大学","宇都宮市下荒針町長坂３８２９","3210346","2021-01-20","","5128",""]
[{"$f":"INDEX(学校種!B:B,MATCH(D56552,学校種!A:A,0))","v":"大学"},{"$f":"INDEX(_tmp2!B:B,MATCH(E56552,_tmp2!A:A,0))","v":"埼玉県"},"F111110101945","F1","11","1","1","埼玉大学","さいたま市桜区下大久保２５５","3388570","2021-01-20","","0164",""]
[{"$f":"INDEX(学校種!B:B,MATCH(D56584,学校種!A:A,0))","v":"短期大学"},{"$f":"INDEX(_tmp2!B:B,MATCH(E56584,_tmp2!A:A,0))","v":"埼玉県"},"F211310102262","F2","11","3","1","秋草学園短期大学","所沢市泉町１７８９","3591112","2021-01-20","","5155",""]
[{"$f":"INDEX(学校種!B:B,MATCH(D56590,学校種!A:A,0))","v":"短期大学"},{"$f":"INDEX(_tmp2!B:B,MATCH(E56590,_tmp2!A:A,0))","v":"埼玉県"},"F211310102324","F2","11","3","1","埼玉東萌短期大学","越谷市新越谷２－２１－１","3430857","2021-01-20","","5262",""]
[{"$f":"INDEX(学校種!B:B,MATCH(D56613,学校種!A:A,0))","v":"大学"},{"$f":"INDEX(_tmp2!B:B,MATCH(E56613,_tmp2!A:A,0))","v":"千葉県"},"F112310102556","F1","12","3","1","聖徳大学","松戸市岩瀬５５０","2718555","2021-01-20","","2188",""]
[{"$f":"INDEX(学校種!B:B,MATCH(D56655,学校種!A:A,0))","v":"大学"},{"$f":"INDEX(_tmp2!B:B,MATCH(E56655,_tmp2!A:A,0))","v":"東京都"},"F113310102975","F1","13","3","1","共立女子大学","千代田区一ツ橋２－２－１","1018437","2021-01-20","","2195",""]
[{"$f":"INDEX(学校種!B:B,MATCH(D56674,学校種!A:A,0))","v":"大学"},{"$f":"INDEX(_tmp2!B:B,MATCH(E56674,_tmp2!A:A,0))","v":"東京都"},"F113310103162","F1","13","3","1","専修大学","千代田区神田神保町３－８","1018425","2021-01-20","","2216",""]
[{"$f":"INDEX(学校種!B:B,MATCH(D56698,学校種!A:A,0))","v":"大学"},{"$f":"INDEX(_tmp2!B:B,MATCH(E56698,_tmp2!A:A,0))","v":"東京都"},"F113310103402","F1","13","3","1","日本医科大学","文京区千駄木１－１－５","1138602","2021-01-20","","2241",""]
[{"$f":"INDEX(学校種!B:B,MATCH(D56735,学校種!A:A,0))","v":"大学"},{"$f":"INDEX(_tmp2!B:B,MATCH(E56735,_tmp2!A:A,0))","v":"東京都"},"F113310103778","F1","13","3","1","東京経済大学","国分寺市南町１－７－３４","1850021","2021-01-20","","2305",""]
[{"$f":"INDEX(学校種!B:B,MATCH(D56763,学校種!A:A,0))","v":"大学"},{"$f":"INDEX(_tmp2!B:B,MATCH(E56763,_tmp2!A:A,0))","v":"東京都"},"F113310104054","F1","13","3","1","大原大学院大学","千代田区西神田１－２－１０","1010065","2021-01-20","","2345",""]
[{"$f":"INDEX(学校種!B:B,MATCH(D56796,学校種!A:A,0))","v":"短期大学"},{"$f":"INDEX(_tmp2!B:B,MATCH(E56796,_tmp2!A:A,0))","v":"東京都"},"F213310104384","F2","13","3","1","新渡戸文化短期大学","中野区本町６－３８－１","1648638","2021-01-20","","5234",""]
[{"$f":"INDEX(学校種!B:B,MATCH(D56828,学校種!A:A,0))","v":"大学"},{"$f":"INDEX(_tmp2!B:B,MATCH(E56828,_tmp2!A:A,0))","v":"神奈川県"},"F114310104703","F1","14","3","1","情報セキュリティ大学院大学","横浜市神奈川区鶴屋町二丁目１４番地１","2210835","2021-01-20","","2338",""]
[{"$f":"INDEX(学校種!B:B,MATCH(D56853,学校種!A:A,0))","v":"短期大学"},{"$f":"INDEX(_tmp2!B:B,MATCH(E56853,_tmp2!A:A,0))","v":"神奈川県"},"F214310104953","F2","14","3","1","上智大学短期大学部","秦野市上大槻山王台９９９","2570005","2021-01-20","","5340",""]
[{"$f":"INDEX(学校種!B:B,MATCH(D56866,学校種!A:A,0))","v":"大学"},{"$f":"INDEX(_tmp2!B:B,MATCH(E56866,_tmp2!A:A,0))","v":"新潟県"},"F115210105080","F1","15","2","1","新潟県立大学","新潟市東区海老ヶ瀬４７１番地","9508680","2021-01-20","","1156",""]
[{"$f":"INDEX(学校種!B:B,MATCH(D56914,学校種!A:A,0))","v":"短期大学"},{"$f":"INDEX(_tmp2!B:B,MATCH(E56914,_tmp2!A:A,0))","v":"石川県"},"F217310105548","F2","17","3","1","北陸学院大学短期大学部","金沢市三小牛町イ１１","9201346","2021-01-20","","5387",""]
[{"$f":"INDEX(学校種!B:B,MATCH(D56931,学校種!A:A,0))","v":"大学"},{"$f":"INDEX(_tmp2!B:B,MATCH(E56931,_tmp2!A:A,0))","v":"山梨県"},"F119310105716","F1","19","3","1","身延山大学","南巨摩郡身延町身延３５６７","4092597","2021-01-20","","2406",""]
[{"$f":"INDEX(学校種!B:B,MATCH(D56947,学校種!A:A,0))","v":"大学"},{"$f":"INDEX(_tmp2!B:B,MATCH(E56947,_tmp2!A:A,0))","v":"長野県"},"F120310111868","F1","20","3","1","松本看護大学","松本市笹賀3118","3990033","2021-05-27","","2424",""]
[{"$f":"INDEX(学校種!B:B,MATCH(D56974,学校種!A:A,0))","v":"短期大学"},{"$f":"INDEX(_tmp2!B:B,MATCH(E56974,_tmp2!A:A,0))","v":"岐阜県"},"F221310106131","F2","21","3","1","正眼短期大学","美濃加茂市伊深町８７６－１０","5050008","2021-01-20","","5435",""]
[{"$f":"INDEX(学校種!B:B,MATCH(D57008,学校種!A:A,0))","v":"大学"},{"$f":"INDEX(_tmp2!B:B,MATCH(E57008,_tmp2!A:A,0))","v":"愛知県"},"F123210106463","F1","23","2","1","名古屋市立大学","名古屋市瑞穂区瑞穂町字川澄１","4678601","2021-01-20","","1204",""]
[{"$f":"INDEX(学校種!B:B,MATCH(D57037,学校種!A:A,0))","v":"大学"},{"$f":"INDEX(_tmp2!B:B,MATCH(E57037,_tmp2!A:A,0))","v":"愛知県"},"F123310106755","F1","23","3","1","星城大学","東海市富貴ノ台二丁目１７２番地","4768588","2021-01-20","","2485",""]
[{"$f":"INDEX(学校種!B:B,MATCH(D57053,学校種!A:A,0))","v":"大学"},{"$f":"INDEX(_tmp2!B:B,MATCH(E57053,_tmp2!A:A,0))","v":"愛知県"},"F123310106915","F1","23","3","1","一宮研伸大学","一宮市常願通５－４－１","4910063","2021-01-20","","2504",""]
[{"$f":"INDEX(学校種!B:B,MATCH(D57054,学校種!A:A,0))","v":"大学"},{"$f":"INDEX(_tmp2!B:B,MATCH(E57054,_tmp2!A:A,0))","v":"愛知県"},"F123310106924","F1","23","3","1","名古屋柳城女子大学 ","名古屋市昭和区明月町2-54 ","4660034","2021-01-20","","2505",""]
[{"$f":"INDEX(学校種!B:B,MATCH(D57055,学校種!A:A,0))","v":"大学"},{"$f":"INDEX(_tmp2!B:B,MATCH(E57055,_tmp2!A:A,0))","v":"愛知県"},"F123310111883","F1","23","3","1","名古屋国際工科専門職大学","名古屋市中村区名駅４－２７－１","4500002","2021-05-27","","2506",""]
[{"$f":"INDEX(学校種!B:B,MATCH(D57056,学校種!A:A,0))","v":"短期大学"},{"$f":"INDEX(_tmp2!B:B,MATCH(E57056,_tmp2!A:A,0))","v":"愛知県"},"F223310106932","F2","23","3","1","豊橋創造大学短期大学部","豊橋市牛川町字松下２０－１","4405812","2021-01-20","","5463",""]
[{"$f":"INDEX(学校種!B:B,MATCH(D57057,学校種!A:A,0))","v":"短期大学"},{"$f":"INDEX(_tmp2!B:B,MATCH(E57057,_tmp2!A:A,0))","v":"愛知県"},"F223310106941","F2","23","3","1","愛知学院大学短期大学部","名古屋市千種区楠元町１－１００","4640037","2021-01-20","","5464",""]
[{"$f":"INDEX(学校種!B:B,MATCH(D57058,学校種!A:A,0))","v":"短期大学"},{"$f":"INDEX(_tmp2!B:B,MATCH(E57058,_tmp2!A:A,0))","v":"愛知県"},"F223310106950","F2","23","3","1","名古屋文理大学短期大学部","名古屋市西区笹塚町２－１","4510077","2021-01-20","","5471",""]
[{"$f":"INDEX(学校種!B:B,MATCH(D57059,学校種!A:A,0))","v":"短期大学"},{"$f":"INDEX(_tmp2!B:B,MATCH(E57059,_tmp2!A:A,0))","v":"愛知県"},"F223310106969","F2","23","3","1","名古屋女子大学短期大学部","名古屋市瑞穂区汐路町３－４０","4678610","2021-01-20","","5473",""]
[{"$f":"INDEX(学校種!B:B,MATCH(D57060,学校種!A:A,0))","v":"短期大学"},{"$f":"INDEX(_tmp2!B:B,MATCH(E57060,_tmp2!A:A,0))","v":"愛知県"},"F223310106978","F2","23","3","1","名古屋短期大学","豊明市栄町武侍４８","4701161","2021-01-20","","5475",""]
[{"$f":"INDEX(学校種!B:B,MATCH(D57061,学校種!A:A,0))","v":"短期大学"},{"$f":"INDEX(_tmp2!B:B,MATCH(E57061,_tmp2!A:A,0))","v":"愛知県"},"F223310106987","F2","23","3","9","南山大学短期大学部","名古屋市昭和区山里町１８","4668673","2021-01-20","2021-05-27","5476",""]
[{"$f":"INDEX(学校種!B:B,MATCH(D57062,学校種!A:A,0))","v":"短期大学"},{"$f":"INDEX(_tmp2!B:B,MATCH(E57062,_tmp2!A:A,0))","v":"愛知県"},"F223310106996","F2","23","3","1","愛知みずほ短期大学","名古屋市瑞穂区春敲町２－１３","4670867","2021-01-20","","5478",""]
[{"$f":"INDEX(学校種!B:B,MATCH(D57063,学校種!A:A,0))","v":"短期大学"},{"$f":"INDEX(_tmp2!B:B,MATCH(E57063,_tmp2!A:A,0))","v":"愛知県"},"F223310107003","F2","23","3","1","名古屋柳城短期大学","名古屋市昭和区明月町２－５４","4660034","2021-01-20","","5480",""]
[{"$f":"INDEX(学校種!B:B,MATCH(D57064,学校種!A:A,0))","v":"短期大学"},{"$f":"INDEX(_tmp2!B:B,MATCH(E57064,_tmp2!A:A,0))","v":"愛知県"},"F223310107012","F2","23","3","1","名古屋文化短期大学","名古屋市東区葵１－１７－８","4618610","2021-01-20","","5481",""]
[{"$f":"INDEX(学校種!B:B,MATCH(D57065,学校種!A:A,0))","v":"短期大学"},{"$f":"INDEX(_tmp2!B:B,MATCH(E57065,_tmp2!A:A,0))","v":"愛知県"},"F223310107021","F2","23","3","1","愛知産業大学短期大学","岡崎市岡町字原山１２－５","4440005","2021-01-20","","5484",""]
[{"$f":"INDEX(学校種!B:B,MATCH(D57066,学校種!A:A,0))","v":"短期大学"},{"$f":"INDEX(_tmp2!B:B,MATCH(E57066,_tmp2!A:A,0))","v":"愛知県"},"F223310107030","F2","23","3","1","愛知工科大学自動車短期大学","蒲郡市西迫町馬乗５０番地２","4430047","2021-01-20","","5485",""]
[{"$f":"INDEX(学校種!B:B,MATCH(D57067,学校種!A:A,0))","v":"短期大学"},{"$f":"INDEX(_tmp2!B:B,MATCH(E57067,_tmp2!A:A,0))","v":"愛知県"},"F223310107049","F2","23","3","1","愛知大学短期大学部","豊橋市町畑町字町畑１－１","4418522","2021-01-20","","5489",""]
[{"$f":"INDEX(学校種!B:B,MATCH(D57068,学校種!A:A,0))","v":"短期大学"},{"$f":"INDEX(_tmp2!B:B,MATCH(E57068,_tmp2!A:A,0))","v":"愛知県"},"F223310107058","F2","23","3","1","愛知学泉短期大学","岡崎市舳越町字上川成２８","4440902","2021-01-20","","5490",""]
[{"$f":"INDEX(学校種!B:B,MATCH(D57069,学校種!A:A,0))","v":"短期大学"},{"$f":"INDEX(_tmp2!B:B,MATCH(E57069,_tmp2!A:A,0))","v":"愛知県"},"F223310107067","F2","23","3","1","修文大学短期大学部","一宮市日光町６","4910938","2021-01-20","","5491",""]
[{"$f":"INDEX(学校種!B:B,MATCH(D57070,学校種!A:A,0))","v":"短期大学"},{"$f":"INDEX(_tmp2!B:B,MATCH(E57070,_tmp2!A:A,0))","v":"愛知県"},"F223310107076","F2","23","3","1","愛知文教女子短期大学","稲沢市稲葉２－９－１７","4928521","2021-01-20","","5493",""]
[{"$f":"INDEX(学校種!B:B,MATCH(D57071,学校種!A:A,0))","v":"短期大学"},{"$f":"INDEX(_tmp2!B:B,MATCH(E57071,_tmp2!A:A,0))","v":"愛知県"},"F223310107085","F2","23","3","1","岡崎女子短期大学","岡崎市中町１－８－４","4440015","2021-01-20","","5494",""]
[{"$f":"INDEX(学校種!B:B,MATCH(D57072,学校種!A:A,0))","v":"短期大学"},{"$f":"INDEX(_tmp2!B:B,MATCH(E57072,_tmp2!A:A,0))","v":"愛知県"},"F223310107094","F2","23","3","1","至学館大学短期大学部","大府市横根町名高山５５","4740011","2021-01-20","","5495",""]
[{"$f":"INDEX(学校種!B:B,MATCH(D57073,学校種!A:A,0))","v":"短期大学"},{"$f":"INDEX(_tmp2!B:B,MATCH(E57073,_tmp2!A:A,0))","v":"愛知県"},"F223310107101","F2","23","3","1","名古屋経営短期大学","尾張旭市新居町山の田３２５５の５","4880076","2021-01-20","","5498",""]
[{"$f":"INDEX(学校種!B:B,MATCH(D57074,学校種!A:A,0))","v":"短期大学"},{"$f":"INDEX(_tmp2!B:B,MATCH(E57074,_tmp2!A:A,0))","v":"愛知県"},"F223310107110","F2","23","3","1","愛知江南短期大学","江南市高屋町大松原１７２","4838086","2021-01-20","","5501",""]
[{"$f":"INDEX(学校種!B:B,MATCH(D57075,学校種!A:A,0))","v":"短期大学"},{"$f":"INDEX(_tmp2!B:B,MATCH(E57075,_tmp2!A:A,0))","v":"愛知県"},"F223310107129","F2","23","3","1","愛知医療学院短期大学","清須市一場神明前５１９","4520931","2021-01-20","","5506",""]
[{"$f":"INDEX(学校種!B:B,MATCH(D57076,学校種!A:A,0))","v":"高等専門学校"},{"$f":"INDEX(_tmp2!B:B,MATCH(E57076,_tmp2!A:A,0))","v":"愛知県"},"G123110107131","G1","23","1","1","豊田工業高等専門学校","豊田市栄生町２－１","4710067","2021-01-20","","6604",""]
[{"$f":"INDEX(学校種!B:B,MATCH(D57077,学校種!A:A,0))","v":"大学"},{"$f":"INDEX(_tmp2!B:B,MATCH(E57077,_tmp2!A:A,0))","v":"三重県"},"F124110107141","F1","24","1","1","三重大学","津市栗真町屋町1577","5148507","2021-01-20","","0272",""]
[{"$f":"INDEX(学校種!B:B,MATCH(D57078,学校種!A:A,0))","v":"大学"},{"$f":"INDEX(_tmp2!B:B,MATCH(E57078,_tmp2!A:A,0))","v":"三重県"},"F124210107158","F1","24","2","1","三重県立看護大学","津市夢が丘一丁目１－１","5140116","2021-01-20","","1215",""]
[{"$f":"INDEX(学校種!B:B,MATCH(D57079,学校種!A:A,0))","v":"大学"},{"$f":"INDEX(_tmp2!B:B,MATCH(E57079,_tmp2!A:A,0))","v":"三重県"},"F124310107165","F1","24","3","1","四日市大学","四日市市萱生町１２００","5128512","2021-01-20","","2498",""]
[{"$f":"INDEX(学校種!B:B,MATCH(D57080,学校種!A:A,0))","v":"大学"},{"$f":"INDEX(_tmp2!B:B,MATCH(E57080,_tmp2!A:A,0))","v":"三重県"},"F124310107174","F1","24","3","1","皇學館大学","伊勢市神田久志本町１７０４","5168555","2021-01-20","","2517",""]
[{"$f":"INDEX(学校種!B:B,MATCH(D57081,学校種!A:A,0))","v":"大学"},{"$f":"INDEX(_tmp2!B:B,MATCH(E57081,_tmp2!A:A,0))","v":"三重県"},"F124310107183","F1","24","3","1","鈴鹿医療科学大学","鈴鹿市岸岡町１００１－１","5100293","2021-01-20","","2518",""]
[{"$f":"INDEX(学校種!B:B,MATCH(D57082,学校種!A:A,0))","v":"大学"},{"$f":"INDEX(_tmp2!B:B,MATCH(E57082,_tmp2!A:A,0))","v":"三重県"},"F124310107192","F1","24","3","1","鈴鹿大学","鈴鹿市郡山町６６３－２２２","5100298","2021-01-20","","2519",""]
[{"$f":"INDEX(学校種!B:B,MATCH(D57083,学校種!A:A,0))","v":"大学"},{"$f":"INDEX(_tmp2!B:B,MATCH(E57083,_tmp2!A:A,0))","v":"三重県"},"F124310107209","F1","24","3","1","四日市看護医療大学","四日市市萱生町１２００番地","5128512","2021-01-20","","2520",""]
[{"$f":"INDEX(学校種!B:B,MATCH(D57084,学校種!A:A,0))","v":"短期大学"},{"$f":"INDEX(_tmp2!B:B,MATCH(E57084,_tmp2!A:A,0))","v":"三重県"},"F224210107219","F2","24","2","1","三重短期大学","津市一身田中野１５７","5140112","2021-01-20","","4480",""]
[{"$f":"INDEX(学校種!B:B,MATCH(D57085,学校種!A:A,0))","v":"短期大学"},{"$f":"INDEX(_tmp2!B:B,MATCH(E57085,_tmp2!A:A,0))","v":"三重県"},"F224310107226","F2","24","3","1","鈴鹿大学短期大学部","鈴鹿市郡山町６６３－２２２","5100298","2021-01-20","","5519",""]
[{"$f":"INDEX(学校種!B:B,MATCH(D57086,学校種!A:A,0))","v":"短期大学"},{"$f":"INDEX(_tmp2!B:B,MATCH(E57086,_tmp2!A:A,0))","v":"三重県"},"F224310107235","F2","24","3","1","高田短期大学","津市一身田豊野１９５","5140115","2021-01-20","","5520",""]
[{"$f":"INDEX(学校種!B:B,MATCH(D57087,学校種!A:A,0))","v":"短期大学"},{"$f":"INDEX(_tmp2!B:B,MATCH(E57087,_tmp2!A:A,0))","v":"三重県"},"F224310107244","F2","24","3","1","ユマニテク短期大学","四日市市南浜田町４－２１","5100066","2021-01-20","","5522",""]
[{"$f":"INDEX(学校種!B:B,MATCH(D57088,学校種!A:A,0))","v":"高等専門学校"},{"$f":"INDEX(_tmp2!B:B,MATCH(E57088,_tmp2!A:A,0))","v":"三重県"},"G124110107256","G1","24","1","1","鈴鹿工業高等専門学校","鈴鹿市白子町","5100294","2021-01-20","","6608",""]
[{"$f":"INDEX(学校種!B:B,MATCH(D57089,学校種!A:A,0))","v":"高等専門学校"},{"$f":"INDEX(_tmp2!B:B,MATCH(E57089,_tmp2!A:A,0))","v":"三重県"},"G124110107265","G1","24","1","1","鳥羽商船高等専門学校","鳥羽市池上町１－１","5178501","2021-01-20","","6612",""]
[{"$f":"INDEX(学校種!B:B,MATCH(D57090,学校種!A:A,0))","v":"高等専門学校"},{"$f":"INDEX(_tmp2!B:B,MATCH(E57090,_tmp2!A:A,0))","v":"三重県"},"G124310107270","G1","24","3","1","近畿大学工業高等専門学校","名張市春日丘７番町１番地","5180459","2021-01-20","","8517",""]
[{"$f":"INDEX(学校種!B:B,MATCH(D57091,学校種!A:A,0))","v":"大学"},{"$f":"INDEX(_tmp2!B:B,MATCH(E57091,_tmp2!A:A,0))","v":"滋賀県"},"F125110107284","F1","25","1","1","滋賀大学","彦根市馬場１－１－１","5228522","2021-01-20","","0276",""]
[{"$f":"INDEX(学校種!B:B,MATCH(D57092,学校種!A:A,0))","v":"大学"},{"$f":"INDEX(_tmp2!B:B,MATCH(E57092,_tmp2!A:A,0))","v":"滋賀県"},"F125110107293","F1","25","1","1","滋賀医科大学","大津市瀬田月輪町","5202121","2021-01-20","","0420",""]
[{"$f":"INDEX(学校種!B:B,MATCH(D57093,学校種!A:A,0))","v":"大学"},{"$f":"INDEX(_tmp2!B:B,MATCH(E57093,_tmp2!A:A,0))","v":"滋賀県"},"F125210107308","F1","25","2","1","滋賀県立大学","彦根市八坂町２５００","5228533","2021-01-20","","1216",""]
[{"$f":"INDEX(学校種!B:B,MATCH(D57094,学校種!A:A,0))","v":"大学"},{"$f":"INDEX(_tmp2!B:B,MATCH(E57094,_tmp2!A:A,0))","v":"滋賀県"},"F125310107315","F1","25","3","1","成安造形大学","大津市仰木の里東４－３－１","5200248","2021-01-20","","2525",""]
[{"$f":"INDEX(学校種!B:B,MATCH(D57095,学校種!A:A,0))","v":"大学"},{"$f":"INDEX(_tmp2!B:B,MATCH(E57095,_tmp2!A:A,0))","v":"滋賀県"},"F125310107324","F1","25","3","1","聖泉大学","彦根市肥田町７２０番地","5211123","2021-01-20","","2527",""]
[{"$f":"INDEX(学校種!B:B,MATCH(D57096,学校種!A:A,0))","v":"大学"},{"$f":"INDEX(_tmp2!B:B,MATCH(E57096,_tmp2!A:A,0))","v":"滋賀県"},"F125310107333","F1","25","3","1","長浜バイオ大学","長浜市田村町１２６６番地","5260829","2021-01-20","","2528",""]
[{"$f":"INDEX(学校種!B:B,MATCH(D57097,学校種!A:A,0))","v":"大学"},{"$f":"INDEX(_tmp2!B:B,MATCH(E57097,_tmp2!A:A,0))","v":"滋賀県"},"F125310107342","F1","25","3","1","びわこ成蹊スポーツ大学","大津市北比良１２０４番地","5200503","2021-01-20","","2529",""]
[{"$f":"INDEX(学校種!B:B,MATCH(D57098,学校種!A:A,0))","v":"大学"},{"$f":"INDEX(_tmp2!B:B,MATCH(E57098,_tmp2!A:A,0))","v":"滋賀県"},"F125310107351","F1","25","3","1","びわこ学院大学","東近江市布施町29番地","5270081","2021-01-20","","2530",""]
[{"$f":"INDEX(学校種!B:B,MATCH(D57099,学校種!A:A,0))","v":"大学"},{"$f":"INDEX(_tmp2!B:B,MATCH(E57099,_tmp2!A:A,0))","v":"滋賀県"},"F125310107360","F1","25","3","1","びわこリハビリテーション専門職大学 ","東近江市北坂町967 ","5270145","2021-01-20","","2531",""]
[{"$f":"INDEX(学校種!B:B,MATCH(D57100,学校種!A:A,0))","v":"短期大学"},{"$f":"INDEX(_tmp2!B:B,MATCH(E57100,_tmp2!A:A,0))","v":"滋賀県"},"F225310107378","F2","25","3","1","滋賀文教短期大学","長浜市田村町３３５","5260829","2021-01-20","","5433",""]
[{"$f":"INDEX(学校種!B:B,MATCH(D57101,学校種!A:A,0))","v":"短期大学"},{"$f":"INDEX(_tmp2!B:B,MATCH(E57101,_tmp2!A:A,0))","v":"滋賀県"},"F225310107387","F2","25","3","1","滋賀短期大学","大津市竜が丘２４－４","5200803","2021-01-20","","5502",""]
[{"$f":"INDEX(学校種!B:B,MATCH(D57102,学校種!A:A,0))","v":"短期大学"},{"$f":"INDEX(_tmp2!B:B,MATCH(E57102,_tmp2!A:A,0))","v":"滋賀県"},"F225310107396","F2","25","3","1","びわこ学院大学短期大学部","東近江市布施町２９","5270081","2021-01-20","","5504",""]
[{"$f":"INDEX(学校種!B:B,MATCH(D57103,学校種!A:A,0))","v":"大学"},{"$f":"INDEX(_tmp2!B:B,MATCH(E57103,_tmp2!A:A,0))","v":"京都府"},"F126110107407","F1","26","1","1","京都大学","京都市左京区吉田本町","6068501","2021-01-20","","0280",""]
[{"$f":"INDEX(学校種!B:B,MATCH(D57104,学校種!A:A,0))","v":"大学"},{"$f":"INDEX(_tmp2!B:B,MATCH(E57104,_tmp2!A:A,0))","v":"京都府"},"F126110107416","F1","26","1","1","京都教育大学","京都市伏見区深草藤森町１","6120863","2021-01-20","","0284",""]
[{"$f":"INDEX(学校種!B:B,MATCH(D57105,学校種!A:A,0))","v":"大学"},{"$f":"INDEX(_tmp2!B:B,MATCH(E57105,_tmp2!A:A,0))","v":"京都府"},"F126110107425","F1","26","1","1","京都工芸繊維大学","京都市左京区松ヶ崎橋上町","6060951","2021-01-20","","0288",""]
[{"$f":"INDEX(学校種!B:B,MATCH(D57106,学校種!A:A,0))","v":"大学"},{"$f":"INDEX(_tmp2!B:B,MATCH(E57106,_tmp2!A:A,0))","v":"京都府"},"F126210107432","F1","26","2","1","京都市立芸術大学","京都市西京区大枝沓掛町１３－６","6101106","2021-01-20","","1220",""]
[{"$f":"INDEX(学校種!B:B,MATCH(D57107,学校種!A:A,0))","v":"大学"},{"$f":"INDEX(_tmp2!B:B,MATCH(E57107,_tmp2!A:A,0))","v":"京都府"},"F126210107441","F1","26","2","1","京都府立大学","京都市左京区下鴨半木町１－５","6068522","2021-01-20","","1224",""]
[{"$f":"INDEX(学校種!B:B,MATCH(D57108,学校種!A:A,0))","v":"大学"},{"$f":"INDEX(_tmp2!B:B,MATCH(E57108,_tmp2!A:A,0))","v":"京都府"},"F126210107450","F1","26","2","1","京都府立医科大学","京都市上京区河原町通広小路上る梶井町４６５","6020841","2021-01-20","","1228",""]
[{"$f":"INDEX(学校種!B:B,MATCH(D57109,学校種!A:A,0))","v":"大学"},{"$f":"INDEX(_tmp2!B:B,MATCH(E57109,_tmp2!A:A,0))","v":"京都府"},"F126210107469","F1","26","2","1","福知山公立大学","福知山市字堀３３７０番地","6200866","2021-01-20","","1229",""]
[{"$f":"INDEX(学校種!B:B,MATCH(D57110,学校種!A:A,0))","v":"大学"},{"$f":"INDEX(_tmp2!B:B,MATCH(E57110,_tmp2!A:A,0))","v":"京都府"},"F126310107476","F1","26","3","1","平安女学院大学","京都市上京区烏丸通下立売西入","6028013","2021-01-20","","2526",""]
[{"$f":"INDEX(学校種!B:B,MATCH(D57111,学校種!A:A,0))","v":"大学"},{"$f":"INDEX(_tmp2!B:B,MATCH(E57111,_tmp2!A:A,0))","v":"京都府"},"F126310107485","F1","26","3","1","大谷大学","京都市北区小山上総町","6038143","2021-01-20","","2539",""]
[{"$f":"INDEX(学校種!B:B,MATCH(D57112,学校種!A:A,0))","v":"大学"},{"$f":"INDEX(_tmp2!B:B,MATCH(E57112,_tmp2!A:A,0))","v":"京都府"},"F126310107494","F1","26","3","1","京都外国語大学","京都市右京区西院笠目町６","6158558","2021-01-20","","2540",""]
[{"$f":"INDEX(学校種!B:B,MATCH(D57113,学校種!A:A,0))","v":"大学"},{"$f":"INDEX(_tmp2!B:B,MATCH(E57113,_tmp2!A:A,0))","v":"京都府"},"F126310107500","F1","26","3","1","京都産業大学","京都市北区上賀茂本山","6038555","2021-01-20","","2541",""]
[{"$f":"INDEX(学校種!B:B,MATCH(D57114,学校種!A:A,0))","v":"大学"},{"$f":"INDEX(_tmp2!B:B,MATCH(E57114,_tmp2!A:A,0))","v":"京都府"},"F126310107519","F1","26","3","1","京都女子大学","京都市東山区今熊野北日吉町３５","6058501","2021-01-20","","2542",""]
[{"$f":"INDEX(学校種!B:B,MATCH(D57115,学校種!A:A,0))","v":"大学"},{"$f":"INDEX(_tmp2!B:B,MATCH(E57115,_tmp2!A:A,0))","v":"京都府"},"F126310107528","F1","26","3","1","京都薬科大学","京都市山科区御陵中内町５","6078414","2021-01-20","","2543",""]
[{"$f":"INDEX(学校種!B:B,MATCH(D57116,学校種!A:A,0))","v":"大学"},{"$f":"INDEX(_tmp2!B:B,MATCH(E57116,_tmp2!A:A,0))","v":"京都府"},"F126310107537","F1","26","3","1","京都光華女子大学","京都市右京区西京極葛野町３８","6150882","2021-01-20","","2544",""]
[{"$f":"INDEX(学校種!B:B,MATCH(D57117,学校種!A:A,0))","v":"大学"},{"$f":"INDEX(_tmp2!B:B,MATCH(E57117,_tmp2!A:A,0))","v":"京都府"},"F126310107546","F1","26","3","1","種智院大学","京都市伏見区向島西定請７０","6128156","2021-01-20","","2545",""]
[{"$f":"INDEX(学校種!B:B,MATCH(D57118,学校種!A:A,0))","v":"大学"},{"$f":"INDEX(_tmp2!B:B,MATCH(E57118,_tmp2!A:A,0))","v":"京都府"},"F126310107555","F1","26","3","1","京都橘大学","京都市山科区大宅山田町３４","6078175","2021-01-20","","2546",""]
[{"$f":"INDEX(学校種!B:B,MATCH(D57119,学校種!A:A,0))","v":"大学"},{"$f":"INDEX(_tmp2!B:B,MATCH(E57119,_tmp2!A:A,0))","v":"京都府"},"F126310107564","F1","26","3","1","同志社大学","京都市上京区今出川通烏丸東入ル玄武町６０１","6020893","2021-01-20","","2547",""]
[{"$f":"INDEX(学校種!B:B,MATCH(D57120,学校種!A:A,0))","v":"大学"},{"$f":"INDEX(_tmp2!B:B,MATCH(E57120,_tmp2!A:A,0))","v":"京都府"},"F126310107573","F1","26","3","1","同志社女子大学","京田辺市興戸南鉾立９７－１","6100395","2021-01-20","","2548",""]
[{"$f":"INDEX(学校種!B:B,MATCH(D57121,学校種!A:A,0))","v":"大学"},{"$f":"INDEX(_tmp2!B:B,MATCH(E57121,_tmp2!A:A,0))","v":"京都府"},"F126310107582","F1","26","3","1","京都ノートルダム女子大学","京都市左京区下鴨南野々神町１","6060847","2021-01-20","","2549",""]
[{"$f":"INDEX(学校種!B:B,MATCH(D57122,学校種!A:A,0))","v":"大学"},{"$f":"INDEX(_tmp2!B:B,MATCH(E57122,_tmp2!A:A,0))","v":"京都府"},"F126310107591","F1","26","3","1","花園大学","京都市中京区西ノ京壷ノ内町８－１","6040000","2021-01-20","","2550",""]
[{"$f":"INDEX(学校種!B:B,MATCH(D57123,学校種!A:A,0))","v":"大学"},{"$f":"INDEX(_tmp2!B:B,MATCH(E57123,_tmp2!A:A,0))","v":"京都府"},"F126310107608","F1","26","3","1","佛教大学","京都市北区紫野北花ノ坊町９６","6038301","2021-01-20","","2551",""]
[{"$f":"INDEX(学校種!B:B,MATCH(D57124,学校種!A:A,0))","v":"大学"},{"$f":"INDEX(_tmp2!B:B,MATCH(E57124,_tmp2!A:A,0))","v":"京都府"},"F126310107617","F1","26","3","1","立命館大学","京都市中京区西ノ京東栂尾町8","6048520","2021-01-20","","2552",""]
[{"$f":"INDEX(学校種!B:B,MATCH(D57125,学校種!A:A,0))","v":"大学"},{"$f":"INDEX(_tmp2!B:B,MATCH(E57125,_tmp2!A:A,0))","v":"京都府"},"F126310107626","F1","26","3","1","龍谷大学","京都市伏見区深草塚本町６７","6128577","2021-01-20","","2553",""]
[{"$f":"INDEX(学校種!B:B,MATCH(D57126,学校種!A:A,0))","v":"大学"},{"$f":"INDEX(_tmp2!B:B,MATCH(E57126,_tmp2!A:A,0))","v":"京都府"},"F126310107635","F1","26","3","1","京都先端科学大学","京都市右京区山ノ内五反田町１８番地","6158577","2021-01-20","","2554",""]
[{"$f":"INDEX(学校種!B:B,MATCH(D57127,学校種!A:A,0))","v":"大学"},{"$f":"INDEX(_tmp2!B:B,MATCH(E57127,_tmp2!A:A,0))","v":"京都府"},"F126310107644","F1","26","3","1","京都精華大学","京都市左京区岩倉木野町１３７","6068588","2021-01-20","","2555",""]
[{"$f":"INDEX(学校種!B:B,MATCH(D57128,学校種!A:A,0))","v":"大学"},{"$f":"INDEX(_tmp2!B:B,MATCH(E57128,_tmp2!A:A,0))","v":"京都府"},"F126310107653","F1","26","3","1","明治国際医療大学","南丹市日吉町保野田ヒノ谷6番地6","6290392","2021-01-20","","2556",""]
[{"$f":"INDEX(学校種!B:B,MATCH(D57129,学校種!A:A,0))","v":"大学"},{"$f":"INDEX(_tmp2!B:B,MATCH(E57129,_tmp2!A:A,0))","v":"京都府"},"F126310107662","F1","26","3","1","京都芸術大学","京都市左京区北白川瓜生山２－１１６","6068271","2021-01-20","","2557",""]
[{"$f":"INDEX(学校種!B:B,MATCH(D57130,学校種!A:A,0))","v":"大学"},{"$f":"INDEX(_tmp2!B:B,MATCH(E57130,_tmp2!A:A,0))","v":"京都府"},"F126310107671","F1","26","3","1","京都文教大学","宇治市槙島町千足８０","6110041","2021-01-20","","2558",""]
[{"$f":"INDEX(学校種!B:B,MATCH(D57131,学校種!A:A,0))","v":"大学"},{"$f":"INDEX(_tmp2!B:B,MATCH(E57131,_tmp2!A:A,0))","v":"京都府"},"F126310107680","F1","26","3","1","嵯峨美術大学","京都市右京区嵯峨五島町１番地","6168362","2021-01-20","","2560",""]
[{"$f":"INDEX(学校種!B:B,MATCH(D57132,学校種!A:A,0))","v":"大学"},{"$f":"INDEX(_tmp2!B:B,MATCH(E57132,_tmp2!A:A,0))","v":"京都府"},"F126310107699","F1","26","3","1","京都情報大学院大学","京都市左京区田中門前町７番地","6068225","2021-01-20","","2561",""]
[{"$f":"INDEX(学校種!B:B,MATCH(D57133,学校種!A:A,0))","v":"大学"},{"$f":"INDEX(_tmp2!B:B,MATCH(E57133,_tmp2!A:A,0))","v":"京都府"},"F126310107706","F1","26","3","1","京都医療科学大学","南丹市園部町小山東町今北１番３","6220041","2021-01-20","","2562",""]
[{"$f":"INDEX(学校種!B:B,MATCH(D57134,学校種!A:A,0))","v":"大学"},{"$f":"INDEX(_tmp2!B:B,MATCH(E57134,_tmp2!A:A,0))","v":"京都府"},"F126310107715","F1","26","3","1","京都華頂大学","京都市東山区林下町３－４５６","6050062","2021-01-20","","2563",""]
[{"$f":"INDEX(学校種!B:B,MATCH(D57135,学校種!A:A,0))","v":"大学"},{"$f":"INDEX(_tmp2!B:B,MATCH(E57135,_tmp2!A:A,0))","v":"京都府"},"F126310107724","F1","26","3","1","京都美術工芸大学","京都市東山区鞘町通正面下る上堀詰町２７２番地１","6050991","2021-01-20","","2564",""]
[{"$f":"INDEX(学校種!B:B,MATCH(D57136,学校種!A:A,0))","v":"大学"},{"$f":"INDEX(_tmp2!B:B,MATCH(E57136,_tmp2!A:A,0))","v":"京都府"},"F126310107733","F1","26","3","1","京都看護大学","京都市中京区壬生東高田町１－２１","6048845","2021-01-20","","2565",""]
[{"$f":"INDEX(学校種!B:B,MATCH(D57137,学校種!A:A,0))","v":"短期大学"},{"$f":"INDEX(_tmp2!B:B,MATCH(E57137,_tmp2!A:A,0))","v":"京都府"},"F226310107741","F2","26","3","1","京都経済短期大学","京都市西京区大枝東長町３番の１","6101195","2021-01-20","","5538",""]
[{"$f":"INDEX(学校種!B:B,MATCH(D57138,学校種!A:A,0))","v":"短期大学"},{"$f":"INDEX(_tmp2!B:B,MATCH(E57138,_tmp2!A:A,0))","v":"京都府"},"F226310107750","F2","26","3","1","池坊短期大学","京都市下京区室町通四条下ル鶏鉾町４９１","6008491","2021-01-20","","5539",""]
[{"$f":"INDEX(学校種!B:B,MATCH(D57139,学校種!A:A,0))","v":"短期大学"},{"$f":"INDEX(_tmp2!B:B,MATCH(E57139,_tmp2!A:A,0))","v":"京都府"},"F226310107769","F2","26","3","1","大谷大学短期大学部","京都市北区小山上総町","6038143","2021-01-20","","5540",""]
[{"$f":"INDEX(学校種!B:B,MATCH(D57140,学校種!A:A,0))","v":"短期大学"},{"$f":"INDEX(_tmp2!B:B,MATCH(E57140,_tmp2!A:A,0))","v":"京都府"},"F226310107778","F2","26","3","1","華頂短期大学","京都市東山区林下町３－４５６","6050062","2021-01-20","","5541",""]
[{"$f":"INDEX(学校種!B:B,MATCH(D57141,学校種!A:A,0))","v":"短期大学"},{"$f":"INDEX(_tmp2!B:B,MATCH(E57141,_tmp2!A:A,0))","v":"京都府"},"F226310107787","F2","26","3","1","京都外国語短期大学","京都市右京区西院笠目町６","6158558","2021-01-20","","5542",""]
[{"$f":"INDEX(学校種!B:B,MATCH(D57142,学校種!A:A,0))","v":"短期大学"},{"$f":"INDEX(_tmp2!B:B,MATCH(E57142,_tmp2!A:A,0))","v":"京都府"},"F226310107796","F2","26","3","1","京都光華女子大学短期大学部","京都市右京区西京極葛野町３８","6150882","2021-01-20","","5545",""]
[{"$f":"INDEX(学校種!B:B,MATCH(D57143,学校種!A:A,0))","v":"短期大学"},{"$f":"INDEX(_tmp2!B:B,MATCH(E57143,_tmp2!A:A,0))","v":"京都府"},"F226310107803","F2","26","3","1","龍谷大学短期大学部","京都市伏見区深草塚本町６７","6128577","2021-01-20","","5548",""]
[{"$f":"INDEX(学校種!B:B,MATCH(D57144,学校種!A:A,0))","v":"短期大学"},{"$f":"INDEX(_tmp2!B:B,MATCH(E57144,_tmp2!A:A,0))","v":"京都府"},"F226310107812","F2","26","3","1","京都文教短期大学","宇治市槙島町千足８０","6110041","2021-01-20","","5561",""]
[{"$f":"INDEX(学校種!B:B,MATCH(D57145,学校種!A:A,0))","v":"短期大学"},{"$f":"INDEX(_tmp2!B:B,MATCH(E57145,_tmp2!A:A,0))","v":"京都府"},"F226310107821","F2","26","3","1","京都西山短期大学","長岡京市粟生西条２６","6170811","2021-01-20","","5563",""]
[{"$f":"INDEX(学校種!B:B,MATCH(D57146,学校種!A:A,0))","v":"短期大学"},{"$f":"INDEX(_tmp2!B:B,MATCH(E57146,_tmp2!A:A,0))","v":"京都府"},"F226310107830","F2","26","3","1","嵯峨美術短期大学","京都市右京区嵯峨五島町１番地","6168362","2021-01-20","","5564",""]
[{"$f":"INDEX(学校種!B:B,MATCH(D57147,学校種!A:A,0))","v":"高等専門学校"},{"$f":"INDEX(_tmp2!B:B,MATCH(E57147,_tmp2!A:A,0))","v":"京都府"},"G126110107842","G1","26","1","1","舞鶴工業高等専門学校","舞鶴市字白屋２３４","6258511","2021-01-20","","6624",""]
[{"$f":"INDEX(学校種!B:B,MATCH(D57148,学校種!A:A,0))","v":"大学"},{"$f":"INDEX(_tmp2!B:B,MATCH(E57148,_tmp2!A:A,0))","v":"大阪府"},"F127110107852","F1","27","1","1","大阪大学","吹田市山田丘１－１","5650871","2021-01-20","","0292",""]
[{"$f":"INDEX(学校種!B:B,MATCH(D57149,学校種!A:A,0))","v":"大学"},{"$f":"INDEX(_tmp2!B:B,MATCH(E57149,_tmp2!A:A,0))","v":"大阪府"},"F127110107861","F1","27","1","1","大阪教育大学","柏原市旭ケ丘４－６９８－１","5820026","2021-01-20","","0300",""]
[{"$f":"INDEX(学校種!B:B,MATCH(D57150,学校種!A:A,0))","v":"大学"},{"$f":"INDEX(_tmp2!B:B,MATCH(E57150,_tmp2!A:A,0))","v":"大阪府"},"F127210107878","F1","27","2","1","大阪市立大学","大阪市住吉区杉本３－３－１３８","5588585","2021-01-20","","1236",""]
[{"$f":"INDEX(学校種!B:B,MATCH(D57151,学校種!A:A,0))","v":"大学"},{"$f":"INDEX(_tmp2!B:B,MATCH(E57151,_tmp2!A:A,0))","v":"大阪府"},"F127210107887","F1","27","2","1","大阪府立大学","堺市中区学園町１番１号","5998531","2021-01-20","","1243",""]
[{"$f":"INDEX(学校種!B:B,MATCH(D57152,学校種!A:A,0))","v":"大学"},{"$f":"INDEX(_tmp2!B:B,MATCH(E57152,_tmp2!A:A,0))","v":"大阪府"},"F127310107894","F1","27","3","1","大阪経済大学","大阪市東淀川区大隅２－２－８","5330015","2021-01-20","","2577",""]
[{"$f":"INDEX(学校種!B:B,MATCH(D57153,学校種!A:A,0))","v":"大学"},{"$f":"INDEX(_tmp2!B:B,MATCH(E57153,_tmp2!A:A,0))","v":"大阪府"},"F127310107901","F1","27","3","1","大阪工業大学","大阪市旭区大宮５－１６－１","5358585","2021-01-20","","2578",""]
[{"$f":"INDEX(学校種!B:B,MATCH(D57154,学校種!A:A,0))","v":"大学"},{"$f":"INDEX(_tmp2!B:B,MATCH(E57154,_tmp2!A:A,0))","v":"大阪府"},"F127310107910","F1","27","3","1","大阪歯科大学","枚方市楠葉花園町８－１","5731121","2021-01-20","","2579",""]
[{"$f":"INDEX(学校種!B:B,MATCH(D57155,学校種!A:A,0))","v":"大学"},{"$f":"INDEX(_tmp2!B:B,MATCH(E57155,_tmp2!A:A,0))","v":"大阪府"},"F127310107929","F1","27","3","1","相愛大学","大阪市住之江区南港中４－４－１","5590033","2021-01-20","","2580",""]
[{"$f":"INDEX(学校種!B:B,MATCH(D57156,学校種!A:A,0))","v":"大学"},{"$f":"INDEX(_tmp2!B:B,MATCH(E57156,_tmp2!A:A,0))","v":"大阪府"},"F127310107938","F1","27","3","1","桃山学院大学","和泉市まなび野１－１","5941198","2021-01-20","","2581",""]
[{"$f":"INDEX(学校種!B:B,MATCH(D57157,学校種!A:A,0))","v":"大学"},{"$f":"INDEX(_tmp2!B:B,MATCH(E57157,_tmp2!A:A,0))","v":"大阪府"},"F127310107947","F1","27","3","1","摂南大学","寝屋川市池田中町１７－８","5720074","2021-01-20","","2582",""]
[{"$f":"INDEX(学校種!B:B,MATCH(D57158,学校種!A:A,0))","v":"大学"},{"$f":"INDEX(_tmp2!B:B,MATCH(E57158,_tmp2!A:A,0))","v":"大阪府"},"F127310107956","F1","27","3","1","桃山学院教育大学","堺市南区槇塚台４－５－１","5900114","2021-01-20","","2583",""]
[{"$f":"INDEX(学校種!B:B,MATCH(D57159,学校種!A:A,0))","v":"大学"},{"$f":"INDEX(_tmp2!B:B,MATCH(E57159,_tmp2!A:A,0))","v":"大阪府"},"F127310107965","F1","27","3","1","大阪医科薬科大学","高槻市大学町２－７","5698686","2021-01-20","","2602",""]
[{"$f":"INDEX(学校種!B:B,MATCH(D57160,学校種!A:A,0))","v":"大学"},{"$f":"INDEX(_tmp2!B:B,MATCH(E57160,_tmp2!A:A,0))","v":"大阪府"},"F127310107974","F1","27","3","1","大阪音楽大学","豊中市庄内幸町１－１－８","5618555","2021-01-20","","2603",""]
[{"$f":"INDEX(学校種!B:B,MATCH(D57161,学校種!A:A,0))","v":"大学"},{"$f":"INDEX(_tmp2!B:B,MATCH(E57161,_tmp2!A:A,0))","v":"大阪府"},"F127310107983","F1","27","3","1","大阪学院大学","吹田市岸部南２－３６－１","5640011","2021-01-20","","2604",""]
[{"$f":"INDEX(学校種!B:B,MATCH(D57162,学校種!A:A,0))","v":"大学"},{"$f":"INDEX(_tmp2!B:B,MATCH(E57162,_tmp2!A:A,0))","v":"大阪府"},"F127310107992","F1","27","3","1","大阪芸術大学","南河内郡河南町東山４６９","5858555","2021-01-20","","2605",""]
[{"$f":"INDEX(学校種!B:B,MATCH(D57163,学校種!A:A,0))","v":"大学"},{"$f":"INDEX(_tmp2!B:B,MATCH(E57163,_tmp2!A:A,0))","v":"大阪府"},"F127310108009","F1","27","3","1","大阪産業大学","大東市中垣内３－１－１","5748530","2021-01-20","","2606",""]
[{"$f":"INDEX(学校種!B:B,MATCH(D57164,学校種!A:A,0))","v":"大学"},{"$f":"INDEX(_tmp2!B:B,MATCH(E57164,_tmp2!A:A,0))","v":"大阪府"},"F127310108018","F1","27","3","1","大阪樟蔭女子大学","東大阪市菱屋西４－２－２６","5770051","2021-01-20","","2607",""]
[{"$f":"INDEX(学校種!B:B,MATCH(D57165,学校種!A:A,0))","v":"大学"},{"$f":"INDEX(_tmp2!B:B,MATCH(E57165,_tmp2!A:A,0))","v":"大阪府"},"F127310108027","F1","27","3","1","大阪商業大学","東大阪市御厨栄町４－１－１０","5778505","2021-01-20","","2608",""]
[{"$f":"INDEX(学校種!B:B,MATCH(D57166,学校種!A:A,0))","v":"大学"},{"$f":"INDEX(_tmp2!B:B,MATCH(E57166,_tmp2!A:A,0))","v":"大阪府"},"F127310108036","F1","27","3","1","大阪体育大学","泉南郡熊取町朝代台１－１","5900496","2021-01-20","","2609",""]
[{"$f":"INDEX(学校種!B:B,MATCH(D57167,学校種!A:A,0))","v":"大学"},{"$f":"INDEX(_tmp2!B:B,MATCH(E57167,_tmp2!A:A,0))","v":"大阪府"},"F127310108045","F1","27","3","1","大阪電気通信大学","寝屋川市初町１８－８","5720833","2021-01-20","","2610",""]
[{"$f":"INDEX(学校種!B:B,MATCH(D57168,学校種!A:A,0))","v":"大学"},{"$f":"INDEX(_tmp2!B:B,MATCH(E57168,_tmp2!A:A,0))","v":"大阪府"},"F127310108054","F1","27","3","9","大阪薬科大学","高槻市奈佐原４－２０－１","5691041","2021-01-20","2021-05-27","2611",""]
[{"$f":"INDEX(学校種!B:B,MATCH(D57169,学校種!A:A,0))","v":"大学"},{"$f":"INDEX(_tmp2!B:B,MATCH(E57169,_tmp2!A:A,0))","v":"大阪府"},"F127310108063","F1","27","3","1","大阪大谷大学","富田林市錦織北３－１１－１","5848540","2021-01-20","","2612",""]
[{"$f":"INDEX(学校種!B:B,MATCH(D57170,学校種!A:A,0))","v":"大学"},{"$f":"INDEX(_tmp2!B:B,MATCH(E57170,_tmp2!A:A,0))","v":"大阪府"},"F127310108072","F1","27","3","1","追手門学院大学","茨木市西安威2-1-15","5678502","2021-01-20","","2613",""]
[{"$f":"INDEX(学校種!B:B,MATCH(D57171,学校種!A:A,0))","v":"大学"},{"$f":"INDEX(_tmp2!B:B,MATCH(E57171,_tmp2!A:A,0))","v":"大阪府"},"F127310108081","F1","27","3","1","関西大学","吹田市山手町３－３－３５","5640073","2021-01-20","","2614",""]
[{"$f":"INDEX(学校種!B:B,MATCH(D57172,学校種!A:A,0))","v":"大学"},{"$f":"INDEX(_tmp2!B:B,MATCH(E57172,_tmp2!A:A,0))","v":"大阪府"},"F127310108090","F1","27","3","1","関西医科大学","枚方市新町2丁目5番1号","5731010","2021-01-20","","2615",""]
[{"$f":"INDEX(学校種!B:B,MATCH(D57173,学校種!A:A,0))","v":"大学"},{"$f":"INDEX(_tmp2!B:B,MATCH(E57173,_tmp2!A:A,0))","v":"大阪府"},"F127310108107","F1","27","3","1","関西外国語大学","枚方市中宮東之町１６－１","5731001","2021-01-20","","2616",""]
[{"$f":"INDEX(学校種!B:B,MATCH(D57174,学校種!A:A,0))","v":"大学"},{"$f":"INDEX(_tmp2!B:B,MATCH(E57174,_tmp2!A:A,0))","v":"大阪府"},"F127310108116","F1","27","3","1","近畿大学","東大阪市小若江３－４－１","5778502","2021-01-20","","2617",""]
[{"$f":"INDEX(学校種!B:B,MATCH(D57175,学校種!A:A,0))","v":"大学"},{"$f":"INDEX(_tmp2!B:B,MATCH(E57175,_tmp2!A:A,0))","v":"大阪府"},"F127310108125","F1","27","3","1","四天王寺大学","羽曳野市学園町３－２－１","5830000","2021-01-20","","2618",""]
[{"$f":"INDEX(学校種!B:B,MATCH(D57176,学校種!A:A,0))","v":"大学"},{"$f":"INDEX(_tmp2!B:B,MATCH(E57176,_tmp2!A:A,0))","v":"大阪府"},"F127310108134","F1","27","3","1","帝塚山学院大学","堺市南区晴美台４－２－２","5900113","2021-01-20","","2620",""]
[{"$f":"INDEX(学校種!B:B,MATCH(D57177,学校種!A:A,0))","v":"大学"},{"$f":"INDEX(_tmp2!B:B,MATCH(E57177,_tmp2!A:A,0))","v":"大阪府"},"F127310108143","F1","27","3","1","梅花女子大学","茨木市宿久庄２－１９－５","5678578","2021-01-20","","2621",""]
[{"$f":"INDEX(学校種!B:B,MATCH(D57178,学校種!A:A,0))","v":"大学"},{"$f":"INDEX(_tmp2!B:B,MATCH(E57178,_tmp2!A:A,0))","v":"大阪府"},"F127310108152","F1","27","3","1","阪南大学","松原市天美東５－４－３３","5808502","2021-01-20","","2622",""]
[{"$f":"INDEX(学校種!B:B,MATCH(D57179,学校種!A:A,0))","v":"大学"},{"$f":"INDEX(_tmp2!B:B,MATCH(E57179,_tmp2!A:A,0))","v":"大阪府"},"F127310108161","F1","27","3","1","大阪経済法科大学","八尾市楽音寺６－１０","5818511","2021-01-20","","2623",""]
[{"$f":"INDEX(学校種!B:B,MATCH(D57180,学校種!A:A,0))","v":"大学"},{"$f":"INDEX(_tmp2!B:B,MATCH(E57180,_tmp2!A:A,0))","v":"大阪府"},"F127310108170","F1","27","3","1","大阪国際大学","守口市藤田町６－２１－５７","5708555","2021-01-20","","2624",""]
[{"$f":"INDEX(学校種!B:B,MATCH(D57181,学校種!A:A,0))","v":"大学"},{"$f":"INDEX(_tmp2!B:B,MATCH(E57181,_tmp2!A:A,0))","v":"大阪府"},"F127310108189","F1","27","3","1","関西福祉科学大学","柏原市旭ケ丘３丁目１１－１","5820026","2021-01-20","","2625",""]
[{"$f":"INDEX(学校種!B:B,MATCH(D57182,学校種!A:A,0))","v":"大学"},{"$f":"INDEX(_tmp2!B:B,MATCH(E57182,_tmp2!A:A,0))","v":"大阪府"},"F127310108198","F1","27","3","1","太成学院大学","堺市美原区平尾１０６０－１","5878555","2021-01-20","","2626",""]
[{"$f":"INDEX(学校種!B:B,MATCH(D57183,学校種!A:A,0))","v":"大学"},{"$f":"INDEX(_tmp2!B:B,MATCH(E57183,_tmp2!A:A,0))","v":"大阪府"},"F127310108205","F1","27","3","1","常磐会学園大学","大阪市平野区喜連東１－４－１２","5470021","2021-01-20","","2627",""]
[{"$f":"INDEX(学校種!B:B,MATCH(D57184,学校種!A:A,0))","v":"大学"},{"$f":"INDEX(_tmp2!B:B,MATCH(E57184,_tmp2!A:A,0))","v":"大阪府"},"F127310108214","F1","27","3","1","大阪観光大学","泉南郡熊取町大久保南５丁目３番１号","5900405","2021-01-20","","2628",""]
[{"$f":"INDEX(学校種!B:B,MATCH(D57185,学校種!A:A,0))","v":"大学"},{"$f":"INDEX(_tmp2!B:B,MATCH(E57185,_tmp2!A:A,0))","v":"大阪府"},"F127310108223","F1","27","3","1","大阪人間科学大学","摂津市正雀１丁目４番１号","5668501","2021-01-20","","2629",""]
[{"$f":"INDEX(学校種!B:B,MATCH(D57186,学校種!A:A,0))","v":"大学"},{"$f":"INDEX(_tmp2!B:B,MATCH(E57186,_tmp2!A:A,0))","v":"大阪府"},"F127310108232","F1","27","3","1","羽衣国際大学","堺市西区浜寺南町１丁８９の１","5928344","2021-01-20","","2630",""]
[{"$f":"INDEX(学校種!B:B,MATCH(D57187,学校種!A:A,0))","v":"大学"},{"$f":"INDEX(_tmp2!B:B,MATCH(E57187,_tmp2!A:A,0))","v":"大阪府"},"F127310108241","F1","27","3","1","大阪成蹊大学","大阪市東淀川区相川３－１０－６２","5330007","2021-01-20","","2631",""]
[{"$f":"INDEX(学校種!B:B,MATCH(D57188,学校種!A:A,0))","v":"大学"},{"$f":"INDEX(_tmp2!B:B,MATCH(E57188,_tmp2!A:A,0))","v":"大阪府"},"F127310108250","F1","27","3","1","関西医療大学","泉南郡熊取町若葉２丁目１１番１号","5900433","2021-01-20","","2632",""]
[{"$f":"INDEX(学校種!B:B,MATCH(D57189,学校種!A:A,0))","v":"大学"},{"$f":"INDEX(_tmp2!B:B,MATCH(E57189,_tmp2!A:A,0))","v":"大阪府"},"F127310108269","F1","27","3","1","千里金蘭大学","吹田市藤白台５丁目２５番１号","5650873","2021-01-20","","2633",""]
[{"$f":"INDEX(学校種!B:B,MATCH(D57190,学校種!A:A,0))","v":"大学"},{"$f":"INDEX(_tmp2!B:B,MATCH(E57190,_tmp2!A:A,0))","v":"大阪府"},"F127310108278","F1","27","3","1","東大阪大学","東大阪市西堤学園町３丁目１番１号","5770044","2021-01-20","","2634",""]
[{"$f":"INDEX(学校種!B:B,MATCH(D57191,学校種!A:A,0))","v":"大学"},{"$f":"INDEX(_tmp2!B:B,MATCH(E57191,_tmp2!A:A,0))","v":"大阪府"},"F127310108287","F1","27","3","1","大阪女学院大学","大阪市中央区玉造２丁目２６番５４号","5400004","2021-01-20","","2635",""]
[{"$f":"INDEX(学校種!B:B,MATCH(D57192,学校種!A:A,0))","v":"大学"},{"$f":"INDEX(_tmp2!B:B,MATCH(E57192,_tmp2!A:A,0))","v":"大阪府"},"F127310108296","F1","27","3","1","藍野大学","茨木市東太田４丁目５番４号","5670012","2021-01-20","","2636",""]
[{"$f":"INDEX(学校種!B:B,MATCH(D57193,学校種!A:A,0))","v":"大学"},{"$f":"INDEX(_tmp2!B:B,MATCH(E57193,_tmp2!A:A,0))","v":"大阪府"},"F127310108303","F1","27","3","1","大阪青山大学","箕面市新稲２丁目１１番１号","5620005","2021-01-20","","2637",""]
[{"$f":"INDEX(学校種!B:B,MATCH(D57194,学校種!A:A,0))","v":"大学"},{"$f":"INDEX(_tmp2!B:B,MATCH(E57194,_tmp2!A:A,0))","v":"大阪府"},"F127310108312","F1","27","3","1","四條畷学園大学","大東市北条５丁目１１番１０号","5740011","2021-01-20","","2638",""]
[{"$f":"INDEX(学校種!B:B,MATCH(D57195,学校種!A:A,0))","v":"大学"},{"$f":"INDEX(_tmp2!B:B,MATCH(E57195,_tmp2!A:A,0))","v":"大阪府"},"F127310108321","F1","27","3","1","大阪河﨑リハビリテーション大学","貝塚市水間１５８番地","5970104","2021-01-20","","2639",""]
[{"$f":"INDEX(学校種!B:B,MATCH(D57196,学校種!A:A,0))","v":"大学"},{"$f":"INDEX(_tmp2!B:B,MATCH(E57196,_tmp2!A:A,0))","v":"大阪府"},"F127310108330","F1","27","3","1","大阪総合保育大学","大阪市東住吉区湯里６丁目４番２６号","5460013","2021-01-20","","2640",""]
[{"$f":"INDEX(学校種!B:B,MATCH(D57197,学校種!A:A,0))","v":"大学"},{"$f":"INDEX(_tmp2!B:B,MATCH(E57197,_tmp2!A:A,0))","v":"大阪府"},"F127310108349","F1","27","3","1","森ノ宮医療大学","大阪市住之江区南港北１－２６－１６","5598611","2021-01-20","","2642",""]
[{"$f":"INDEX(学校種!B:B,MATCH(D57198,学校種!A:A,0))","v":"大学"},{"$f":"INDEX(_tmp2!B:B,MATCH(E57198,_tmp2!A:A,0))","v":"大阪府"},"F127310108358","F1","27","3","1","大阪保健医療大学","大阪市北区天満１丁目９番２７号","5300043","2021-01-20","","2654",""]
[{"$f":"INDEX(学校種!B:B,MATCH(D57199,学校種!A:A,0))","v":"大学"},{"$f":"INDEX(_tmp2!B:B,MATCH(E57199,_tmp2!A:A,0))","v":"大阪府"},"F127310108367","F1","27","3","1","大阪物療大学","堺市西区鳳北町３丁３３","5938328","2021-01-20","","2656",""]
[{"$f":"INDEX(学校種!B:B,MATCH(D57200,学校種!A:A,0))","v":"大学"},{"$f":"INDEX(_tmp2!B:B,MATCH(E57200,_tmp2!A:A,0))","v":"大阪府"},"F127310108376","F1","27","3","1","滋慶医療科学大学","大阪市淀川区宮原一丁目２－９－４","5320003","2021-01-20","","2657",""]
[{"$f":"INDEX(学校種!B:B,MATCH(D57201,学校種!A:A,0))","v":"大学"},{"$f":"INDEX(_tmp2!B:B,MATCH(E57201,_tmp2!A:A,0))","v":"大阪府"},"F127310108385","F1","27","3","1","大阪行岡医療大学","茨木市総持寺１－１－４１","5670801","2021-01-20","","2658",""]
[{"$f":"INDEX(学校種!B:B,MATCH(D57202,学校種!A:A,0))","v":"大学"},{"$f":"INDEX(_tmp2!B:B,MATCH(E57202,_tmp2!A:A,0))","v":"大阪府"},"F127310108394","F1","27","3","1","大和大学","吹田市片山町２－５－１","5640082","2021-01-20","","2659",""]
[{"$f":"INDEX(学校種!B:B,MATCH(D57203,学校種!A:A,0))","v":"大学"},{"$f":"INDEX(_tmp2!B:B,MATCH(E57203,_tmp2!A:A,0))","v":"大阪府"},"F127310108900","F1","27","3","1","宝塚大学","大阪市北区芝田１－１３－１６",5300012,"2021-05-27",null,2676]
[{"$f":"INDEX(学校種!B:B,MATCH(D57204,学校種!A:A,0))","v":"大学"},{"$f":"INDEX(_tmp2!B:B,MATCH(E57204,_tmp2!A:A,0))","v":"大阪府"},"F127310111898","F1","27","3","1","大阪国際工科専門職大学","大阪市北区梅田３－３－１","5300001","2021-05-27","","2660",""]
[{"$f":"INDEX(学校種!B:B,MATCH(D57205,学校種!A:A,0))","v":"短期大学"},{"$f":"INDEX(_tmp2!B:B,MATCH(E57205,_tmp2!A:A,0))","v":"大阪府"},"F227310108400","F2","27","3","1","平安女学院大学短期大学部","高槻市南平台５－８１－１","5691042","2021-01-20","","5547",""]
[{"$f":"INDEX(学校種!B:B,MATCH(D57206,学校種!A:A,0))","v":"短期大学"},{"$f":"INDEX(_tmp2!B:B,MATCH(E57206,_tmp2!A:A,0))","v":"大阪府"},"F227310108419","F2","27","3","1","大阪キリスト教短期大学","大阪市阿倍野区丸山通１－３－６１","5450042","2021-01-20","","5577",""]
[{"$f":"INDEX(学校種!B:B,MATCH(D57207,学校種!A:A,0))","v":"短期大学"},{"$f":"INDEX(_tmp2!B:B,MATCH(E57207,_tmp2!A:A,0))","v":"大阪府"},"F227310108428","F2","27","3","1","大阪城南女子短期大学","大阪市東住吉区湯里６－４－２６","5460013","2021-01-20","","5579",""]
[{"$f":"INDEX(学校種!B:B,MATCH(D57208,学校種!A:A,0))","v":"短期大学"},{"$f":"INDEX(_tmp2!B:B,MATCH(E57208,_tmp2!A:A,0))","v":"大阪府"},"F227310108437","F2","27","3","1","大阪夕陽丘学園短期大学","大阪市天王寺区生玉寺町７－７２","5430073","2021-01-20","","5580",""]
[{"$f":"INDEX(学校種!B:B,MATCH(D57209,学校種!A:A,0))","v":"短期大学"},{"$f":"INDEX(_tmp2!B:B,MATCH(E57209,_tmp2!A:A,0))","v":"大阪府"},"F227310108446","F2","27","3","1","大阪信愛学院短期大学","大阪市城東区古市２－７－３０","5360001","2021-01-20","","5581",""]
[{"$f":"INDEX(学校種!B:B,MATCH(D57210,学校種!A:A,0))","v":"短期大学"},{"$f":"INDEX(_tmp2!B:B,MATCH(E57210,_tmp2!A:A,0))","v":"大阪府"},"F227310108455","F2","27","3","1","大阪成蹊短期大学","大阪市東淀川区相川３－１０－６２","5330007","2021-01-20","","5582",""]
[{"$f":"INDEX(学校種!B:B,MATCH(D57211,学校種!A:A,0))","v":"短期大学"},{"$f":"INDEX(_tmp2!B:B,MATCH(E57211,_tmp2!A:A,0))","v":"大阪府"},"F227310108464","F2","27","3","1","大阪女学院短期大学","大阪市中央区玉造２－２６－５４","5400004","2021-01-20","","5583",""]
[{"$f":"INDEX(学校種!B:B,MATCH(D57212,学校種!A:A,0))","v":"短期大学"},{"$f":"INDEX(_tmp2!B:B,MATCH(E57212,_tmp2!A:A,0))","v":"大阪府"},"F227310108473","F2","27","3","1","関西外国語大学短期大学部","枚方市中宮東之町１６－１","5731001","2021-01-20","","5585",""]
[{"$f":"INDEX(学校種!B:B,MATCH(D57213,学校種!A:A,0))","v":"短期大学"},{"$f":"INDEX(_tmp2!B:B,MATCH(E57213,_tmp2!A:A,0))","v":"大阪府"},"F227310108482","F2","27","3","1","常磐会短期大学","大阪市平野区平野南４－６－７","5470031","2021-01-20","","5588",""]
[{"$f":"INDEX(学校種!B:B,MATCH(D57214,学校種!A:A,0))","v":"短期大学"},{"$f":"INDEX(_tmp2!B:B,MATCH(E57214,_tmp2!A:A,0))","v":"大阪府"},"F227310108491","F2","27","3","1","大阪芸術大学短期大学部","大阪市東住吉区矢田２－１４－１９","5460023","2021-01-20","","5589",""]
[{"$f":"INDEX(学校種!B:B,MATCH(D57215,学校種!A:A,0))","v":"短期大学"},{"$f":"INDEX(_tmp2!B:B,MATCH(E57215,_tmp2!A:A,0))","v":"大阪府"},"F227310108507","F2","27","3","1","プール学院短期大学","大阪市生野区勝山北１－１９－３１","5440033","2021-01-20","","5590",""]
[{"$f":"INDEX(学校種!B:B,MATCH(D57216,学校種!A:A,0))","v":"短期大学"},{"$f":"INDEX(_tmp2!B:B,MATCH(E57216,_tmp2!A:A,0))","v":"大阪府"},"F227310108516","F2","27","3","1","堺女子短期大学","堺市堺区浅香山町１－２－２０","5900012","2021-01-20","","5602",""]
[{"$f":"INDEX(学校種!B:B,MATCH(D57217,学校種!A:A,0))","v":"短期大学"},{"$f":"INDEX(_tmp2!B:B,MATCH(E57217,_tmp2!A:A,0))","v":"大阪府"},"F227310108525","F2","27","3","1","大阪青山大学短期大学部","箕面市新稲２－１１－１","5620005","2021-01-20","","5603",""]
[{"$f":"INDEX(学校種!B:B,MATCH(D57218,学校種!A:A,0))","v":"短期大学"},{"$f":"INDEX(_tmp2!B:B,MATCH(E57218,_tmp2!A:A,0))","v":"大阪府"},"F227310108534","F2","27","3","1","大阪音楽大学短期大学部","豊中市庄内幸町１－１－８","5618555","2021-01-20","","5604",""]
[{"$f":"INDEX(学校種!B:B,MATCH(D57219,学校種!A:A,0))","v":"短期大学"},{"$f":"INDEX(_tmp2!B:B,MATCH(E57219,_tmp2!A:A,0))","v":"大阪府"},"F227310108543","F2","27","3","1","大阪学院大学短期大学部","吹田市岸部南２－３７－１","5640011","2021-01-20","","5605",""]
[{"$f":"INDEX(学校種!B:B,MATCH(D57220,学校種!A:A,0))","v":"短期大学"},{"$f":"INDEX(_tmp2!B:B,MATCH(E57220,_tmp2!A:A,0))","v":"大阪府"},"F227310108552","F2","27","3","1","大阪千代田短期大学","河内長野市小山田町１６８５","5860004","2021-01-20","","5608",""]
[{"$f":"INDEX(学校種!B:B,MATCH(D57221,学校種!A:A,0))","v":"短期大学"},{"$f":"INDEX(_tmp2!B:B,MATCH(E57221,_tmp2!A:A,0))","v":"大阪府"},"F227310108561","F2","27","3","1","関西女子短期大学","柏原市旭ケ丘３－１１－１","5820026","2021-01-20","","5612",""]
[{"$f":"INDEX(学校種!B:B,MATCH(D57222,学校種!A:A,0))","v":"短期大学"},{"$f":"INDEX(_tmp2!B:B,MATCH(E57222,_tmp2!A:A,0))","v":"大阪府"},"F227310108570","F2","27","3","1","近畿大学短期大学部","東大阪市小若江３－４－１","5778502","2021-01-20","","5613",""]
[{"$f":"INDEX(学校種!B:B,MATCH(D57223,学校種!A:A,0))","v":"短期大学"},{"$f":"INDEX(_tmp2!B:B,MATCH(E57223,_tmp2!A:A,0))","v":"大阪府"},"F227310108589","F2","27","3","1","四條畷学園短期大学","大東市学園町６－４５","5740001","2021-01-20","","5616",""]
[{"$f":"INDEX(学校種!B:B,MATCH(D57224,学校種!A:A,0))","v":"短期大学"},{"$f":"INDEX(_tmp2!B:B,MATCH(E57224,_tmp2!A:A,0))","v":"大阪府"},"F227310108598","F2","27","3","1","四天王寺大学短期大学部","羽曳野市学園町３－２－１","5830000","2021-01-20","","5617",""]
[{"$f":"INDEX(学校種!B:B,MATCH(D57225,学校種!A:A,0))","v":"短期大学"},{"$f":"INDEX(_tmp2!B:B,MATCH(E57225,_tmp2!A:A,0))","v":"大阪府"},"F227310108605","F2","27","3","1","大阪国際大学短期大学部","守口市藤田町６－２１－５７","5700014","2021-01-20","","5620",""]
[{"$f":"INDEX(学校種!B:B,MATCH(D57226,学校種!A:A,0))","v":"短期大学"},{"$f":"INDEX(_tmp2!B:B,MATCH(E57226,_tmp2!A:A,0))","v":"大阪府"},"F227310108614","F2","27","3","1","東大阪大学短期大学部","東大阪市西堤学園町３丁目１番１号","5770044","2021-01-20","","5623",""]
[{"$f":"INDEX(学校種!B:B,MATCH(D57227,学校種!A:A,0))","v":"短期大学"},{"$f":"INDEX(_tmp2!B:B,MATCH(E57227,_tmp2!A:A,0))","v":"大阪府"},"F227310108623","F2","27","3","1","藍野大学短期大学部","茨木市太田３－９－２５","5670018","2021-01-20","","5625",""]
[{"$f":"INDEX(学校種!B:B,MATCH(D57228,学校種!A:A,0))","v":"短期大学"},{"$f":"INDEX(_tmp2!B:B,MATCH(E57228,_tmp2!A:A,0))","v":"大阪府"},"F227310108632","F2","27","3","1","大阪健康福祉短期大学","堺市南区高倉台１丁２－１","5900117","2021-01-20","","5629",""]
[{"$f":"INDEX(学校種!B:B,MATCH(D57229,学校種!A:A,0))","v":"高等専門学校"},{"$f":"INDEX(_tmp2!B:B,MATCH(E57229,_tmp2!A:A,0))","v":"大阪府"},"G127210108642","G1","27","2","1","大阪府立大学工業高等専門学校","寝屋川市幸町２６－１２","5720017","2021-01-20","","7120",""]
[{"$f":"INDEX(学校種!B:B,MATCH(D57230,学校種!A:A,0))","v":"大学"},{"$f":"INDEX(_tmp2!B:B,MATCH(E57230,_tmp2!A:A,0))","v":"兵庫県"},"F128110108654","F1","28","1","1","神戸大学","神戸市灘区六甲台町１－１","6578501","2021-01-20","","0304",""]
[{"$f":"INDEX(学校種!B:B,MATCH(D57231,学校種!A:A,0))","v":"大学"},{"$f":"INDEX(_tmp2!B:B,MATCH(E57231,_tmp2!A:A,0))","v":"兵庫県"},"F128110108663","F1","28","1","1","兵庫教育大学","加東市下久米９４２－１","6731494","2021-01-20","","0464",""]
[{"$f":"INDEX(学校種!B:B,MATCH(D57232,学校種!A:A,0))","v":"大学"},{"$f":"INDEX(_tmp2!B:B,MATCH(E57232,_tmp2!A:A,0))","v":"兵庫県"},"F128210108670","F1","28","2","1","神戸市外国語大学","神戸市西区学園東町９－１","6512187","2021-01-20","","1248",""]
[{"$f":"INDEX(学校種!B:B,MATCH(D57233,学校種!A:A,0))","v":"大学"},{"$f":"INDEX(_tmp2!B:B,MATCH(E57233,_tmp2!A:A,0))","v":"兵庫県"},"F128210108689","F1","28","2","1","神戸市看護大学","神戸市西区学園西町３－４","6512103","2021-01-20","","1258",""]
[{"$f":"INDEX(学校種!B:B,MATCH(D57234,学校種!A:A,0))","v":"大学"},{"$f":"INDEX(_tmp2!B:B,MATCH(E57234,_tmp2!A:A,0))","v":"兵庫県"},"F128210108698","F1","28","2","1","兵庫県立大学","神戸市西区学園西町８－２－１","6512197","2021-01-20","","1263",""]
[{"$f":"INDEX(学校種!B:B,MATCH(D57235,学校種!A:A,0))","v":"大学"},{"$f":"INDEX(_tmp2!B:B,MATCH(E57235,_tmp2!A:A,0))","v":"兵庫県"},"F128210111906","F1","28","2","1","芸術文化観光専門職大学","豊岡市山王町7-52","6680044","2021-05-27","","1269",""]
[{"$f":"INDEX(学校種!B:B,MATCH(D57236,学校種!A:A,0))","v":"大学"},{"$f":"INDEX(_tmp2!B:B,MATCH(E57236,_tmp2!A:A,0))","v":"兵庫県"},"F128310108703","F1","28","3","1","甲南大学","神戸市東灘区岡本８－９－１","6580072","2021-01-20","","2643",""]
[{"$f":"INDEX(学校種!B:B,MATCH(D57237,学校種!A:A,0))","v":"大学"},{"$f":"INDEX(_tmp2!B:B,MATCH(E57237,_tmp2!A:A,0))","v":"兵庫県"},"F128310108712","F1","28","3","1","甲南女子大学","神戸市東灘区森北町６－２－２３","6580001","2021-01-20","","2644",""]
[{"$f":"INDEX(学校種!B:B,MATCH(D57238,学校種!A:A,0))","v":"大学"},{"$f":"INDEX(_tmp2!B:B,MATCH(E57238,_tmp2!A:A,0))","v":"兵庫県"},"F128310108721","F1","28","3","1","神戸海星女子学院大学","神戸市灘区青谷町２－７－１","6570805","2021-01-20","","2645",""]
[{"$f":"INDEX(学校種!B:B,MATCH(D57239,学校種!A:A,0))","v":"大学"},{"$f":"INDEX(_tmp2!B:B,MATCH(E57239,_tmp2!A:A,0))","v":"兵庫県"},"F128310108730","F1","28","3","1","神戸学院大学","神戸市中央区港島１－１－３","6508586","2021-01-20","","2646",""]
[{"$f":"INDEX(学校種!B:B,MATCH(D57240,学校種!A:A,0))","v":"大学"},{"$f":"INDEX(_tmp2!B:B,MATCH(E57240,_tmp2!A:A,0))","v":"兵庫県"},"F128310108749","F1","28","3","1","神戸女子大学","神戸市須磨区東須磨青山２－１","6540018","2021-01-20","","2647",""]
[{"$f":"INDEX(学校種!B:B,MATCH(D57241,学校種!A:A,0))","v":"大学"},{"$f":"INDEX(_tmp2!B:B,MATCH(E57241,_tmp2!A:A,0))","v":"兵庫県"},"F128310108758","F1","28","3","1","神戸薬科大学","神戸市東灘区本山北町４－１９－１","6588558","2021-01-20","","2648",""]
[{"$f":"INDEX(学校種!B:B,MATCH(D57242,学校種!A:A,0))","v":"大学"},{"$f":"INDEX(_tmp2!B:B,MATCH(E57242,_tmp2!A:A,0))","v":"兵庫県"},"F128310108767","F1","28","3","1","神戸松蔭女子学院大学","神戸市灘区篠原伯母野山町１－２－１","6570015","2021-01-20","","2649",""]
[{"$f":"INDEX(学校種!B:B,MATCH(D57243,学校種!A:A,0))","v":"大学"},{"$f":"INDEX(_tmp2!B:B,MATCH(E57243,_tmp2!A:A,0))","v":"兵庫県"},"F128310108776","F1","28","3","1","神戸親和女子大学","神戸市北区鈴蘭台北町７－１３－１","6511111","2021-01-20","","2650",""]
[{"$f":"INDEX(学校種!B:B,MATCH(D57244,学校種!A:A,0))","v":"大学"},{"$f":"INDEX(_tmp2!B:B,MATCH(E57244,_tmp2!A:A,0))","v":"兵庫県"},"F128310108785","F1","28","3","1","神戸国際大学","神戸市東灘区向洋町中９－１－６","6580032","2021-01-20","","2651",""]
[{"$f":"INDEX(学校種!B:B,MATCH(D57245,学校種!A:A,0))","v":"大学"},{"$f":"INDEX(_tmp2!B:B,MATCH(E57245,_tmp2!A:A,0))","v":"兵庫県"},"F128310108794","F1","28","3","1","兵庫大学","加古川市平岡町新在家２３０１","6750101","2021-01-20","","2652",""]
[{"$f":"INDEX(学校種!B:B,MATCH(D57246,学校種!A:A,0))","v":"大学"},{"$f":"INDEX(_tmp2!B:B,MATCH(E57246,_tmp2!A:A,0))","v":"兵庫県"},"F128310108801","F1","28","3","1","神戸常盤大学","神戸市長田区大谷町２丁目６番２号","6530838","2021-01-20","","2653",""]
[{"$f":"INDEX(学校種!B:B,MATCH(D57247,学校種!A:A,0))","v":"大学"},{"$f":"INDEX(_tmp2!B:B,MATCH(E57247,_tmp2!A:A,0))","v":"兵庫県"},"F128310108810","F1","28","3","1","宝塚医療大学","宝塚市花屋敷緑ガ丘１","6660162","2021-01-20","","2655",""]
[{"$f":"INDEX(学校種!B:B,MATCH(D57248,学校種!A:A,0))","v":"大学"},{"$f":"INDEX(_tmp2!B:B,MATCH(E57248,_tmp2!A:A,0))","v":"兵庫県"},"F128310108829","F1","28","3","1","芦屋大学","芦屋市六麓荘町１３－２２","6598511","2021-01-20","","2666",""]
[{"$f":"INDEX(学校種!B:B,MATCH(D57249,学校種!A:A,0))","v":"大学"},{"$f":"INDEX(_tmp2!B:B,MATCH(E57249,_tmp2!A:A,0))","v":"兵庫県"},"F128310108838","F1","28","3","1","大手前大学","西宮市御茶家所町６－４２","6620961","2021-01-20","","2668",""]
[{"$f":"INDEX(学校種!B:B,MATCH(D57250,学校種!A:A,0))","v":"大学"},{"$f":"INDEX(_tmp2!B:B,MATCH(E57250,_tmp2!A:A,0))","v":"兵庫県"},"F128310108847","F1","28","3","1","関西学院大学","西宮市上ケ原一番町１－１５５","6628501","2021-01-20","","2669",""]
[{"$f":"INDEX(学校種!B:B,MATCH(D57251,学校種!A:A,0))","v":"大学"},{"$f":"INDEX(_tmp2!B:B,MATCH(E57251,_tmp2!A:A,0))","v":"兵庫県"},"F128310108856","F1","28","3","1","甲子園大学","宝塚市紅葉ガ丘１０－１","6650006","2021-01-20","","2670",""]
[{"$f":"INDEX(学校種!B:B,MATCH(D57252,学校種!A:A,0))","v":"大学"},{"$f":"INDEX(_tmp2!B:B,MATCH(E57252,_tmp2!A:A,0))","v":"兵庫県"},"F128310108865","F1","28","3","1","神戸女学院大学","西宮市岡田山４－１","6628505","2021-01-20","","2671",""]
[{"$f":"INDEX(学校種!B:B,MATCH(D57253,学校種!A:A,0))","v":"大学"},{"$f":"INDEX(_tmp2!B:B,MATCH(E57253,_tmp2!A:A,0))","v":"兵庫県"},"F128310108874","F1","28","3","1","園田学園女子大学","尼崎市南塚口町７－２９－１","6610012","2021-01-20","","2673",""]
[{"$f":"INDEX(学校種!B:B,MATCH(D57254,学校種!A:A,0))","v":"大学"},{"$f":"INDEX(_tmp2!B:B,MATCH(E57254,_tmp2!A:A,0))","v":"兵庫県"},"F128310108883","F1","28","3","1","武庫川女子大学","西宮市池開町６－４６","6638558","2021-01-20","","2674",""]
[{"$f":"INDEX(学校種!B:B,MATCH(D57255,学校種!A:A,0))","v":"大学"},{"$f":"INDEX(_tmp2!B:B,MATCH(E57255,_tmp2!A:A,0))","v":"兵庫県"},"F128310108892","F1","28","3","1","兵庫医科大学","西宮市武庫川町１－１","6638501","2021-01-20","","2675",""]
[{"$f":"INDEX(学校種!B:B,MATCH(D57256,学校種!A:A,0))","v":"大学"},{"$f":"INDEX(_tmp2!B:B,MATCH(E57256,_tmp2!A:A,0))","v":"兵庫県"},"F128310108909","F1","28","3","9","宝塚大学","宝塚市花屋敷つつじガ丘７－２７","6650803","2021-01-20","2021-05-27","2676","F127310108900"]
[{"$f":"INDEX(学校種!B:B,MATCH(D57257,学校種!A:A,0))","v":"大学"},{"$f":"INDEX(_tmp2!B:B,MATCH(E57257,_tmp2!A:A,0))","v":"兵庫県"},"F128310108918","F1","28","3","1","姫路獨協大学","姫路市上大野７－２－１","6708524","2021-01-20","","2677",""]
[{"$f":"INDEX(学校種!B:B,MATCH(D57258,学校種!A:A,0))","v":"大学"},{"$f":"INDEX(_tmp2!B:B,MATCH(E57258,_tmp2!A:A,0))","v":"兵庫県"},"F128310108927","F1","28","3","1","流通科学大学","神戸市西区学園西町３－１","6512188","2021-01-20","","2678",""]
[{"$f":"INDEX(学校種!B:B,MATCH(D57259,学校種!A:A,0))","v":"大学"},{"$f":"INDEX(_tmp2!B:B,MATCH(E57259,_tmp2!A:A,0))","v":"兵庫県"},"F128310108936","F1","28","3","1","神戸芸術工科大学","神戸市西区学園西町８－１－１","6512196","2021-01-20","","2679",""]
[{"$f":"INDEX(学校種!B:B,MATCH(D57260,学校種!A:A,0))","v":"大学"},{"$f":"INDEX(_tmp2!B:B,MATCH(E57260,_tmp2!A:A,0))","v":"兵庫県"},"F128310108945","F1","28","3","1","関西福祉大学","赤穂市新田字釜家後３８０の３","6780255","2021-01-20","","2680",""]
[{"$f":"INDEX(学校種!B:B,MATCH(D57261,学校種!A:A,0))","v":"大学"},{"$f":"INDEX(_tmp2!B:B,MATCH(E57261,_tmp2!A:A,0))","v":"兵庫県"},"F128310108954","F1","28","3","1","関西国際大学","三木市志染町青山１丁目１８","6730521","2021-01-20","","2681",""]
[{"$f":"INDEX(学校種!B:B,MATCH(D57262,学校種!A:A,0))","v":"大学"},{"$f":"INDEX(_tmp2!B:B,MATCH(E57262,_tmp2!A:A,0))","v":"兵庫県"},"F128310108963","F1","28","3","1","神戸医療福祉大学","神崎郡福崎町高岡字塩田１９６６番地の５","6792217","2021-01-20","","2683",""]
[{"$f":"INDEX(学校種!B:B,MATCH(D57263,学校種!A:A,0))","v":"大学"},{"$f":"INDEX(_tmp2!B:B,MATCH(E57263,_tmp2!A:A,0))","v":"兵庫県"},"F128310108972","F1","28","3","1","神戸情報大学院大学","神戸市中央区加納町２丁目２番７号","6500001","2021-01-20","","2685",""]
[{"$f":"INDEX(学校種!B:B,MATCH(D57264,学校種!A:A,0))","v":"大学"},{"$f":"INDEX(_tmp2!B:B,MATCH(E57264,_tmp2!A:A,0))","v":"兵庫県"},"F128310108981","F1","28","3","1","関西看護医療大学","淡路市志筑字船橋１４５６番４号","6562131","2021-01-20","","2686",""]
[{"$f":"INDEX(学校種!B:B,MATCH(D57265,学校種!A:A,0))","v":"大学"},{"$f":"INDEX(_tmp2!B:B,MATCH(E57265,_tmp2!A:A,0))","v":"兵庫県"},"F128310108990","F1","28","3","1","兵庫医療大学","神戸市中央区港島１丁目３番６","6508530","2021-01-20","","2688",""]
[{"$f":"INDEX(学校種!B:B,MATCH(D57266,学校種!A:A,0))","v":"大学"},{"$f":"INDEX(_tmp2!B:B,MATCH(E57266,_tmp2!A:A,0))","v":"兵庫県"},"F128310109007","F1","28","3","1","姫路大学","姫路市大塩町２０４２番２","6710101","2021-01-20","","2689",""]
[{"$f":"INDEX(学校種!B:B,MATCH(D57267,学校種!A:A,0))","v":"短期大学"},{"$f":"INDEX(_tmp2!B:B,MATCH(E57267,_tmp2!A:A,0))","v":"兵庫県"},"F228310109015","F2","28","3","1","大手前短期大学","西宮市御茶家所町６－４２","6628552","2021-01-20","","5584",""]
[{"$f":"INDEX(学校種!B:B,MATCH(D57268,学校種!A:A,0))","v":"短期大学"},{"$f":"INDEX(_tmp2!B:B,MATCH(E57268,_tmp2!A:A,0))","v":"兵庫県"},"F228310109024","F2","28","3","1","神戸女子短期大学","神戸市中央区港島中町４－７－２","6500046","2021-01-20","","5646",""]
[{"$f":"INDEX(学校種!B:B,MATCH(D57269,学校種!A:A,0))","v":"短期大学"},{"$f":"INDEX(_tmp2!B:B,MATCH(E57269,_tmp2!A:A,0))","v":"兵庫県"},"F228310109033","F2","28","3","1","神戸常盤大学短期大学部","神戸市長田区大谷町２－６－２","6530838","2021-01-20","","5647",""]
[{"$f":"INDEX(学校種!B:B,MATCH(D57270,学校種!A:A,0))","v":"短期大学"},{"$f":"INDEX(_tmp2!B:B,MATCH(E57270,_tmp2!A:A,0))","v":"兵庫県"},"F228310109042","F2","28","3","9","神戸山手短期大学","神戸市中央区諏訪山町３－１","6500006","2021-01-20","2021-05-27","5648",""]
[{"$f":"INDEX(学校種!B:B,MATCH(D57271,学校種!A:A,0))","v":"短期大学"},{"$f":"INDEX(_tmp2!B:B,MATCH(E57271,_tmp2!A:A,0))","v":"兵庫県"},"F228310109051","F2","28","3","1","頌栄短期大学","神戸市東灘区御影山手１－１８－１","6580065","2021-01-20","","5650",""]
[{"$f":"INDEX(学校種!B:B,MATCH(D57272,学校種!A:A,0))","v":"短期大学"},{"$f":"INDEX(_tmp2!B:B,MATCH(E57272,_tmp2!A:A,0))","v":"兵庫県"},"F228310109060","F2","28","3","9","芦屋学園短期大学","芦屋市六麓荘町１４－１０","6598511","2021-01-20","2021-05-27","5667",""]
[{"$f":"INDEX(学校種!B:B,MATCH(D57273,学校種!A:A,0))","v":"短期大学"},{"$f":"INDEX(_tmp2!B:B,MATCH(E57273,_tmp2!A:A,0))","v":"兵庫県"},"F228310109079","F2","28","3","1","豊岡短期大学","豊岡市戸牧１６０","6688580","2021-01-20","","5669",""]
[{"$f":"INDEX(学校種!B:B,MATCH(D57274,学校種!A:A,0))","v":"短期大学"},{"$f":"INDEX(_tmp2!B:B,MATCH(E57274,_tmp2!A:A,0))","v":"兵庫県"},"F228310109088","F2","28","3","1","甲子園短期大学","西宮市瓦林町４－２５","6638107","2021-01-20","","5671",""]
[{"$f":"INDEX(学校種!B:B,MATCH(D57275,学校種!A:A,0))","v":"短期大学"},{"$f":"INDEX(_tmp2!B:B,MATCH(E57275,_tmp2!A:A,0))","v":"兵庫県"},"F228310109097","F2","28","3","1","神戸教育短期大学","神戸市長田区西山町2-3-3","6530862","2021-01-20","","5672",""]
[{"$f":"INDEX(学校種!B:B,MATCH(D57276,学校種!A:A,0))","v":"短期大学"},{"$f":"INDEX(_tmp2!B:B,MATCH(E57276,_tmp2!A:A,0))","v":"兵庫県"},"F228310109104","F2","28","3","1","聖和短期大学","西宮市岡田山７－５４","6620827","2021-01-20","","5673",""]
[{"$f":"INDEX(学校種!B:B,MATCH(D57277,学校種!A:A,0))","v":"短期大学"},{"$f":"INDEX(_tmp2!B:B,MATCH(E57277,_tmp2!A:A,0))","v":"兵庫県"},"F228310109113","F2","28","3","1","園田学園女子大学短期大学部","尼崎市南塚口町７－２９－１","6610012","2021-01-20","","5674",""]
[{"$f":"INDEX(学校種!B:B,MATCH(D57278,学校種!A:A,0))","v":"短期大学"},{"$f":"INDEX(_tmp2!B:B,MATCH(E57278,_tmp2!A:A,0))","v":"兵庫県"},"F228310109122","F2","28","3","1","産業技術短期大学","尼崎市西昆陽１－２７－１","6610047","2021-01-20","","5675",""]
[{"$f":"INDEX(学校種!B:B,MATCH(D57279,学校種!A:A,0))","v":"短期大学"},{"$f":"INDEX(_tmp2!B:B,MATCH(E57279,_tmp2!A:A,0))","v":"兵庫県"},"F228310109131","F2","28","3","1","東洋食品工業短期大学","川西市南花屋敷４－２３－２","6660026","2021-01-20","","5676",""]
[{"$f":"INDEX(学校種!B:B,MATCH(D57280,学校種!A:A,0))","v":"短期大学"},{"$f":"INDEX(_tmp2!B:B,MATCH(E57280,_tmp2!A:A,0))","v":"兵庫県"},"F228310109140","F2","28","3","1","兵庫大学短期大学部","加古川市平岡町新在家２３０１","6750101","2021-01-20","","5677",""]
[{"$f":"INDEX(学校種!B:B,MATCH(D57281,学校種!A:A,0))","v":"短期大学"},{"$f":"INDEX(_tmp2!B:B,MATCH(E57281,_tmp2!A:A,0))","v":"兵庫県"},"F228310109159","F2","28","3","1","湊川短期大学","三田市四ツ辻１４３０","6691342","2021-01-20","","5678",""]
[{"$f":"INDEX(学校種!B:B,MATCH(D57282,学校種!A:A,0))","v":"短期大学"},{"$f":"INDEX(_tmp2!B:B,MATCH(E57282,_tmp2!A:A,0))","v":"兵庫県"},"F228310109168","F2","28","3","1","武庫川女子大学短期大学部","西宮市池開町６－４６","6638558","2021-01-20","","5679",""]
[{"$f":"INDEX(学校種!B:B,MATCH(D57283,学校種!A:A,0))","v":"短期大学"},{"$f":"INDEX(_tmp2!B:B,MATCH(E57283,_tmp2!A:A,0))","v":"兵庫県"},"F228310109177","F2","28","3","1","姫路日ノ本短期大学","姫路市香寺町香呂８９０－１","6792151","2021-01-20","","5681",""]
[{"$f":"INDEX(学校種!B:B,MATCH(D57284,学校種!A:A,0))","v":"高等専門学校"},{"$f":"INDEX(_tmp2!B:B,MATCH(E57284,_tmp2!A:A,0))","v":"兵庫県"},"G128110109189","G1","28","1","1","明石工業高等専門学校","明石市魚住町西岡６７９－３","6748501","2021-01-20","","6632",""]
[{"$f":"INDEX(学校種!B:B,MATCH(D57285,学校種!A:A,0))","v":"高等専門学校"},{"$f":"INDEX(_tmp2!B:B,MATCH(E57285,_tmp2!A:A,0))","v":"兵庫県"},"G128210109196","G1","28","2","1","神戸市立工業高等専門学校","神戸市西区学園東町８－３","6512102","2021-01-20","","7130",""]
[{"$f":"INDEX(学校種!B:B,MATCH(D57286,学校種!A:A,0))","v":"大学"},{"$f":"INDEX(_tmp2!B:B,MATCH(E57286,_tmp2!A:A,0))","v":"奈良県"},"F129110109206","F1","29","1","1","奈良教育大学","奈良市高畑町","6308301","2021-01-20","","0312",""]
[{"$f":"INDEX(学校種!B:B,MATCH(D57287,学校種!A:A,0))","v":"大学"},{"$f":"INDEX(_tmp2!B:B,MATCH(E57287,_tmp2!A:A,0))","v":"奈良県"},"F129110109215","F1","29","1","1","奈良女子大学","奈良市北魚屋東町","6308506","2021-01-20","","0316",""]
[{"$f":"INDEX(学校種!B:B,MATCH(D57288,学校種!A:A,0))","v":"大学"},{"$f":"INDEX(_tmp2!B:B,MATCH(E57288,_tmp2!A:A,0))","v":"奈良県"},"F129110109224","F1","29","1","1","奈良先端科学技術大学院大学","生駒市高山町８９１６－５","6300192","2021-01-20","","0492",""]
[{"$f":"INDEX(学校種!B:B,MATCH(D57289,学校種!A:A,0))","v":"大学"},{"$f":"INDEX(_tmp2!B:B,MATCH(E57289,_tmp2!A:A,0))","v":"奈良県"},"F129210109231","F1","29","2","1","奈良県立医科大学","橿原市四条町８４０","6348521","2021-01-20","","1264",""]
[{"$f":"INDEX(学校種!B:B,MATCH(D57290,学校種!A:A,0))","v":"大学"},{"$f":"INDEX(_tmp2!B:B,MATCH(E57290,_tmp2!A:A,0))","v":"奈良県"},"F129210109240","F1","29","2","1","奈良県立大学","奈良市船橋町１０","6308258","2021-01-20","","1266",""]
[{"$f":"INDEX(学校種!B:B,MATCH(D57291,学校種!A:A,0))","v":"大学"},{"$f":"INDEX(_tmp2!B:B,MATCH(E57291,_tmp2!A:A,0))","v":"奈良県"},"F129310109257","F1","29","3","1","帝塚山大学","奈良市帝塚山７－１－１","6318501","2021-01-20","","2690",""]
[{"$f":"INDEX(学校種!B:B,MATCH(D57292,学校種!A:A,0))","v":"大学"},{"$f":"INDEX(_tmp2!B:B,MATCH(E57292,_tmp2!A:A,0))","v":"奈良県"},"F129310109266","F1","29","3","1","天理大学","天理市杣之内町１０５０","6328510","2021-01-20","","2691",""]
[{"$f":"INDEX(学校種!B:B,MATCH(D57293,学校種!A:A,0))","v":"大学"},{"$f":"INDEX(_tmp2!B:B,MATCH(E57293,_tmp2!A:A,0))","v":"奈良県"},"F129310109275","F1","29","3","1","奈良大学","奈良市山陵町１５００","6318502","2021-01-20","","2692",""]
[{"$f":"INDEX(学校種!B:B,MATCH(D57294,学校種!A:A,0))","v":"大学"},{"$f":"INDEX(_tmp2!B:B,MATCH(E57294,_tmp2!A:A,0))","v":"奈良県"},"F129310109284","F1","29","3","1","奈良学園大学","生駒郡三郷町立野北３－１２－１","6368503","2021-01-20","","2693",""]
[{"$f":"INDEX(学校種!B:B,MATCH(D57295,学校種!A:A,0))","v":"大学"},{"$f":"INDEX(_tmp2!B:B,MATCH(E57295,_tmp2!A:A,0))","v":"奈良県"},"F129310109293","F1","29","3","1","畿央大学","北葛城郡広陵町馬見中四丁目２番２","6350832","2021-01-20","","2694",""]
[{"$f":"INDEX(学校種!B:B,MATCH(D57296,学校種!A:A,0))","v":"大学"},{"$f":"INDEX(_tmp2!B:B,MATCH(E57296,_tmp2!A:A,0))","v":"奈良県"},"F129310109300","F1","29","3","1","天理医療大学","天理市別所町８０－１","6320018","2021-01-20","","2695",""]
[{"$f":"INDEX(学校種!B:B,MATCH(D57297,学校種!A:A,0))","v":"短期大学"},{"$f":"INDEX(_tmp2!B:B,MATCH(E57297,_tmp2!A:A,0))","v":"奈良県"},"F229310109318","F2","29","3","1","奈良芸術短期大学","橿原市久米町２２２","6340063","2021-01-20","","5690",""]
[{"$f":"INDEX(学校種!B:B,MATCH(D57298,学校種!A:A,0))","v":"短期大学"},{"$f":"INDEX(_tmp2!B:B,MATCH(E57298,_tmp2!A:A,0))","v":"奈良県"},"F229310109327","F2","29","3","1","奈良佐保短期大学","奈良市鹿野園町８０６","6308425","2021-01-20","","5692",""]
[{"$f":"INDEX(学校種!B:B,MATCH(D57299,学校種!A:A,0))","v":"短期大学"},{"$f":"INDEX(_tmp2!B:B,MATCH(E57299,_tmp2!A:A,0))","v":"奈良県"},"F229310109336","F2","29","3","1","白鳳短期大学","北葛城郡王寺町葛下１丁目７－１７","6360011","2021-01-20","","5696",""]
[{"$f":"INDEX(学校種!B:B,MATCH(D57300,学校種!A:A,0))","v":"高等専門学校"},{"$f":"INDEX(_tmp2!B:B,MATCH(E57300,_tmp2!A:A,0))","v":"奈良県"},"G129110109348","G1","29","1","1","奈良工業高等専門学校","大和郡山市矢田町２２","6391080","2021-01-20","","6636",""]
[{"$f":"INDEX(学校種!B:B,MATCH(D57301,学校種!A:A,0))","v":"大学"},{"$f":"INDEX(_tmp2!B:B,MATCH(E57301,_tmp2!A:A,0))","v":"和歌山県"},"F130110109356","F1","30","1","1","和歌山大学","和歌山市栄谷９３０","6408510","2021-01-20","","0320",""]
[{"$f":"INDEX(学校種!B:B,MATCH(D57302,学校種!A:A,0))","v":"大学"},{"$f":"INDEX(_tmp2!B:B,MATCH(E57302,_tmp2!A:A,0))","v":"和歌山県"},"F130210109363","F1","30","2","1","和歌山県立医科大学","和歌山市紀三井寺８１１－１","6418509","2021-01-20","","1268",""]
[{"$f":"INDEX(学校種!B:B,MATCH(D57303,学校種!A:A,0))","v":"大学"},{"$f":"INDEX(_tmp2!B:B,MATCH(E57303,_tmp2!A:A,0))","v":"和歌山県"},"F130310109370","F1","30","3","1","高野山大学","伊都郡高野町高野山３８５","6480211","2021-01-20","","2705",""]
[{"$f":"INDEX(学校種!B:B,MATCH(D57304,学校種!A:A,0))","v":"大学"},{"$f":"INDEX(_tmp2!B:B,MATCH(E57304,_tmp2!A:A,0))","v":"和歌山県"},"F130310109389","F1","30","3","1","和歌山信愛大学","和歌山市住吉町１","6408022","2021-01-20","","2706",""]
[{"$f":"INDEX(学校種!B:B,MATCH(D57305,学校種!A:A,0))","v":"大学"},{"$f":"INDEX(_tmp2!B:B,MATCH(E57305,_tmp2!A:A,0))","v":"和歌山県"},"F130310111919","F1","30","3","1","和歌山リハビリテーション専門職大学","和歌山市湊本町三丁目1番地","6408222","2021-05-27","","2707",""]
[{"$f":"INDEX(学校種!B:B,MATCH(D57306,学校種!A:A,0))","v":"短期大学"},{"$f":"INDEX(_tmp2!B:B,MATCH(E57306,_tmp2!A:A,0))","v":"和歌山県"},"F230310109397","F2","30","3","1","和歌山信愛女子短期大学","和歌山市相坂７０２－２","6400341","2021-01-20","","5705",""]
[{"$f":"INDEX(学校種!B:B,MATCH(D57307,学校種!A:A,0))","v":"高等専門学校"},{"$f":"INDEX(_tmp2!B:B,MATCH(E57307,_tmp2!A:A,0))","v":"和歌山県"},"G130110109407","G1","30","1","1","和歌山工業高等専門学校","御坊市名田町野島７７","6440023","2021-01-20","","6640",""]
[{"$f":"INDEX(学校種!B:B,MATCH(D57308,学校種!A:A,0))","v":"大学"},{"$f":"INDEX(_tmp2!B:B,MATCH(E57308,_tmp2!A:A,0))","v":"鳥取県"},"F131110109417","F1","31","1","1","鳥取大学","鳥取市湖山町南４－１０１","6800945","2021-01-20","","0324",""]
[{"$f":"INDEX(学校種!B:B,MATCH(D57309,学校種!A:A,0))","v":"大学"},{"$f":"INDEX(_tmp2!B:B,MATCH(E57309,_tmp2!A:A,0))","v":"鳥取県"},"F131210109424","F1","31","2","1","公立鳥取環境大学","鳥取市若葉台北一丁目１番１号","6891111","2021-01-20","","1272",""]
[{"$f":"INDEX(学校種!B:B,MATCH(D57310,学校種!A:A,0))","v":"大学"},{"$f":"INDEX(_tmp2!B:B,MATCH(E57310,_tmp2!A:A,0))","v":"鳥取県"},"F131310109431","F1","31","3","1","鳥取看護大学","倉吉市福庭８５４","6828555","2021-01-20","","2711",""]
[{"$f":"INDEX(学校種!B:B,MATCH(D57311,学校種!A:A,0))","v":"短期大学"},{"$f":"INDEX(_tmp2!B:B,MATCH(E57311,_tmp2!A:A,0))","v":"鳥取県"},"F231310109449","F2","31","3","1","鳥取短期大学","倉吉市福庭８５４","6828555","2021-01-20","","5713",""]
[{"$f":"INDEX(学校種!B:B,MATCH(D57312,学校種!A:A,0))","v":"高等専門学校"},{"$f":"INDEX(_tmp2!B:B,MATCH(E57312,_tmp2!A:A,0))","v":"鳥取県"},"G131110109451","G1","31","1","1","米子工業高等専門学校","米子市彦名町４４４８","6830854","2021-01-20","","6644",""]
[{"$f":"INDEX(学校種!B:B,MATCH(D57313,学校種!A:A,0))","v":"大学"},{"$f":"INDEX(_tmp2!B:B,MATCH(E57313,_tmp2!A:A,0))","v":"島根県"},"F132110109461","F1","32","1","1","島根大学","松江市西川津町1060","6908504","2021-01-20","","0512",""]
[{"$f":"INDEX(学校種!B:B,MATCH(D57314,学校種!A:A,0))","v":"大学"},{"$f":"INDEX(_tmp2!B:B,MATCH(E57314,_tmp2!A:A,0))","v":"島根県"},"F132210109478","F1","32","2","1","島根県立大学","浜田市野原町２４３３番２","6970016","2021-01-20","","1277",""]
[{"$f":"INDEX(学校種!B:B,MATCH(D57315,学校種!A:A,0))","v":"短期大学"},{"$f":"INDEX(_tmp2!B:B,MATCH(E57315,_tmp2!A:A,0))","v":"島根県"},"F232210109486","F2","32","2","1","島根県立大学短期大学部","松江市浜乃木7-24-2","6900044","2021-01-20","","4538",""]
[{"$f":"INDEX(学校種!B:B,MATCH(D57316,学校種!A:A,0))","v":"高等専門学校"},{"$f":"INDEX(_tmp2!B:B,MATCH(E57316,_tmp2!A:A,0))","v":"島根県"},"G132110109496","G1","32","1","1","松江工業高等専門学校","松江市西生馬町１４－４","6900865","2021-01-20","","6648",""]
[{"$f":"INDEX(学校種!B:B,MATCH(D57317,学校種!A:A,0))","v":"大学"},{"$f":"INDEX(_tmp2!B:B,MATCH(E57317,_tmp2!A:A,0))","v":"岡山県"},"F133110109503","F1","33","1","1","岡山大学","岡山市北区津島中１－１－１","7008530","2021-01-20","","0332",""]
[{"$f":"INDEX(学校種!B:B,MATCH(D57318,学校種!A:A,0))","v":"大学"},{"$f":"INDEX(_tmp2!B:B,MATCH(E57318,_tmp2!A:A,0))","v":"岡山県"},"F133210109510","F1","33","2","1","岡山県立大学","総社市窪木１１１","7191112","2021-01-20","","1278",""]
[{"$f":"INDEX(学校種!B:B,MATCH(D57319,学校種!A:A,0))","v":"大学"},{"$f":"INDEX(_tmp2!B:B,MATCH(E57319,_tmp2!A:A,0))","v":"岡山県"},"F133210109529","F1","33","2","1","新見公立大学","新見市西方１２６３番地２","7188585","2021-01-20","","1279",""]
[{"$f":"INDEX(学校種!B:B,MATCH(D57320,学校種!A:A,0))","v":"大学"},{"$f":"INDEX(_tmp2!B:B,MATCH(E57320,_tmp2!A:A,0))","v":"岡山県"},"F133310109536","F1","33","3","1","吉備国際大学","高梁市伊賀町８","7168508","2021-01-20","","2725",""]
[{"$f":"INDEX(学校種!B:B,MATCH(D57321,学校種!A:A,0))","v":"大学"},{"$f":"INDEX(_tmp2!B:B,MATCH(E57321,_tmp2!A:A,0))","v":"岡山県"},"F133310109545","F1","33","3","1","岡山商科大学","岡山市北区津島京町２－１０－１","7008601","2021-01-20","","2726",""]
[{"$f":"INDEX(学校種!B:B,MATCH(D57322,学校種!A:A,0))","v":"大学"},{"$f":"INDEX(_tmp2!B:B,MATCH(E57322,_tmp2!A:A,0))","v":"岡山県"},"F133310109554","F1","33","3","1","岡山理科大学","岡山市北区理大町１－１","7000005","2021-01-20","","2727",""]
[{"$f":"INDEX(学校種!B:B,MATCH(D57323,学校種!A:A,0))","v":"大学"},{"$f":"INDEX(_tmp2!B:B,MATCH(E57323,_tmp2!A:A,0))","v":"岡山県"},"F133310109563","F1","33","3","1","くらしき作陽大学","倉敷市玉島長尾３５１５","7100292","2021-01-20","","2728",""]
[{"$f":"INDEX(学校種!B:B,MATCH(D57324,学校種!A:A,0))","v":"大学"},{"$f":"INDEX(_tmp2!B:B,MATCH(E57324,_tmp2!A:A,0))","v":"岡山県"},"F133310109572","F1","33","3","1","ノートルダム清心女子大学","岡山市北区伊福町２－１６－９","7008516","2021-01-20","","2729",""]
[{"$f":"INDEX(学校種!B:B,MATCH(D57325,学校種!A:A,0))","v":"大学"},{"$f":"INDEX(_tmp2!B:B,MATCH(E57325,_tmp2!A:A,0))","v":"岡山県"},"F133310109581","F1","33","3","1","川崎医科大学","倉敷市松島５７７","7010192","2021-01-20","","2730",""]
[{"$f":"INDEX(学校種!B:B,MATCH(D57326,学校種!A:A,0))","v":"大学"},{"$f":"INDEX(_tmp2!B:B,MATCH(E57326,_tmp2!A:A,0))","v":"岡山県"},"F133310109590","F1","33","3","1","就実大学","岡山市中区西川原１－６－１","7038516","2021-01-20","","2731",""]
[{"$f":"INDEX(学校種!B:B,MATCH(D57327,学校種!A:A,0))","v":"大学"},{"$f":"INDEX(_tmp2!B:B,MATCH(E57327,_tmp2!A:A,0))","v":"岡山県"},"F133310109607","F1","33","3","1","川崎医療福祉大学","倉敷市松島２８８","7010193","2021-01-20","","2732",""]
[{"$f":"INDEX(学校種!B:B,MATCH(D57328,学校種!A:A,0))","v":"大学"},{"$f":"INDEX(_tmp2!B:B,MATCH(E57328,_tmp2!A:A,0))","v":"岡山県"},"F133310109616","F1","33","3","1","山陽学園大学","岡山市中区平井１－１４－１","7038501","2021-01-20","","2733",""]
[{"$f":"INDEX(学校種!B:B,MATCH(D57329,学校種!A:A,0))","v":"大学"},{"$f":"INDEX(_tmp2!B:B,MATCH(E57329,_tmp2!A:A,0))","v":"岡山県"},"F133310109625","F1","33","3","1","倉敷芸術科学大学","倉敷市連島町西之浦２６４０","7128505","2021-01-20","","2734",""]
[{"$f":"INDEX(学校種!B:B,MATCH(D57330,学校種!A:A,0))","v":"大学"},{"$f":"INDEX(_tmp2!B:B,MATCH(E57330,_tmp2!A:A,0))","v":"岡山県"},"F133310109634","F1","33","3","1","岡山学院大学","倉敷市有城７８７番地","7108511","2021-01-20","","2735",""]
[{"$f":"INDEX(学校種!B:B,MATCH(D57331,学校種!A:A,0))","v":"大学"},{"$f":"INDEX(_tmp2!B:B,MATCH(E57331,_tmp2!A:A,0))","v":"岡山県"},"F133310109643","F1","33","3","1","中国学園大学","岡山市北区庭瀬８３番地","7010197","2021-01-20","","2736",""]
[{"$f":"INDEX(学校種!B:B,MATCH(D57332,学校種!A:A,0))","v":"大学"},{"$f":"INDEX(_tmp2!B:B,MATCH(E57332,_tmp2!A:A,0))","v":"岡山県"},"F133310109652","F1","33","3","1","環太平洋大学","岡山市瀬戸町観音寺７２１番地","7090863","2021-01-20","","2737",""]
[{"$f":"INDEX(学校種!B:B,MATCH(D57333,学校種!A:A,0))","v":"大学"},{"$f":"INDEX(_tmp2!B:B,MATCH(E57333,_tmp2!A:A,0))","v":"岡山県"},"F133310109661","F1","33","3","1","岡山医療専門職大学 ","岡山市北区大供3丁目3-2-18 ","7000913","2021-01-20","","2738",""]
[{"$f":"INDEX(学校種!B:B,MATCH(D57334,学校種!A:A,0))","v":"大学"},{"$f":"INDEX(_tmp2!B:B,MATCH(E57334,_tmp2!A:A,0))","v":"岡山県"},"F133310109670","F1","33","3","1","美作大学","津山市北園町５０","7088511","2021-01-20","","2743",""]
[{"$f":"INDEX(学校種!B:B,MATCH(D57335,学校種!A:A,0))","v":"短期大学"},{"$f":"INDEX(_tmp2!B:B,MATCH(E57335,_tmp2!A:A,0))","v":"岡山県"},"F233210109680","F2","33","2","1","倉敷市立短期大学","倉敷市児島稗田町１６０","7110937","2021-01-20","","4542",""]
[{"$f":"INDEX(学校種!B:B,MATCH(D57336,学校種!A:A,0))","v":"短期大学"},{"$f":"INDEX(_tmp2!B:B,MATCH(E57336,_tmp2!A:A,0))","v":"岡山県"},"F233210109699","F2","33","2","9","新見公立短期大学","新見市西方１２６３－２","7180017","2021-01-20","2021-05-27","4546",""]
[{"$f":"INDEX(学校種!B:B,MATCH(D57337,学校種!A:A,0))","v":"短期大学"},{"$f":"INDEX(_tmp2!B:B,MATCH(E57337,_tmp2!A:A,0))","v":"岡山県"},"F233310109704","F2","33","3","1","就実短期大学","岡山市中区西川原１－６－１","7038516","2021-01-20","","5726",""]
[{"$f":"INDEX(学校種!B:B,MATCH(D57338,学校種!A:A,0))","v":"短期大学"},{"$f":"INDEX(_tmp2!B:B,MATCH(E57338,_tmp2!A:A,0))","v":"岡山県"},"F233310109713","F2","33","3","1","岡山短期大学","倉敷市有城７８７番地","7108511","2021-01-20","","5727",""]
[{"$f":"INDEX(学校種!B:B,MATCH(D57339,学校種!A:A,0))","v":"短期大学"},{"$f":"INDEX(_tmp2!B:B,MATCH(E57339,_tmp2!A:A,0))","v":"岡山県"},"F233310109722","F2","33","3","1","作陽短期大学","倉敷市玉島長尾３５２４","7100292","2021-01-20","","5728",""]
[{"$f":"INDEX(学校種!B:B,MATCH(D57340,学校種!A:A,0))","v":"短期大学"},{"$f":"INDEX(_tmp2!B:B,MATCH(E57340,_tmp2!A:A,0))","v":"岡山県"},"F233310109731","F2","33","3","1","中国短期大学","岡山市北区庭瀬８３番地","7010197","2021-01-20","","5730",""]
[{"$f":"INDEX(学校種!B:B,MATCH(D57341,学校種!A:A,0))","v":"短期大学"},{"$f":"INDEX(_tmp2!B:B,MATCH(E57341,_tmp2!A:A,0))","v":"岡山県"},"F233310109740","F2","33","3","1","美作大学短期大学部","津山市北園町５０","7088511","2021-01-20","","5731",""]
[{"$f":"INDEX(学校種!B:B,MATCH(D57342,学校種!A:A,0))","v":"短期大学"},{"$f":"INDEX(_tmp2!B:B,MATCH(E57342,_tmp2!A:A,0))","v":"岡山県"},"F233310109759","F2","33","3","1","山陽学園短期大学","岡山市中区平井１－１４－１","7038501","2021-01-20","","5732",""]
[{"$f":"INDEX(学校種!B:B,MATCH(D57343,学校種!A:A,0))","v":"短期大学"},{"$f":"INDEX(_tmp2!B:B,MATCH(E57343,_tmp2!A:A,0))","v":"岡山県"},"F233310109768","F2","33","3","1","川崎医療短期大学","倉敷市松島３１６","7010194","2021-01-20","","5733",""]
[{"$f":"INDEX(学校種!B:B,MATCH(D57344,学校種!A:A,0))","v":"高等専門学校"},{"$f":"INDEX(_tmp2!B:B,MATCH(E57344,_tmp2!A:A,0))","v":"岡山県"},"G133110109770","G1","33","1","1","津山工業高等専門学校","津山市沼６２４－１","7080824","2021-01-20","","6652",""]
[{"$f":"INDEX(学校種!B:B,MATCH(D57345,学校種!A:A,0))","v":"大学"},{"$f":"INDEX(_tmp2!B:B,MATCH(E57345,_tmp2!A:A,0))","v":"広島県"},"F134110109780","F1","34","1","1","広島大学","東広島市鏡山１－３－２","7300053","2021-01-20","","0336",""]
[{"$f":"INDEX(学校種!B:B,MATCH(D57346,学校種!A:A,0))","v":"大学"},{"$f":"INDEX(_tmp2!B:B,MATCH(E57346,_tmp2!A:A,0))","v":"広島県"},"F134210109797","F1","34","2","1","県立広島大学","広島市南区宇品東１丁目１番７１号","7348558","2021-01-20","","1282",""]
[{"$f":"INDEX(学校種!B:B,MATCH(D57347,学校種!A:A,0))","v":"大学"},{"$f":"INDEX(_tmp2!B:B,MATCH(E57347,_tmp2!A:A,0))","v":"広島県"},"F134210109804","F1","34","2","1","尾道市立大学","尾道市久山田町１６００番地２","7228506","2021-01-20","","1283",""]
[{"$f":"INDEX(学校種!B:B,MATCH(D57348,学校種!A:A,0))","v":"大学"},{"$f":"INDEX(_tmp2!B:B,MATCH(E57348,_tmp2!A:A,0))","v":"広島県"},"F134210109813","F1","34","2","1","広島市立大学","広島市安佐南区大塚東３－４－１","7313194","2021-01-20","","1287",""]
[{"$f":"INDEX(学校種!B:B,MATCH(D57349,学校種!A:A,0))","v":"大学"},{"$f":"INDEX(_tmp2!B:B,MATCH(E57349,_tmp2!A:A,0))","v":"広島県"},"F134210109822","F1","34","2","1","福山市立大学","福山市港町二丁目１９－１","7210964","2021-01-20","","1295",""]
[{"$f":"INDEX(学校種!B:B,MATCH(D57350,学校種!A:A,0))","v":"大学"},{"$f":"INDEX(_tmp2!B:B,MATCH(E57350,_tmp2!A:A,0))","v":"広島県"},"F134210111926","F1","34","2","1","叡啓大学","広島市中区幟町1-5","7300016","2021-05-27","","1296",""]
[{"$f":"INDEX(学校種!B:B,MATCH(D57351,学校種!A:A,0))","v":"大学"},{"$f":"INDEX(_tmp2!B:B,MATCH(E57351,_tmp2!A:A,0))","v":"広島県"},"F134310109839","F1","34","3","1","エリザベト音楽大学","広島市中区幟町４－１５","7300016","2021-01-20","","2744",""]
[{"$f":"INDEX(学校種!B:B,MATCH(D57352,学校種!A:A,0))","v":"大学"},{"$f":"INDEX(_tmp2!B:B,MATCH(E57352,_tmp2!A:A,0))","v":"広島県"},"F134310109848","F1","34","3","1","広島経済大学","広島市安佐南区祇園５－３７－１","7310138","2021-01-20","","2745",""]
[{"$f":"INDEX(学校種!B:B,MATCH(D57353,学校種!A:A,0))","v":"大学"},{"$f":"INDEX(_tmp2!B:B,MATCH(E57353,_tmp2!A:A,0))","v":"広島県"},"F134310109857","F1","34","3","1","広島工業大学","広島市佐伯区三宅２－１－１","7315193","2021-01-20","","2746",""]
[{"$f":"INDEX(学校種!B:B,MATCH(D57354,学校種!A:A,0))","v":"大学"},{"$f":"INDEX(_tmp2!B:B,MATCH(E57354,_tmp2!A:A,0))","v":"広島県"},"F134310109866","F1","34","3","1","広島修道大学","広島市安佐南区大塚東１－１－１","7313195","2021-01-20","","2747",""]
[{"$f":"INDEX(学校種!B:B,MATCH(D57355,学校種!A:A,0))","v":"大学"},{"$f":"INDEX(_tmp2!B:B,MATCH(E57355,_tmp2!A:A,0))","v":"広島県"},"F134310109875","F1","34","3","1","広島女学院大学","広島市東区牛田東４－１３－１","7320063","2021-01-20","","2748",""]
[{"$f":"INDEX(学校種!B:B,MATCH(D57356,学校種!A:A,0))","v":"大学"},{"$f":"INDEX(_tmp2!B:B,MATCH(E57356,_tmp2!A:A,0))","v":"広島県"},"F134310109884","F1","34","3","1","広島国際学院大学","広島市安芸区中野６－２０－１","7390321","2021-01-20","","2749",""]
[{"$f":"INDEX(学校種!B:B,MATCH(D57357,学校種!A:A,0))","v":"大学"},{"$f":"INDEX(_tmp2!B:B,MATCH(E57357,_tmp2!A:A,0))","v":"広島県"},"F134310109893","F1","34","3","1","広島文教大学","広島市安佐北区可部東１－２－１","7310222","2021-01-20","","2750",""]
[{"$f":"INDEX(学校種!B:B,MATCH(D57358,学校種!A:A,0))","v":"大学"},{"$f":"INDEX(_tmp2!B:B,MATCH(E57358,_tmp2!A:A,0))","v":"広島県"},"F134310109900","F1","34","3","1","安田女子大学","広島市安佐南区安東６－１３－１","7310153","2021-01-20","","2751",""]
[{"$f":"INDEX(学校種!B:B,MATCH(D57359,学校種!A:A,0))","v":"大学"},{"$f":"INDEX(_tmp2!B:B,MATCH(E57359,_tmp2!A:A,0))","v":"広島県"},"F134310109919","F1","34","3","1","福山大学","福山市東村町字三蔵９８５番地の１","7290292","2021-01-20","","2752",""]
[{"$f":"INDEX(学校種!B:B,MATCH(D57360,学校種!A:A,0))","v":"大学"},{"$f":"INDEX(_tmp2!B:B,MATCH(E57360,_tmp2!A:A,0))","v":"広島県"},"F134310109928","F1","34","3","1","比治山大学","広島市東区牛田新町４－１－１","7328509","2021-01-20","","2753",""]
[{"$f":"INDEX(学校種!B:B,MATCH(D57361,学校種!A:A,0))","v":"大学"},{"$f":"INDEX(_tmp2!B:B,MATCH(E57361,_tmp2!A:A,0))","v":"広島県"},"F134310109937","F1","34","3","1","福山平成大学","福山市御幸町大字上岩成字正戸１１７－１","7200001","2021-01-20","","2754",""]
[{"$f":"INDEX(学校種!B:B,MATCH(D57362,学校種!A:A,0))","v":"大学"},{"$f":"INDEX(_tmp2!B:B,MATCH(E57362,_tmp2!A:A,0))","v":"広島県"},"F134310109946","F1","34","3","1","広島文化学園大学","呉市郷原学びの丘1-1-1 ","7370182","2021-01-20","","2755",""]
[{"$f":"INDEX(学校種!B:B,MATCH(D57363,学校種!A:A,0))","v":"大学"},{"$f":"INDEX(_tmp2!B:B,MATCH(E57363,_tmp2!A:A,0))","v":"広島県"},"F134310109955","F1","34","3","1","広島国際大学","東広島市黒瀬学園台５５５－３６","7392695","2021-01-20","","2756",""]
[{"$f":"INDEX(学校種!B:B,MATCH(D57364,学校種!A:A,0))","v":"大学"},{"$f":"INDEX(_tmp2!B:B,MATCH(E57364,_tmp2!A:A,0))","v":"広島県"},"F134310109964","F1","34","3","1","日本赤十字広島看護大学","廿日市市阿品台東１－２","7380052","2021-01-20","","2757",""]
[{"$f":"INDEX(学校種!B:B,MATCH(D57365,学校種!A:A,0))","v":"大学"},{"$f":"INDEX(_tmp2!B:B,MATCH(E57365,_tmp2!A:A,0))","v":"広島県"},"F134310109973","F1","34","3","1","広島都市学園大学","広島市南区宇品西五丁目１３－１８","7340014","2021-01-20","","2759",""]
[{"$f":"INDEX(学校種!B:B,MATCH(D57366,学校種!A:A,0))","v":"短期大学"},{"$f":"INDEX(_tmp2!B:B,MATCH(E57366,_tmp2!A:A,0))","v":"広島県"},"F234310109981","F2","34","3","1","山陽女子短期大学","廿日市市佐方本町１－１","7380003","2021-01-20","","5744",""]
[{"$f":"INDEX(学校種!B:B,MATCH(D57367,学校種!A:A,0))","v":"短期大学"},{"$f":"INDEX(_tmp2!B:B,MATCH(E57367,_tmp2!A:A,0))","v":"広島県"},"F234310109990","F2","34","3","1","比治山大学短期大学部","広島市東区牛田新町４－１－１","7328509","2021-01-20","","5747",""]
[{"$f":"INDEX(学校種!B:B,MATCH(D57368,学校種!A:A,0))","v":"短期大学"},{"$f":"INDEX(_tmp2!B:B,MATCH(E57368,_tmp2!A:A,0))","v":"広島県"},"F234310110005","F2","34","3","1","広島国際学院大学自動車短期大学部","広島市安芸区上瀬野町５１７－１","7390302","2021-01-20","","5750",""]
[{"$f":"INDEX(学校種!B:B,MATCH(D57369,学校種!A:A,0))","v":"短期大学"},{"$f":"INDEX(_tmp2!B:B,MATCH(E57369,_tmp2!A:A,0))","v":"広島県"},"F234310110014","F2","34","3","1","広島文化学園短期大学","広島市安佐南区長束西３－５－１","7310136","2021-01-20","","5751",""]
[{"$f":"INDEX(学校種!B:B,MATCH(D57370,学校種!A:A,0))","v":"短期大学"},{"$f":"INDEX(_tmp2!B:B,MATCH(E57370,_tmp2!A:A,0))","v":"広島県"},"F234310110023","F2","34","3","1","安田女子短期大学","広島市安佐南区安東６－１３－１","7310153","2021-01-20","","5754",""]
[{"$f":"INDEX(学校種!B:B,MATCH(D57371,学校種!A:A,0))","v":"高等専門学校"},{"$f":"INDEX(_tmp2!B:B,MATCH(E57371,_tmp2!A:A,0))","v":"広島県"},"G134110110035","G1","34","1","1","呉工業高等専門学校","呉市阿賀南２－２－１１","7370004","2021-01-20","","6656",""]
[{"$f":"INDEX(学校種!B:B,MATCH(D57372,学校種!A:A,0))","v":"高等専門学校"},{"$f":"INDEX(_tmp2!B:B,MATCH(E57372,_tmp2!A:A,0))","v":"広島県"},"G134110110044","G1","34","1","1","広島商船高等専門学校","豊田郡大崎上島町東野４２７２－１","7250231","2021-01-20","","6660",""]
[{"$f":"INDEX(学校種!B:B,MATCH(D57373,学校種!A:A,0))","v":"大学"},{"$f":"INDEX(_tmp2!B:B,MATCH(E57373,_tmp2!A:A,0))","v":"山口県"},"F135110110054","F1","35","1","1","山口大学","山口市吉田１６７７－１","7538511","2021-01-20","","0340",""]
[{"$f":"INDEX(学校種!B:B,MATCH(D57374,学校種!A:A,0))","v":"大学"},{"$f":"INDEX(_tmp2!B:B,MATCH(E57374,_tmp2!A:A,0))","v":"山口県"},"F135210110061","F1","35","2","1","下関市立大学","下関市大学町２－１－１","7510831","2021-01-20","","1288",""]
[{"$f":"INDEX(学校種!B:B,MATCH(D57375,学校種!A:A,0))","v":"大学"},{"$f":"INDEX(_tmp2!B:B,MATCH(E57375,_tmp2!A:A,0))","v":"山口県"},"F135210110070","F1","35","2","1","山口県立大学","山口市桜畠３－２－１","7538502","2021-01-20","","1292",""]
[{"$f":"INDEX(学校種!B:B,MATCH(D57376,学校種!A:A,0))","v":"大学"},{"$f":"INDEX(_tmp2!B:B,MATCH(E57376,_tmp2!A:A,0))","v":"山口県"},"F135210110089","F1","35","2","1","山陽小野田市立山口東京理科大学","山陽小野田市大学通１－１－１","7560884","2021-01-20","","1293",""]
[{"$f":"INDEX(学校種!B:B,MATCH(D57377,学校種!A:A,0))","v":"大学"},{"$f":"INDEX(_tmp2!B:B,MATCH(E57377,_tmp2!A:A,0))","v":"山口県"},"F135310110096","F1","35","3","1","梅光学院大学","下関市向洋町１－１－１","7508511","2021-01-20","","2764",""]
[{"$f":"INDEX(学校種!B:B,MATCH(D57378,学校種!A:A,0))","v":"大学"},{"$f":"INDEX(_tmp2!B:B,MATCH(E57378,_tmp2!A:A,0))","v":"山口県"},"F135310110103","F1","35","3","1","徳山大学","周南市学園台８４３－４－２","7458566","2021-01-20","","2765",""]
[{"$f":"INDEX(学校種!B:B,MATCH(D57379,学校種!A:A,0))","v":"大学"},{"$f":"INDEX(_tmp2!B:B,MATCH(E57379,_tmp2!A:A,0))","v":"山口県"},"F135310110112","F1","35","3","1","東亜大学","下関市一の宮学園町２－１","7510807","2021-01-20","","2766",""]
[{"$f":"INDEX(学校種!B:B,MATCH(D57380,学校種!A:A,0))","v":"大学"},{"$f":"INDEX(_tmp2!B:B,MATCH(E57380,_tmp2!A:A,0))","v":"山口県"},"F135310110121","F1","35","3","1","至誠館大学","萩市椿東浦田5000","7588585","2021-01-20","","2768",""]
[{"$f":"INDEX(学校種!B:B,MATCH(D57381,学校種!A:A,0))","v":"大学"},{"$f":"INDEX(_tmp2!B:B,MATCH(E57381,_tmp2!A:A,0))","v":"山口県"},"F135310110130","F1","35","3","1","宇部フロンティア大学","宇部市文京台二丁目１番１号","7550805","2021-01-20","","2769",""]
[{"$f":"INDEX(学校種!B:B,MATCH(D57382,学校種!A:A,0))","v":"大学"},{"$f":"INDEX(_tmp2!B:B,MATCH(E57382,_tmp2!A:A,0))","v":"山口県"},"F135310110149","F1","35","3","1","山口学芸大学","山口市小郡みらい町一丁目7番1号","7540032","2021-01-20","","2770",""]
[{"$f":"INDEX(学校種!B:B,MATCH(D57383,学校種!A:A,0))","v":"短期大学"},{"$f":"INDEX(_tmp2!B:B,MATCH(E57383,_tmp2!A:A,0))","v":"山口県"},"F235310110157","F2","35","3","1","宇部フロンティア大学短期大学部","宇部市文京台２－１－１","7550805","2021-01-20","","5764",""]
[{"$f":"INDEX(学校種!B:B,MATCH(D57384,学校種!A:A,0))","v":"短期大学"},{"$f":"INDEX(_tmp2!B:B,MATCH(E57384,_tmp2!A:A,0))","v":"山口県"},"F235310110166","F2","35","3","1","下関短期大学","下関市桜山町１－１","7500035","2021-01-20","","5765",""]
[{"$f":"INDEX(学校種!B:B,MATCH(D57385,学校種!A:A,0))","v":"短期大学"},{"$f":"INDEX(_tmp2!B:B,MATCH(E57385,_tmp2!A:A,0))","v":"山口県"},"F235310110175","F2","35","3","1","山口短期大学","防府市大字台道字大繁枝11346番の2","7471232","2021-01-20","","5768",""]
[{"$f":"INDEX(学校種!B:B,MATCH(D57386,学校種!A:A,0))","v":"短期大学"},{"$f":"INDEX(_tmp2!B:B,MATCH(E57386,_tmp2!A:A,0))","v":"山口県"},"F235310110184","F2","35","3","1","山口芸術短期大学","山口市小郡みらい町一丁目7番1号","7540032","2021-01-20","","5769",""]
[{"$f":"INDEX(学校種!B:B,MATCH(D57387,学校種!A:A,0))","v":"短期大学"},{"$f":"INDEX(_tmp2!B:B,MATCH(E57387,_tmp2!A:A,0))","v":"山口県"},"F235310110193","F2","35","3","1","岩国短期大学","岩国市尾津町２－２４－１８","7400032","2021-01-20","","5770",""]
[{"$f":"INDEX(学校種!B:B,MATCH(D57388,学校種!A:A,0))","v":"高等専門学校"},{"$f":"INDEX(_tmp2!B:B,MATCH(E57388,_tmp2!A:A,0))","v":"山口県"},"G135110110203","G1","35","1","1","徳山工業高等専門学校","周南市学園台","7458585","2021-01-20","","6552",""]
[{"$f":"INDEX(学校種!B:B,MATCH(D57389,学校種!A:A,0))","v":"高等専門学校"},{"$f":"INDEX(_tmp2!B:B,MATCH(E57389,_tmp2!A:A,0))","v":"山口県"},"G135110110212","G1","35","1","1","宇部工業高等専門学校","宇部市常盤台２－１４－１","7558555","2021-01-20","","6664",""]
[{"$f":"INDEX(学校種!B:B,MATCH(D57390,学校種!A:A,0))","v":"高等専門学校"},{"$f":"INDEX(_tmp2!B:B,MATCH(E57390,_tmp2!A:A,0))","v":"山口県"},"G135110110221","G1","35","1","1","大島商船高等専門学校","大島郡周防大島町大字小松１０９１－１","7422193","2021-01-20","","6668",""]
[{"$f":"INDEX(学校種!B:B,MATCH(D57391,学校種!A:A,0))","v":"大学"},{"$f":"INDEX(_tmp2!B:B,MATCH(E57391,_tmp2!A:A,0))","v":"徳島県"},"F136110110231","F1","36","1","1","徳島大学","徳島市新蔵町２－２４","7708501","2021-01-20","","0344",""]
[{"$f":"INDEX(学校種!B:B,MATCH(D57392,学校種!A:A,0))","v":"大学"},{"$f":"INDEX(_tmp2!B:B,MATCH(E57392,_tmp2!A:A,0))","v":"徳島県"},"F136110110240","F1","36","1","1","鳴門教育大学","鳴門市鳴門町高島字中島７４８","7728502","2021-01-20","","0476",""]
[{"$f":"INDEX(学校種!B:B,MATCH(D57393,学校種!A:A,0))","v":"大学"},{"$f":"INDEX(_tmp2!B:B,MATCH(E57393,_tmp2!A:A,0))","v":"徳島県"},"F136310110255","F1","36","3","1","四国大学","徳島市応神町古川字戎子野１２３－１","7711192","2021-01-20","","2779",""]
[{"$f":"INDEX(学校種!B:B,MATCH(D57394,学校種!A:A,0))","v":"大学"},{"$f":"INDEX(_tmp2!B:B,MATCH(E57394,_tmp2!A:A,0))","v":"徳島県"},"F136310110264","F1","36","3","1","徳島文理大学","徳島市寺島本町東１丁目８","7700832","2021-01-20","","2780",""]
[{"$f":"INDEX(学校種!B:B,MATCH(D57395,学校種!A:A,0))","v":"短期大学"},{"$f":"INDEX(_tmp2!B:B,MATCH(E57395,_tmp2!A:A,0))","v":"徳島県"},"F236310110272","F2","36","3","1","四国大学短期大学部","徳島市応神町古川字戎子野１２３－１","7711192","2021-01-20","","5779",""]
[{"$f":"INDEX(学校種!B:B,MATCH(D57396,学校種!A:A,0))","v":"短期大学"},{"$f":"INDEX(_tmp2!B:B,MATCH(E57396,_tmp2!A:A,0))","v":"徳島県"},"F236310110281","F2","36","3","1","徳島文理大学短期大学部","徳島市寺島本町東１－８","7700832","2021-01-20","","5780",""]
[{"$f":"INDEX(学校種!B:B,MATCH(D57397,学校種!A:A,0))","v":"短期大学"},{"$f":"INDEX(_tmp2!B:B,MATCH(E57397,_tmp2!A:A,0))","v":"徳島県"},"F236310110290","F2","36","3","1","徳島工業短期大学","板野郡板野町犬伏字蓮花谷１００","7790108","2021-01-20","","5782",""]
[{"$f":"INDEX(学校種!B:B,MATCH(D57398,学校種!A:A,0))","v":"高等専門学校"},{"$f":"INDEX(_tmp2!B:B,MATCH(E57398,_tmp2!A:A,0))","v":"徳島県"},"G136110110300","G1","36","1","1","阿南工業高等専門学校","阿南市見能林町青木２６５","7740017","2021-01-20","","6672",""]
[{"$f":"INDEX(学校種!B:B,MATCH(D57399,学校種!A:A,0))","v":"大学"},{"$f":"INDEX(_tmp2!B:B,MATCH(E57399,_tmp2!A:A,0))","v":"香川県"},"F137110110310","F1","37","1","1","香川大学","高松市幸町１－１","7608521","2021-01-20","","0516",""]
[{"$f":"INDEX(学校種!B:B,MATCH(D57400,学校種!A:A,0))","v":"大学"},{"$f":"INDEX(_tmp2!B:B,MATCH(E57400,_tmp2!A:A,0))","v":"香川県"},"F137210110327","F1","37","2","1","香川県立保健医療大学","高松市牟礼町原２８１番地１","7610123","2021-01-20","","1300",""]
[{"$f":"INDEX(学校種!B:B,MATCH(D57401,学校種!A:A,0))","v":"大学"},{"$f":"INDEX(_tmp2!B:B,MATCH(E57401,_tmp2!A:A,0))","v":"香川県"},"F137310110334","F1","37","3","1","四国学院大学","善通寺市文京町３－２－１","7650013","2021-01-20","","2790",""]
[{"$f":"INDEX(学校種!B:B,MATCH(D57402,学校種!A:A,0))","v":"大学"},{"$f":"INDEX(_tmp2!B:B,MATCH(E57402,_tmp2!A:A,0))","v":"香川県"},"F137310110343","F1","37","3","1","高松大学","高松市春日町９６０","7610194","2021-01-20","","2791",""]
[{"$f":"INDEX(学校種!B:B,MATCH(D57403,学校種!A:A,0))","v":"短期大学"},{"$f":"INDEX(_tmp2!B:B,MATCH(E57403,_tmp2!A:A,0))","v":"香川県"},"F237310110351","F2","37","3","1","香川短期大学","綾歌郡宇多津町浜一番丁１０","7690201","2021-01-20","","5791",""]
[{"$f":"INDEX(学校種!B:B,MATCH(D57404,学校種!A:A,0))","v":"短期大学"},{"$f":"INDEX(_tmp2!B:B,MATCH(E57404,_tmp2!A:A,0))","v":"香川県"},"F237310110360","F2","37","3","1","高松短期大学","高松市春日町９６０","7610194","2021-01-20","","5794",""]
[{"$f":"INDEX(学校種!B:B,MATCH(D57405,学校種!A:A,0))","v":"短期大学"},{"$f":"INDEX(_tmp2!B:B,MATCH(E57405,_tmp2!A:A,0))","v":"香川県"},"F237310111939","F2","37","3","1","せとうち観光専門職短期大学","高松市屋島西町2366-1","7610113","2021-05-27","","5795",""]
[{"$f":"INDEX(学校種!B:B,MATCH(D57406,学校種!A:A,0))","v":"高等専門学校"},{"$f":"INDEX(_tmp2!B:B,MATCH(E57406,_tmp2!A:A,0))","v":"香川県"},"G137110110372","G1","37","1","1","香川高等専門学校","高松市勅使町３５５","7618058","2021-01-20","","6725",""]
[{"$f":"INDEX(学校種!B:B,MATCH(D57407,学校種!A:A,0))","v":"大学"},{"$f":"INDEX(_tmp2!B:B,MATCH(E57407,_tmp2!A:A,0))","v":"愛媛県"},"F138110110382","F1","38","1","1","愛媛大学","松山市道後樋又１０－１３","7900825","2021-01-20","","0352",""]
[{"$f":"INDEX(学校種!B:B,MATCH(D57408,学校種!A:A,0))","v":"大学"},{"$f":"INDEX(_tmp2!B:B,MATCH(E57408,_tmp2!A:A,0))","v":"愛媛県"},"F138210110399","F1","38","2","1","愛媛県立医療技術大学","伊予郡砥部町高尾田５４３番地","7912101","2021-01-20","","1305",""]
[{"$f":"INDEX(学校種!B:B,MATCH(D57409,学校種!A:A,0))","v":"大学"},{"$f":"INDEX(_tmp2!B:B,MATCH(E57409,_tmp2!A:A,0))","v":"愛媛県"},"F138310110404","F1","38","3","1","松山大学","松山市文京町４－２","7900826","2021-01-20","","2803",""]
[{"$f":"INDEX(学校種!B:B,MATCH(D57410,学校種!A:A,0))","v":"大学"},{"$f":"INDEX(_tmp2!B:B,MATCH(E57410,_tmp2!A:A,0))","v":"愛媛県"},"F138310110413","F1","38","3","1","聖カタリナ大学","松山市北条６６０","7992496","2021-01-20","","2804",""]
[{"$f":"INDEX(学校種!B:B,MATCH(D57411,学校種!A:A,0))","v":"大学"},{"$f":"INDEX(_tmp2!B:B,MATCH(E57411,_tmp2!A:A,0))","v":"愛媛県"},"F138310110422","F1","38","3","1","松山東雲女子大学","松山市桑原３－２－１","7908531","2021-01-20","","2805",""]
[{"$f":"INDEX(学校種!B:B,MATCH(D57412,学校種!A:A,0))","v":"短期大学"},{"$f":"INDEX(_tmp2!B:B,MATCH(E57412,_tmp2!A:A,0))","v":"愛媛県"},"F238310110430","F2","38","3","1","今治明徳短期大学","今治市矢田甲６８８","7940073","2021-01-20","","5803",""]
[{"$f":"INDEX(学校種!B:B,MATCH(D57413,学校種!A:A,0))","v":"短期大学"},{"$f":"INDEX(_tmp2!B:B,MATCH(E57413,_tmp2!A:A,0))","v":"愛媛県"},"F238310110449","F2","38","3","1","環太平洋大学短期大学部","宇和島市伊吹町馬場４２１","7980022","2021-01-20","","5804",""]
[{"$f":"INDEX(学校種!B:B,MATCH(D57414,学校種!A:A,0))","v":"短期大学"},{"$f":"INDEX(_tmp2!B:B,MATCH(E57414,_tmp2!A:A,0))","v":"愛媛県"},"F238310110458","F2","38","3","1","聖カタリナ大学短期大学部","松山市北条６６０","7992496","2021-01-20","","5806",""]
[{"$f":"INDEX(学校種!B:B,MATCH(D57415,学校種!A:A,0))","v":"短期大学"},{"$f":"INDEX(_tmp2!B:B,MATCH(E57415,_tmp2!A:A,0))","v":"愛媛県"},"F238310110467","F2","38","3","1","松山東雲短期大学","松山市桑原３－２－１","7908531","2021-01-20","","5807",""]
[{"$f":"INDEX(学校種!B:B,MATCH(D57416,学校種!A:A,0))","v":"短期大学"},{"$f":"INDEX(_tmp2!B:B,MATCH(E57416,_tmp2!A:A,0))","v":"愛媛県"},"F238310110476","F2","38","3","1","松山短期大学","松山市文京町４－２","7900826","2021-01-20","","5808",""]
[{"$f":"INDEX(学校種!B:B,MATCH(D57417,学校種!A:A,0))","v":"高等専門学校"},{"$f":"INDEX(_tmp2!B:B,MATCH(E57417,_tmp2!A:A,0))","v":"愛媛県"},"G138110110488","G1","38","1","1","新居浜工業高等専門学校","新居浜市八雲町７－１","7920805","2021-01-20","","6680",""]
[{"$f":"INDEX(学校種!B:B,MATCH(D57418,学校種!A:A,0))","v":"高等専門学校"},{"$f":"INDEX(_tmp2!B:B,MATCH(E57418,_tmp2!A:A,0))","v":"愛媛県"},"G138110110497","G1","38","1","1","弓削商船高等専門学校","越智郡弓削町下弓削１０００","7942506","2021-01-20","","6684",""]
[{"$f":"INDEX(学校種!B:B,MATCH(D57419,学校種!A:A,0))","v":"大学"},{"$f":"INDEX(_tmp2!B:B,MATCH(E57419,_tmp2!A:A,0))","v":"高知県"},"F139110110504","F1","39","1","1","高知大学","高知市曙町２－５－１","7808520","2021-01-20","","0520",""]
[{"$f":"INDEX(学校種!B:B,MATCH(D57420,学校種!A:A,0))","v":"大学"},{"$f":"INDEX(_tmp2!B:B,MATCH(E57420,_tmp2!A:A,0))","v":"高知県"},"F139210110511","F1","39","2","1","高知県立大学","高知市池２７５１－１","7818515","2021-01-20","","1308",""]
[{"$f":"INDEX(学校種!B:B,MATCH(D57421,学校種!A:A,0))","v":"大学"},{"$f":"INDEX(_tmp2!B:B,MATCH(E57421,_tmp2!A:A,0))","v":"高知県"},"F139210110520","F1","39","2","1","高知工科大学","香美市土佐山田町宮ノ口１８５","7828502","2021-01-20","","1309",""]
[{"$f":"INDEX(学校種!B:B,MATCH(D57422,学校種!A:A,0))","v":"大学"},{"$f":"INDEX(_tmp2!B:B,MATCH(E57422,_tmp2!A:A,0))","v":"高知県"},"F139310110537","F1","39","3","1","高知リハビリテーション専門職大学","土佐市高岡町乙１１３９－３","7811102","2021-01-20","","2811",""]
[{"$f":"INDEX(学校種!B:B,MATCH(D57423,学校種!A:A,0))","v":"大学"},{"$f":"INDEX(_tmp2!B:B,MATCH(E57423,_tmp2!A:A,0))","v":"高知県"},"F139310110546","F1","39","3","1","高知学園大学","高知市旭天神町292番地26 ","7800955","2021-01-20","","2812",""]
[{"$f":"INDEX(学校種!B:B,MATCH(D57424,学校種!A:A,0))","v":"短期大学"},{"$f":"INDEX(_tmp2!B:B,MATCH(E57424,_tmp2!A:A,0))","v":"高知県"},"F239310110554","F2","39","3","1","高知学園短期大学","高知市旭天神町292番地26 ","7800955","2021-01-20","","5820",""]
[{"$f":"INDEX(学校種!B:B,MATCH(D57425,学校種!A:A,0))","v":"高等専門学校"},{"$f":"INDEX(_tmp2!B:B,MATCH(E57425,_tmp2!A:A,0))","v":"高知県"},"G139110110566","G1","39","1","1","高知工業高等専門学校","南国市物部乙２００番１","7838508","2021-01-20","","6688",""]
[{"$f":"INDEX(学校種!B:B,MATCH(D57426,学校種!A:A,0))","v":"大学"},{"$f":"INDEX(_tmp2!B:B,MATCH(E57426,_tmp2!A:A,0))","v":"福岡県"},"F140110110574","F1","40","1","1","九州工業大学","北九州市戸畑区仙水町１－１","8048550","2021-01-20","","0360",""]
[{"$f":"INDEX(学校種!B:B,MATCH(D57427,学校種!A:A,0))","v":"大学"},{"$f":"INDEX(_tmp2!B:B,MATCH(E57427,_tmp2!A:A,0))","v":"福岡県"},"F140110110583","F1","40","1","1","福岡教育大学","宗像市赤間文教町１－１","8114192","2021-01-20","","0364",""]
[{"$f":"INDEX(学校種!B:B,MATCH(D57428,学校種!A:A,0))","v":"大学"},{"$f":"INDEX(_tmp2!B:B,MATCH(E57428,_tmp2!A:A,0))","v":"福岡県"},"F140110110592","F1","40","1","1","九州大学","福岡市西区元岡７４４","8190395","2021-01-20","","0368",""]
[{"$f":"INDEX(学校種!B:B,MATCH(D57429,学校種!A:A,0))","v":"大学"},{"$f":"INDEX(_tmp2!B:B,MATCH(E57429,_tmp2!A:A,0))","v":"福岡県"},"F140210110607","F1","40","2","1","北九州市立大学","北九州市小倉南区北方４－２－１","8028577","2021-01-20","","1312",""]
[{"$f":"INDEX(学校種!B:B,MATCH(D57430,学校種!A:A,0))","v":"大学"},{"$f":"INDEX(_tmp2!B:B,MATCH(E57430,_tmp2!A:A,0))","v":"福岡県"},"F140210110616","F1","40","2","1","九州歯科大学","北九州市小倉北区真鶴２－６－１","8030844","2021-01-20","","1316",""]
[{"$f":"INDEX(学校種!B:B,MATCH(D57431,学校種!A:A,0))","v":"大学"},{"$f":"INDEX(_tmp2!B:B,MATCH(E57431,_tmp2!A:A,0))","v":"福岡県"},"F140210110625","F1","40","2","1","福岡女子大学","福岡市東区香住ケ丘１－１－１","8138529","2021-01-20","","1320",""]
[{"$f":"INDEX(学校種!B:B,MATCH(D57432,学校種!A:A,0))","v":"大学"},{"$f":"INDEX(_tmp2!B:B,MATCH(E57432,_tmp2!A:A,0))","v":"福岡県"},"F140210110634","F1","40","2","1","福岡県立大学","田川市大字伊田４３９５","8258585","2021-01-20","","1322",""]
[{"$f":"INDEX(学校種!B:B,MATCH(D57433,学校種!A:A,0))","v":"大学"},{"$f":"INDEX(_tmp2!B:B,MATCH(E57433,_tmp2!A:A,0))","v":"福岡県"},"F140310110641","F1","40","3","1","九州共立大学","北九州市八幡西区自由ケ丘１－８","8078585","2021-01-20","","2827",""]
[{"$f":"INDEX(学校種!B:B,MATCH(D57434,学校種!A:A,0))","v":"大学"},{"$f":"INDEX(_tmp2!B:B,MATCH(E57434,_tmp2!A:A,0))","v":"福岡県"},"F140310110650","F1","40","3","1","九州女子大学","北九州市八幡西区自由ヶ丘１－１","8070867","2021-01-20","","2828",""]
[{"$f":"INDEX(学校種!B:B,MATCH(D57435,学校種!A:A,0))","v":"大学"},{"$f":"INDEX(_tmp2!B:B,MATCH(E57435,_tmp2!A:A,0))","v":"福岡県"},"F140310110669","F1","40","3","1","九州国際大学","北九州市八幡東区平野１－６－１","8058512","2021-01-20","","2829",""]
[{"$f":"INDEX(学校種!B:B,MATCH(D57436,学校種!A:A,0))","v":"大学"},{"$f":"INDEX(_tmp2!B:B,MATCH(E57436,_tmp2!A:A,0))","v":"福岡県"},"F140310110678","F1","40","3","1","福岡歯科大学","福岡市早良区田村２－１５－１","8140193","2021-01-20","","2830",""]
[{"$f":"INDEX(学校種!B:B,MATCH(D57437,学校種!A:A,0))","v":"大学"},{"$f":"INDEX(_tmp2!B:B,MATCH(E57437,_tmp2!A:A,0))","v":"福岡県"},"F140310110687","F1","40","3","1","九州産業大学","福岡市東区松香台２－３－１","8130004","2021-01-20","","2847",""]
[{"$f":"INDEX(学校種!B:B,MATCH(D57438,学校種!A:A,0))","v":"大学"},{"$f":"INDEX(_tmp2!B:B,MATCH(E57438,_tmp2!A:A,0))","v":"福岡県"},"F140310110696","F1","40","3","1","久留米大学","久留米市旭町６７","8300011","2021-01-20","","2848",""]
[{"$f":"INDEX(学校種!B:B,MATCH(D57439,学校種!A:A,0))","v":"大学"},{"$f":"INDEX(_tmp2!B:B,MATCH(E57439,_tmp2!A:A,0))","v":"福岡県"},"F140310110703","F1","40","3","1","西南学院大学","福岡市早良区西新６－２－９２","8148511","2021-01-20","","2849",""]
[{"$f":"INDEX(学校種!B:B,MATCH(D57440,学校種!A:A,0))","v":"大学"},{"$f":"INDEX(_tmp2!B:B,MATCH(E57440,_tmp2!A:A,0))","v":"福岡県"},"F140310110712","F1","40","3","1","第一薬科大学","福岡市南区玉川町２２－１","8158511","2021-01-20","","2850",""]
[{"$f":"INDEX(学校種!B:B,MATCH(D57441,学校種!A:A,0))","v":"大学"},{"$f":"INDEX(_tmp2!B:B,MATCH(E57441,_tmp2!A:A,0))","v":"福岡県"},"F140310110721","F1","40","3","1","中村学園大学","福岡市城南区別府５－７－１","8140198","2021-01-20","","2852",""]
[{"$f":"INDEX(学校種!B:B,MATCH(D57442,学校種!A:A,0))","v":"大学"},{"$f":"INDEX(_tmp2!B:B,MATCH(E57442,_tmp2!A:A,0))","v":"福岡県"},"F140310110730","F1","40","3","1","西日本工業大学","京都郡苅田町新津１-11","8000394","2021-01-20","","2853",""]
[{"$f":"INDEX(学校種!B:B,MATCH(D57443,学校種!A:A,0))","v":"大学"},{"$f":"INDEX(_tmp2!B:B,MATCH(E57443,_tmp2!A:A,0))","v":"福岡県"},"F140310110749","F1","40","3","1","福岡大学","福岡市城南区七隈８－１９－１","8140180","2021-01-20","","2854",""]
[{"$f":"INDEX(学校種!B:B,MATCH(D57444,学校種!A:A,0))","v":"大学"},{"$f":"INDEX(_tmp2!B:B,MATCH(E57444,_tmp2!A:A,0))","v":"福岡県"},"F140310110758","F1","40","3","1","福岡工業大学","福岡市東区和白東３－３０－１","8110295","2021-01-20","","2855",""]
[{"$f":"INDEX(学校種!B:B,MATCH(D57445,学校種!A:A,0))","v":"大学"},{"$f":"INDEX(_tmp2!B:B,MATCH(E57445,_tmp2!A:A,0))","v":"福岡県"},"F140310110767","F1","40","3","1","日本経済大学","大宰府市五条３－１１－２５","8180197","2021-01-20","","2856",""]
[{"$f":"INDEX(学校種!B:B,MATCH(D57446,学校種!A:A,0))","v":"大学"},{"$f":"INDEX(_tmp2!B:B,MATCH(E57446,_tmp2!A:A,0))","v":"福岡県"},"F140310110776","F1","40","3","1","久留米工業大学","久留米市上津町２２２８－６６","8300052","2021-01-20","","2857",""]
[{"$f":"INDEX(学校種!B:B,MATCH(D57447,学校種!A:A,0))","v":"大学"},{"$f":"INDEX(_tmp2!B:B,MATCH(E57447,_tmp2!A:A,0))","v":"福岡県"},"F140310110785","F1","40","3","1","産業医科大学","北九州市八幡西区医生ケ丘１－１","8070804","2021-01-20","","2858",""]
[{"$f":"INDEX(学校種!B:B,MATCH(D57448,学校種!A:A,0))","v":"大学"},{"$f":"INDEX(_tmp2!B:B,MATCH(E57448,_tmp2!A:A,0))","v":"福岡県"},"F140310110794","F1","40","3","1","筑紫女学園大学","太宰府市石坂２－１２－１","8180192","2021-01-20","","2859",""]
[{"$f":"INDEX(学校種!B:B,MATCH(D57449,学校種!A:A,0))","v":"大学"},{"$f":"INDEX(_tmp2!B:B,MATCH(E57449,_tmp2!A:A,0))","v":"福岡県"},"F140310110801","F1","40","3","1","福岡女学院大学","福岡市南区曰佐３－４２－１","8111313","2021-01-20","","2860",""]
[{"$f":"INDEX(学校種!B:B,MATCH(D57450,学校種!A:A,0))","v":"大学"},{"$f":"INDEX(_tmp2!B:B,MATCH(E57450,_tmp2!A:A,0))","v":"福岡県"},"F140310110810","F1","40","3","1","西南女学院大学","北九州市小倉北区井堀１－３－５","8030835","2021-01-20","","2861",""]
[{"$f":"INDEX(学校種!B:B,MATCH(D57451,学校種!A:A,0))","v":"大学"},{"$f":"INDEX(_tmp2!B:B,MATCH(E57451,_tmp2!A:A,0))","v":"福岡県"},"F140310110829","F1","40","3","1","九州情報大学","太宰府市宰府６丁目３－１","8180117","2021-01-20","","2862",""]
[{"$f":"INDEX(学校種!B:B,MATCH(D57452,学校種!A:A,0))","v":"大学"},{"$f":"INDEX(_tmp2!B:B,MATCH(E57452,_tmp2!A:A,0))","v":"福岡県"},"F140310110838","F1","40","3","1","九州栄養福祉大学","北九州市小倉北区下到津五丁目１番１号","8038511","2021-01-20","","2864",""]
[{"$f":"INDEX(学校種!B:B,MATCH(D57453,学校種!A:A,0))","v":"大学"},{"$f":"INDEX(_tmp2!B:B,MATCH(E57453,_tmp2!A:A,0))","v":"福岡県"},"F140310110847","F1","40","3","1","日本赤十字九州国際看護大学","宗像市アスティ１丁目１番地","8114157","2021-01-20","","2865",""]
[{"$f":"INDEX(学校種!B:B,MATCH(D57454,学校種!A:A,0))","v":"大学"},{"$f":"INDEX(_tmp2!B:B,MATCH(E57454,_tmp2!A:A,0))","v":"福岡県"},"F140310110856","F1","40","3","1","聖マリア学院大学","久留米市津福本町４２２番地","8300047","2021-01-20","","2867",""]
[{"$f":"INDEX(学校種!B:B,MATCH(D57455,学校種!A:A,0))","v":"大学"},{"$f":"INDEX(_tmp2!B:B,MATCH(E57455,_tmp2!A:A,0))","v":"福岡県"},"F140310110865","F1","40","3","1","サイバー大学","福岡市東区香椎照葉三丁目2番1号シーマークビル3階","8130017","2021-01-20","","2868",""]
[{"$f":"INDEX(学校種!B:B,MATCH(D57456,学校種!A:A,0))","v":"大学"},{"$f":"INDEX(_tmp2!B:B,MATCH(E57456,_tmp2!A:A,0))","v":"福岡県"},"F140310110874","F1","40","3","1","福岡女学院看護大学","古賀市千鳥１丁目１番７号","8113113","2021-01-20","","2869",""]
[{"$f":"INDEX(学校種!B:B,MATCH(D57457,学校種!A:A,0))","v":"大学"},{"$f":"INDEX(_tmp2!B:B,MATCH(E57457,_tmp2!A:A,0))","v":"福岡県"},"F140310110883","F1","40","3","1","保健医療経営大学","みやま市瀬高町高柳字宮手９６０番地４","8350018","2021-01-20","","2870",""]
[{"$f":"INDEX(学校種!B:B,MATCH(D57458,学校種!A:A,0))","v":"大学"},{"$f":"INDEX(_tmp2!B:B,MATCH(E57458,_tmp2!A:A,0))","v":"福岡県"},"F140310110892","F1","40","3","1","純真学園大学","福岡市南区筑紫丘１－１－１","8158510","2021-01-20","","2872",""]
[{"$f":"INDEX(学校種!B:B,MATCH(D57459,学校種!A:A,0))","v":"大学"},{"$f":"INDEX(_tmp2!B:B,MATCH(E57459,_tmp2!A:A,0))","v":"福岡県"},"F140310110909","F1","40","3","1","福岡看護大学","福岡市早良区田村２－１５－１","8140193","2021-01-20","","2873",""]
[{"$f":"INDEX(学校種!B:B,MATCH(D57460,学校種!A:A,0))","v":"大学"},{"$f":"INDEX(_tmp2!B:B,MATCH(E57460,_tmp2!A:A,0))","v":"福岡県"},"F140310110918","F1","40","3","1","福岡国際医療福祉大学","福岡市早良区百道浜３－６－４０","8140001","2021-01-20","","2874",""]
[{"$f":"INDEX(学校種!B:B,MATCH(D57461,学校種!A:A,0))","v":"短期大学"},{"$f":"INDEX(_tmp2!B:B,MATCH(E57461,_tmp2!A:A,0))","v":"福岡県"},"F240310110926","F2","40","3","1","折尾愛真短期大学","北九州市八幡西区堀川町１１－１","8070861","2021-01-20","","5827",""]
[{"$f":"INDEX(学校種!B:B,MATCH(D57462,学校種!A:A,0))","v":"短期大学"},{"$f":"INDEX(_tmp2!B:B,MATCH(E57462,_tmp2!A:A,0))","v":"福岡県"},"F240310110935","F2","40","3","1","九州女子短期大学","北九州市八幡西区自由ケ丘１","8070867","2021-01-20","","5828",""]
[{"$f":"INDEX(学校種!B:B,MATCH(D57463,学校種!A:A,0))","v":"短期大学"},{"$f":"INDEX(_tmp2!B:B,MATCH(E57463,_tmp2!A:A,0))","v":"福岡県"},"F240310110944","F2","40","3","1","西南女学院大学短期大学部","北九州市小倉北区井堀１－３－２","8030835","2021-01-20","","5830",""]
[{"$f":"INDEX(学校種!B:B,MATCH(D57464,学校種!A:A,0))","v":"短期大学"},{"$f":"INDEX(_tmp2!B:B,MATCH(E57464,_tmp2!A:A,0))","v":"福岡県"},"F240310110953","F2","40","3","1","東筑紫短期大学","北九州市小倉北区下到津五丁目１番１号","8038511","2021-01-20","","5831",""]
[{"$f":"INDEX(学校種!B:B,MATCH(D57465,学校種!A:A,0))","v":"短期大学"},{"$f":"INDEX(_tmp2!B:B,MATCH(E57465,_tmp2!A:A,0))","v":"福岡県"},"F240310110962","F2","40","3","1","福岡女子短期大学","太宰府市五条４－１６－１","8180193","2021-01-20","","5847",""]
[{"$f":"INDEX(学校種!B:B,MATCH(D57466,学校種!A:A,0))","v":"短期大学"},{"$f":"INDEX(_tmp2!B:B,MATCH(E57466,_tmp2!A:A,0))","v":"福岡県"},"F240310110971","F2","40","3","1","近畿大学九州短期大学","飯塚市菰田東１－５－３０","8200016","2021-01-20","","5849",""]
[{"$f":"INDEX(学校種!B:B,MATCH(D57467,学校種!A:A,0))","v":"短期大学"},{"$f":"INDEX(_tmp2!B:B,MATCH(E57467,_tmp2!A:A,0))","v":"福岡県"},"F240310110980","F2","40","3","1","久留米信愛短期大学","久留米市御井町２２７８－１","8398508","2021-01-20","","5851",""]
[{"$f":"INDEX(学校種!B:B,MATCH(D57468,学校種!A:A,0))","v":"短期大学"},{"$f":"INDEX(_tmp2!B:B,MATCH(E57468,_tmp2!A:A,0))","v":"福岡県"},"F240310110999","F2","40","3","1","香蘭女子短期大学","福岡市南区横手１－２－１","8111311","2021-01-20","","5852",""]
[{"$f":"INDEX(学校種!B:B,MATCH(D57469,学校種!A:A,0))","v":"短期大学"},{"$f":"INDEX(_tmp2!B:B,MATCH(E57469,_tmp2!A:A,0))","v":"福岡県"},"F240310111006","F2","40","3","1","純真短期大学","福岡市南区筑紫丘１－１－１","8158510","2021-01-20","","5853",""]
[{"$f":"INDEX(学校種!B:B,MATCH(D57470,学校種!A:A,0))","v":"短期大学"},{"$f":"INDEX(_tmp2!B:B,MATCH(E57470,_tmp2!A:A,0))","v":"福岡県"},"F240310111015","F2","40","3","1","精華女子短期大学","福岡市博多区南八幡町２－１２－１","8160086","2021-01-20","","5854",""]
[{"$f":"INDEX(学校種!B:B,MATCH(D57471,学校種!A:A,0))","v":"短期大学"},{"$f":"INDEX(_tmp2!B:B,MATCH(E57471,_tmp2!A:A,0))","v":"福岡県"},"F240310111024","F2","40","3","1","中村学園大学短期大学部","福岡市城南区別府５－７－１","8140104","2021-01-20","","5857",""]
[{"$f":"INDEX(学校種!B:B,MATCH(D57472,学校種!A:A,0))","v":"短期大学"},{"$f":"INDEX(_tmp2!B:B,MATCH(E57472,_tmp2!A:A,0))","v":"福岡県"},"F240310111033","F2","40","3","1","西日本短期大学","福岡市中央区福浜１－３－１","8100066","2021-01-20","","5858",""]
[{"$f":"INDEX(学校種!B:B,MATCH(D57473,学校種!A:A,0))","v":"短期大学"},{"$f":"INDEX(_tmp2!B:B,MATCH(E57473,_tmp2!A:A,0))","v":"福岡県"},"F240310111042","F2","40","3","1","福岡工業大学短期大学部","福岡市東区和白東３－３０－１","8110214","2021-01-20","","5859",""]
[{"$f":"INDEX(学校種!B:B,MATCH(D57474,学校種!A:A,0))","v":"短期大学"},{"$f":"INDEX(_tmp2!B:B,MATCH(E57474,_tmp2!A:A,0))","v":"福岡県"},"F240310111051","F2","40","3","1","福岡女学院大学短期大学部","福岡市南区曰佐３－４２－１","8111313","2021-01-20","","5860",""]
[{"$f":"INDEX(学校種!B:B,MATCH(D57475,学校種!A:A,0))","v":"短期大学"},{"$f":"INDEX(_tmp2!B:B,MATCH(E57475,_tmp2!A:A,0))","v":"福岡県"},"F240310111060","F2","40","3","1","九州産業大学造形短期大学部","福岡市東区松香台２－３－２","8130004","2021-01-20","","5862",""]
[{"$f":"INDEX(学校種!B:B,MATCH(D57476,学校種!A:A,0))","v":"短期大学"},{"$f":"INDEX(_tmp2!B:B,MATCH(E57476,_tmp2!A:A,0))","v":"福岡県"},"F240310111079","F2","40","3","1","九州大谷短期大学","筑後市蔵数字大谷４９５－１","8330054","2021-01-20","","5863",""]
[{"$f":"INDEX(学校種!B:B,MATCH(D57477,学校種!A:A,0))","v":"短期大学"},{"$f":"INDEX(_tmp2!B:B,MATCH(E57477,_tmp2!A:A,0))","v":"福岡県"},"F240310111088","F2","40","3","1","福岡こども短期大学","太宰府市五条３－１１－２５","8180125","2021-01-20","","5864",""]
[{"$f":"INDEX(学校種!B:B,MATCH(D57478,学校種!A:A,0))","v":"短期大学"},{"$f":"INDEX(_tmp2!B:B,MATCH(E57478,_tmp2!A:A,0))","v":"福岡県"},"F240310111097","F2","40","3","1","福岡医療短期大学","福岡市早良区田村２－１５－１","8140193","2021-01-20","","5869",""]
[{"$f":"INDEX(学校種!B:B,MATCH(D57479,学校種!A:A,0))","v":"高等専門学校"},{"$f":"INDEX(_tmp2!B:B,MATCH(E57479,_tmp2!A:A,0))","v":"福岡県"},"G140110111107","G1","40","1","1","久留米工業高等専門学校","久留米市小森野１－１－１","8308555 ","2021-01-20","","6692",""]
[{"$f":"INDEX(学校種!B:B,MATCH(D57480,学校種!A:A,0))","v":"高等専門学校"},{"$f":"INDEX(_tmp2!B:B,MATCH(E57480,_tmp2!A:A,0))","v":"福岡県"},"G140110111116","G1","40","1","1","有明工業高等専門学校","大牟田市東萩尾町１５０","8368585","2021-01-20","","6696",""]
[{"$f":"INDEX(学校種!B:B,MATCH(D57481,学校種!A:A,0))","v":"高等専門学校"},{"$f":"INDEX(_tmp2!B:B,MATCH(E57481,_tmp2!A:A,0))","v":"福岡県"},"G140110111125","G1","40","1","1","北九州工業高等専門学校","北九州市小倉南区志井５－２０－１","8020985","2021-01-20","","6700",""]
[{"$f":"INDEX(学校種!B:B,MATCH(D57482,学校種!A:A,0))","v":"大学"},{"$f":"INDEX(_tmp2!B:B,MATCH(E57482,_tmp2!A:A,0))","v":"佐賀県"},"F141110111135","F1","41","1","1","佐賀大学","佐賀市本庄町１","8408502","2021-01-20","","0524",""]
[{"$f":"INDEX(学校種!B:B,MATCH(D57483,学校種!A:A,0))","v":"大学"},{"$f":"INDEX(_tmp2!B:B,MATCH(E57483,_tmp2!A:A,0))","v":"佐賀県"},"F141310111140","F1","41","3","1","西九州大学","神埼市神埼町尾崎４４９０－９","8428585","2021-01-20","","2871",""]
[{"$f":"INDEX(学校種!B:B,MATCH(D57484,学校種!A:A,0))","v":"短期大学"},{"$f":"INDEX(_tmp2!B:B,MATCH(E57484,_tmp2!A:A,0))","v":"佐賀県"},"F241310111158","F2","41","3","1","佐賀女子短期大学","佐賀市本庄町大字本庄１３１３","8408550","2021-01-20","","5871",""]
[{"$f":"INDEX(学校種!B:B,MATCH(D57485,学校種!A:A,0))","v":"短期大学"},{"$f":"INDEX(_tmp2!B:B,MATCH(E57485,_tmp2!A:A,0))","v":"佐賀県"},"F241310111167","F2","41","3","1","西九州大学短期大学部","佐賀市神園３－１８－１５","8400806","2021-01-20","","5872",""]
[{"$f":"INDEX(学校種!B:B,MATCH(D57486,学校種!A:A,0))","v":"短期大学"},{"$f":"INDEX(_tmp2!B:B,MATCH(E57486,_tmp2!A:A,0))","v":"佐賀県"},"F241310111176","F2","41","3","1","九州龍谷短期大学","鳥栖市村田町岩井手１３５０","8410072","2021-01-20","","5873",""]
[{"$f":"INDEX(学校種!B:B,MATCH(D57487,学校種!A:A,0))","v":"大学"},{"$f":"INDEX(_tmp2!B:B,MATCH(E57487,_tmp2!A:A,0))","v":"長崎県"},"F142110111189","F1","42","1","1","長崎大学","長崎市文教町１－１４","8528521","2021-01-20","","0380",""]
[{"$f":"INDEX(学校種!B:B,MATCH(D57488,学校種!A:A,0))","v":"大学"},{"$f":"INDEX(_tmp2!B:B,MATCH(E57488,_tmp2!A:A,0))","v":"長崎県"},"F142210111196","F1","42","2","1","長崎県立大学","佐世保市川下町１２３番地","8580914","2021-01-20","","1330",""]
[{"$f":"INDEX(学校種!B:B,MATCH(D57489,学校種!A:A,0))","v":"大学"},{"$f":"INDEX(_tmp2!B:B,MATCH(E57489,_tmp2!A:A,0))","v":"長崎県"},"F142310111201","F1","42","3","1","長崎総合科学大学","長崎市網場町５３６","8510193","2021-01-20","","2882",""]
[{"$f":"INDEX(学校種!B:B,MATCH(D57490,学校種!A:A,0))","v":"大学"},{"$f":"INDEX(_tmp2!B:B,MATCH(E57490,_tmp2!A:A,0))","v":"長崎県"},"F142310111210","F1","42","3","1","活水女子大学","長崎市東山手町１ー５０","8508515","2021-01-20","","2883",""]
[{"$f":"INDEX(学校種!B:B,MATCH(D57491,学校種!A:A,0))","v":"大学"},{"$f":"INDEX(_tmp2!B:B,MATCH(E57491,_tmp2!A:A,0))","v":"長崎県"},"F142310111229","F1","42","3","1","長崎純心大学","長崎市三ツ山町２３５","8528558","2021-01-20","","2884",""]
[{"$f":"INDEX(学校種!B:B,MATCH(D57492,学校種!A:A,0))","v":"大学"},{"$f":"INDEX(_tmp2!B:B,MATCH(E57492,_tmp2!A:A,0))","v":"長崎県"},"F142310111238","F1","42","3","1","長崎国際大学","佐世保市ハウステンボス町２８２５番７","8593298","2021-01-20","","2885",""]
[{"$f":"INDEX(学校種!B:B,MATCH(D57493,学校種!A:A,0))","v":"大学"},{"$f":"INDEX(_tmp2!B:B,MATCH(E57493,_tmp2!A:A,0))","v":"長崎県"},"F142310111247","F1","42","3","1","長崎外国語大学","西彼杵郡時津町元村郷１０１０番地１","8512196","2021-01-20","","2886",""]
[{"$f":"INDEX(学校種!B:B,MATCH(D57494,学校種!A:A,0))","v":"大学"},{"$f":"INDEX(_tmp2!B:B,MATCH(E57494,_tmp2!A:A,0))","v":"長崎県"},"F142310111256","F1","42","3","1","鎮西学院大学","諫早市西栄田町１２１２－１","8540082","2021-01-20","","2887",""]
[{"$f":"INDEX(学校種!B:B,MATCH(D57495,学校種!A:A,0))","v":"短期大学"},{"$f":"INDEX(_tmp2!B:B,MATCH(E57495,_tmp2!A:A,0))","v":"長崎県"},"F242310111264","F2","42","3","1","長崎女子短期大学","長崎市弥生町１９－１","8508512","2021-01-20","","5882",""]
[{"$f":"INDEX(学校種!B:B,MATCH(D57496,学校種!A:A,0))","v":"短期大学"},{"$f":"INDEX(_tmp2!B:B,MATCH(E57496,_tmp2!A:A,0))","v":"長崎県"},"F242310111273","F2","42","3","1","長崎短期大学","佐世保市椎木町６００","8580925","2021-01-20","","5884",""]
[{"$f":"INDEX(学校種!B:B,MATCH(D57497,学校種!A:A,0))","v":"高等専門学校"},{"$f":"INDEX(_tmp2!B:B,MATCH(E57497,_tmp2!A:A,0))","v":"長崎県"},"G142110111285","G1","42","1","1","佐世保工業高等専門学校","佐世保市沖新町１の１","8571193","2021-01-20","","6704",""]
[{"$f":"INDEX(学校種!B:B,MATCH(D57498,学校種!A:A,0))","v":"大学"},{"$f":"INDEX(_tmp2!B:B,MATCH(E57498,_tmp2!A:A,0))","v":"熊本県"},"F143110111295","F1","43","1","1","熊本大学","熊本市中央区黒髪２－３９－１","8608555","2021-01-20","","0384",""]
[{"$f":"INDEX(学校種!B:B,MATCH(D57499,学校種!A:A,0))","v":"大学"},{"$f":"INDEX(_tmp2!B:B,MATCH(E57499,_tmp2!A:A,0))","v":"熊本県"},"F143210111300","F1","43","2","1","熊本県立大学","熊本市東区月出３－１－１００","8628502","2021-01-20","","1332",""]
[{"$f":"INDEX(学校種!B:B,MATCH(D57500,学校種!A:A,0))","v":"大学"},{"$f":"INDEX(_tmp2!B:B,MATCH(E57500,_tmp2!A:A,0))","v":"熊本県"},"F143310111317","F1","43","3","1","崇城大学","熊本市西区池田４丁目２２番１号","8600082","2021-01-20","","2903",""]
[{"$f":"INDEX(学校種!B:B,MATCH(D57501,学校種!A:A,0))","v":"大学"},{"$f":"INDEX(_tmp2!B:B,MATCH(E57501,_tmp2!A:A,0))","v":"熊本県"},"F143310111326","F1","43","3","1","熊本学園大学","熊本市中央区大江２丁目５番１号","8628680","2021-01-20","","2904",""]
[{"$f":"INDEX(学校種!B:B,MATCH(D57502,学校種!A:A,0))","v":"大学"},{"$f":"INDEX(_tmp2!B:B,MATCH(E57502,_tmp2!A:A,0))","v":"熊本県"},"F143310111335","F1","43","3","1","尚絅大学","熊本市中央区九品寺２－６－７８","8628678","2021-01-20","","2905",""]
[{"$f":"INDEX(学校種!B:B,MATCH(D57503,学校種!A:A,0))","v":"大学"},{"$f":"INDEX(_tmp2!B:B,MATCH(E57503,_tmp2!A:A,0))","v":"熊本県"},"F143310111344","F1","43","3","1","九州ルーテル学院大学","熊本市中央区黒髪３丁目１２－１６","8608520","2021-01-20","","2906",""]
[{"$f":"INDEX(学校種!B:B,MATCH(D57504,学校種!A:A,0))","v":"大学"},{"$f":"INDEX(_tmp2!B:B,MATCH(E57504,_tmp2!A:A,0))","v":"熊本県"},"F143310111353","F1","43","3","1","九州看護福祉大学","玉名市富尾８８８","8650062","2021-01-20","","2907",""]
[{"$f":"INDEX(学校種!B:B,MATCH(D57505,学校種!A:A,0))","v":"大学"},{"$f":"INDEX(_tmp2!B:B,MATCH(E57505,_tmp2!A:A,0))","v":"熊本県"},"F143310111362","F1","43","3","1","平成音楽大学","上益城郡御船町大字滝川字東原１６５８番地","8613205","2021-01-20","","2908",""]
[{"$f":"INDEX(学校種!B:B,MATCH(D57506,学校種!A:A,0))","v":"大学"},{"$f":"INDEX(_tmp2!B:B,MATCH(E57506,_tmp2!A:A,0))","v":"熊本県"},"F143310111371","F1","43","3","1","熊本保健科学大学","熊本市北区和泉町亀の甲３２５番地","8615598","2021-01-20","","2909",""]
[{"$f":"INDEX(学校種!B:B,MATCH(D57507,学校種!A:A,0))","v":"短期大学"},{"$f":"INDEX(_tmp2!B:B,MATCH(E57507,_tmp2!A:A,0))","v":"熊本県"},"F243310111389","F2","43","3","1","尚絅大学短期大学部","熊本市中央区九品寺2-6-78","8620976","2021-01-20","","5905",""]
[{"$f":"INDEX(学校種!B:B,MATCH(D57508,学校種!A:A,0))","v":"短期大学"},{"$f":"INDEX(_tmp2!B:B,MATCH(E57508,_tmp2!A:A,0))","v":"熊本県"},"F243310111398","F2","43","3","1","中九州短期大学","八代市平山新町４４３８","8660074","2021-01-20","","5908",""]
[{"$f":"INDEX(学校種!B:B,MATCH(D57509,学校種!A:A,0))","v":"高等専門学校"},{"$f":"INDEX(_tmp2!B:B,MATCH(E57509,_tmp2!A:A,0))","v":"熊本県"},"G143110111408","G1","43","1","1","熊本高等専門学校","八代市平山新町２６２７","8660074","2021-01-20","","6729",""]
[{"$f":"INDEX(学校種!B:B,MATCH(D57510,学校種!A:A,0))","v":"大学"},{"$f":"INDEX(_tmp2!B:B,MATCH(E57510,_tmp2!A:A,0))","v":"大分県"},"F144110111418","F1","44","1","1","大分大学","大分市大字旦野原７００番地","8701192","2021-01-20","","0528",""]
[{"$f":"INDEX(学校種!B:B,MATCH(D57511,学校種!A:A,0))","v":"大学"},{"$f":"INDEX(_tmp2!B:B,MATCH(E57511,_tmp2!A:A,0))","v":"大分県"},"F144210111425","F1","44","2","1","大分県立看護科学大学","大分市廻栖野２９４４－９","8701201","2021-01-20","","1334",""]
[{"$f":"INDEX(学校種!B:B,MATCH(D57512,学校種!A:A,0))","v":"大学"},{"$f":"INDEX(_tmp2!B:B,MATCH(E57512,_tmp2!A:A,0))","v":"大分県"},"F144310111432","F1","44","3","1","日本文理大学","大分市大字一木1727番地162","8700397","2021-01-20","","2914",""]
[{"$f":"INDEX(学校種!B:B,MATCH(D57513,学校種!A:A,0))","v":"大学"},{"$f":"INDEX(_tmp2!B:B,MATCH(E57513,_tmp2!A:A,0))","v":"大分県"},"F144310111441","F1","44","3","1","別府大学","別府市大字北石垣８２","8748501","2021-01-20","","2915",""]
[{"$f":"INDEX(学校種!B:B,MATCH(D57514,学校種!A:A,0))","v":"大学"},{"$f":"INDEX(_tmp2!B:B,MATCH(E57514,_tmp2!A:A,0))","v":"大分県"},"F144310111450","F1","44","3","1","立命館アジア太平洋大学","別府市十文字原１－１","8748577","2021-01-20","","2916",""]
[{"$f":"INDEX(学校種!B:B,MATCH(D57515,学校種!A:A,0))","v":"短期大学"},{"$f":"INDEX(_tmp2!B:B,MATCH(E57515,_tmp2!A:A,0))","v":"大分県"},"F244210111460","F2","44","2","1","大分県立芸術文化短期大学","大分市上野丘東１－１１","8700833","2021-01-20","","4612",""]
[{"$f":"INDEX(学校種!B:B,MATCH(D57516,学校種!A:A,0))","v":"短期大学"},{"$f":"INDEX(_tmp2!B:B,MATCH(E57516,_tmp2!A:A,0))","v":"大分県"},"F244310111477","F2","44","3","1","大分短期大学","大分市千代町３－３－８","8700033","2021-01-20","","5914",""]
[{"$f":"INDEX(学校種!B:B,MATCH(D57517,学校種!A:A,0))","v":"短期大学"},{"$f":"INDEX(_tmp2!B:B,MATCH(E57517,_tmp2!A:A,0))","v":"大分県"},"F244310111486","F2","44","3","1","東九州短期大学","中津市一ツ松２１１","8710014","2021-01-20","","5916",""]
[{"$f":"INDEX(学校種!B:B,MATCH(D57518,学校種!A:A,0))","v":"短期大学"},{"$f":"INDEX(_tmp2!B:B,MATCH(E57518,_tmp2!A:A,0))","v":"大分県"},"F244310111495","F2","44","3","1","別府溝部学園短期大学","別府市大字野田字通山７８","8740016","2021-01-20","","5917",""]
[{"$f":"INDEX(学校種!B:B,MATCH(D57519,学校種!A:A,0))","v":"短期大学"},{"$f":"INDEX(_tmp2!B:B,MATCH(E57519,_tmp2!A:A,0))","v":"大分県"},"F244310111501","F2","44","3","1","別府大学短期大学部","別府市大字北石垣８２","8748501","2021-01-20","","5918",""]
[{"$f":"INDEX(学校種!B:B,MATCH(D57520,学校種!A:A,0))","v":"高等専門学校"},{"$f":"INDEX(_tmp2!B:B,MATCH(E57520,_tmp2!A:A,0))","v":"大分県"},"G144110111513","G1","44","1","1","大分工業高等専門学校","大分市大字牧１６６６","8700152","2021-01-20","","6708",""]
[{"$f":"INDEX(学校種!B:B,MATCH(D57521,学校種!A:A,0))","v":"大学"},{"$f":"INDEX(_tmp2!B:B,MATCH(E57521,_tmp2!A:A,0))","v":"宮崎県"},"F145110111523","F1","45","1","1","宮崎大学","宮崎市学園木花台西１丁目１番地","8892192","2021-01-20","","0532",""]
[{"$f":"INDEX(学校種!B:B,MATCH(D57522,学校種!A:A,0))","v":"大学"},{"$f":"INDEX(_tmp2!B:B,MATCH(E57522,_tmp2!A:A,0))","v":"宮崎県"},"F145210111530","F1","45","2","1","宮崎公立大学","宮崎市船塚一丁目１－２","8808520","2021-01-20","","1336",""]
[{"$f":"INDEX(学校種!B:B,MATCH(D57523,学校種!A:A,0))","v":"大学"},{"$f":"INDEX(_tmp2!B:B,MATCH(E57523,_tmp2!A:A,0))","v":"宮崎県"},"F145210111549","F1","45","2","1","宮崎県立看護大学","宮崎市まなび野３－５－１","8800929","2021-01-20","","1338",""]
[{"$f":"INDEX(学校種!B:B,MATCH(D57524,学校種!A:A,0))","v":"大学"},{"$f":"INDEX(_tmp2!B:B,MATCH(E57524,_tmp2!A:A,0))","v":"宮崎県"},"F145310111556","F1","45","3","1","南九州大学","宮崎市霧島５丁目１番地２","8800032","2021-01-20","","2929",""]
[{"$f":"INDEX(学校種!B:B,MATCH(D57525,学校種!A:A,0))","v":"大学"},{"$f":"INDEX(_tmp2!B:B,MATCH(E57525,_tmp2!A:A,0))","v":"宮崎県"},"F145310111565","F1","45","3","1","宮崎産業経営大学","宮崎市古城町丸尾１００","8800931","2021-01-20","","2930",""]
[{"$f":"INDEX(学校種!B:B,MATCH(D57526,学校種!A:A,0))","v":"大学"},{"$f":"INDEX(_tmp2!B:B,MATCH(E57526,_tmp2!A:A,0))","v":"宮崎県"},"F145310111574","F1","45","3","1","宮崎国際大学","宮崎市清武町加納丙１４０５番地 ","8891605","2021-01-20","","2931",""]
[{"$f":"INDEX(学校種!B:B,MATCH(D57527,学校種!A:A,0))","v":"大学"},{"$f":"INDEX(_tmp2!B:B,MATCH(E57527,_tmp2!A:A,0))","v":"宮崎県"},"F145310111583","F1","45","3","1","九州保健福祉大学","延岡市吉野町１７１４番１","8820072","2021-01-20","","2932",""]
[{"$f":"INDEX(学校種!B:B,MATCH(D57528,学校種!A:A,0))","v":"短期大学"},{"$f":"INDEX(_tmp2!B:B,MATCH(E57528,_tmp2!A:A,0))","v":"宮崎県"},"F245310111591","F2","45","3","1","南九州短期大学","宮崎市霧島５丁目１番地２","8800032","2021-01-20","","5931",""]
[{"$f":"INDEX(学校種!B:B,MATCH(D57529,学校種!A:A,0))","v":"短期大学"},{"$f":"INDEX(_tmp2!B:B,MATCH(E57529,_tmp2!A:A,0))","v":"宮崎県"},"F245310111608","F2","45","3","1","宮崎学園短期大学","宮崎市清武町加納丙１４１５番地","8891605","2021-01-20","","5932",""]
[{"$f":"INDEX(学校種!B:B,MATCH(D57530,学校種!A:A,0))","v":"高等専門学校"},{"$f":"INDEX(_tmp2!B:B,MATCH(E57530,_tmp2!A:A,0))","v":"宮崎県"},"G145110111610","G1","45","1","1","都城工業高等専門学校","都城市吉尾町４７３－１","8858567","2021-01-20","","6712",""]
[{"$f":"INDEX(学校種!B:B,MATCH(D57531,学校種!A:A,0))","v":"大学"},{"$f":"INDEX(_tmp2!B:B,MATCH(E57531,_tmp2!A:A,0))","v":"鹿児島県"},"F146110111620","F1","46","1","1","鹿児島大学","鹿児島市郡元１－２１－２４","8900065","2021-01-20","","0396",""]
[{"$f":"INDEX(学校種!B:B,MATCH(D57532,学校種!A:A,0))","v":"大学"},{"$f":"INDEX(_tmp2!B:B,MATCH(E57532,_tmp2!A:A,0))","v":"鹿児島県"},"F146110111639","F1","46","1","1","鹿屋体育大学","鹿屋市白水町１","8912311","2021-01-20","","0480",""]
[{"$f":"INDEX(学校種!B:B,MATCH(D57533,学校種!A:A,0))","v":"大学"},{"$f":"INDEX(_tmp2!B:B,MATCH(E57533,_tmp2!A:A,0))","v":"鹿児島県"},"F146310111644","F1","46","3","1","鹿児島国際大学","鹿児島市坂之上８丁目３４番１号","8910197","2021-01-20","","2942",""]
[{"$f":"INDEX(学校種!B:B,MATCH(D57534,学校種!A:A,0))","v":"大学"},{"$f":"INDEX(_tmp2!B:B,MATCH(E57534,_tmp2!A:A,0))","v":"鹿児島県"},"F146310111653","F1","46","3","1","第一工科大学","霧島市国分中央1-10-2","8994395","2021-01-20","","2943",""]
[{"$f":"INDEX(学校種!B:B,MATCH(D57535,学校種!A:A,0))","v":"大学"},{"$f":"INDEX(_tmp2!B:B,MATCH(E57535,_tmp2!A:A,0))","v":"鹿児島県"},"F146310111662","F1","46","3","1","志學館大学","鹿児島市紫原1-59-1","8900082","2021-01-20","","2945",""]
[{"$f":"INDEX(学校種!B:B,MATCH(D57536,学校種!A:A,0))","v":"大学"},{"$f":"INDEX(_tmp2!B:B,MATCH(E57536,_tmp2!A:A,0))","v":"鹿児島県"},"F146310111671","F1","46","3","1","鹿児島純心女子大学","薩摩川内市天辰町２３６５","8950011","2021-01-20","","2946",""]
[{"$f":"INDEX(学校種!B:B,MATCH(D57537,学校種!A:A,0))","v":"短期大学"},{"$f":"INDEX(_tmp2!B:B,MATCH(E57537,_tmp2!A:A,0))","v":"鹿児島県"},"F246210111681","F2","46","2","1","鹿児島県立短期大学","鹿児島市下伊敷１－５２－１","8900005","2021-01-20","","4620",""]
[{"$f":"INDEX(学校種!B:B,MATCH(D57538,学校種!A:A,0))","v":"短期大学"},{"$f":"INDEX(_tmp2!B:B,MATCH(E57538,_tmp2!A:A,0))","v":"鹿児島県"},"F246310111698","F2","46","3","1","鹿児島純心女子短期大学","鹿児島市唐湊４－２２－１","8908525","2021-01-20","","5943",""]
[{"$f":"INDEX(学校種!B:B,MATCH(D57539,学校種!A:A,0))","v":"短期大学"},{"$f":"INDEX(_tmp2!B:B,MATCH(E57539,_tmp2!A:A,0))","v":"鹿児島県"},"F246310111705","F2","46","3","1","鹿児島女子短期大学","鹿児島市高麗町6-9","8908565","2021-01-20","","5944",""]
[{"$f":"INDEX(学校種!B:B,MATCH(D57540,学校種!A:A,0))","v":"短期大学"},{"$f":"INDEX(_tmp2!B:B,MATCH(E57540,_tmp2!A:A,0))","v":"鹿児島県"},"F246310111714","F2","46","3","1","第一幼児教育短期大学","霧島市中央1丁目10番2号","8994332","2021-01-20","","5946",""]
[{"$f":"INDEX(学校種!B:B,MATCH(D57541,学校種!A:A,0))","v":"高等専門学校"},{"$f":"INDEX(_tmp2!B:B,MATCH(E57541,_tmp2!A:A,0))","v":"鹿児島県"},"G146110111726","G1","46","1","1","鹿児島工業高等専門学校","霧島市隼人町真孝１４６０－１","8995193","2021-01-20","","6716",""]
[{"$f":"INDEX(学校種!B:B,MATCH(D57542,学校種!A:A,0))","v":"大学"},{"$f":"INDEX(_tmp2!B:B,MATCH(E57542,_tmp2!A:A,0))","v":"沖縄県"},"F147110111736","F1","47","1","1","琉球大学","中頭郡西原町字千原１番地","9030213","2021-01-20","","0400",""]
[{"$f":"INDEX(学校種!B:B,MATCH(D57543,学校種!A:A,0))","v":"大学"},{"$f":"INDEX(_tmp2!B:B,MATCH(E57543,_tmp2!A:A,0))","v":"沖縄県"},"F147210111743","F1","47","2","1","名桜大学","名護市字為又１２２０－１","9058585","2021-01-20","","1347",""]
[{"$f":"INDEX(学校種!B:B,MATCH(D57544,学校種!A:A,0))","v":"大学"},{"$f":"INDEX(_tmp2!B:B,MATCH(E57544,_tmp2!A:A,0))","v":"沖縄県"},"F147210111752","F1","47","2","1","沖縄県立芸術大学","那覇市首里当蔵町１－４","9038602","2021-01-20","","1348",""]
[{"$f":"INDEX(学校種!B:B,MATCH(D57545,学校種!A:A,0))","v":"大学"},{"$f":"INDEX(_tmp2!B:B,MATCH(E57545,_tmp2!A:A,0))","v":"沖縄県"},"F147210111761","F1","47","2","1","沖縄県立看護大学","那覇市与儀１丁目２４番１号","9020076","2021-01-20","","1349",""]
[{"$f":"INDEX(学校種!B:B,MATCH(D57546,学校種!A:A,0))","v":"大学"},{"$f":"INDEX(_tmp2!B:B,MATCH(E57546,_tmp2!A:A,0))","v":"沖縄県"},"F147310111778","F1","47","3","1","沖縄科学技術大学院大学","国頭郡恩納村字谷茶１９１９－１","9040495","2021-01-20","","2952",""]
[{"$f":"INDEX(学校種!B:B,MATCH(D57547,学校種!A:A,0))","v":"大学"},{"$f":"INDEX(_tmp2!B:B,MATCH(E57547,_tmp2!A:A,0))","v":"沖縄県"},"F147310111787","F1","47","3","1","沖縄国際大学","宜野湾市宜野湾２－６－１","9012701","2021-01-20","","2953",""]
[{"$f":"INDEX(学校種!B:B,MATCH(D57548,学校種!A:A,0))","v":"大学"},{"$f":"INDEX(_tmp2!B:B,MATCH(E57548,_tmp2!A:A,0))","v":"沖縄県"},"F147310111796","F1","47","3","1","沖縄大学","那覇市字国場555","9028521","2021-01-20","","2954",""]
[{"$f":"INDEX(学校種!B:B,MATCH(D57549,学校種!A:A,0))","v":"大学"},{"$f":"INDEX(_tmp2!B:B,MATCH(E57549,_tmp2!A:A,0))","v":"沖縄県"},"F147310111803","F1","47","3","1","沖縄キリスト教学院大学","中頭郡西原町字翁長７７７番地","9030207","2021-01-20","","2956",""]
[{"$f":"INDEX(学校種!B:B,MATCH(D57550,学校種!A:A,0))","v":"短期大学"},{"$f":"INDEX(_tmp2!B:B,MATCH(E57550,_tmp2!A:A,0))","v":"沖縄県"},"F247310111811","F2","47","3","1","沖縄キリスト教短期大学","中頭郡西原町字翁長７７７番地","9030207","2021-01-20","","5953",""]
[{"$f":"INDEX(学校種!B:B,MATCH(D57551,学校種!A:A,0))","v":"短期大学"},{"$f":"INDEX(_tmp2!B:B,MATCH(E57551,_tmp2!A:A,0))","v":"沖縄県"},"F247310111820","F2","47","3","1","沖縄女子短期大学","島尻郡与那原町東浜１番地","9011304","2021-01-20","","5954",""]
[{"$f":"INDEX(学校種!B:B,MATCH(D57552,学校種!A:A,0))","v":"高等専門学校"},{"$f":"INDEX(_tmp2!B:B,MATCH(E57552,_tmp2!A:A,0))","v":"沖縄県"},"G147110111832","G1","47","1","1","沖縄工業高等専門学校","名護市字辺野古９０５","9052192","2021-01-20","","6732",""]

{"sheet":"学校種","index":5,"n_rows":13,"n_cols":2,"rows_kept":13,"cut":false,"hidden":true,"merged":[]}
["A1","幼稚園(幼稚園型認定こども園を含む)"]
["A2","幼保連携型認定こども園"]
["B1","小学校"]
["C1","中学校"]
["C2","義務教育学校"]
["D1","高等学校"]
["D2","中等教育学校"]
["E1","特別支援学校"]
["H1","専修学校"]
["H2","各種学校"]
["F1","大学"]
["F2","短期大学"]
["G1","高等専門学校"]

{"sheet":"_tmp2","index":6,"n_rows":48,"n_cols":2,"rows_kept":48,"cut":false,"hidden":true,"merged":[]}
["コード","都道府県"]
["01","北海道"]
["02","青森県"]
["03","岩手県"]
["04","宮城県"]
["05","秋田県"]
["06","山形県"]
["07","福島県"]
["08","茨城県"]
["09","栃木県"]
["10","群馬県"]
["11","埼玉県"]
["12","千葉県"]
["13","東京都"]
["14","神奈川県"]
["15","新潟県"]
["16","富山県"]
["17","石川県"]
["18","福井県"]
["19","山梨県"]
["20","長野県"]
["21","岐阜県"]
["22","静岡県"]
["23","愛知県"]
["24","三重県"]
["25","滋賀県"]
["26","京都府"]
["27","大阪府"]
["28","兵庫県"]
["29","奈良県"]
["30","和歌山県"]
["31","鳥取県"]
["32","島根県"]
["33","岡山県"]
["34","広島県"]
["35","山口県"]
["36","徳島県"]
["37","香川県"]
["38","愛媛県"]
["39","高知県"]
["40","福岡県"]
["41","佐賀県"]
["42","長崎県"]
["43","熊本県"]
["44","大分県"]
["45","宮崎県"]
["46","鹿児島県"]
["47","沖縄県"]