{"text_format":"1","workbook":"xlsx","n_sheets":5,"sheets":["自社カレンダー sample","リソース見える化 sample","本システム開発元（カスタマイズ依頼先）","参考) 内閣法「国民の祝日について」より","_colorindex"],"not_rendered":{"charts":0,"images":1,"macros":1,"external_links":1,"defined_names":13,"comments":0,"pivot_tables":0},"unopened":[],"bounds":{"document_bytes":16777216,"sheet_cells":100000,"rows_first":2000,"rows_last":500,"rows_between":2000,"halvings":0,"cell_chars":16384,"cell_head_chars":4096},"cells_cut":0,"cells_raw":0,"read":"whole","date_system":"1900"}

{"sheet":"自社カレンダー sample","index":0,"n_rows":158,"n_cols":21,"rows_kept":158,"cut":false,"hidden":false,"merged":[]}
["■自社カレンダー管理ツール",null,null,null,null," (作成会社) 株式会社TKアジャイル    (連絡先) info@tk-agile.co.jp  ※有償カスタマイズ承ります"]
[null,null,null,null,null,null,null,"期間から","2021-04-01"]
[null,null,"2021-01-01","から",null,null,null,"期間まで","2022-03-31"]
["↓データ入力後に押す",null,"2022-03-31","までの",null,null,null,"稼働日数",{"$f":"I3-I2+1-I5","v":244},{"$f":"J3-J2+1-J5","v":1},1,1,1,1,1,1,1,1,1,1,1]
[null,null,null,null,null,null,null,"休日数",{"$f":"COUNTIFS($A12:$A10013,\">=\" &I2,$A12:$A10013, \"<=\" & I3)","v":121},{"$f":"COUNTIFS($A12:$A10013,\">=\" &J2,$A12:$A10013, \"<=\" & J3)","v":0},{"$f":"COUNTIFS($A12:$A10013,\">=\" &K2,$A12:$A10013, \"<=\" & K3)","v":0},{"$f":"COUNTIFS($A12:$A10013,\">=\" &L2,$A12:$A10013, \"<=\" & L3)","v":0},{"$f":"COUNTIFS($A:$A,\">=\" &M2,$A:$A, \"<=\" & M3)","v":0},0,0,0,0,0,{"$f":"COUNTIFS(M:M,\">=#\" &S2 & \"#\",M:M, \"<=#\" & S3 &\"#\")","v":0},{"$f":"COUNTIFS(N:N,\">=#\" &T2 & \"#\",N:N, \"<=#\" & T3 &\"#\")","v":0},{"$f":"COUNTIFS(O:O,\">=#\" &U2 & \"#\",O:O, \"<=#\" & U3 &\"#\")","v":0}]
[null,null,"稼働日計算機"]
[null,null,"↓[ctrl] + [;] で今日の日付   ※すべての日付項目共通"]
[null,null,"2021-05-15","から",-10,"稼働日後は？"]
[]
["↓祝日、長期休暇は手入力",null,"2021-04-28","から","2021-05-10","までの稼働日は？",null,null,null,"稼働日(当日含む)"]
["休日"]
["2021-01-02"]
["2021-01-03"]
["2021-01-09"]
["2021-01-10"]
["2021-01-16"]
["2021-01-17"]
["2021-01-23"]
["2021-01-24"]
["2021-01-30"]
["2021-01-31"]
["2021-02-06"]
["2021-02-07"]
["2021-02-13"]
["2021-02-14"]
["2021-02-20"]
["2021-02-21"]
["2021-02-27"]
["2021-02-28"]
["2021-03-06"]
["2021-03-07"]
["2021-03-13"]
["2021-03-14"]
["2021-03-20"]
["2021-03-21"]
["2021-03-27"]
["2021-03-28"]
["2021-04-03"]
["2021-04-04"]
["2021-04-10"]
["2021-04-11"]
["2021-04-17"]
["2021-04-18"]
["2021-04-24"]
["2021-04-25"]
["2021-04-30"]
["2021-05-01"]
["2021-05-02"]
["2021-05-03"]
["2021-05-04"]
["2021-05-05"]
["2021-05-06"]
["2021-05-07"]
["2021-05-08"]
["2021-05-09"]
["2021-05-15"]
["2021-05-16"]
["2021-05-22"]
["2021-05-23"]
["2021-05-29"]
["2021-05-30"]
["2021-06-05"]
["2021-06-06"]
["2021-06-12"]
["2021-06-13"]
["2021-06-19"]
["2021-06-20"]
["2021-06-26"]
["2021-06-27"]
["2021-07-03"]
["2021-07-04"]
["2021-07-10"]
["2021-07-11"]
["2021-07-17"]
["2021-07-18"]
["2021-07-24"]
["2021-07-25"]
["2021-07-31"]
["2021-08-01"]
["2021-08-07"]
["2021-08-08"]
["2021-08-09"]
["2021-08-10"]
["2021-08-11"]
["2021-08-12"]
["2021-08-13"]
["2021-08-14"]
["2021-08-15"]
["2021-08-21"]
["2021-08-22"]
["2021-08-28"]
["2021-08-29"]
["2021-09-04"]
["2021-09-05"]
["2021-09-11"]
["2021-09-12"]
["2021-09-18"]
["2021-09-19"]
["2021-09-25"]
["2021-09-26"]
["2021-10-02"]
["2021-10-03"]
["2021-10-09"]
["2021-10-10"]
["2021-10-16"]
["2021-10-17"]
["2021-10-23"]
["2021-10-24"]
["2021-10-30"]
["2021-10-31"]
["2021-11-06"]
["2021-11-07"]
["2021-11-13"]
["2021-11-14"]
["2021-11-20"]
["2021-11-21"]
["2021-11-27"]
["2021-11-28"]
["2021-12-04"]
["2021-12-05"]
["2021-12-11"]
["2021-12-12"]
["2021-12-18"]
["2021-12-19"]
["2021-12-25"]
["2021-12-26"]
["2021-12-29"]
["2021-12-30"]
["2021-12-31"]
["2022-01-01"]
["2022-01-02"]
["2022-01-03"]
["2022-01-04"]
["2022-01-05"]
["2022-01-08"]
["2022-01-09"]
["2022-01-15"]
["2022-01-16"]
["2022-01-22"]
["2022-01-23"]
["2022-01-29"]
["2022-01-30"]
["2022-02-05"]
["2022-02-06"]
["2022-02-12"]
["2022-02-13"]
["2022-02-19"]
["2022-02-20"]
["2022-02-26"]
["2022-02-27"]
["2022-03-05"]
["2022-03-06"]
["2022-03-12"]
["2022-03-13"]
["2022-03-19"]
["2022-03-20"]
["2022-03-26"]
["2022-03-27"]

{"sheet":"リソース見える化 sample","index":1,"n_rows":1000,"n_cols":37,"rows_kept":1000,"cut":false,"hidden":false,"merged":[[1,7,1,9]]}
["■リソース見える化ツール",null,null,null,null," (作成会社) 株式会社TKアジャイル    (連絡先) info@tk-agile.co.jp  ※有償カスタマイズ承ります"]
[null,null,null,null,null,null,"開始日:","2021-03-01"]
["号機","区画","開始日","終了日","稼働日"]
["123A","A","2021-03-01","2021-03-01",{"$f":"IF(C4<>\"\",NETWORKDAYS.INTL(C4,D4,\"0000000\",'自社カレンダー sample'!$A$12:$A$9999),\"\")","v":1}]
["234B","B","2021-03-02","2021-03-03",{"$f":"IF(C5<>\"\",NETWORKDAYS.INTL(C5,D5,\"0000000\",'自社カレンダー sample'!$A$12:$A$9999),\"\")","v":2},null,null,1,2,3,4,5,6,7,8,9,10,11,12,13,14,15,16,17,18,19,20,21,22,23,24,25,26,27,28,29,30]
["345D","B","2021-03-04","2021-03-04",{"$f":"IF(C6<>\"\",NETWORKDAYS.INTL(C6,D6,\"0000000\",'自社カレンダー sample'!$A$12:$A$9999),\"\")","v":1},null,{"$f":"A3&\"別\"","v":"号機別"},{"$f":"$H$2+H5-1","v":"2021-03-01"},"2021-03-02","2021-03-03","2021-03-04","2021-03-05","2021-03-06","2021-03-07","2021-03-08","2021-03-09","2021-03-10","2021-03-11","2021-03-12","2021-03-13","2021-03-14","2021-03-15","2021-03-16","2021-03-17","2021-03-18","2021-03-19","2021-03-20","2021-03-21","2021-03-22","2021-03-23","2021-03-24","2021-03-25","2021-03-26","2021-03-27","2021-03-28","2021-03-29","2021-03-30"]
["456E","A","2021-03-03","2021-03-05",{"$f":"IF(C7<>\"\",NETWORKDAYS.INTL(C7,D7,\"0000000\",'自社カレンダー sample'!$A$12:$A$9999),\"\")","v":3},1,"123A",{"$f":"GetDivB($G7,H$6)","v":"A"},{"$f":"GetDivB($G7,I$6)","v":""},{"$f":"GetDivB($G7,J$6)","v":""},{"$f":"GetDivB($G7,K$6)","v":""},{"$f":"GetDivB($G7,L$6)","v":""},{"$f":"GetDivB($G7,M$6)","v":""},{"$f":"GetDivB($G7,N$6)","v":""},{"$f":"GetDivB($G7,O$6)","v":""},{"$f":"GetDivB($G7,P$6)","v":""},{"$f":"GetDivB($G7,Q$6)","v":""},{"$f":"GetDivB($G7,R$6)","v":""},{"$f":"GetDivB($G7,S$6)","v":""},{"$f":"GetDivB($G7,T$6)","v":""},{"$f":"GetDivB($G7,U$6)","v":""},{"$f":"GetDivB($G7,V$6)","v":""},{"$f":"GetDivB($G7,W$6)","v":""},{"$f":"GetDivB($G7,X$6)","v":""},{"$f":"GetDivB($G7,Y$6)","v":""},{"$f":"GetDivB($G7,Z$6)","v":""},{"$f":"GetDivB($G7,AA$6)","v":""},{"$f":"GetDivB($G7,AB$6)","v":""},{"$f":"GetDivB($G7,AC$6)","v":""},{"$f":"GetDivB($G7,AD$6)","v":""},{"$f":"GetDivB($G7,AE$6)","v":""},{"$f":"GetDivB($G7,AF$6)","v":""},{"$f":"GetDivB($G7,AG$6)","v":""},{"$f":"GetDivB($G7,AH$6)","v":""},{"$f":"GetDivB($G7,AI$6)","v":""},{"$f":"GetDivB($G7,AJ$6)","v":""},{"$f":"GetDivB($G7,AK$6)","v":""}]
["567F","C","2021-03-03","2021-03-05",{"$f":"IF(C8<>\"\",NETWORKDAYS.INTL(C8,D8,\"0000000\",'自社カレンダー sample'!$A$12:$A$9999),\"\")","v":3},2,"234B",{"$f":"GetDivB($G8,H$6)","v":""},{"$f":"GetDivB($G8,I$6)","v":"B"},{"$f":"GetDivB($G8,J$6)","v":"B"},{"$f":"GetDivB($G8,K$6)","v":""},{"$f":"GetDivB($G8,L$6)","v":""},{"$f":"GetDivB($G8,M$6)","v":""},{"$f":"GetDivB($G8,N$6)","v":""},{"$f":"GetDivB($G8,O$6)","v":""},{"$f":"GetDivB($G8,P$6)","v":""},{"$f":"GetDivB($G8,Q$6)","v":""},{"$f":"GetDivB($G8,R$6)","v":""},{"$f":"GetDivB($G8,S$6)","v":""},{"$f":"GetDivB($G8,T$6)","v":""},{"$f":"GetDivB($G8,U$6)","v":""},{"$f":"GetDivB($G8,V$6)","v":""},{"$f":"GetDivB($G8,W$6)","v":""},{"$f":"GetDivB($G8,X$6)","v":""},{"$f":"GetDivB($G8,Y$6)","v":""},{"$f":"GetDivB($G8,Z$6)","v":""},{"$f":"GetDivB($G8,AA$6)","v":""},{"$f":"GetDivB($G8,AB$6)","v":""},{"$f":"GetDivB($G8,AC$6)","v":""},{"$f":"GetDivB($G8,AD$6)","v":""},{"$f":"GetDivB($G8,AE$6)","v":""},{"$f":"GetDivB($G8,AF$6)","v":""},{"$f":"GetDivB($G8,AG$6)","v":""},{"$f":"GetDivB($G8,AH$6)","v":""},{"$f":"GetDivB($G8,AI$6)","v":""},{"$f":"GetDivB($G8,AJ$6)","v":""},{"$f":"GetDivB($G8,AK$6)","v":""}]
[null,null,null,null,{"$f":"IF(C9<>\"\",NETWORKDAYS.INTL(C9,D9,\"0000000\",'自社カレンダー sample'!$A$12:$A$9999),\"\")","v":""},3,"345D",{"$f":"GetDivB($G9,H$6)","v":""},{"$f":"GetDivB($G9,I$6)","v":""},{"$f":"GetDivB($G9,J$6)","v":""},{"$f":"GetDivB($G9,K$6)","v":"B"},{"$f":"GetDivB($G9,L$6)","v":""},{"$f":"GetDivB($G9,M$6)","v":""},{"$f":"GetDivB($G9,N$6)","v":""},{"$f":"GetDivB($G9,O$6)","v":""},{"$f":"GetDivB($G9,P$6)","v":""},{"$f":"GetDivB($G9,Q$6)","v":""},{"$f":"GetDivB($G9,R$6)","v":""},{"$f":"GetDivB($G9,S$6)","v":""},{"$f":"GetDivB($G9,T$6)","v":""},{"$f":"GetDivB($G9,U$6)","v":""},{"$f":"GetDivB($G9,V$6)","v":""},{"$f":"GetDivB($G9,W$6)","v":""},{"$f":"GetDivB($G9,X$6)","v":""},{"$f":"GetDivB($G9,Y$6)","v":""},{"$f":"GetDivB($G9,Z$6)","v":""},{"$f":"GetDivB($G9,AA$6)","v":""},{"$f":"GetDivB($G9,AB$6)","v":""},{"$f":"GetDivB($G9,AC$6)","v":""},{"$f":"GetDivB($G9,AD$6)","v":""},{"$f":"GetDivB($G9,AE$6)","v":""},{"$f":"GetDivB($G9,AF$6)","v":""},{"$f":"GetDivB($G9,AG$6)","v":""},{"$f":"GetDivB($G9,AH$6)","v":""},{"$f":"GetDivB($G9,AI$6)","v":""},{"$f":"GetDivB($G9,AJ$6)","v":""},{"$f":"GetDivB($G9,AK$6)","v":""}]
[null,null,null,null,{"$f":"IF(C10<>\"\",NETWORKDAYS.INTL(C10,D10,\"0000000\",'自社カレンダー sample'!$A$12:$A$9999),\"\")","v":""},4,"456E",{"$f":"GetDivB($G10,H$6)","v":""},{"$f":"GetDivB($G10,I$6)","v":""},{"$f":"GetDivB($G10,J$6)","v":"A"},{"$f":"GetDivB($G10,K$6)","v":"A"},{"$f":"GetDivB($G10,L$6)","v":"A"},{"$f":"GetDivB($G10,M$6)","v":""},{"$f":"GetDivB($G10,N$6)","v":""},{"$f":"GetDivB($G10,O$6)","v":""},{"$f":"GetDivB($G10,P$6)","v":""},{"$f":"GetDivB($G10,Q$6)","v":""},{"$f":"GetDivB($G10,R$6)","v":""},{"$f":"GetDivB($G10,S$6)","v":""},{"$f":"GetDivB($G10,T$6)","v":""},{"$f":"GetDivB($G10,U$6)","v":""},{"$f":"GetDivB($G10,V$6)","v":""},{"$f":"GetDivB($G10,W$6)","v":""},{"$f":"GetDivB($G10,X$6)","v":""},{"$f":"GetDivB($G10,Y$6)","v":""},{"$f":"GetDivB($G10,Z$6)","v":""},{"$f":"GetDivB($G10,AA$6)","v":""},{"$f":"GetDivB($G10,AB$6)","v":""},{"$f":"GetDivB($G10,AC$6)","v":""},{"$f":"GetDivB($G10,AD$6)","v":""},{"$f":"GetDivB($G10,AE$6)","v":""},{"$f":"GetDivB($G10,AF$6)","v":""},{"$f":"GetDivB($G10,AG$6)","v":""},{"$f":"GetDivB($G10,AH$6)","v":""},{"$f":"GetDivB($G10,AI$6)","v":""},{"$f":"GetDivB($G10,AJ$6)","v":""},{"$f":"GetDivB($G10,AK$6)","v":""}]
[null,null,null,null,{"$f":"IF(C11<>\"\",NETWORKDAYS.INTL(C11,D11,\"0000000\",'自社カレンダー sample'!$A$12:$A$9999),\"\")","v":""},5,"567F",{"$f":"GetDivB($G11,H$6)","v":""},{"$f":"GetDivB($G11,I$6)","v":""},{"$f":"GetDivB($G11,J$6)","v":"C"},{"$f":"GetDivB($G11,K$6)","v":"C"},{"$f":"GetDivB($G11,L$6)","v":"C"},{"$f":"GetDivB($G11,M$6)","v":""},{"$f":"GetDivB($G11,N$6)","v":""},{"$f":"GetDivB($G11,O$6)","v":""},{"$f":"GetDivB($G11,P$6)","v":""},{"$f":"GetDivB($G11,Q$6)","v":""},{"$f":"GetDivB($G11,R$6)","v":""},{"$f":"GetDivB($G11,S$6)","v":""},{"$f":"GetDivB($G11,T$6)","v":""},{"$f":"GetDivB($G11,U$6)","v":""},{"$f":"GetDivB($G11,V$6)","v":""},{"$f":"GetDivB($G11,W$6)","v":""},{"$f":"GetDivB($G11,X$6)","v":""},{"$f":"GetDivB($G11,Y$6)","v":""},{"$f":"GetDivB($G11,Z$6)","v":""},{"$f":"GetDivB($G11,AA$6)","v":""},{"$f":"GetDivB($G11,AB$6)","v":""},{"$f":"GetDivB($G11,AC$6)","v":""},{"$f":"GetDivB($G11,AD$6)","v":""},{"$f":"GetDivB($G11,AE$6)","v":""},{"$f":"GetDivB($G11,AF$6)","v":""},{"$f":"GetDivB($G11,AG$6)","v":""},{"$f":"GetDivB($G11,AH$6)","v":""},{"$f":"GetDivB($G11,AI$6)","v":""},{"$f":"GetDivB($G11,AJ$6)","v":""},{"$f":"GetDivB($G11,AK$6)","v":""}]
[null,null,null,null,{"$f":"IF(C12<>\"\",NETWORKDAYS.INTL(C12,D12,\"0000000\",'自社カレンダー sample'!$A$12:$A$9999),\"\")","v":""},6," ",{"$f":"GetDivB($G12,H$6)","v":""},{"$f":"GetDivB($G12,I$6)","v":""},{"$f":"GetDivB($G12,J$6)","v":""},{"$f":"GetDivB($G12,K$6)","v":""},{"$f":"GetDivB($G12,L$6)","v":""},{"$f":"GetDivB($G12,M$6)","v":""},{"$f":"GetDivB($G12,N$6)","v":""},{"$f":"GetDivB($G12,O$6)","v":""},{"$f":"GetDivB($G12,P$6)","v":""},{"$f":"GetDivB($G12,Q$6)","v":""},{"$f":"GetDivB($G12,R$6)","v":""},{"$f":"GetDivB($G12,S$6)","v":""},{"$f":"GetDivB($G12,T$6)","v":""},{"$f":"GetDivB($G12,U$6)","v":""},{"$f":"GetDivB($G12,V$6)","v":""},{"$f":"GetDivB($G12,W$6)","v":""},{"$f":"GetDivB($G12,X$6)","v":""},{"$f":"GetDivB($G12,Y$6)","v":""},{"$f":"GetDivB($G12,Z$6)","v":""},{"$f":"GetDivB($G12,AA$6)","v":""},{"$f":"GetDivB($G12,AB$6)","v":""},{"$f":"GetDivB($G12,AC$6)","v":""},{"$f":"GetDivB($G12,AD$6)","v":""},{"$f":"GetDivB($G12,AE$6)","v":""},{"$f":"GetDivB($G12,AF$6)","v":""},{"$f":"GetDivB($G12,AG$6)","v":""},{"$f":"GetDivB($G12,AH$6)","v":""},{"$f":"GetDivB($G12,AI$6)","v":""},{"$f":"GetDivB($G12,AJ$6)","v":""},{"$f":"GetDivB($G12,AK$6)","v":""}]
[null,null,null,null,{"$f":"IF(C13<>\"\",NETWORKDAYS.INTL(C13,D13,\"0000000\",'自社カレンダー sample'!$A$12:$A$9999),\"\")","v":""},7," ",{"$f":"GetDivB($G13,H$6)","v":""},{"$f":"GetDivB($G13,I$6)","v":""},{"$f":"GetDivB($G13,J$6)","v":""},{"$f":"GetDivB($G13,K$6)","v":""},{"$f":"GetDivB($G13,L$6)","v":""},{"$f":"GetDivB($G13,M$6)","v":""},{"$f":"GetDivB($G13,N$6)","v":""},{"$f":"GetDivB($G13,O$6)","v":""},{"$f":"GetDivB($G13,P$6)","v":""},{"$f":"GetDivB($G13,Q$6)","v":""},{"$f":"GetDivB($G13,R$6)","v":""},{"$f":"GetDivB($G13,S$6)","v":""},{"$f":"GetDivB($G13,T$6)","v":""},{"$f":"GetDivB($G13,U$6)","v":""},{"$f":"GetDivB($G13,V$6)","v":""},{"$f":"GetDivB($G13,W$6)","v":""},{"$f":"GetDivB($G13,X$6)","v":""},{"$f":"GetDivB($G13,Y$6)","v":""},{"$f":"GetDivB($G13,Z$6)","v":""},{"$f":"GetDivB($G13,AA$6)","v":""},{"$f":"GetDivB($G13,AB$6)","v":""},{"$f":"GetDivB($G13,AC$6)","v":""},{"$f":"GetDivB($G13,AD$6)","v":""},{"$f":"GetDivB($G13,AE$6)","v":""},{"$f":"GetDivB($G13,AF$6)","v":""},{"$f":"GetDivB($G13,AG$6)","v":""},{"$f":"GetDivB($G13,AH$6)","v":""},{"$f":"GetDivB($G13,AI$6)","v":""},{"$f":"GetDivB($G13,AJ$6)","v":""},{"$f":"GetDivB($G13,AK$6)","v":""}]
[null,null,null,null,{"$f":"IF(C14<>\"\",NETWORKDAYS.INTL(C14,D14,\"0000000\",'自社カレンダー sample'!$A$12:$A$9999),\"\")","v":""},8," ",{"$f":"GetDivB($G14,H$6)","v":""},{"$f":"GetDivB($G14,I$6)","v":""},{"$f":"GetDivB($G14,J$6)","v":""},{"$f":"GetDivB($G14,K$6)","v":""},{"$f":"GetDivB($G14,L$6)","v":""},{"$f":"GetDivB($G14,M$6)","v":""},{"$f":"GetDivB($G14,N$6)","v":""},{"$f":"GetDivB($G14,O$6)","v":""},{"$f":"GetDivB($G14,P$6)","v":""},{"$f":"GetDivB($G14,Q$6)","v":""},{"$f":"GetDivB($G14,R$6)","v":""},{"$f":"GetDivB($G14,S$6)","v":""},{"$f":"GetDivB($G14,T$6)","v":""},{"$f":"GetDivB($G14,U$6)","v":""},{"$f":"GetDivB($G14,V$6)","v":""},{"$f":"GetDivB($G14,W$6)","v":""},{"$f":"GetDivB($G14,X$6)","v":""},{"$f":"GetDivB($G14,Y$6)","v":""},{"$f":"GetDivB($G14,Z$6)","v":""},{"$f":"GetDivB($G14,AA$6)","v":""},{"$f":"GetDivB($G14,AB$6)","v":""},{"$f":"GetDivB($G14,AC$6)","v":""},{"$f":"GetDivB($G14,AD$6)","v":""},{"$f":"GetDivB($G14,AE$6)","v":""},{"$f":"GetDivB($G14,AF$6)","v":""},{"$f":"GetDivB($G14,AG$6)","v":""},{"$f":"GetDivB($G14,AH$6)","v":""},{"$f":"GetDivB($G14,AI$6)","v":""},{"$f":"GetDivB($G14,AJ$6)","v":""},{"$f":"GetDivB($G14,AK$6)","v":""}]
[null,null,null,null,{"$f":"IF(C15<>\"\",NETWORKDAYS.INTL(C15,D15,\"0000000\",'自社カレンダー sample'!$A$12:$A$9999),\"\")","v":""},9," ",{"$f":"GetDivB($G15,H$6)","v":""},{"$f":"GetDivB($G15,I$6)","v":""},{"$f":"GetDivB($G15,J$6)","v":""},{"$f":"GetDivB($G15,K$6)","v":""},{"$f":"GetDivB($G15,L$6)","v":""},{"$f":"GetDivB($G15,M$6)","v":""},{"$f":"GetDivB($G15,N$6)","v":""},{"$f":"GetDivB($G15,O$6)","v":""},{"$f":"GetDivB($G15,P$6)","v":""},{"$f":"GetDivB($G15,Q$6)","v":""},{"$f":"GetDivB($G15,R$6)","v":""},{"$f":"GetDivB($G15,S$6)","v":""},{"$f":"GetDivB($G15,T$6)","v":""},{"$f":"GetDivB($G15,U$6)","v":""},{"$f":"GetDivB($G15,V$6)","v":""},{"$f":"GetDivB($G15,W$6)","v":""},{"$f":"GetDivB($G15,X$6)","v":""},{"$f":"GetDivB($G15,Y$6)","v":""},{"$f":"GetDivB($G15,Z$6)","v":""},{"$f":"GetDivB($G15,AA$6)","v":""},{"$f":"GetDivB($G15,AB$6)","v":""},{"$f":"GetDivB($G15,AC$6)","v":""},{"$f":"GetDivB($G15,AD$6)","v":""},{"$f":"GetDivB($G15,AE$6)","v":""},{"$f":"GetDivB($G15,AF$6)","v":""},{"$f":"GetDivB($G15,AG$6)","v":""},{"$f":"GetDivB($G15,AH$6)","v":""},{"$f":"GetDivB($G15,AI$6)","v":""},{"$f":"GetDivB($G15,AJ$6)","v":""},{"$f":"GetDivB($G15,AK$6)","v":""}]
[null,null,null,null,{"$f":"IF(C16<>\"\",NETWORKDAYS.INTL(C16,D16,\"0000000\",'自社カレンダー sample'!$A$12:$A$9999),\"\")","v":""},10," ",{"$f":"GetDivB($G16,H$6)","v":""},{"$f":"GetDivB($G16,I$6)","v":""},{"$f":"GetDivB($G16,J$6)","v":""},{"$f":"GetDivB($G16,K$6)","v":""},{"$f":"GetDivB($G16,L$6)","v":""},{"$f":"GetDivB($G16,M$6)","v":""},{"$f":"GetDivB($G16,N$6)","v":""},{"$f":"GetDivB($G16,O$6)","v":""},{"$f":"GetDivB($G16,P$6)","v":""},{"$f":"GetDivB($G16,Q$6)","v":""},{"$f":"GetDivB($G16,R$6)","v":""},{"$f":"GetDivB($G16,S$6)","v":""},{"$f":"GetDivB($G16,T$6)","v":""},{"$f":"GetDivB($G16,U$6)","v":""},{"$f":"GetDivB($G16,V$6)","v":""},{"$f":"GetDivB($G16,W$6)","v":""},{"$f":"GetDivB($G16,X$6)","v":""},{"$f":"GetDivB($G16,Y$6)","v":""},{"$f":"GetDivB($G16,Z$6)","v":""},{"$f":"GetDivB($G16,AA$6)","v":""},{"$f":"GetDivB($G16,AB$6)","v":""},{"$f":"GetDivB($G16,AC$6)","v":""},{"$f":"GetDivB($G16,AD$6)","v":""},{"$f":"GetDivB($G16,AE$6)","v":""},{"$f":"GetDivB($G16,AF$6)","v":""},{"$f":"GetDivB($G16,AG$6)","v":""},{"$f":"GetDivB($G16,AH$6)","v":""},{"$f":"GetDivB($G16,AI$6)","v":""},{"$f":"GetDivB($G16,AJ$6)","v":""},{"$f":"GetDivB($G16,AK$6)","v":""}]
[null,null,null,null,{"$f":"IF(C17<>\"\",NETWORKDAYS.INTL(C17,D17,\"0000000\",'自社カレンダー sample'!$A$12:$A$9999),\"\")","v":""},11," ",{"$f":"GetDivB($G17,H$6)","v":""},{"$f":"GetDivB($G17,I$6)","v":""},{"$f":"GetDivB($G17,J$6)","v":""},{"$f":"GetDivB($G17,K$6)","v":""},{"$f":"GetDivB($G17,L$6)","v":""},{"$f":"GetDivB($G17,M$6)","v":""},{"$f":"GetDivB($G17,N$6)","v":""},{"$f":"GetDivB($G17,O$6)","v":""},{"$f":"GetDivB($G17,P$6)","v":""},{"$f":"GetDivB($G17,Q$6)","v":""},{"$f":"GetDivB($G17,R$6)","v":""},{"$f":"GetDivB($G17,S$6)","v":""},{"$f":"GetDivB($G17,T$6)","v":""},{"$f":"GetDivB($G17,U$6)","v":""},{"$f":"GetDivB($G17,V$6)","v":""},{"$f":"GetDivB($G17,W$6)","v":""},{"$f":"GetDivB($G17,X$6)","v":""},{"$f":"GetDivB($G17,Y$6)","v":""},{"$f":"GetDivB($G17,Z$6)","v":""},{"$f":"GetDivB($G17,AA$6)","v":""},{"$f":"GetDivB($G17,AB$6)","v":""},{"$f":"GetDivB($G17,AC$6)","v":""},{"$f":"GetDivB($G17,AD$6)","v":""},{"$f":"GetDivB($G17,AE$6)","v":""},{"$f":"GetDivB($G17,AF$6)","v":""},{"$f":"GetDivB($G17,AG$6)","v":""},{"$f":"GetDivB($G17,AH$6)","v":""},{"$f":"GetDivB($G17,AI$6)","v":""},{"$f":"GetDivB($G17,AJ$6)","v":""},{"$f":"GetDivB($G17,AK$6)","v":""}]
[null,null,null,null,{"$f":"IF(C18<>\"\",NETWORKDAYS.INTL(C18,D18,\"0000000\",'自社カレンダー sample'!$A$12:$A$9999),\"\")","v":""},12," ",{"$f":"GetDivB($G18,H$6)","v":""},{"$f":"GetDivB($G18,I$6)","v":""},{"$f":"GetDivB($G18,J$6)","v":""},{"$f":"GetDivB($G18,K$6)","v":""},{"$f":"GetDivB($G18,L$6)","v":""},{"$f":"GetDivB($G18,M$6)","v":""},{"$f":"GetDivB($G18,N$6)","v":""},{"$f":"GetDivB($G18,O$6)","v":""},{"$f":"GetDivB($G18,P$6)","v":""},{"$f":"GetDivB($G18,Q$6)","v":""},{"$f":"GetDivB($G18,R$6)","v":""},{"$f":"GetDivB($G18,S$6)","v":""},{"$f":"GetDivB($G18,T$6)","v":""},{"$f":"GetDivB($G18,U$6)","v":""},{"$f":"GetDivB($G18,V$6)","v":""},{"$f":"GetDivB($G18,W$6)","v":""},{"$f":"GetDivB($G18,X$6)","v":""},{"$f":"GetDivB($G18,Y$6)","v":""},{"$f":"GetDivB($G18,Z$6)","v":""},{"$f":"GetDivB($G18,AA$6)","v":""},{"$f":"GetDivB($G18,AB$6)","v":""},{"$f":"GetDivB($G18,AC$6)","v":""},{"$f":"GetDivB($G18,AD$6)","v":""},{"$f":"GetDivB($G18,AE$6)","v":""},{"$f":"GetDivB($G18,AF$6)","v":""},{"$f":"GetDivB($G18,AG$6)","v":""},{"$f":"GetDivB($G18,AH$6)","v":""},{"$f":"GetDivB($G18,AI$6)","v":""},{"$f":"GetDivB($G18,AJ$6)","v":""},{"$f":"GetDivB($G18,AK$6)","v":""}]
[null,null,null,null,{"$f":"IF(C19<>\"\",NETWORKDAYS.INTL(C19,D19,\"0000000\",'自社カレンダー sample'!$A$12:$A$9999),\"\")","v":""},13," ",{"$f":"GetDivB($G19,H$6)","v":""},{"$f":"GetDivB($G19,I$6)","v":""},{"$f":"GetDivB($G19,J$6)","v":""},{"$f":"GetDivB($G19,K$6)","v":""},{"$f":"GetDivB($G19,L$6)","v":""},{"$f":"GetDivB($G19,M$6)","v":""},{"$f":"GetDivB($G19,N$6)","v":""},{"$f":"GetDivB($G19,O$6)","v":""},{"$f":"GetDivB($G19,P$6)","v":""},{"$f":"GetDivB($G19,Q$6)","v":""},{"$f":"GetDivB($G19,R$6)","v":""},{"$f":"GetDivB($G19,S$6)","v":""},{"$f":"GetDivB($G19,T$6)","v":""},{"$f":"GetDivB($G19,U$6)","v":""},{"$f":"GetDivB($G19,V$6)","v":""},{"$f":"GetDivB($G19,W$6)","v":""},{"$f":"GetDivB($G19,X$6)","v":""},{"$f":"GetDivB($G19,Y$6)","v":""},{"$f":"GetDivB($G19,Z$6)","v":""},{"$f":"GetDivB($G19,AA$6)","v":""},{"$f":"GetDivB($G19,AB$6)","v":""},{"$f":"GetDivB($G19,AC$6)","v":""},{"$f":"GetDivB($G19,AD$6)","v":""},{"$f":"GetDivB($G19,AE$6)","v":""},{"$f":"GetDivB($G19,AF$6)","v":""},{"$f":"GetDivB($G19,AG$6)","v":""},{"$f":"GetDivB($G19,AH$6)","v":""},{"$f":"GetDivB($G19,AI$6)","v":""},{"$f":"GetDivB($G19,AJ$6)","v":""},{"$f":"GetDivB($G19,AK$6)","v":""}]
[null,null,null,null,{"$f":"IF(C20<>\"\",NETWORKDAYS.INTL(C20,D20,\"0000000\",'自社カレンダー sample'!$A$12:$A$9999),\"\")","v":""},14," ",{"$f":"GetDivB($G20,H$6)","v":""},{"$f":"GetDivB($G20,I$6)","v":""},{"$f":"GetDivB($G20,J$6)","v":""},{"$f":"GetDivB($G20,K$6)","v":""},{"$f":"GetDivB($G20,L$6)","v":""},{"$f":"GetDivB($G20,M$6)","v":""},{"$f":"GetDivB($G20,N$6)","v":""},{"$f":"GetDivB($G20,O$6)","v":""},{"$f":"GetDivB($G20,P$6)","v":""},{"$f":"GetDivB($G20,Q$6)","v":""},{"$f":"GetDivB($G20,R$6)","v":""},{"$f":"GetDivB($G20,S$6)","v":""},{"$f":"GetDivB($G20,T$6)","v":""},{"$f":"GetDivB($G20,U$6)","v":""},{"$f":"GetDivB($G20,V$6)","v":""},{"$f":"GetDivB($G20,W$6)","v":""},{"$f":"GetDivB($G20,X$6)","v":""},{"$f":"GetDivB($G20,Y$6)","v":""},{"$f":"GetDivB($G20,Z$6)","v":""},{"$f":"GetDivB($G20,AA$6)","v":""},{"$f":"GetDivB($G20,AB$6)","v":""},{"$f":"GetDivB($G20,AC$6)","v":""},{"$f":"GetDivB($G20,AD$6)","v":""},{"$f":"GetDivB($G20,AE$6)","v":""},{"$f":"GetDivB($G20,AF$6)","v":""},{"$f":"GetDivB($G20,AG$6)","v":""},{"$f":"GetDivB($G20,AH$6)","v":""},{"$f":"GetDivB($G20,AI$6)","v":""},{"$f":"GetDivB($G20,AJ$6)","v":""},{"$f":"GetDivB($G20,AK$6)","v":""}]
[null,null,null,null,{"$f":"IF(C21<>\"\",NETWORKDAYS.INTL(C21,D21,\"0000000\",'自社カレンダー sample'!$A$12:$A$9999),\"\")","v":""},15," ",{"$f":"GetDivB($G21,H$6)","v":""},{"$f":"GetDivB($G21,I$6)","v":""},{"$f":"GetDivB($G21,J$6)","v":""},{"$f":"GetDivB($G21,K$6)","v":""},{"$f":"GetDivB($G21,L$6)","v":""},{"$f":"GetDivB($G21,M$6)","v":""},{"$f":"GetDivB($G21,N$6)","v":""},{"$f":"GetDivB($G21,O$6)","v":""},{"$f":"GetDivB($G21,P$6)","v":""},{"$f":"GetDivB($G21,Q$6)","v":""},{"$f":"GetDivB($G21,R$6)","v":""},{"$f":"GetDivB($G21,S$6)","v":""},{"$f":"GetDivB($G21,T$6)","v":""},{"$f":"GetDivB($G21,U$6)","v":""},{"$f":"GetDivB($G21,V$6)","v":""},{"$f":"GetDivB($G21,W$6)","v":""},{"$f":"GetDivB($G21,X$6)","v":""},{"$f":"GetDivB($G21,Y$6)","v":""},{"$f":"GetDivB($G21,Z$6)","v":""},{"$f":"GetDivB($G21,AA$6)","v":""},{"$f":"GetDivB($G21,AB$6)","v":""},{"$f":"GetDivB($G21,AC$6)","v":""},{"$f":"GetDivB($G21,AD$6)","v":""},{"$f":"GetDivB($G21,AE$6)","v":""},{"$f":"GetDivB($G21,AF$6)","v":""},{"$f":"GetDivB($G21,AG$6)","v":""},{"$f":"GetDivB($G21,AH$6)","v":""},{"$f":"GetDivB($G21,AI$6)","v":""},{"$f":"GetDivB($G21,AJ$6)","v":""},{"$f":"GetDivB($G21,AK$6)","v":""}]
[null,null,null,null,{"$f":"IF(C22<>\"\",NETWORKDAYS.INTL(C22,D22,\"0000000\",'自社カレンダー sample'!$A$12:$A$9999),\"\")","v":""}]
[null,null,null,null,{"$f":"IF(C23<>\"\",NETWORKDAYS.INTL(C23,D23,\"0000000\",'自社カレンダー sample'!$A$12:$A$9999),\"\")","v":""}]
[null,null,null,null,{"$f":"IF(C24<>\"\",NETWORKDAYS.INTL(C24,D24,\"0000000\",'自社カレンダー sample'!$A$12:$A$9999),\"\")","v":""},null,{"$f":"B3&\"別\"","v":"区画別"},{"$f":"H6","v":"2021-03-01"},{"$f":"I6","v":"2021-03-02"},"2021-03-03","2021-03-04","2021-03-05","2021-03-06","2021-03-07","2021-03-08","2021-03-09","2021-03-10","2021-03-11","2021-03-12","2021-03-13","2021-03-14","2021-03-15","2021-03-16","2021-03-17","2021-03-18","2021-03-19","2021-03-20","2021-03-21",{"$f":"AC6","v":"2021-03-22"},"2021-03-23","2021-03-24","2021-03-25","2021-03-26","2021-03-27","2021-03-28","2021-03-29","2021-03-30"]
[null,null,null,null,{"$f":"IF(C25<>\"\",NETWORKDAYS.INTL(C25,D25,\"0000000\",'自社カレンダー sample'!$A$12:$A$9999),\"\")","v":""},1,"A",{"$f":"GetDivA($G25,H$24)","v":"123A"},{"$f":"GetDivA($G25,I$24)","v":""},{"$f":"GetDivA($G25,J$24)","v":"456E"},{"$f":"GetDivA($G25,K$24)","v":"456E"},{"$f":"GetDivA($G25,L$24)","v":"456E"},{"$f":"GetDivA($G25,M$24)","v":""},{"$f":"GetDivA($G25,N$24)","v":""},{"$f":"GetDivA($G25,O$24)","v":""},{"$f":"GetDivA($G25,P$24)","v":""},{"$f":"GetDivA($G25,Q$24)","v":""},{"$f":"GetDivA($G25,R$24)","v":""},{"$f":"GetDivA($G25,S$24)","v":""},{"$f":"GetDivA($G25,T$24)","v":""},{"$f":"GetDivA($G25,U$24)","v":""},{"$f":"GetDivA($G25,V$24)","v":""},{"$f":"GetDivA($G25,W$24)","v":""},{"$f":"GetDivA($G25,X$24)","v":""},{"$f":"GetDivA($G25,Y$24)","v":""},{"$f":"GetDivA($G25,Z$24)","v":""},{"$f":"GetDivA($G25,AA$24)","v":""},{"$f":"GetDivA($G25,AB$24)","v":""},{"$f":"GetDivA($G25,AC$24)","v":""},{"$f":"GetDivA($G25,AD$24)","v":""},{"$f":"GetDivA($G25,AE$24)","v":""},{"$f":"GetDivA($G25,AF$24)","v":""},{"$f":"GetDivA($G25,AG$24)","v":""},{"$f":"GetDivA($G25,AH$24)","v":""},{"$f":"GetDivA($G25,AI$24)","v":""},{"$f":"GetDivA($G25,AJ$24)","v":""},{"$f":"GetDivA($G25,AK$24)","v":""}]
[null,null,null,null,{"$f":"IF(C26<>\"\",NETWORKDAYS.INTL(C26,D26,\"0000000\",'自社カレンダー sample'!$A$12:$A$9999),\"\")","v":""},2,"B",{"$f":"GetDivA($G26,H$24)","v":""},{"$f":"GetDivA($G26,I$24)","v":"234B"},{"$f":"GetDivA($G26,J$24)","v":"234B"},{"$f":"GetDivA($G26,K$24)","v":"345D"},{"$f":"GetDivA($G26,L$24)","v":""},{"$f":"GetDivA($G26,M$24)","v":""},{"$f":"GetDivA($G26,N$24)","v":""},{"$f":"GetDivA($G26,O$24)","v":""},{"$f":"GetDivA($G26,P$24)","v":""},{"$f":"GetDivA($G26,Q$24)","v":""},{"$f":"GetDivA($G26,R$24)","v":""},{"$f":"GetDivA($G26,S$24)","v":""},{"$f":"GetDivA($G26,T$24)","v":""},{"$f":"GetDivA($G26,U$24)","v":""},{"$f":"GetDivA($G26,V$24)","v":""},{"$f":"GetDivA($G26,W$24)","v":""},{"$f":"GetDivA($G26,X$24)","v":""},{"$f":"GetDivA($G26,Y$24)","v":""},{"$f":"GetDivA($G26,Z$24)","v":""},{"$f":"GetDivA($G26,AA$24)","v":""},{"$f":"GetDivA($G26,AB$24)","v":""},{"$f":"GetDivA($G26,AC$24)","v":""},{"$f":"GetDivA($G26,AD$24)","v":""},{"$f":"GetDivA($G26,AE$24)","v":""},{"$f":"GetDivA($G26,AF$24)","v":""},{"$f":"GetDivA($G26,AG$24)","v":""},{"$f":"GetDivA($G26,AH$24)","v":""},{"$f":"GetDivA($G26,AI$24)","v":""},{"$f":"GetDivA($G26,AJ$24)","v":""},{"$f":"GetDivA($G26,AK$24)","v":""}]
[null,null,null,null,{"$f":"IF(C27<>\"\",NETWORKDAYS.INTL(C27,D27,\"0000000\",'自社カレンダー sample'!$A$12:$A$9999),\"\")","v":""},3,"C",{"$f":"GetDivA($G27,H$24)","v":""},{"$f":"GetDivA($G27,I$24)","v":""},{"$f":"GetDivA($G27,J$24)","v":"567F"},{"$f":"GetDivA($G27,K$24)","v":"567F"},{"$f":"GetDivA($G27,L$24)","v":"567F"},{"$f":"GetDivA($G27,M$24)","v":""},{"$f":"GetDivA($G27,N$24)","v":""},{"$f":"GetDivA($G27,O$24)","v":""},{"$f":"GetDivA($G27,P$24)","v":""},{"$f":"GetDivA($G27,Q$24)","v":""},{"$f":"GetDivA($G27,R$24)","v":""},{"$f":"GetDivA($G27,S$24)","v":""},{"$f":"GetDivA($G27,T$24)","v":""},{"$f":"GetDivA($G27,U$24)","v":""},{"$f":"GetDivA($G27,V$24)","v":""},{"$f":"GetDivA($G27,W$24)","v":""},{"$f":"GetDivA($G27,X$24)","v":""},{"$f":"GetDivA($G27,Y$24)","v":""},{"$f":"GetDivA($G27,Z$24)","v":""},{"$f":"GetDivA($G27,AA$24)","v":""},{"$f":"GetDivA($G27,AB$24)","v":""},{"$f":"GetDivA($G27,AC$24)","v":""},{"$f":"GetDivA($G27,AD$24)","v":""},{"$f":"GetDivA($G27,AE$24)","v":""},{"$f":"GetDivA($G27,AF$24)","v":""},{"$f":"GetDivA($G27,AG$24)","v":""},{"$f":"GetDivA($G27,AH$24)","v":""},{"$f":"GetDivA($G27,AI$24)","v":""},{"$f":"GetDivA($G27,AJ$24)","v":""},{"$f":"GetDivA($G27,AK$24)","v":""}]
[null,null,null,null,{"$f":"IF(C28<>\"\",NETWORKDAYS.INTL(C28,D28,\"0000000\",'自社カレンダー sample'!$A$12:$A$9999),\"\")","v":""},4," ",{"$f":"GetDivA($G28,H$24)","v":""},{"$f":"GetDivA($G28,I$24)","v":""},{"$f":"GetDivA($G28,J$24)","v":""},{"$f":"GetDivA($G28,K$24)","v":""},{"$f":"GetDivA($G28,L$24)","v":""},{"$f":"GetDivA($G28,M$24)","v":""},{"$f":"GetDivA($G28,N$24)","v":""},{"$f":"GetDivA($G28,O$24)","v":""},{"$f":"GetDivA($G28,P$24)","v":""},{"$f":"GetDivA($G28,Q$24)","v":""},{"$f":"GetDivA($G28,R$24)","v":""},{"$f":"GetDivA($G28,S$24)","v":""},{"$f":"GetDivA($G28,T$24)","v":""},{"$f":"GetDivA($G28,U$24)","v":""},{"$f":"GetDivA($G28,V$24)","v":""},{"$f":"GetDivA($G28,W$24)","v":""},{"$f":"GetDivA($G28,X$24)","v":""},{"$f":"GetDivA($G28,Y$24)","v":""},{"$f":"GetDivA($G28,Z$24)","v":""},{"$f":"GetDivA($G28,AA$24)","v":""},{"$f":"GetDivA($G28,AB$24)","v":""},{"$f":"GetDivA($G28,AC$24)","v":""},{"$f":"GetDivA($G28,AD$24)","v":""},{"$f":"GetDivA($G28,AE$24)","v":""},{"$f":"GetDivA($G28,AF$24)","v":""},{"$f":"GetDivA($G28,AG$24)","v":""},{"$f":"GetDivA($G28,AH$24)","v":""},{"$f":"GetDivA($G28,AI$24)","v":""},{"$f":"GetDivA($G28,AJ$24)","v":""},{"$f":"GetDivA($G28,AK$24)","v":""}]
[null,null,null,null,{"$f":"IF(C29<>\"\",NETWORKDAYS.INTL(C29,D29,\"0000000\",'自社カレンダー sample'!$A$12:$A$9999),\"\")","v":""},5," ",{"$f":"GetDivA($G29,H$24)","v":""},{"$f":"GetDivA($G29,I$24)","v":""},{"$f":"GetDivA($G29,J$24)","v":""},{"$f":"GetDivA($G29,K$24)","v":""},{"$f":"GetDivA($G29,L$24)","v":""},{"$f":"GetDivA($G29,M$24)","v":""},{"$f":"GetDivA($G29,N$24)","v":""},{"$f":"GetDivA($G29,O$24)","v":""},{"$f":"GetDivA($G29,P$24)","v":""},{"$f":"GetDivA($G29,Q$24)","v":""},{"$f":"GetDivA($G29,R$24)","v":""},{"$f":"GetDivA($G29,S$24)","v":""},{"$f":"GetDivA($G29,T$24)","v":""},{"$f":"GetDivA($G29,U$24)","v":""},{"$f":"GetDivA($G29,V$24)","v":""},{"$f":"GetDivA($G29,W$24)","v":""},{"$f":"GetDivA($G29,X$24)","v":""},{"$f":"GetDivA($G29,Y$24)","v":""},{"$f":"GetDivA($G29,Z$24)","v":""},{"$f":"GetDivA($G29,AA$24)","v":""},{"$f":"GetDivA($G29,AB$24)","v":""},{"$f":"GetDivA($G29,AC$24)","v":""},{"$f":"GetDivA($G29,AD$24)","v":""},{"$f":"GetDivA($G29,AE$24)","v":""},{"$f":"GetDivA($G29,AF$24)","v":""},{"$f":"GetDivA($G29,AG$24)","v":""},{"$f":"GetDivA($G29,AH$24)","v":""},{"$f":"GetDivA($G29,AI$24)","v":""},{"$f":"GetDivA($G29,AJ$24)","v":""},{"$f":"GetDivA($G29,AK$24)","v":""}]
[null,null,null,null,{"$f":"IF(C30<>\"\",NETWORKDAYS.INTL(C30,D30,\"0000000\",'自社カレンダー sample'!$A$12:$A$9999),\"\")","v":""},6," ",{"$f":"GetDivA($G30,H$24)","v":""},{"$f":"GetDivA($G30,I$24)","v":""},{"$f":"GetDivA($G30,J$24)","v":""},{"$f":"GetDivA($G30,K$24)","v":""},{"$f":"GetDivA($G30,L$24)","v":""},{"$f":"GetDivA($G30,M$24)","v":""},{"$f":"GetDivA($G30,N$24)","v":""},{"$f":"GetDivA($G30,O$24)","v":""},{"$f":"GetDivA($G30,P$24)","v":""},{"$f":"GetDivA($G30,Q$24)","v":""},{"$f":"GetDivA($G30,R$24)","v":""},{"$f":"GetDivA($G30,S$24)","v":""},{"$f":"GetDivA($G30,T$24)","v":""},{"$f":"GetDivA($G30,U$24)","v":""},{"$f":"GetDivA($G30,V$24)","v":""},{"$f":"GetDivA($G30,W$24)","v":""},{"$f":"GetDivA($G30,X$24)","v":""},{"$f":"GetDivA($G30,Y$24)","v":""},{"$f":"GetDivA($G30,Z$24)","v":""},{"$f":"GetDivA($G30,AA$24)","v":""},{"$f":"GetDivA($G30,AB$24)","v":""},{"$f":"GetDivA($G30,AC$24)","v":""},{"$f":"GetDivA($G30,AD$24)","v":""},{"$f":"GetDivA($G30,AE$24)","v":""},{"$f":"GetDivA($G30,AF$24)","v":""},{"$f":"GetDivA($G30,AG$24)","v":""},{"$f":"GetDivA($G30,AH$24)","v":""},{"$f":"GetDivA($G30,AI$24)","v":""},{"$f":"GetDivA($G30,AJ$24)","v":""},{"$f":"GetDivA($G30,AK$24)","v":""}]
[null,null,null,null,{"$f":"IF(C31<>\"\",NETWORKDAYS.INTL(C31,D31,\"0000000\",'自社カレンダー sample'!$A$12:$A$9999),\"\")","v":""},7," ",{"$f":"GetDivA($G31,H$24)","v":""},{"$f":"GetDivA($G31,I$24)","v":""},{"$f":"GetDivA($G31,J$24)","v":""},{"$f":"GetDivA($G31,K$24)","v":""},{"$f":"GetDivA($G31,L$24)","v":""},{"$f":"GetDivA($G31,M$24)","v":""},{"$f":"GetDivA($G31,N$24)","v":""},{"$f":"GetDivA($G31,O$24)","v":""},{"$f":"GetDivA($G31,P$24)","v":""},{"$f":"GetDivA($G31,Q$24)","v":""},{"$f":"GetDivA($G31,R$24)","v":""},{"$f":"GetDivA($G31,S$24)","v":""},{"$f":"GetDivA($G31,T$24)","v":""},{"$f":"GetDivA($G31,U$24)","v":""},{"$f":"GetDivA($G31,V$24)","v":""},{"$f":"GetDivA($G31,W$24)","v":""},{"$f":"GetDivA($G31,X$24)","v":""},{"$f":"GetDivA($G31,Y$24)","v":""},{"$f":"GetDivA($G31,Z$24)","v":""},{"$f":"GetDivA($G31,AA$24)","v":""},{"$f":"GetDivA($G31,AB$24)","v":""},{"$f":"GetDivA($G31,AC$24)","v":""},{"$f":"GetDivA($G31,AD$24)","v":""},{"$f":"GetDivA($G31,AE$24)","v":""},{"$f":"GetDivA($G31,AF$24)","v":""},{"$f":"GetDivA($G31,AG$24)","v":""},{"$f":"GetDivA($G31,AH$24)","v":""},{"$f":"GetDivA($G31,AI$24)","v":""},{"$f":"GetDivA($G31,AJ$24)","v":""},{"$f":"GetDivA($G31,AK$24)","v":""}]
[null,null,null,null,{"$f":"IF(C32<>\"\",NETWORKDAYS.INTL(C32,D32,\"0000000\",'自社カレンダー sample'!$A$12:$A$9999),\"\")","v":""},8," ",{"$f":"GetDivA($G32,H$24)","v":""},{"$f":"GetDivA($G32,I$24)","v":""},{"$f":"GetDivA($G32,J$24)","v":""},{"$f":"GetDivA($G32,K$24)","v":""},{"$f":"GetDivA($G32,L$24)","v":""},{"$f":"GetDivA($G32,M$24)","v":""},{"$f":"GetDivA($G32,N$24)","v":""},{"$f":"GetDivA($G32,O$24)","v":""},{"$f":"GetDivA($G32,P$24)","v":""},{"$f":"GetDivA($G32,Q$24)","v":""},{"$f":"GetDivA($G32,R$24)","v":""},{"$f":"GetDivA($G32,S$24)","v":""},{"$f":"GetDivA($G32,T$24)","v":""},{"$f":"GetDivA($G32,U$24)","v":""},{"$f":"GetDivA($G32,V$24)","v":""},{"$f":"GetDivA($G32,W$24)","v":""},{"$f":"GetDivA($G32,X$24)","v":""},{"$f":"GetDivA($G32,Y$24)","v":""},{"$f":"GetDivA($G32,Z$24)","v":""},{"$f":"GetDivA($G32,AA$24)","v":""},{"$f":"GetDivA($G32,AB$24)","v":""},{"$f":"GetDivA($G32,AC$24)","v":""},{"$f":"GetDivA($G32,AD$24)","v":""},{"$f":"GetDivA($G32,AE$24)","v":""},{"$f":"GetDivA($G32,AF$24)","v":""},{"$f":"GetDivA($G32,AG$24)","v":""},{"$f":"GetDivA($G32,AH$24)","v":""},{"$f":"GetDivA($G32,AI$24)","v":""},{"$f":"GetDivA($G32,AJ$24)","v":""},{"$f":"GetDivA($G32,AK$24)","v":""}]
[null,null,null,null,{"$f":"IF(C33<>\"\",NETWORKDAYS.INTL(C33,D33,\"0000000\",'自社カレンダー sample'!$A$12:$A$9999),\"\")","v":""},9," ",{"$f":"GetDivA($G33,H$24)","v":""},{"$f":"GetDivA($G33,I$24)","v":""},{"$f":"GetDivA($G33,J$24)","v":""},{"$f":"GetDivA($G33,K$24)","v":""},{"$f":"GetDivA($G33,L$24)","v":""},{"$f":"GetDivA($G33,M$24)","v":""},{"$f":"GetDivA($G33,N$24)","v":""},{"$f":"GetDivA($G33,O$24)","v":""},{"$f":"GetDivA($G33,P$24)","v":""},{"$f":"GetDivA($G33,Q$24)","v":""},{"$f":"GetDivA($G33,R$24)","v":""},{"$f":"GetDivA($G33,S$24)","v":""},{"$f":"GetDivA($G33,T$24)","v":""},{"$f":"GetDivA($G33,U$24)","v":""},{"$f":"GetDivA($G33,V$24)","v":""},{"$f":"GetDivA($G33,W$24)","v":""},{"$f":"GetDivA($G33,X$24)","v":""},{"$f":"GetDivA($G33,Y$24)","v":""},{"$f":"GetDivA($G33,Z$24)","v":""},{"$f":"GetDivA($G33,AA$24)","v":""},{"$f":"GetDivA($G33,AB$24)","v":""},{"$f":"GetDivA($G33,AC$24)","v":""},{"$f":"GetDivA($G33,AD$24)","v":""},{"$f":"GetDivA($G33,AE$24)","v":""},{"$f":"GetDivA($G33,AF$24)","v":""},{"$f":"GetDivA($G33,AG$24)","v":""},{"$f":"GetDivA($G33,AH$24)","v":""},{"$f":"GetDivA($G33,AI$24)","v":""},{"$f":"GetDivA($G33,AJ$24)","v":""},{"$f":"GetDivA($G33,AK$24)","v":""}]
[null,null,null,null,{"$f":"IF(C34<>\"\",NETWORKDAYS.INTL(C34,D34,\"0000000\",'自社カレンダー sample'!$A$12:$A$9999),\"\")","v":""},10," ",{"$f":"GetDivA($G34,H$24)","v":""},{"$f":"GetDivA($G34,I$24)","v":""},{"$f":"GetDivA($G34,J$24)","v":""},{"$f":"GetDivA($G34,K$24)","v":""},{"$f":"GetDivA($G34,L$24)","v":""},{"$f":"GetDivA($G34,M$24)","v":""},{"$f":"GetDivA($G34,N$24)","v":""},{"$f":"GetDivA($G34,O$24)","v":""},{"$f":"GetDivA($G34,P$24)","v":""},{"$f":"GetDivA($G34,Q$24)","v":""},{"$f":"GetDivA($G34,R$24)","v":""},{"$f":"GetDivA($G34,S$24)","v":""},{"$f":"GetDivA($G34,T$24)","v":""},{"$f":"GetDivA($G34,U$24)","v":""},{"$f":"GetDivA($G34,V$24)","v":""},{"$f":"GetDivA($G34,W$24)","v":""},{"$f":"GetDivA($G34,X$24)","v":""},{"$f":"GetDivA($G34,Y$24)","v":""},{"$f":"GetDivA($G34,Z$24)","v":""},{"$f":"GetDivA($G34,AA$24)","v":""},{"$f":"GetDivA($G34,AB$24)","v":""},{"$f":"GetDivA($G34,AC$24)","v":""},{"$f":"GetDivA($G34,AD$24)","v":""},{"$f":"GetDivA($G34,AE$24)","v":""},{"$f":"GetDivA($G34,AF$24)","v":""},{"$f":"GetDivA($G34,AG$24)","v":""},{"$f":"GetDivA($G34,AH$24)","v":""},{"$f":"GetDivA($G34,AI$24)","v":""},{"$f":"GetDivA($G34,AJ$24)","v":""},{"$f":"GetDivA($G34,AK$24)","v":""}]
[null,null,null,null,{"$f":"IF(C35<>\"\",NETWORKDAYS.INTL(C35,D35,\"0000000\",'自社カレンダー sample'!$A$12:$A$9999),\"\")","v":""},11," ",{"$f":"GetDivA($G35,H$24)","v":""},{"$f":"GetDivA($G35,I$24)","v":""},{"$f":"GetDivA($G35,J$24)","v":""},{"$f":"GetDivA($G35,K$24)","v":""},{"$f":"GetDivA($G35,L$24)","v":""},{"$f":"GetDivA($G35,M$24)","v":""},{"$f":"GetDivA($G35,N$24)","v":""},{"$f":"GetDivA($G35,O$24)","v":""},{"$f":"GetDivA($G35,P$24)","v":""},{"$f":"GetDivA($G35,Q$24)","v":""},{"$f":"GetDivA($G35,R$24)","v":""},{"$f":"GetDivA($G35,S$24)","v":""},{"$f":"GetDivA($G35,T$24)","v":""},{"$f":"GetDivA($G35,U$24)","v":""},{"$f":"GetDivA($G35,V$24)","v":""},{"$f":"GetDivA($G35,W$24)","v":""},{"$f":"GetDivA($G35,X$24)","v":""},{"$f":"GetDivA($G35,Y$24)","v":""},{"$f":"GetDivA($G35,Z$24)","v":""},{"$f":"GetDivA($G35,AA$24)","v":""},{"$f":"GetDivA($G35,AB$24)","v":""},{"$f":"GetDivA($G35,AC$24)","v":""},{"$f":"GetDivA($G35,AD$24)","v":""},{"$f":"GetDivA($G35,AE$24)","v":""},{"$f":"GetDivA($G35,AF$24)","v":""},{"$f":"GetDivA($G35,AG$24)","v":""},{"$f":"GetDivA($G35,AH$24)","v":""},{"$f":"GetDivA($G35,AI$24)","v":""},{"$f":"GetDivA($G35,AJ$24)","v":""},{"$f":"GetDivA($G35,AK$24)","v":""}]
[null,null,null,null,{"$f":"IF(C36<>\"\",NETWORKDAYS.INTL(C36,D36,\"0000000\",'自社カレンダー sample'!$A$12:$A$9999),\"\")","v":""},12," ",{"$f":"GetDivA($G36,H$24)","v":""},{"$f":"GetDivA($G36,I$24)","v":""},{"$f":"GetDivA($G36,J$24)","v":""},{"$f":"GetDivA($G36,K$24)","v":""},{"$f":"GetDivA($G36,L$24)","v":""},{"$f":"GetDivA($G36,M$24)","v":""},{"$f":"GetDivA($G36,N$24)","v":""},{"$f":"GetDivA($G36,O$24)","v":""},{"$f":"GetDivA($G36,P$24)","v":""},{"$f":"GetDivA($G36,Q$24)","v":""},{"$f":"GetDivA($G36,R$24)","v":""},{"$f":"GetDivA($G36,S$24)","v":""},{"$f":"GetDivA($G36,T$24)","v":""},{"$f":"GetDivA($G36,U$24)","v":""},{"$f":"GetDivA($G36,V$24)","v":""},{"$f":"GetDivA($G36,W$24)","v":""},{"$f":"GetDivA($G36,X$24)","v":""},{"$f":"GetDivA($G36,Y$24)","v":""},{"$f":"GetDivA($G36,Z$24)","v":""},{"$f":"GetDivA($G36,AA$24)","v":""},{"$f":"GetDivA($G36,AB$24)","v":""},{"$f":"GetDivA($G36,AC$24)","v":""},{"$f":"GetDivA($G36,AD$24)","v":""},{"$f":"GetDivA($G36,AE$24)","v":""},{"$f":"GetDivA($G36,AF$24)","v":""},{"$f":"GetDivA($G36,AG$24)","v":""},{"$f":"GetDivA($G36,AH$24)","v":""},{"$f":"GetDivA($G36,AI$24)","v":""},{"$f":"GetDivA($G36,AJ$24)","v":""},{"$f":"GetDivA($G36,AK$24)","v":""}]
[null,null,null,null,{"$f":"IF(C37<>\"\",NETWORKDAYS.INTL(C37,D37,\"0000000\",'自社カレンダー sample'!$A$12:$A$9999),\"\")","v":""},13," ",{"$f":"GetDivA($G37,H$24)","v":""},{"$f":"GetDivA($G37,I$24)","v":""},{"$f":"GetDivA($G37,J$24)","v":""},{"$f":"GetDivA($G37,K$24)","v":""},{"$f":"GetDivA($G37,L$24)","v":""},{"$f":"GetDivA($G37,M$24)","v":""},{"$f":"GetDivA($G37,N$24)","v":""},{"$f":"GetDivA($G37,O$24)","v":""},{"$f":"GetDivA($G37,P$24)","v":""},{"$f":"GetDivA($G37,Q$24)","v":""},{"$f":"GetDivA($G37,R$24)","v":""},{"$f":"GetDivA($G37,S$24)","v":""},{"$f":"GetDivA($G37,T$24)","v":""},{"$f":"GetDivA($G37,U$24)","v":""},{"$f":"GetDivA($G37,V$24)","v":""},{"$f":"GetDivA($G37,W$24)","v":""},{"$f":"GetDivA($G37,X$24)","v":""},{"$f":"GetDivA($G37,Y$24)","v":""},{"$f":"GetDivA($G37,Z$24)","v":""},{"$f":"GetDivA($G37,AA$24)","v":""},{"$f":"GetDivA($G37,AB$24)","v":""},{"$f":"GetDivA($G37,AC$24)","v":""},{"$f":"GetDivA($G37,AD$24)","v":""},{"$f":"GetDivA($G37,AE$24)","v":""},{"$f":"GetDivA($G37,AF$24)","v":""},{"$f":"GetDivA($G37,AG$24)","v":""},{"$f":"GetDivA($G37,AH$24)","v":""},{"$f":"GetDivA($G37,AI$24)","v":""},{"$f":"GetDivA($G37,AJ$24)","v":""},{"$f":"GetDivA($G37,AK$24)","v":""}]
[null,null,null,null,{"$f":"IF(C38<>\"\",NETWORKDAYS.INTL(C38,D38,\"0000000\",'自社カレンダー sample'!$A$12:$A$9999),\"\")","v":""},14," ",{"$f":"GetDivA($G38,H$24)","v":""},{"$f":"GetDivA($G38,I$24)","v":""},{"$f":"GetDivA($G38,J$24)","v":""},{"$f":"GetDivA($G38,K$24)","v":""},{"$f":"GetDivA($G38,L$24)","v":""},{"$f":"GetDivA($G38,M$24)","v":""},{"$f":"GetDivA($G38,N$24)","v":""},{"$f":"GetDivA($G38,O$24)","v":""},{"$f":"GetDivA($G38,P$24)","v":""},{"$f":"GetDivA($G38,Q$24)","v":""},{"$f":"GetDivA($G38,R$24)","v":""},{"$f":"GetDivA($G38,S$24)","v":""},{"$f":"GetDivA($G38,T$24)","v":""},{"$f":"GetDivA($G38,U$24)","v":""},{"$f":"GetDivA($G38,V$24)","v":""},{"$f":"GetDivA($G38,W$24)","v":""},{"$f":"GetDivA($G38,X$24)","v":""},{"$f":"GetDivA($G38,Y$24)","v":""},{"$f":"GetDivA($G38,Z$24)","v":""},{"$f":"GetDivA($G38,AA$24)","v":""},{"$f":"GetDivA($G38,AB$24)","v":""},{"$f":"GetDivA($G38,AC$24)","v":""},{"$f":"GetDivA($G38,AD$24)","v":""},{"$f":"GetDivA($G38,AE$24)","v":""},{"$f":"GetDivA($G38,AF$24)","v":""},{"$f":"GetDivA($G38,AG$24)","v":""},{"$f":"GetDivA($G38,AH$24)","v":""},{"$f":"GetDivA($G38,AI$24)","v":""},{"$f":"GetDivA($G38,AJ$24)","v":""},{"$f":"GetDivA($G38,AK$24)","v":""}]
[null,null,null,null,{"$f":"IF(C39<>\"\",NETWORKDAYS.INTL(C39,D39,\"0000000\",'自社カレンダー sample'!$A$12:$A$9999),\"\")","v":""},15," ",{"$f":"GetDivA($G39,H$24)","v":""},{"$f":"GetDivA($G39,I$24)","v":""},{"$f":"GetDivA($G39,J$24)","v":""},{"$f":"GetDivA($G39,K$24)","v":""},{"$f":"GetDivA($G39,L$24)","v":""},{"$f":"GetDivA($G39,M$24)","v":""},{"$f":"GetDivA($G39,N$24)","v":""},{"$f":"GetDivA($G39,O$24)","v":""},{"$f":"GetDivA($G39,P$24)","v":""},{"$f":"GetDivA($G39,Q$24)","v":""},{"$f":"GetDivA($G39,R$24)","v":""},{"$f":"GetDivA($G39,S$24)","v":""},{"$f":"GetDivA($G39,T$24)","v":""},{"$f":"GetDivA($G39,U$24)","v":""},{"$f":"GetDivA($G39,V$24)","v":""},{"$f":"GetDivA($G39,W$24)","v":""},{"$f":"GetDivA($G39,X$24)","v":""},{"$f":"GetDivA($G39,Y$24)","v":""},{"$f":"GetDivA($G39,Z$24)","v":""},{"$f":"GetDivA($G39,AA$24)","v":""},{"$f":"GetDivA($G39,AB$24)","v":""},{"$f":"GetDivA($G39,AC$24)","v":""},{"$f":"GetDivA($G39,AD$24)","v":""},{"$f":"GetDivA($G39,AE$24)","v":""},{"$f":"GetDivA($G39,AF$24)","v":""},{"$f":"GetDivA($G39,AG$24)","v":""},{"$f":"GetDivA($G39,AH$24)","v":""},{"$f":"GetDivA($G39,AI$24)","v":""},{"$f":"GetDivA($G39,AJ$24)","v":""},{"$f":"GetDivA($G39,AK$24)","v":""}]
[null,null,null,null,{"$f":"IF(C40<>\"\",NETWORKDAYS.INTL(C40,D40,\"0000000\",'自社カレンダー sample'!$A$12:$A$9999),\"\")","v":""}]
[null,null,null,null,{"$f":"IF(C41<>\"\",NETWORKDAYS.INTL(C41,D41,\"0000000\",'自社カレンダー sample'!$A$12:$A$9999),\"\")","v":""}]
[null,null,null,null,{"$f":"IF(C42<>\"\",NETWORKDAYS.INTL(C42,D42,\"0000000\",'自社カレンダー sample'!$A$12:$A$9999),\"\")","v":""}]
[null,null,null,null,{"$f":"IF(C43<>\"\",NETWORKDAYS.INTL(C43,D43,\"0000000\",'自社カレンダー sample'!$A$12:$A$9999),\"\")","v":""}]
[null,null,null,null,{"$f":"IF(C44<>\"\",NETWORKDAYS.INTL(C44,D44,\"0000000\",'自社カレンダー sample'!$A$12:$A$9999),\"\")","v":""}]
[null,null,null,null,{"$f":"IF(C45<>\"\",NETWORKDAYS.INTL(C45,D45,\"0000000\",'自社カレンダー sample'!$A$12:$A$9999),\"\")","v":""}]
[null,null,null,null,{"$f":"IF(C46<>\"\",NETWORKDAYS.INTL(C46,D46,\"0000000\",'自社カレンダー sample'!$A$12:$A$9999),\"\")","v":""}]
[null,null,null,null,{"$f":"IF(C47<>\"\",NETWORKDAYS.INTL(C47,D47,\"0000000\",'自社カレンダー sample'!$A$12:$A$9999),\"\")","v":""}]
[null,null,null,null,{"$f":"IF(C48<>\"\",NETWORKDAYS.INTL(C48,D48,\"0000000\",'自社カレンダー sample'!$A$12:$A$9999),\"\")","v":""}]
[null,null,null,null,{"$f":"IF(C49<>\"\",NETWORKDAYS.INTL(C49,D49,\"0000000\",'自社カレンダー sample'!$A$12:$A$9999),\"\")","v":""}]
[null,null,null,null,{"$f":"IF(C50<>\"\",NETWORKDAYS.INTL(C50,D50,\"0000000\",'自社カレンダー sample'!$A$12:$A$9999),\"\")","v":""}]
[null,null,null,null,{"$f":"IF(C51<>\"\",NETWORKDAYS.INTL(C51,D51,\"0000000\",'自社カレンダー sample'!$A$12:$A$9999),\"\")","v":""}]
[null,null,null,null,{"$f":"IF(C52<>\"\",NETWORKDAYS.INTL(C52,D52,\"0000000\",'自社カレンダー sample'!$A$12:$A$9999),\"\")","v":""}]
[null,null,null,null,{"$f":"IF(C53<>\"\",NETWORKDAYS.INTL(C53,D53,\"0000000\",'自社カレンダー sample'!$A$12:$A$9999),\"\")","v":""}]
[null,null,null,null,{"$f":"IF(C54<>\"\",NETWORKDAYS.INTL(C54,D54,\"0000000\",'自社カレンダー sample'!$A$12:$A$9999),\"\")","v":""}]
[null,null,null,null,{"$f":"IF(C55<>\"\",NETWORKDAYS.INTL(C55,D55,\"0000000\",'自社カレンダー sample'!$A$12:$A$9999),\"\")","v":""}]
[null,null,null,null,{"$f":"IF(C56<>\"\",NETWORKDAYS.INTL(C56,D56,\"0000000\",'自社カレンダー sample'!$A$12:$A$9999),\"\")","v":""}]
[null,null,null,null,{"$f":"IF(C57<>\"\",NETWORKDAYS.INTL(C57,D57,\"0000000\",'自社カレンダー sample'!$A$12:$A$9999),\"\")","v":""}]
[null,null,null,null,{"$f":"IF(C58<>\"\",NETWORKDAYS.INTL(C58,D58,\"0000000\",'自社カレンダー sample'!$A$12:$A$9999),\"\")","v":""}]
[null,null,null,null,{"$f":"IF(C59<>\"\",NETWORKDAYS.INTL(C59,D59,\"0000000\",'自社カレンダー sample'!$A$12:$A$9999),\"\")","v":""}]
[null,null,null,null,{"$f":"IF(C60<>\"\",NETWORKDAYS.INTL(C60,D60,\"0000000\",'自社カレンダー sample'!$A$12:$A$9999),\"\")","v":""}]
[null,null,null,null,{"$f":"IF(C61<>\"\",NETWORKDAYS.INTL(C61,D61,\"0000000\",'自社カレンダー sample'!$A$12:$A$9999),\"\")","v":""}]
[null,null,null,null,{"$f":"IF(C62<>\"\",NETWORKDAYS.INTL(C62,D62,\"0000000\",'自社カレンダー sample'!$A$12:$A$9999),\"\")","v":""}]
[null,null,null,null,{"$f":"IF(C63<>\"\",NETWORKDAYS.INTL(C63,D63,\"0000000\",'自社カレンダー sample'!$A$12:$A$9999),\"\")","v":""}]
[null,null,null,null,{"$f":"IF(C64<>\"\",NETWORKDAYS.INTL(C64,D64,\"0000000\",'自社カレンダー sample'!$A$12:$A$9999),\"\")","v":""}]
[null,null,null,null,{"$f":"IF(C65<>\"\",NETWORKDAYS.INTL(C65,D65,\"0000000\",'自社カレンダー sample'!$A$12:$A$9999),\"\")","v":""}]
[null,null,null,null,{"$f":"IF(C66<>\"\",NETWORKDAYS.INTL(C66,D66,\"0000000\",'自社カレンダー sample'!$A$12:$A$9999),\"\")","v":""}]
[null,null,null,null,{"$f":"IF(C67<>\"\",NETWORKDAYS.INTL(C67,D67,\"0000000\",'自社カレンダー sample'!$A$12:$A$9999),\"\")","v":""}]
[null,null,null,null,{"$f":"IF(C68<>\"\",NETWORKDAYS.INTL(C68,D68,\"0000000\",'自社カレンダー sample'!$A$12:$A$9999),\"\")","v":""}]
[null,null,null,null,{"$f":"IF(C69<>\"\",NETWORKDAYS.INTL(C69,D69,\"0000000\",'自社カレンダー sample'!$A$12:$A$9999),\"\")","v":""}]
[null,null,null,null,{"$f":"IF(C70<>\"\",NETWORKDAYS.INTL(C70,D70,\"0000000\",'自社カレンダー sample'!$A$12:$A$9999),\"\")","v":""}]
[null,null,null,null,{"$f":"IF(C71<>\"\",NETWORKDAYS.INTL(C71,D71,\"0000000\",'自社カレンダー sample'!$A$12:$A$9999),\"\")","v":""}]
[null,null,null,null,{"$f":"IF(C72<>\"\",NETWORKDAYS.INTL(C72,D72,\"0000000\",'自社カレンダー sample'!$A$12:$A$9999),\"\")","v":""}]
[null,null,null,null,{"$f":"IF(C73<>\"\",NETWORKDAYS.INTL(C73,D73,\"0000000\",'自社カレンダー sample'!$A$12:$A$9999),\"\")","v":""}]
[null,null,null,null,{"$f":"IF(C74<>\"\",NETWORKDAYS.INTL(C74,D74,\"0000000\",'自社カレンダー sample'!$A$12:$A$9999),\"\")","v":""}]
[null,null,null,null,{"$f":"IF(C75<>\"\",NETWORKDAYS.INTL(C75,D75,\"0000000\",'自社カレンダー sample'!$A$12:$A$9999),\"\")","v":""}]
[null,null,null,null,{"$f":"IF(C76<>\"\",NETWORKDAYS.INTL(C76,D76,\"0000000\",'自社カレンダー sample'!$A$12:$A$9999),\"\")","v":""}]
[null,null,null,null,{"$f":"IF(C77<>\"\",NETWORKDAYS.INTL(C77,D77,\"0000000\",'自社カレンダー sample'!$A$12:$A$9999),\"\")","v":""}]
[null,null,null,null,{"$f":"IF(C78<>\"\",NETWORKDAYS.INTL(C78,D78,\"0000000\",'自社カレンダー sample'!$A$12:$A$9999),\"\")","v":""}]
[null,null,null,null,{"$f":"IF(C79<>\"\",NETWORKDAYS.INTL(C79,D79,\"0000000\",'自社カレンダー sample'!$A$12:$A$9999),\"\")","v":""}]
[null,null,null,null,{"$f":"IF(C80<>\"\",NETWORKDAYS.INTL(C80,D80,\"0000000\",'自社カレンダー sample'!$A$12:$A$9999),\"\")","v":""}]
[null,null,null,null,{"$f":"IF(C81<>\"\",NETWORKDAYS.INTL(C81,D81,\"0000000\",'自社カレンダー sample'!$A$12:$A$9999),\"\")","v":""}]
[null,null,null,null,{"$f":"IF(C82<>\"\",NETWORKDAYS.INTL(C82,D82,\"0000000\",'自社カレンダー sample'!$A$12:$A$9999),\"\")","v":""}]
[null,null,null,null,{"$f":"IF(C83<>\"\",NETWORKDAYS.INTL(C83,D83,\"0000000\",'自社カレンダー sample'!$A$12:$A$9999),\"\")","v":""}]
[null,null,null,null,{"$f":"IF(C84<>\"\",NETWORKDAYS.INTL(C84,D84,\"0000000\",'自社カレンダー sample'!$A$12:$A$9999),\"\")","v":""}]
[null,null,null,null,{"$f":"IF(C85<>\"\",NETWORKDAYS.INTL(C85,D85,\"0000000\",'自社カレンダー sample'!$A$12:$A$9999),\"\")","v":""}]
[null,null,null,null,{"$f":"IF(C86<>\"\",NETWORKDAYS.INTL(C86,D86,\"0000000\",'自社カレンダー sample'!$A$12:$A$9999),\"\")","v":""}]
[null,null,null,null,{"$f":"IF(C87<>\"\",NETWORKDAYS.INTL(C87,D87,\"0000000\",'自社カレンダー sample'!$A$12:$A$9999),\"\")","v":""}]
[null,null,null,null,{"$f":"IF(C88<>\"\",NETWORKDAYS.INTL(C88,D88,\"0000000\",'自社カレンダー sample'!$A$12:$A$9999),\"\")","v":""}]
[null,null,null,null,{"$f":"IF(C89<>\"\",NETWORKDAYS.INTL(C89,D89,\"0000000\",'自社カレンダー sample'!$A$12:$A$9999),\"\")","v":""}]
[null,null,null,null,{"$f":"IF(C90<>\"\",NETWORKDAYS.INTL(C90,D90,\"0000000\",'自社カレンダー sample'!$A$12:$A$9999),\"\")","v":""}]
[null,null,null,null,{"$f":"IF(C91<>\"\",NETWORKDAYS.INTL(C91,D91,\"0000000\",'自社カレンダー sample'!$A$12:$A$9999),\"\")","v":""}]
[null,null,null,null,{"$f":"IF(C92<>\"\",NETWORKDAYS.INTL(C92,D92,\"0000000\",'自社カレンダー sample'!$A$12:$A$9999),\"\")","v":""}]
[null,null,null,null,{"$f":"IF(C93<>\"\",NETWORKDAYS.INTL(C93,D93,\"0000000\",'自社カレンダー sample'!$A$12:$A$9999),\"\")","v":""}]
[null,null,null,null,{"$f":"IF(C94<>\"\",NETWORKDAYS.INTL(C94,D94,\"0000000\",'自社カレンダー sample'!$A$12:$A$9999),\"\")","v":""}]
[null,null,null,null,{"$f":"IF(C95<>\"\",NETWORKDAYS.INTL(C95,D95,\"0000000\",'自社カレンダー sample'!$A$12:$A$9999),\"\")","v":""}]
[null,null,null,null,{"$f":"IF(C96<>\"\",NETWORKDAYS.INTL(C96,D96,\"0000000\",'自社カレンダー sample'!$A$12:$A$9999),\"\")","v":""}]
[null,null,null,null,{"$f":"IF(C97<>\"\",NETWORKDAYS.INTL(C97,D97,\"0000000\",'自社カレンダー sample'!$A$12:$A$9999),\"\")","v":""}]
[null,null,null,null,{"$f":"IF(C98<>\"\",NETWORKDAYS.INTL(C98,D98,\"0000000\",'自社カレンダー sample'!$A$12:$A$9999),\"\")","v":""}]
[null,null,null,null,{"$f":"IF(C99<>\"\",NETWORKDAYS.INTL(C99,D99,\"0000000\",'自社カレンダー sample'!$A$12:$A$9999),\"\")","v":""}]
[null,null,null,null,{"$f":"IF(C100<>\"\",NETWORKDAYS.INTL(C100,D100,\"0000000\",'自社カレンダー sample'!$A$12:$A$9999),\"\")","v":""}]
[null,null,null,null,{"$f":"IF(C101<>\"\",NETWORKDAYS.INTL(C101,D101,\"0000000\",'自社カレンダー sample'!$A$12:$A$9999),\"\")","v":""}]
[null,null,null,null,{"$f":"IF(C102<>\"\",NETWORKDAYS.INTL(C102,D102,\"0000000\",'自社カレンダー sample'!$A$12:$A$9999),\"\")","v":""}]
[null,null,null,null,{"$f":"IF(C103<>\"\",NETWORKDAYS.INTL(C103,D103,\"0000000\",'自社カレンダー sample'!$A$12:$A$9999),\"\")","v":""}]
[null,null,null,null,{"$f":"IF(C104<>\"\",NETWORKDAYS.INTL(C104,D104,\"0000000\",'自社カレンダー sample'!$A$12:$A$9999),\"\")","v":""}]
[null,null,null,null,{"$f":"IF(C105<>\"\",NETWORKDAYS.INTL(C105,D105,\"0000000\",'自社カレンダー sample'!$A$12:$A$9999),\"\")","v":""}]
[null,null,null,null,{"$f":"IF(C106<>\"\",NETWORKDAYS.INTL(C106,D106,\"0000000\",'自社カレンダー sample'!$A$12:$A$9999),\"\")","v":""}]
[null,null,null,null,{"$f":"IF(C107<>\"\",NETWORKDAYS.INTL(C107,D107,\"0000000\",'自社カレンダー sample'!$A$12:$A$9999),\"\")","v":""}]
[null,null,null,null,{"$f":"IF(C108<>\"\",NETWORKDAYS.INTL(C108,D108,\"0000000\",'自社カレンダー sample'!$A$12:$A$9999),\"\")","v":""}]
[null,null,null,null,{"$f":"IF(C109<>\"\",NETWORKDAYS.INTL(C109,D109,\"0000000\",'自社カレンダー sample'!$A$12:$A$9999),\"\")","v":""}]
[null,null,null,null,{"$f":"IF(C110<>\"\",NETWORKDAYS.INTL(C110,D110,\"0000000\",'自社カレンダー sample'!$A$12:$A$9999),\"\")","v":""}]
[null,null,null,null,{"$f":"IF(C111<>\"\",NETWORKDAYS.INTL(C111,D111,\"0000000\",'自社カレンダー sample'!$A$12:$A$9999),\"\")","v":""}]
[null,null,null,null,{"$f":"IF(C112<>\"\",NETWORKDAYS.INTL(C112,D112,\"0000000\",'自社カレンダー sample'!$A$12:$A$9999),\"\")","v":""}]
[null,null,null,null,{"$f":"IF(C113<>\"\",NETWORKDAYS.INTL(C113,D113,\"0000000\",'自社カレンダー sample'!$A$12:$A$9999),\"\")","v":""}]
[null,null,null,null,{"$f":"IF(C114<>\"\",NETWORKDAYS.INTL(C114,D114,\"0000000\",'自社カレンダー sample'!$A$12:$A$9999),\"\")","v":""}]
[null,null,null,null,{"$f":"IF(C115<>\"\",NETWORKDAYS.INTL(C115,D115,\"0000000\",'自社カレンダー sample'!$A$12:$A$9999),\"\")","v":""}]
[null,null,null,null,{"$f":"IF(C116<>\"\",NETWORKDAYS.INTL(C116,D116,\"0000000\",'自社カレンダー sample'!$A$12:$A$9999),\"\")","v":""}]
[null,null,null,null,{"$f":"IF(C117<>\"\",NETWORKDAYS.INTL(C117,D117,\"0000000\",'自社カレンダー sample'!$A$12:$A$9999),\"\")","v":""}]
[null,null,null,null,{"$f":"IF(C118<>\"\",NETWORKDAYS.INTL(C118,D118,\"0000000\",'自社カレンダー sample'!$A$12:$A$9999),\"\")","v":""}]
[null,null,null,null,{"$f":"IF(C119<>\"\",NETWORKDAYS.INTL(C119,D119,\"0000000\",'自社カレンダー sample'!$A$12:$A$9999),\"\")","v":""}]
[null,null,null,null,{"$f":"IF(C120<>\"\",NETWORKDAYS.INTL(C120,D120,\"0000000\",'自社カレンダー sample'!$A$12:$A$9999),\"\")","v":""}]
[null,null,null,null,{"$f":"IF(C121<>\"\",NETWORKDAYS.INTL(C121,D121,\"0000000\",'自社カレンダー sample'!$A$12:$A$9999),\"\")","v":""}]
[null,null,null,null,{"$f":"IF(C122<>\"\",NETWORKDAYS.INTL(C122,D122,\"0000000\",'自社カレンダー sample'!$A$12:$A$9999),\"\")","v":""}]
[null,null,null,null,{"$f":"IF(C123<>\"\",NETWORKDAYS.INTL(C123,D123,\"0000000\",'自社カレンダー sample'!$A$12:$A$9999),\"\")","v":""}]
[null,null,null,null,{"$f":"IF(C124<>\"\",NETWORKDAYS.INTL(C124,D124,\"0000000\",'自社カレンダー sample'!$A$12:$A$9999),\"\")","v":""}]
[null,null,null,null,{"$f":"IF(C125<>\"\",NETWORKDAYS.INTL(C125,D125,\"0000000\",'自社カレンダー sample'!$A$12:$A$9999),\"\")","v":""}]
[null,null,null,null,{"$f":"IF(C126<>\"\",NETWORKDAYS.INTL(C126,D126,\"0000000\",'自社カレンダー sample'!$A$12:$A$9999),\"\")","v":""}]
[null,null,null,null,{"$f":"IF(C127<>\"\",NETWORKDAYS.INTL(C127,D127,\"0000000\",'自社カレンダー sample'!$A$12:$A$9999),\"\")","v":""}]
[null,null,null,null,{"$f":"IF(C128<>\"\",NETWORKDAYS.INTL(C128,D128,\"0000000\",'自社カレンダー sample'!$A$12:$A$9999),\"\")","v":""}]
[null,null,null,null,{"$f":"IF(C129<>\"\",NETWORKDAYS.INTL(C129,D129,\"0000000\",'自社カレンダー sample'!$A$12:$A$9999),\"\")","v":""}]
[null,null,null,null,{"$f":"IF(C130<>\"\",NETWORKDAYS.INTL(C130,D130,\"0000000\",'自社カレンダー sample'!$A$12:$A$9999),\"\")","v":""}]
[null,null,null,null,{"$f":"IF(C131<>\"\",NETWORKDAYS.INTL(C131,D131,\"0000000\",'自社カレンダー sample'!$A$12:$A$9999),\"\")","v":""}]
[null,null,null,null,{"$f":"IF(C132<>\"\",NETWORKDAYS.INTL(C132,D132,\"0000000\",'自社カレンダー sample'!$A$12:$A$9999),\"\")","v":""}]
[null,null,null,null,{"$f":"IF(C133<>\"\",NETWORKDAYS.INTL(C133,D133,\"0000000\",'自社カレンダー sample'!$A$12:$A$9999),\"\")","v":""}]
[null,null,null,null,{"$f":"IF(C134<>\"\",NETWORKDAYS.INTL(C134,D134,\"0000000\",'自社カレンダー sample'!$A$12:$A$9999),\"\")","v":""}]
[null,null,null,null,{"$f":"IF(C135<>\"\",NETWORKDAYS.INTL(C135,D135,\"0000000\",'自社カレンダー sample'!$A$12:$A$9999),\"\")","v":""}]
[null,null,null,null,{"$f":"IF(C136<>\"\",NETWORKDAYS.INTL(C136,D136,\"0000000\",'自社カレンダー sample'!$A$12:$A$9999),\"\")","v":""}]
[null,null,null,null,{"$f":"IF(C137<>\"\",NETWORKDAYS.INTL(C137,D137,\"0000000\",'自社カレンダー sample'!$A$12:$A$9999),\"\")","v":""}]
[null,null,null,null,{"$f":"IF(C138<>\"\",NETWORKDAYS.INTL(C138,D138,\"0000000\",'自社カレンダー sample'!$A$12:$A$9999),\"\")","v":""}]
[null,null,null,null,{"$f":"IF(C139<>\"\",NETWORKDAYS.INTL(C139,D139,\"0000000\",'自社カレンダー sample'!$A$12:$A$9999),\"\")","v":""}]
[null,null,null,null,{"$f":"IF(C140<>\"\",NETWORKDAYS.INTL(C140,D140,\"0000000\",'自社カレンダー sample'!$A$12:$A$9999),\"\")","v":""}]
[null,null,null,null,{"$f":"IF(C141<>\"\",NETWORKDAYS.INTL(C141,D141,\"0000000\",'自社カレンダー sample'!$A$12:$A$9999),\"\")","v":""}]
[null,null,null,null,{"$f":"IF(C142<>\"\",NETWORKDAYS.INTL(C142,D142,\"0000000\",'自社カレンダー sample'!$A$12:$A$9999),\"\")","v":""}]
[null,null,null,null,{"$f":"IF(C143<>\"\",NETWORKDAYS.INTL(C143,D143,\"0000000\",'自社カレンダー sample'!$A$12:$A$9999),\"\")","v":""}]
[null,null,null,null,{"$f":"IF(C144<>\"\",NETWORKDAYS.INTL(C144,D144,\"0000000\",'自社カレンダー sample'!$A$12:$A$9999),\"\")","v":""}]
[null,null,null,null,{"$f":"IF(C145<>\"\",NETWORKDAYS.INTL(C145,D145,\"0000000\",'自社カレンダー sample'!$A$12:$A$9999),\"\")","v":""}]
[null,null,null,null,{"$f":"IF(C146<>\"\",NETWORKDAYS.INTL(C146,D146,\"0000000\",'自社カレンダー sample'!$A$12:$A$9999),\"\")","v":""}]
[null,null,null,null,{"$f":"IF(C147<>\"\",NETWORKDAYS.INTL(C147,D147,\"0000000\",'自社カレンダー sample'!$A$12:$A$9999),\"\")","v":""}]
[null,null,null,null,{"$f":"IF(C148<>\"\",NETWORKDAYS.INTL(C148,D148,\"0000000\",'自社カレンダー sample'!$A$12:$A$9999),\"\")","v":""}]
[null,null,null,null,{"$f":"IF(C149<>\"\",NETWORKDAYS.INTL(C149,D149,\"0000000\",'自社カレンダー sample'!$A$12:$A$9999),\"\")","v":""}]
[null,null,null,null,{"$f":"IF(C150<>\"\",NETWORKDAYS.INTL(C150,D150,\"0000000\",'自社カレンダー sample'!$A$12:$A$9999),\"\")","v":""}]
[null,null,null,null,{"$f":"IF(C151<>\"\",NETWORKDAYS.INTL(C151,D151,\"0000000\",'自社カレンダー sample'!$A$12:$A$9999),\"\")","v":""}]
[null,null,null,null,{"$f":"IF(C152<>\"\",NETWORKDAYS.INTL(C152,D152,\"0000000\",'自社カレンダー sample'!$A$12:$A$9999),\"\")","v":""}]
[null,null,null,null,{"$f":"IF(C153<>\"\",NETWORKDAYS.INTL(C153,D153,\"0000000\",'自社カレンダー sample'!$A$12:$A$9999),\"\")","v":""}]
[null,null,null,null,{"$f":"IF(C154<>\"\",NETWORKDAYS.INTL(C154,D154,\"0000000\",'自社カレンダー sample'!$A$12:$A$9999),\"\")","v":""}]
[null,null,null,null,{"$f":"IF(C155<>\"\",NETWORKDAYS.INTL(C155,D155,\"0000000\",'自社カレンダー sample'!$A$12:$A$9999),\"\")","v":""}]
[null,null,null,null,{"$f":"IF(C156<>\"\",NETWORKDAYS.INTL(C156,D156,\"0000000\",'自社カレンダー sample'!$A$12:$A$9999),\"\")","v":""}]
[null,null,null,null,{"$f":"IF(C157<>\"\",NETWORKDAYS.INTL(C157,D157,\"0000000\",'自社カレンダー sample'!$A$12:$A$9999),\"\")","v":""}]
[null,null,null,null,{"$f":"IF(C158<>\"\",NETWORKDAYS.INTL(C158,D158,\"0000000\",'自社カレンダー sample'!$A$12:$A$9999),\"\")","v":""}]
[null,null,null,null,{"$f":"IF(C159<>\"\",NETWORKDAYS.INTL(C159,D159,\"0000000\",'自社カレンダー sample'!$A$12:$A$9999),\"\")","v":""}]
[null,null,null,null,{"$f":"IF(C160<>\"\",NETWORKDAYS.INTL(C160,D160,\"0000000\",'自社カレンダー sample'!$A$12:$A$9999),\"\")","v":""}]
[null,null,null,null,{"$f":"IF(C161<>\"\",NETWORKDAYS.INTL(C161,D161,\"0000000\",'自社カレンダー sample'!$A$12:$A$9999),\"\")","v":""}]
[null,null,null,null,{"$f":"IF(C162<>\"\",NETWORKDAYS.INTL(C162,D162,\"0000000\",'自社カレンダー sample'!$A$12:$A$9999),\"\")","v":""}]
[null,null,null,null,{"$f":"IF(C163<>\"\",NETWORKDAYS.INTL(C163,D163,\"0000000\",'自社カレンダー sample'!$A$12:$A$9999),\"\")","v":""}]
[null,null,null,null,{"$f":"IF(C164<>\"\",NETWORKDAYS.INTL(C164,D164,\"0000000\",'自社カレンダー sample'!$A$12:$A$9999),\"\")","v":""}]
[null,null,null,null,{"$f":"IF(C165<>\"\",NETWORKDAYS.INTL(C165,D165,\"0000000\",'自社カレンダー sample'!$A$12:$A$9999),\"\")","v":""}]
[null,null,null,null,{"$f":"IF(C166<>\"\",NETWORKDAYS.INTL(C166,D166,\"0000000\",'自社カレンダー sample'!$A$12:$A$9999),\"\")","v":""}]
[null,null,null,null,{"$f":"IF(C167<>\"\",NETWORKDAYS.INTL(C167,D167,\"0000000\",'自社カレンダー sample'!$A$12:$A$9999),\"\")","v":""}]
[null,null,null,null,{"$f":"IF(C168<>\"\",NETWORKDAYS.INTL(C168,D168,\"0000000\",'自社カレンダー sample'!$A$12:$A$9999),\"\")","v":""}]
[null,null,null,null,{"$f":"IF(C169<>\"\",NETWORKDAYS.INTL(C169,D169,\"0000000\",'自社カレンダー sample'!$A$12:$A$9999),\"\")","v":""}]
[null,null,null,null,{"$f":"IF(C170<>\"\",NETWORKDAYS.INTL(C170,D170,\"0000000\",'自社カレンダー sample'!$A$12:$A$9999),\"\")","v":""}]
[null,null,null,null,{"$f":"IF(C171<>\"\",NETWORKDAYS.INTL(C171,D171,\"0000000\",'自社カレンダー sample'!$A$12:$A$9999),\"\")","v":""}]
[null,null,null,null,{"$f":"IF(C172<>\"\",NETWORKDAYS.INTL(C172,D172,\"0000000\",'自社カレンダー sample'!$A$12:$A$9999),\"\")","v":""}]
[null,null,null,null,{"$f":"IF(C173<>\"\",NETWORKDAYS.INTL(C173,D173,\"0000000\",'自社カレンダー sample'!$A$12:$A$9999),\"\")","v":""}]
[null,null,null,null,{"$f":"IF(C174<>\"\",NETWORKDAYS.INTL(C174,D174,\"0000000\",'自社カレンダー sample'!$A$12:$A$9999),\"\")","v":""}]
[null,null,null,null,{"$f":"IF(C175<>\"\",NETWORKDAYS.INTL(C175,D175,\"0000000\",'自社カレンダー sample'!$A$12:$A$9999),\"\")","v":""}]
[null,null,null,null,{"$f":"IF(C176<>\"\",NETWORKDAYS.INTL(C176,D176,\"0000000\",'自社カレンダー sample'!$A$12:$A$9999),\"\")","v":""}]
[null,null,null,null,{"$f":"IF(C177<>\"\",NETWORKDAYS.INTL(C177,D177,\"0000000\",'自社カレンダー sample'!$A$12:$A$9999),\"\")","v":""}]
[null,null,null,null,{"$f":"IF(C178<>\"\",NETWORKDAYS.INTL(C178,D178,\"0000000\",'自社カレンダー sample'!$A$12:$A$9999),\"\")","v":""}]
[null,null,null,null,{"$f":"IF(C179<>\"\",NETWORKDAYS.INTL(C179,D179,\"0000000\",'自社カレンダー sample'!$A$12:$A$9999),\"\")","v":""}]
[null,null,null,null,{"$f":"IF(C180<>\"\",NETWORKDAYS.INTL(C180,D180,\"0000000\",'自社カレンダー sample'!$A$12:$A$9999),\"\")","v":""}]
[null,null,null,null,{"$f":"IF(C181<>\"\",NETWORKDAYS.INTL(C181,D181,\"0000000\",'自社カレンダー sample'!$A$12:$A$9999),\"\")","v":""}]
[null,null,null,null,{"$f":"IF(C182<>\"\",NETWORKDAYS.INTL(C182,D182,\"0000000\",'自社カレンダー sample'!$A$12:$A$9999),\"\")","v":""}]
[null,null,null,null,{"$f":"IF(C183<>\"\",NETWORKDAYS.INTL(C183,D183,\"0000000\",'自社カレンダー sample'!$A$12:$A$9999),\"\")","v":""}]
[null,null,null,null,{"$f":"IF(C184<>\"\",NETWORKDAYS.INTL(C184,D184,\"0000000\",'自社カレンダー sample'!$A$12:$A$9999),\"\")","v":""}]
[null,null,null,null,{"$f":"IF(C185<>\"\",NETWORKDAYS.INTL(C185,D185,\"0000000\",'自社カレンダー sample'!$A$12:$A$9999),\"\")","v":""}]
[null,null,null,null,{"$f":"IF(C186<>\"\",NETWORKDAYS.INTL(C186,D186,\"0000000\",'自社カレンダー sample'!$A$12:$A$9999),\"\")","v":""}]
[null,null,null,null,{"$f":"IF(C187<>\"\",NETWORKDAYS.INTL(C187,D187,\"0000000\",'自社カレンダー sample'!$A$12:$A$9999),\"\")","v":""}]
[null,null,null,null,{"$f":"IF(C188<>\"\",NETWORKDAYS.INTL(C188,D188,\"0000000\",'自社カレンダー sample'!$A$12:$A$9999),\"\")","v":""}]
[null,null,null,null,{"$f":"IF(C189<>\"\",NETWORKDAYS.INTL(C189,D189,\"0000000\",'自社カレンダー sample'!$A$12:$A$9999),\"\")","v":""}]
[null,null,null,null,{"$f":"IF(C190<>\"\",NETWORKDAYS.INTL(C190,D190,\"0000000\",'自社カレンダー sample'!$A$12:$A$9999),\"\")","v":""}]
[null,null,null,null,{"$f":"IF(C191<>\"\",NETWORKDAYS.INTL(C191,D191,\"0000000\",'自社カレンダー sample'!$A$12:$A$9999),\"\")","v":""}]
[null,null,null,null,{"$f":"IF(C192<>\"\",NETWORKDAYS.INTL(C192,D192,\"0000000\",'自社カレンダー sample'!$A$12:$A$9999),\"\")","v":""}]
[null,null,null,null,{"$f":"IF(C193<>\"\",NETWORKDAYS.INTL(C193,D193,\"0000000\",'自社カレンダー sample'!$A$12:$A$9999),\"\")","v":""}]
[null,null,null,null,{"$f":"IF(C194<>\"\",NETWORKDAYS.INTL(C194,D194,\"0000000\",'自社カレンダー sample'!$A$12:$A$9999),\"\")","v":""}]
[null,null,null,null,{"$f":"IF(C195<>\"\",NETWORKDAYS.INTL(C195,D195,\"0000000\",'自社カレンダー sample'!$A$12:$A$9999),\"\")","v":""}]
[null,null,null,null,{"$f":"IF(C196<>\"\",NETWORKDAYS.INTL(C196,D196,\"0000000\",'自社カレンダー sample'!$A$12:$A$9999),\"\")","v":""}]
[null,null,null,null,{"$f":"IF(C197<>\"\",NETWORKDAYS.INTL(C197,D197,\"0000000\",'自社カレンダー sample'!$A$12:$A$9999),\"\")","v":""}]
[null,null,null,null,{"$f":"IF(C198<>\"\",NETWORKDAYS.INTL(C198,D198,\"0000000\",'自社カレンダー sample'!$A$12:$A$9999),\"\")","v":""}]
[null,null,null,null,{"$f":"IF(C199<>\"\",NETWORKDAYS.INTL(C199,D199,\"0000000\",'自社カレンダー sample'!$A$12:$A$9999),\"\")","v":""}]
[null,null,null,null,{"$f":"IF(C200<>\"\",NETWORKDAYS.INTL(C200,D200,\"0000000\",'自社カレンダー sample'!$A$12:$A$9999),\"\")","v":""}]
[null,null,null,null,{"$f":"IF(C201<>\"\",NETWORKDAYS.INTL(C201,D201,\"0000000\",'自社カレンダー sample'!$A$12:$A$9999),\"\")","v":""}]
[null,null,null,null,{"$f":"IF(C202<>\"\",NETWORKDAYS.INTL(C202,D202,\"0000000\",'自社カレンダー sample'!$A$12:$A$9999),\"\")","v":""}]
[null,null,null,null,{"$f":"IF(C203<>\"\",NETWORKDAYS.INTL(C203,D203,\"0000000\",'自社カレンダー sample'!$A$12:$A$9999),\"\")","v":""}]
[null,null,null,null,{"$f":"IF(C204<>\"\",NETWORKDAYS.INTL(C204,D204,\"0000000\",'自社カレンダー sample'!$A$12:$A$9999),\"\")","v":""}]
[null,null,null,null,{"$f":"IF(C205<>\"\",NETWORKDAYS.INTL(C205,D205,\"0000000\",'自社カレンダー sample'!$A$12:$A$9999),\"\")","v":""}]
[null,null,null,null,{"$f":"IF(C206<>\"\",NETWORKDAYS.INTL(C206,D206,\"0000000\",'自社カレンダー sample'!$A$12:$A$9999),\"\")","v":""}]
[null,null,null,null,{"$f":"IF(C207<>\"\",NETWORKDAYS.INTL(C207,D207,\"0000000\",'自社カレンダー sample'!$A$12:$A$9999),\"\")","v":""}]
[null,null,null,null,{"$f":"IF(C208<>\"\",NETWORKDAYS.INTL(C208,D208,\"0000000\",'自社カレンダー sample'!$A$12:$A$9999),\"\")","v":""}]
[null,null,null,null,{"$f":"IF(C209<>\"\",NETWORKDAYS.INTL(C209,D209,\"0000000\",'自社カレンダー sample'!$A$12:$A$9999),\"\")","v":""}]
[null,null,null,null,{"$f":"IF(C210<>\"\",NETWORKDAYS.INTL(C210,D210,\"0000000\",'自社カレンダー sample'!$A$12:$A$9999),\"\")","v":""}]
[null,null,null,null,{"$f":"IF(C211<>\"\",NETWORKDAYS.INTL(C211,D211,\"0000000\",'自社カレンダー sample'!$A$12:$A$9999),\"\")","v":""}]
[null,null,null,null,{"$f":"IF(C212<>\"\",NETWORKDAYS.INTL(C212,D212,\"0000000\",'自社カレンダー sample'!$A$12:$A$9999),\"\")","v":""}]
[null,null,null,null,{"$f":"IF(C213<>\"\",NETWORKDAYS.INTL(C213,D213,\"0000000\",'自社カレンダー sample'!$A$12:$A$9999),\"\")","v":""}]
[null,null,null,null,{"$f":"IF(C214<>\"\",NETWORKDAYS.INTL(C214,D214,\"0000000\",'自社カレンダー sample'!$A$12:$A$9999),\"\")","v":""}]
[null,null,null,null,{"$f":"IF(C215<>\"\",NETWORKDAYS.INTL(C215,D215,\"0000000\",'自社カレンダー sample'!$A$12:$A$9999),\"\")","v":""}]
[null,null,null,null,{"$f":"IF(C216<>\"\",NETWORKDAYS.INTL(C216,D216,\"0000000\",'自社カレンダー sample'!$A$12:$A$9999),\"\")","v":""}]
[null,null,null,null,{"$f":"IF(C217<>\"\",NETWORKDAYS.INTL(C217,D217,\"0000000\",'自社カレンダー sample'!$A$12:$A$9999),\"\")","v":""}]
[null,null,null,null,{"$f":"IF(C218<>\"\",NETWORKDAYS.INTL(C218,D218,\"0000000\",'自社カレンダー sample'!$A$12:$A$9999),\"\")","v":""}]
[null,null,null,null,{"$f":"IF(C219<>\"\",NETWORKDAYS.INTL(C219,D219,\"0000000\",'自社カレンダー sample'!$A$12:$A$9999),\"\")","v":""}]
[null,null,null,null,{"$f":"IF(C220<>\"\",NETWORKDAYS.INTL(C220,D220,\"0000000\",'自社カレンダー sample'!$A$12:$A$9999),\"\")","v":""}]
[null,null,null,null,{"$f":"IF(C221<>\"\",NETWORKDAYS.INTL(C221,D221,\"0000000\",'自社カレンダー sample'!$A$12:$A$9999),\"\")","v":""}]
[null,null,null,null,{"$f":"IF(C222<>\"\",NETWORKDAYS.INTL(C222,D222,\"0000000\",'自社カレンダー sample'!$A$12:$A$9999),\"\")","v":""}]
[null,null,null,null,{"$f":"IF(C223<>\"\",NETWORKDAYS.INTL(C223,D223,\"0000000\",'自社カレンダー sample'!$A$12:$A$9999),\"\")","v":""}]
[null,null,null,null,{"$f":"IF(C224<>\"\",NETWORKDAYS.INTL(C224,D224,\"0000000\",'自社カレンダー sample'!$A$12:$A$9999),\"\")","v":""}]
[null,null,null,null,{"$f":"IF(C225<>\"\",NETWORKDAYS.INTL(C225,D225,\"0000000\",'自社カレンダー sample'!$A$12:$A$9999),\"\")","v":""}]
[null,null,null,null,{"$f":"IF(C226<>\"\",NETWORKDAYS.INTL(C226,D226,\"0000000\",'自社カレンダー sample'!$A$12:$A$9999),\"\")","v":""}]
[null,null,null,null,{"$f":"IF(C227<>\"\",NETWORKDAYS.INTL(C227,D227,\"0000000\",'自社カレンダー sample'!$A$12:$A$9999),\"\")","v":""}]
[null,null,null,null,{"$f":"IF(C228<>\"\",NETWORKDAYS.INTL(C228,D228,\"0000000\",'自社カレンダー sample'!$A$12:$A$9999),\"\")","v":""}]
[null,null,null,null,{"$f":"IF(C229<>\"\",NETWORKDAYS.INTL(C229,D229,\"0000000\",'自社カレンダー sample'!$A$12:$A$9999),\"\")","v":""}]
[null,null,null,null,{"$f":"IF(C230<>\"\",NETWORKDAYS.INTL(C230,D230,\"0000000\",'自社カレンダー sample'!$A$12:$A$9999),\"\")","v":""}]
[null,null,null,null,{"$f":"IF(C231<>\"\",NETWORKDAYS.INTL(C231,D231,\"0000000\",'自社カレンダー sample'!$A$12:$A$9999),\"\")","v":""}]
[null,null,null,null,{"$f":"IF(C232<>\"\",NETWORKDAYS.INTL(C232,D232,\"0000000\",'自社カレンダー sample'!$A$12:$A$9999),\"\")","v":""}]
[null,null,null,null,{"$f":"IF(C233<>\"\",NETWORKDAYS.INTL(C233,D233,\"0000000\",'自社カレンダー sample'!$A$12:$A$9999),\"\")","v":""}]
[null,null,null,null,{"$f":"IF(C234<>\"\",NETWORKDAYS.INTL(C234,D234,\"0000000\",'自社カレンダー sample'!$A$12:$A$9999),\"\")","v":""}]
[null,null,null,null,{"$f":"IF(C235<>\"\",NETWORKDAYS.INTL(C235,D235,\"0000000\",'自社カレンダー sample'!$A$12:$A$9999),\"\")","v":""}]
[null,null,null,null,{"$f":"IF(C236<>\"\",NETWORKDAYS.INTL(C236,D236,\"0000000\",'自社カレンダー sample'!$A$12:$A$9999),\"\")","v":""}]
[null,null,null,null,{"$f":"IF(C237<>\"\",NETWORKDAYS.INTL(C237,D237,\"0000000\",'自社カレンダー sample'!$A$12:$A$9999),\"\")","v":""}]
[null,null,null,null,{"$f":"IF(C238<>\"\",NETWORKDAYS.INTL(C238,D238,\"0000000\",'自社カレンダー sample'!$A$12:$A$9999),\"\")","v":""}]
[null,null,null,null,{"$f":"IF(C239<>\"\",NETWORKDAYS.INTL(C239,D239,\"0000000\",'自社カレンダー sample'!$A$12:$A$9999),\"\")","v":""}]
[null,null,null,null,{"$f":"IF(C240<>\"\",NETWORKDAYS.INTL(C240,D240,\"0000000\",'自社カレンダー sample'!$A$12:$A$9999),\"\")","v":""}]
[null,null,null,null,{"$f":"IF(C241<>\"\",NETWORKDAYS.INTL(C241,D241,\"0000000\",'自社カレンダー sample'!$A$12:$A$9999),\"\")","v":""}]
[null,null,null,null,{"$f":"IF(C242<>\"\",NETWORKDAYS.INTL(C242,D242,\"0000000\",'自社カレンダー sample'!$A$12:$A$9999),\"\")","v":""}]
[null,null,null,null,{"$f":"IF(C243<>\"\",NETWORKDAYS.INTL(C243,D243,\"0000000\",'自社カレンダー sample'!$A$12:$A$9999),\"\")","v":""}]
[null,null,null,null,{"$f":"IF(C244<>\"\",NETWORKDAYS.INTL(C244,D244,\"0000000\",'自社カレンダー sample'!$A$12:$A$9999),\"\")","v":""}]
[null,null,null,null,{"$f":"IF(C245<>\"\",NETWORKDAYS.INTL(C245,D245,\"0000000\",'自社カレンダー sample'!$A$12:$A$9999),\"\")","v":""}]
[null,null,null,null,{"$f":"IF(C246<>\"\",NETWORKDAYS.INTL(C246,D246,\"0000000\",'自社カレンダー sample'!$A$12:$A$9999),\"\")","v":""}]
[null,null,null,null,{"$f":"IF(C247<>\"\",NETWORKDAYS.INTL(C247,D247,\"0000000\",'自社カレンダー sample'!$A$12:$A$9999),\"\")","v":""}]
[null,null,null,null,{"$f":"IF(C248<>\"\",NETWORKDAYS.INTL(C248,D248,\"0000000\",'自社カレンダー sample'!$A$12:$A$9999),\"\")","v":""}]
[null,null,null,null,{"$f":"IF(C249<>\"\",NETWORKDAYS.INTL(C249,D249,\"0000000\",'自社カレンダー sample'!$A$12:$A$9999),\"\")","v":""}]
[null,null,null,null,{"$f":"IF(C250<>\"\",NETWORKDAYS.INTL(C250,D250,\"0000000\",'自社カレンダー sample'!$A$12:$A$9999),\"\")","v":""}]
[null,null,null,null,{"$f":"IF(C251<>\"\",NETWORKDAYS.INTL(C251,D251,\"0000000\",'自社カレンダー sample'!$A$12:$A$9999),\"\")","v":""}]
[null,null,null,null,{"$f":"IF(C252<>\"\",NETWORKDAYS.INTL(C252,D252,\"0000000\",'自社カレンダー sample'!$A$12:$A$9999),\"\")","v":""}]
[null,null,null,null,{"$f":"IF(C253<>\"\",NETWORKDAYS.INTL(C253,D253,\"0000000\",'自社カレンダー sample'!$A$12:$A$9999),\"\")","v":""}]
[null,null,null,null,{"$f":"IF(C254<>\"\",NETWORKDAYS.INTL(C254,D254,\"0000000\",'自社カレンダー sample'!$A$12:$A$9999),\"\")","v":""}]
[null,null,null,null,{"$f":"IF(C255<>\"\",NETWORKDAYS.INTL(C255,D255,\"0000000\",'自社カレンダー sample'!$A$12:$A$9999),\"\")","v":""}]
[null,null,null,null,{"$f":"IF(C256<>\"\",NETWORKDAYS.INTL(C256,D256,\"0000000\",'自社カレンダー sample'!$A$12:$A$9999),\"\")","v":""}]
[null,null,null,null,{"$f":"IF(C257<>\"\",NETWORKDAYS.INTL(C257,D257,\"0000000\",'自社カレンダー sample'!$A$12:$A$9999),\"\")","v":""}]
[null,null,null,null,{"$f":"IF(C258<>\"\",NETWORKDAYS.INTL(C258,D258,\"0000000\",'自社カレンダー sample'!$A$12:$A$9999),\"\")","v":""}]
[null,null,null,null,{"$f":"IF(C259<>\"\",NETWORKDAYS.INTL(C259,D259,\"0000000\",'自社カレンダー sample'!$A$12:$A$9999),\"\")","v":""}]
[null,null,null,null,{"$f":"IF(C260<>\"\",NETWORKDAYS.INTL(C260,D260,\"0000000\",'自社カレンダー sample'!$A$12:$A$9999),\"\")","v":""}]
[null,null,null,null,{"$f":"IF(C261<>\"\",NETWORKDAYS.INTL(C261,D261,\"0000000\",'自社カレンダー sample'!$A$12:$A$9999),\"\")","v":""}]
[null,null,null,null,{"$f":"IF(C262<>\"\",NETWORKDAYS.INTL(C262,D262,\"0000000\",'自社カレンダー sample'!$A$12:$A$9999),\"\")","v":""}]
[null,null,null,null,{"$f":"IF(C263<>\"\",NETWORKDAYS.INTL(C263,D263,\"0000000\",'自社カレンダー sample'!$A$12:$A$9999),\"\")","v":""}]
[null,null,null,null,{"$f":"IF(C264<>\"\",NETWORKDAYS.INTL(C264,D264,\"0000000\",'自社カレンダー sample'!$A$12:$A$9999),\"\")","v":""}]
[null,null,null,null,{"$f":"IF(C265<>\"\",NETWORKDAYS.INTL(C265,D265,\"0000000\",'自社カレンダー sample'!$A$12:$A$9999),\"\")","v":""}]
[null,null,null,null,{"$f":"IF(C266<>\"\",NETWORKDAYS.INTL(C266,D266,\"0000000\",'自社カレンダー sample'!$A$12:$A$9999),\"\")","v":""}]
[null,null,null,null,{"$f":"IF(C267<>\"\",NETWORKDAYS.INTL(C267,D267,\"0000000\",'自社カレンダー sample'!$A$12:$A$9999),\"\")","v":""}]
[null,null,null,null,{"$f":"IF(C268<>\"\",NETWORKDAYS.INTL(C268,D268,\"0000000\",'自社カレンダー sample'!$A$12:$A$9999),\"\")","v":""}]
[null,null,null,null,{"$f":"IF(C269<>\"\",NETWORKDAYS.INTL(C269,D269,\"0000000\",'自社カレンダー sample'!$A$12:$A$9999),\"\")","v":""}]
[null,null,null,null,{"$f":"IF(C270<>\"\",NETWORKDAYS.INTL(C270,D270,\"0000000\",'自社カレンダー sample'!$A$12:$A$9999),\"\")","v":""}]
[null,null,null,null,{"$f":"IF(C271<>\"\",NETWORKDAYS.INTL(C271,D271,\"0000000\",'自社カレンダー sample'!$A$12:$A$9999),\"\")","v":""}]
[null,null,null,null,{"$f":"IF(C272<>\"\",NETWORKDAYS.INTL(C272,D272,\"0000000\",'自社カレンダー sample'!$A$12:$A$9999),\"\")","v":""}]
[null,null,null,null,{"$f":"IF(C273<>\"\",NETWORKDAYS.INTL(C273,D273,\"0000000\",'自社カレンダー sample'!$A$12:$A$9999),\"\")","v":""}]
[null,null,null,null,{"$f":"IF(C274<>\"\",NETWORKDAYS.INTL(C274,D274,\"0000000\",'自社カレンダー sample'!$A$12:$A$9999),\"\")","v":""}]
[null,null,null,null,{"$f":"IF(C275<>\"\",NETWORKDAYS.INTL(C275,D275,\"0000000\",'自社カレンダー sample'!$A$12:$A$9999),\"\")","v":""}]
[null,null,null,null,{"$f":"IF(C276<>\"\",NETWORKDAYS.INTL(C276,D276,\"0000000\",'自社カレンダー sample'!$A$12:$A$9999),\"\")","v":""}]
[null,null,null,null,{"$f":"IF(C277<>\"\",NETWORKDAYS.INTL(C277,D277,\"0000000\",'自社カレンダー sample'!$A$12:$A$9999),\"\")","v":""}]
[null,null,null,null,{"$f":"IF(C278<>\"\",NETWORKDAYS.INTL(C278,D278,\"0000000\",'自社カレンダー sample'!$A$12:$A$9999),\"\")","v":""}]
[null,null,null,null,{"$f":"IF(C279<>\"\",NETWORKDAYS.INTL(C279,D279,\"0000000\",'自社カレンダー sample'!$A$12:$A$9999),\"\")","v":""}]
[null,null,null,null,{"$f":"IF(C280<>\"\",NETWORKDAYS.INTL(C280,D280,\"0000000\",'自社カレンダー sample'!$A$12:$A$9999),\"\")","v":""}]
[null,null,null,null,{"$f":"IF(C281<>\"\",NETWORKDAYS.INTL(C281,D281,\"0000000\",'自社カレンダー sample'!$A$12:$A$9999),\"\")","v":""}]
[null,null,null,null,{"$f":"IF(C282<>\"\",NETWORKDAYS.INTL(C282,D282,\"0000000\",'自社カレンダー sample'!$A$12:$A$9999),\"\")","v":""}]
[null,null,null,null,{"$f":"IF(C283<>\"\",NETWORKDAYS.INTL(C283,D283,\"0000000\",'自社カレンダー sample'!$A$12:$A$9999),\"\")","v":""}]
[null,null,null,null,{"$f":"IF(C284<>\"\",NETWORKDAYS.INTL(C284,D284,\"0000000\",'自社カレンダー sample'!$A$12:$A$9999),\"\")","v":""}]
[null,null,null,null,{"$f":"IF(C285<>\"\",NETWORKDAYS.INTL(C285,D285,\"0000000\",'自社カレンダー sample'!$A$12:$A$9999),\"\")","v":""}]
[null,null,null,null,{"$f":"IF(C286<>\"\",NETWORKDAYS.INTL(C286,D286,\"0000000\",'自社カレンダー sample'!$A$12:$A$9999),\"\")","v":""}]
[null,null,null,null,{"$f":"IF(C287<>\"\",NETWORKDAYS.INTL(C287,D287,\"0000000\",'自社カレンダー sample'!$A$12:$A$9999),\"\")","v":""}]
[null,null,null,null,{"$f":"IF(C288<>\"\",NETWORKDAYS.INTL(C288,D288,\"0000000\",'自社カレンダー sample'!$A$12:$A$9999),\"\")","v":""}]
[null,null,null,null,{"$f":"IF(C289<>\"\",NETWORKDAYS.INTL(C289,D289,\"0000000\",'自社カレンダー sample'!$A$12:$A$9999),\"\")","v":""}]
[null,null,null,null,{"$f":"IF(C290<>\"\",NETWORKDAYS.INTL(C290,D290,\"0000000\",'自社カレンダー sample'!$A$12:$A$9999),\"\")","v":""}]
[null,null,null,null,{"$f":"IF(C291<>\"\",NETWORKDAYS.INTL(C291,D291,\"0000000\",'自社カレンダー sample'!$A$12:$A$9999),\"\")","v":""}]
[null,null,null,null,{"$f":"IF(C292<>\"\",NETWORKDAYS.INTL(C292,D292,\"0000000\",'自社カレンダー sample'!$A$12:$A$9999),\"\")","v":""}]
[null,null,null,null,{"$f":"IF(C293<>\"\",NETWORKDAYS.INTL(C293,D293,\"0000000\",'自社カレンダー sample'!$A$12:$A$9999),\"\")","v":""}]
[null,null,null,null,{"$f":"IF(C294<>\"\",NETWORKDAYS.INTL(C294,D294,\"0000000\",'自社カレンダー sample'!$A$12:$A$9999),\"\")","v":""}]
[null,null,null,null,{"$f":"IF(C295<>\"\",NETWORKDAYS.INTL(C295,D295,\"0000000\",'自社カレンダー sample'!$A$12:$A$9999),\"\")","v":""}]
[null,null,null,null,{"$f":"IF(C296<>\"\",NETWORKDAYS.INTL(C296,D296,\"0000000\",'自社カレンダー sample'!$A$12:$A$9999),\"\")","v":""}]
[null,null,null,null,{"$f":"IF(C297<>\"\",NETWORKDAYS.INTL(C297,D297,\"0000000\",'自社カレンダー sample'!$A$12:$A$9999),\"\")","v":""}]
[null,null,null,null,{"$f":"IF(C298<>\"\",NETWORKDAYS.INTL(C298,D298,\"0000000\",'自社カレンダー sample'!$A$12:$A$9999),\"\")","v":""}]
[null,null,null,null,{"$f":"IF(C299<>\"\",NETWORKDAYS.INTL(C299,D299,\"0000000\",'自社カレンダー sample'!$A$12:$A$9999),\"\")","v":""}]
[null,null,null,null,{"$f":"IF(C300<>\"\",NETWORKDAYS.INTL(C300,D300,\"0000000\",'自社カレンダー sample'!$A$12:$A$9999),\"\")","v":""}]
[null,null,null,null,{"$f":"IF(C301<>\"\",NETWORKDAYS.INTL(C301,D301,\"0000000\",'自社カレンダー sample'!$A$12:$A$9999),\"\")","v":""}]
[null,null,null,null,{"$f":"IF(C302<>\"\",NETWORKDAYS.INTL(C302,D302,\"0000000\",'自社カレンダー sample'!$A$12:$A$9999),\"\")","v":""}]
[null,null,null,null,{"$f":"IF(C303<>\"\",NETWORKDAYS.INTL(C303,D303,\"0000000\",'自社カレンダー sample'!$A$12:$A$9999),\"\")","v":""}]
[null,null,null,null,{"$f":"IF(C304<>\"\",NETWORKDAYS.INTL(C304,D304,\"0000000\",'自社カレンダー sample'!$A$12:$A$9999),\"\")","v":""}]
[null,null,null,null,{"$f":"IF(C305<>\"\",NETWORKDAYS.INTL(C305,D305,\"0000000\",'自社カレンダー sample'!$A$12:$A$9999),\"\")","v":""}]
[null,null,null,null,{"$f":"IF(C306<>\"\",NETWORKDAYS.INTL(C306,D306,\"0000000\",'自社カレンダー sample'!$A$12:$A$9999),\"\")","v":""}]
[null,null,null,null,{"$f":"IF(C307<>\"\",NETWORKDAYS.INTL(C307,D307,\"0000000\",'自社カレンダー sample'!$A$12:$A$9999),\"\")","v":""}]
[null,null,null,null,{"$f":"IF(C308<>\"\",NETWORKDAYS.INTL(C308,D308,\"0000000\",'自社カレンダー sample'!$A$12:$A$9999),\"\")","v":""}]
[null,null,null,null,{"$f":"IF(C309<>\"\",NETWORKDAYS.INTL(C309,D309,\"0000000\",'自社カレンダー sample'!$A$12:$A$9999),\"\")","v":""}]
[null,null,null,null,{"$f":"IF(C310<>\"\",NETWORKDAYS.INTL(C310,D310,\"0000000\",'自社カレンダー sample'!$A$12:$A$9999),\"\")","v":""}]
[null,null,null,null,{"$f":"IF(C311<>\"\",NETWORKDAYS.INTL(C311,D311,\"0000000\",'自社カレンダー sample'!$A$12:$A$9999),\"\")","v":""}]
[null,null,null,null,{"$f":"IF(C312<>\"\",NETWORKDAYS.INTL(C312,D312,\"0000000\",'自社カレンダー sample'!$A$12:$A$9999),\"\")","v":""}]
[null,null,null,null,{"$f":"IF(C313<>\"\",NETWORKDAYS.INTL(C313,D313,\"0000000\",'自社カレンダー sample'!$A$12:$A$9999),\"\")","v":""}]
[null,null,null,null,{"$f":"IF(C314<>\"\",NETWORKDAYS.INTL(C314,D314,\"0000000\",'自社カレンダー sample'!$A$12:$A$9999),\"\")","v":""}]
[null,null,null,null,{"$f":"IF(C315<>\"\",NETWORKDAYS.INTL(C315,D315,\"0000000\",'自社カレンダー sample'!$A$12:$A$9999),\"\")","v":""}]
[null,null,null,null,{"$f":"IF(C316<>\"\",NETWORKDAYS.INTL(C316,D316,\"0000000\",'自社カレンダー sample'!$A$12:$A$9999),\"\")","v":""}]
[null,null,null,null,{"$f":"IF(C317<>\"\",NETWORKDAYS.INTL(C317,D317,\"0000000\",'自社カレンダー sample'!$A$12:$A$9999),\"\")","v":""}]
[null,null,null,null,{"$f":"IF(C318<>\"\",NETWORKDAYS.INTL(C318,D318,\"0000000\",'自社カレンダー sample'!$A$12:$A$9999),\"\")","v":""}]
[null,null,null,null,{"$f":"IF(C319<>\"\",NETWORKDAYS.INTL(C319,D319,\"0000000\",'自社カレンダー sample'!$A$12:$A$9999),\"\")","v":""}]
[null,null,null,null,{"$f":"IF(C320<>\"\",NETWORKDAYS.INTL(C320,D320,\"0000000\",'自社カレンダー sample'!$A$12:$A$9999),\"\")","v":""}]
[null,null,null,null,{"$f":"IF(C321<>\"\",NETWORKDAYS.INTL(C321,D321,\"0000000\",'自社カレンダー sample'!$A$12:$A$9999),\"\")","v":""}]
[null,null,null,null,{"$f":"IF(C322<>\"\",NETWORKDAYS.INTL(C322,D322,\"0000000\",'自社カレンダー sample'!$A$12:$A$9999),\"\")","v":""}]
[null,null,null,null,{"$f":"IF(C323<>\"\",NETWORKDAYS.INTL(C323,D323,\"0000000\",'自社カレンダー sample'!$A$12:$A$9999),\"\")","v":""}]
[null,null,null,null,{"$f":"IF(C324<>\"\",NETWORKDAYS.INTL(C324,D324,\"0000000\",'自社カレンダー sample'!$A$12:$A$9999),\"\")","v":""}]
[null,null,null,null,{"$f":"IF(C325<>\"\",NETWORKDAYS.INTL(C325,D325,\"0000000\",'自社カレンダー sample'!$A$12:$A$9999),\"\")","v":""}]
[null,null,null,null,{"$f":"IF(C326<>\"\",NETWORKDAYS.INTL(C326,D326,\"0000000\",'自社カレンダー sample'!$A$12:$A$9999),\"\")","v":""}]
[null,null,null,null,{"$f":"IF(C327<>\"\",NETWORKDAYS.INTL(C327,D327,\"0000000\",'自社カレンダー sample'!$A$12:$A$9999),\"\")","v":""}]
[null,null,null,null,{"$f":"IF(C328<>\"\",NETWORKDAYS.INTL(C328,D328,\"0000000\",'自社カレンダー sample'!$A$12:$A$9999),\"\")","v":""}]
[null,null,null,null,{"$f":"IF(C329<>\"\",NETWORKDAYS.INTL(C329,D329,\"0000000\",'自社カレンダー sample'!$A$12:$A$9999),\"\")","v":""}]
[null,null,null,null,{"$f":"IF(C330<>\"\",NETWORKDAYS.INTL(C330,D330,\"0000000\",'自社カレンダー sample'!$A$12:$A$9999),\"\")","v":""}]
[null,null,null,null,{"$f":"IF(C331<>\"\",NETWORKDAYS.INTL(C331,D331,\"0000000\",'自社カレンダー sample'!$A$12:$A$9999),\"\")","v":""}]
[null,null,null,null,{"$f":"IF(C332<>\"\",NETWORKDAYS.INTL(C332,D332,\"0000000\",'自社カレンダー sample'!$A$12:$A$9999),\"\")","v":""}]
[null,null,null,null,{"$f":"IF(C333<>\"\",NETWORKDAYS.INTL(C333,D333,\"0000000\",'自社カレンダー sample'!$A$12:$A$9999),\"\")","v":""}]
[null,null,null,null,{"$f":"IF(C334<>\"\",NETWORKDAYS.INTL(C334,D334,\"0000000\",'自社カレンダー sample'!$A$12:$A$9999),\"\")","v":""}]
[null,null,null,null,{"$f":"IF(C335<>\"\",NETWORKDAYS.INTL(C335,D335,\"0000000\",'自社カレンダー sample'!$A$12:$A$9999),\"\")","v":""}]
[null,null,null,null,{"$f":"IF(C336<>\"\",NETWORKDAYS.INTL(C336,D336,\"0000000\",'自社カレンダー sample'!$A$12:$A$9999),\"\")","v":""}]
[null,null,null,null,{"$f":"IF(C337<>\"\",NETWORKDAYS.INTL(C337,D337,\"0000000\",'自社カレンダー sample'!$A$12:$A$9999),\"\")","v":""}]
[null,null,null,null,{"$f":"IF(C338<>\"\",NETWORKDAYS.INTL(C338,D338,\"0000000\",'自社カレンダー sample'!$A$12:$A$9999),\"\")","v":""}]
[null,null,null,null,{"$f":"IF(C339<>\"\",NETWORKDAYS.INTL(C339,D339,\"0000000\",'自社カレンダー sample'!$A$12:$A$9999),\"\")","v":""}]
[null,null,null,null,{"$f":"IF(C340<>\"\",NETWORKDAYS.INTL(C340,D340,\"0000000\",'自社カレンダー sample'!$A$12:$A$9999),\"\")","v":""}]
[null,null,null,null,{"$f":"IF(C341<>\"\",NETWORKDAYS.INTL(C341,D341,\"0000000\",'自社カレンダー sample'!$A$12:$A$9999),\"\")","v":""}]
[null,null,null,null,{"$f":"IF(C342<>\"\",NETWORKDAYS.INTL(C342,D342,\"0000000\",'自社カレンダー sample'!$A$12:$A$9999),\"\")","v":""}]
[null,null,null,null,{"$f":"IF(C343<>\"\",NETWORKDAYS.INTL(C343,D343,\"0000000\",'自社カレンダー sample'!$A$12:$A$9999),\"\")","v":""}]
[null,null,null,null,{"$f":"IF(C344<>\"\",NETWORKDAYS.INTL(C344,D344,\"0000000\",'自社カレンダー sample'!$A$12:$A$9999),\"\")","v":""}]
[null,null,null,null,{"$f":"IF(C345<>\"\",NETWORKDAYS.INTL(C345,D345,\"0000000\",'自社カレンダー sample'!$A$12:$A$9999),\"\")","v":""}]
[null,null,null,null,{"$f":"IF(C346<>\"\",NETWORKDAYS.INTL(C346,D346,\"0000000\",'自社カレンダー sample'!$A$12:$A$9999),\"\")","v":""}]
[null,null,null,null,{"$f":"IF(C347<>\"\",NETWORKDAYS.INTL(C347,D347,\"0000000\",'自社カレンダー sample'!$A$12:$A$9999),\"\")","v":""}]
[null,null,null,null,{"$f":"IF(C348<>\"\",NETWORKDAYS.INTL(C348,D348,\"0000000\",'自社カレンダー sample'!$A$12:$A$9999),\"\")","v":""}]
[null,null,null,null,{"$f":"IF(C349<>\"\",NETWORKDAYS.INTL(C349,D349,\"0000000\",'自社カレンダー sample'!$A$12:$A$9999),\"\")","v":""}]
[null,null,null,null,{"$f":"IF(C350<>\"\",NETWORKDAYS.INTL(C350,D350,\"0000000\",'自社カレンダー sample'!$A$12:$A$9999),\"\")","v":""}]
[null,null,null,null,{"$f":"IF(C351<>\"\",NETWORKDAYS.INTL(C351,D351,\"0000000\",'自社カレンダー sample'!$A$12:$A$9999),\"\")","v":""}]
[null,null,null,null,{"$f":"IF(C352<>\"\",NETWORKDAYS.INTL(C352,D352,\"0000000\",'自社カレンダー sample'!$A$12:$A$9999),\"\")","v":""}]
[null,null,null,null,{"$f":"IF(C353<>\"\",NETWORKDAYS.INTL(C353,D353,\"0000000\",'自社カレンダー sample'!$A$12:$A$9999),\"\")","v":""}]
[null,null,null,null,{"$f":"IF(C354<>\"\",NETWORKDAYS.INTL(C354,D354,\"0000000\",'自社カレンダー sample'!$A$12:$A$9999),\"\")","v":""}]
[null,null,null,null,{"$f":"IF(C355<>\"\",NETWORKDAYS.INTL(C355,D355,\"0000000\",'自社カレンダー sample'!$A$12:$A$9999),\"\")","v":""}]
[null,null,null,null,{"$f":"IF(C356<>\"\",NETWORKDAYS.INTL(C356,D356,\"0000000\",'自社カレンダー sample'!$A$12:$A$9999),\"\")","v":""}]
[null,null,null,null,{"$f":"IF(C357<>\"\",NETWORKDAYS.INTL(C357,D357,\"0000000\",'自社カレンダー sample'!$A$12:$A$9999),\"\")","v":""}]
[null,null,null,null,{"$f":"IF(C358<>\"\",NETWORKDAYS.INTL(C358,D358,\"0000000\",'自社カレンダー sample'!$A$12:$A$9999),\"\")","v":""}]
[null,null,null,null,{"$f":"IF(C359<>\"\",NETWORKDAYS.INTL(C359,D359,\"0000000\",'自社カレンダー sample'!$A$12:$A$9999),\"\")","v":""}]
[null,null,null,null,{"$f":"IF(C360<>\"\",NETWORKDAYS.INTL(C360,D360,\"0000000\",'自社カレンダー sample'!$A$12:$A$9999),\"\")","v":""}]
[null,null,null,null,{"$f":"IF(C361<>\"\",NETWORKDAYS.INTL(C361,D361,\"0000000\",'自社カレンダー sample'!$A$12:$A$9999),\"\")","v":""}]
[null,null,null,null,{"$f":"IF(C362<>\"\",NETWORKDAYS.INTL(C362,D362,\"0000000\",'自社カレンダー sample'!$A$12:$A$9999),\"\")","v":""}]
[null,null,null,null,{"$f":"IF(C363<>\"\",NETWORKDAYS.INTL(C363,D363,\"0000000\",'自社カレンダー sample'!$A$12:$A$9999),\"\")","v":""}]
[null,null,null,null,{"$f":"IF(C364<>\"\",NETWORKDAYS.INTL(C364,D364,\"0000000\",'自社カレンダー sample'!$A$12:$A$9999),\"\")","v":""}]
[null,null,null,null,{"$f":"IF(C365<>\"\",NETWORKDAYS.INTL(C365,D365,\"0000000\",'自社カレンダー sample'!$A$12:$A$9999),\"\")","v":""}]
[null,null,null,null,{"$f":"IF(C366<>\"\",NETWORKDAYS.INTL(C366,D366,\"0000000\",'自社カレンダー sample'!$A$12:$A$9999),\"\")","v":""}]
[null,null,null,null,{"$f":"IF(C367<>\"\",NETWORKDAYS.INTL(C367,D367,\"0000000\",'自社カレンダー sample'!$A$12:$A$9999),\"\")","v":""}]
[null,null,null,null,{"$f":"IF(C368<>\"\",NETWORKDAYS.INTL(C368,D368,\"0000000\",'自社カレンダー sample'!$A$12:$A$9999),\"\")","v":""}]
[null,null,null,null,{"$f":"IF(C369<>\"\",NETWORKDAYS.INTL(C369,D369,\"0000000\",'自社カレンダー sample'!$A$12:$A$9999),\"\")","v":""}]
[null,null,null,null,{"$f":"IF(C370<>\"\",NETWORKDAYS.INTL(C370,D370,\"0000000\",'自社カレンダー sample'!$A$12:$A$9999),\"\")","v":""}]
[null,null,null,null,{"$f":"IF(C371<>\"\",NETWORKDAYS.INTL(C371,D371,\"0000000\",'自社カレンダー sample'!$A$12:$A$9999),\"\")","v":""}]
[null,null,null,null,{"$f":"IF(C372<>\"\",NETWORKDAYS.INTL(C372,D372,\"0000000\",'自社カレンダー sample'!$A$12:$A$9999),\"\")","v":""}]
[null,null,null,null,{"$f":"IF(C373<>\"\",NETWORKDAYS.INTL(C373,D373,\"0000000\",'自社カレンダー sample'!$A$12:$A$9999),\"\")","v":""}]
[null,null,null,null,{"$f":"IF(C374<>\"\",NETWORKDAYS.INTL(C374,D374,\"0000000\",'自社カレンダー sample'!$A$12:$A$9999),\"\")","v":""}]
[null,null,null,null,{"$f":"IF(C375<>\"\",NETWORKDAYS.INTL(C375,D375,\"0000000\",'自社カレンダー sample'!$A$12:$A$9999),\"\")","v":""}]
[null,null,null,null,{"$f":"IF(C376<>\"\",NETWORKDAYS.INTL(C376,D376,\"0000000\",'自社カレンダー sample'!$A$12:$A$9999),\"\")","v":""}]
[null,null,null,null,{"$f":"IF(C377<>\"\",NETWORKDAYS.INTL(C377,D377,\"0000000\",'自社カレンダー sample'!$A$12:$A$9999),\"\")","v":""}]
[null,null,null,null,{"$f":"IF(C378<>\"\",NETWORKDAYS.INTL(C378,D378,\"0000000\",'自社カレンダー sample'!$A$12:$A$9999),\"\")","v":""}]
[null,null,null,null,{"$f":"IF(C379<>\"\",NETWORKDAYS.INTL(C379,D379,\"0000000\",'自社カレンダー sample'!$A$12:$A$9999),\"\")","v":""}]
[null,null,null,null,{"$f":"IF(C380<>\"\",NETWORKDAYS.INTL(C380,D380,\"0000000\",'自社カレンダー sample'!$A$12:$A$9999),\"\")","v":""}]
[null,null,null,null,{"$f":"IF(C381<>\"\",NETWORKDAYS.INTL(C381,D381,\"0000000\",'自社カレンダー sample'!$A$12:$A$9999),\"\")","v":""}]
[null,null,null,null,{"$f":"IF(C382<>\"\",NETWORKDAYS.INTL(C382,D382,\"0000000\",'自社カレンダー sample'!$A$12:$A$9999),\"\")","v":""}]
[null,null,null,null,{"$f":"IF(C383<>\"\",NETWORKDAYS.INTL(C383,D383,\"0000000\",'自社カレンダー sample'!$A$12:$A$9999),\"\")","v":""}]
[null,null,null,null,{"$f":"IF(C384<>\"\",NETWORKDAYS.INTL(C384,D384,\"0000000\",'自社カレンダー sample'!$A$12:$A$9999),\"\")","v":""}]
[null,null,null,null,{"$f":"IF(C385<>\"\",NETWORKDAYS.INTL(C385,D385,\"0000000\",'自社カレンダー sample'!$A$12:$A$9999),\"\")","v":""}]
[null,null,null,null,{"$f":"IF(C386<>\"\",NETWORKDAYS.INTL(C386,D386,\"0000000\",'自社カレンダー sample'!$A$12:$A$9999),\"\")","v":""}]
[null,null,null,null,{"$f":"IF(C387<>\"\",NETWORKDAYS.INTL(C387,D387,\"0000000\",'自社カレンダー sample'!$A$12:$A$9999),\"\")","v":""}]
[null,null,null,null,{"$f":"IF(C388<>\"\",NETWORKDAYS.INTL(C388,D388,\"0000000\",'自社カレンダー sample'!$A$12:$A$9999),\"\")","v":""}]
[null,null,null,null,{"$f":"IF(C389<>\"\",NETWORKDAYS.INTL(C389,D389,\"0000000\",'自社カレンダー sample'!$A$12:$A$9999),\"\")","v":""}]
[null,null,null,null,{"$f":"IF(C390<>\"\",NETWORKDAYS.INTL(C390,D390,\"0000000\",'自社カレンダー sample'!$A$12:$A$9999),\"\")","v":""}]
[null,null,null,null,{"$f":"IF(C391<>\"\",NETWORKDAYS.INTL(C391,D391,\"0000000\",'自社カレンダー sample'!$A$12:$A$9999),\"\")","v":""}]
[null,null,null,null,{"$f":"IF(C392<>\"\",NETWORKDAYS.INTL(C392,D392,\"0000000\",'自社カレンダー sample'!$A$12:$A$9999),\"\")","v":""}]
[null,null,null,null,{"$f":"IF(C393<>\"\",NETWORKDAYS.INTL(C393,D393,\"0000000\",'自社カレンダー sample'!$A$12:$A$9999),\"\")","v":""}]
[null,null,null,null,{"$f":"IF(C394<>\"\",NETWORKDAYS.INTL(C394,D394,\"0000000\",'自社カレンダー sample'!$A$12:$A$9999),\"\")","v":""}]
[null,null,null,null,{"$f":"IF(C395<>\"\",NETWORKDAYS.INTL(C395,D395,\"0000000\",'自社カレンダー sample'!$A$12:$A$9999),\"\")","v":""}]
[null,null,null,null,{"$f":"IF(C396<>\"\",NETWORKDAYS.INTL(C396,D396,\"0000000\",'自社カレンダー sample'!$A$12:$A$9999),\"\")","v":""}]
[null,null,null,null,{"$f":"IF(C397<>\"\",NETWORKDAYS.INTL(C397,D397,\"0000000\",'自社カレンダー sample'!$A$12:$A$9999),\"\")","v":""}]
[null,null,null,null,{"$f":"IF(C398<>\"\",NETWORKDAYS.INTL(C398,D398,\"0000000\",'自社カレンダー sample'!$A$12:$A$9999),\"\")","v":""}]
[null,null,null,null,{"$f":"IF(C399<>\"\",NETWORKDAYS.INTL(C399,D399,\"0000000\",'自社カレンダー sample'!$A$12:$A$9999),\"\")","v":""}]
[null,null,null,null,{"$f":"IF(C400<>\"\",NETWORKDAYS.INTL(C400,D400,\"0000000\",'自社カレンダー sample'!$A$12:$A$9999),\"\")","v":""}]
[null,null,null,null,{"$f":"IF(C401<>\"\",NETWORKDAYS.INTL(C401,D401,\"0000000\",'自社カレンダー sample'!$A$12:$A$9999),\"\")","v":""}]
[null,null,null,null,{"$f":"IF(C402<>\"\",NETWORKDAYS.INTL(C402,D402,\"0000000\",'自社カレンダー sample'!$A$12:$A$9999),\"\")","v":""}]
[null,null,null,null,{"$f":"IF(C403<>\"\",NETWORKDAYS.INTL(C403,D403,\"0000000\",'自社カレンダー sample'!$A$12:$A$9999),\"\")","v":""}]
[null,null,null,null,{"$f":"IF(C404<>\"\",NETWORKDAYS.INTL(C404,D404,\"0000000\",'自社カレンダー sample'!$A$12:$A$9999),\"\")","v":""}]
[null,null,null,null,{"$f":"IF(C405<>\"\",NETWORKDAYS.INTL(C405,D405,\"0000000\",'自社カレンダー sample'!$A$12:$A$9999),\"\")","v":""}]
[null,null,null,null,{"$f":"IF(C406<>\"\",NETWORKDAYS.INTL(C406,D406,\"0000000\",'自社カレンダー sample'!$A$12:$A$9999),\"\")","v":""}]
[null,null,null,null,{"$f":"IF(C407<>\"\",NETWORKDAYS.INTL(C407,D407,\"0000000\",'自社カレンダー sample'!$A$12:$A$9999),\"\")","v":""}]
[null,null,null,null,{"$f":"IF(C408<>\"\",NETWORKDAYS.INTL(C408,D408,\"0000000\",'自社カレンダー sample'!$A$12:$A$9999),\"\")","v":""}]
[null,null,null,null,{"$f":"IF(C409<>\"\",NETWORKDAYS.INTL(C409,D409,\"0000000\",'自社カレンダー sample'!$A$12:$A$9999),\"\")","v":""}]
[null,null,null,null,{"$f":"IF(C410<>\"\",NETWORKDAYS.INTL(C410,D410,\"0000000\",'自社カレンダー sample'!$A$12:$A$9999),\"\")","v":""}]
[null,null,null,null,{"$f":"IF(C411<>\"\",NETWORKDAYS.INTL(C411,D411,\"0000000\",'自社カレンダー sample'!$A$12:$A$9999),\"\")","v":""}]
[null,null,null,null,{"$f":"IF(C412<>\"\",NETWORKDAYS.INTL(C412,D412,\"0000000\",'自社カレンダー sample'!$A$12:$A$9999),\"\")","v":""}]
[null,null,null,null,{"$f":"IF(C413<>\"\",NETWORKDAYS.INTL(C413,D413,\"0000000\",'自社カレンダー sample'!$A$12:$A$9999),\"\")","v":""}]
[null,null,null,null,{"$f":"IF(C414<>\"\",NETWORKDAYS.INTL(C414,D414,\"0000000\",'自社カレンダー sample'!$A$12:$A$9999),\"\")","v":""}]
[null,null,null,null,{"$f":"IF(C415<>\"\",NETWORKDAYS.INTL(C415,D415,\"0000000\",'自社カレンダー sample'!$A$12:$A$9999),\"\")","v":""}]
[null,null,null,null,{"$f":"IF(C416<>\"\",NETWORKDAYS.INTL(C416,D416,\"0000000\",'自社カレンダー sample'!$A$12:$A$9999),\"\")","v":""}]
[null,null,null,null,{"$f":"IF(C417<>\"\",NETWORKDAYS.INTL(C417,D417,\"0000000\",'自社カレンダー sample'!$A$12:$A$9999),\"\")","v":""}]
[null,null,null,null,{"$f":"IF(C418<>\"\",NETWORKDAYS.INTL(C418,D418,\"0000000\",'自社カレンダー sample'!$A$12:$A$9999),\"\")","v":""}]
[null,null,null,null,{"$f":"IF(C419<>\"\",NETWORKDAYS.INTL(C419,D419,\"0000000\",'自社カレンダー sample'!$A$12:$A$9999),\"\")","v":""}]
[null,null,null,null,{"$f":"IF(C420<>\"\",NETWORKDAYS.INTL(C420,D420,\"0000000\",'自社カレンダー sample'!$A$12:$A$9999),\"\")","v":""}]
[null,null,null,null,{"$f":"IF(C421<>\"\",NETWORKDAYS.INTL(C421,D421,\"0000000\",'自社カレンダー sample'!$A$12:$A$9999),\"\")","v":""}]
[null,null,null,null,{"$f":"IF(C422<>\"\",NETWORKDAYS.INTL(C422,D422,\"0000000\",'自社カレンダー sample'!$A$12:$A$9999),\"\")","v":""}]
[null,null,null,null,{"$f":"IF(C423<>\"\",NETWORKDAYS.INTL(C423,D423,\"0000000\",'自社カレンダー sample'!$A$12:$A$9999),\"\")","v":""}]
[null,null,null,null,{"$f":"IF(C424<>\"\",NETWORKDAYS.INTL(C424,D424,\"0000000\",'自社カレンダー sample'!$A$12:$A$9999),\"\")","v":""}]
[null,null,null,null,{"$f":"IF(C425<>\"\",NETWORKDAYS.INTL(C425,D425,\"0000000\",'自社カレンダー sample'!$A$12:$A$9999),\"\")","v":""}]
[null,null,null,null,{"$f":"IF(C426<>\"\",NETWORKDAYS.INTL(C426,D426,\"0000000\",'自社カレンダー sample'!$A$12:$A$9999),\"\")","v":""}]
[null,null,null,null,{"$f":"IF(C427<>\"\",NETWORKDAYS.INTL(C427,D427,\"0000000\",'自社カレンダー sample'!$A$12:$A$9999),\"\")","v":""}]
[null,null,null,null,{"$f":"IF(C428<>\"\",NETWORKDAYS.INTL(C428,D428,\"0000000\",'自社カレンダー sample'!$A$12:$A$9999),\"\")","v":""}]
[null,null,null,null,{"$f":"IF(C429<>\"\",NETWORKDAYS.INTL(C429,D429,\"0000000\",'自社カレンダー sample'!$A$12:$A$9999),\"\")","v":""}]
[null,null,null,null,{"$f":"IF(C430<>\"\",NETWORKDAYS.INTL(C430,D430,\"0000000\",'自社カレンダー sample'!$A$12:$A$9999),\"\")","v":""}]
[null,null,null,null,{"$f":"IF(C431<>\"\",NETWORKDAYS.INTL(C431,D431,\"0000000\",'自社カレンダー sample'!$A$12:$A$9999),\"\")","v":""}]
[null,null,null,null,{"$f":"IF(C432<>\"\",NETWORKDAYS.INTL(C432,D432,\"0000000\",'自社カレンダー sample'!$A$12:$A$9999),\"\")","v":""}]
[null,null,null,null,{"$f":"IF(C433<>\"\",NETWORKDAYS.INTL(C433,D433,\"0000000\",'自社カレンダー sample'!$A$12:$A$9999),\"\")","v":""}]
[null,null,null,null,{"$f":"IF(C434<>\"\",NETWORKDAYS.INTL(C434,D434,\"0000000\",'自社カレンダー sample'!$A$12:$A$9999),\"\")","v":""}]
[null,null,null,null,{"$f":"IF(C435<>\"\",NETWORKDAYS.INTL(C435,D435,\"0000000\",'自社カレンダー sample'!$A$12:$A$9999),\"\")","v":""}]
[null,null,null,null,{"$f":"IF(C436<>\"\",NETWORKDAYS.INTL(C436,D436,\"0000000\",'自社カレンダー sample'!$A$12:$A$9999),\"\")","v":""}]
[null,null,null,null,{"$f":"IF(C437<>\"\",NETWORKDAYS.INTL(C437,D437,\"0000000\",'自社カレンダー sample'!$A$12:$A$9999),\"\")","v":""}]
[null,null,null,null,{"$f":"IF(C438<>\"\",NETWORKDAYS.INTL(C438,D438,\"0000000\",'自社カレンダー sample'!$A$12:$A$9999),\"\")","v":""}]
[null,null,null,null,{"$f":"IF(C439<>\"\",NETWORKDAYS.INTL(C439,D439,\"0000000\",'自社カレンダー sample'!$A$12:$A$9999),\"\")","v":""}]
[null,null,null,null,{"$f":"IF(C440<>\"\",NETWORKDAYS.INTL(C440,D440,\"0000000\",'自社カレンダー sample'!$A$12:$A$9999),\"\")","v":""}]
[null,null,null,null,{"$f":"IF(C441<>\"\",NETWORKDAYS.INTL(C441,D441,\"0000000\",'自社カレンダー sample'!$A$12:$A$9999),\"\")","v":""}]
[null,null,null,null,{"$f":"IF(C442<>\"\",NETWORKDAYS.INTL(C442,D442,\"0000000\",'自社カレンダー sample'!$A$12:$A$9999),\"\")","v":""}]
[null,null,null,null,{"$f":"IF(C443<>\"\",NETWORKDAYS.INTL(C443,D443,\"0000000\",'自社カレンダー sample'!$A$12:$A$9999),\"\")","v":""}]
[null,null,null,null,{"$f":"IF(C444<>\"\",NETWORKDAYS.INTL(C444,D444,\"0000000\",'自社カレンダー sample'!$A$12:$A$9999),\"\")","v":""}]
[null,null,null,null,{"$f":"IF(C445<>\"\",NETWORKDAYS.INTL(C445,D445,\"0000000\",'自社カレンダー sample'!$A$12:$A$9999),\"\")","v":""}]
[null,null,null,null,{"$f":"IF(C446<>\"\",NETWORKDAYS.INTL(C446,D446,\"0000000\",'自社カレンダー sample'!$A$12:$A$9999),\"\")","v":""}]
[null,null,null,null,{"$f":"IF(C447<>\"\",NETWORKDAYS.INTL(C447,D447,\"0000000\",'自社カレンダー sample'!$A$12:$A$9999),\"\")","v":""}]
[null,null,null,null,{"$f":"IF(C448<>\"\",NETWORKDAYS.INTL(C448,D448,\"0000000\",'自社カレンダー sample'!$A$12:$A$9999),\"\")","v":""}]
[null,null,null,null,{"$f":"IF(C449<>\"\",NETWORKDAYS.INTL(C449,D449,\"0000000\",'自社カレンダー sample'!$A$12:$A$9999),\"\")","v":""}]
[null,null,null,null,{"$f":"IF(C450<>\"\",NETWORKDAYS.INTL(C450,D450,\"0000000\",'自社カレンダー sample'!$A$12:$A$9999),\"\")","v":""}]
[null,null,null,null,{"$f":"IF(C451<>\"\",NETWORKDAYS.INTL(C451,D451,\"0000000\",'自社カレンダー sample'!$A$12:$A$9999),\"\")","v":""}]
[null,null,null,null,{"$f":"IF(C452<>\"\",NETWORKDAYS.INTL(C452,D452,\"0000000\",'自社カレンダー sample'!$A$12:$A$9999),\"\")","v":""}]
[null,null,null,null,{"$f":"IF(C453<>\"\",NETWORKDAYS.INTL(C453,D453,\"0000000\",'自社カレンダー sample'!$A$12:$A$9999),\"\")","v":""}]
[null,null,null,null,{"$f":"IF(C454<>\"\",NETWORKDAYS.INTL(C454,D454,\"0000000\",'自社カレンダー sample'!$A$12:$A$9999),\"\")","v":""}]
[null,null,null,null,{"$f":"IF(C455<>\"\",NETWORKDAYS.INTL(C455,D455,\"0000000\",'自社カレンダー sample'!$A$12:$A$9999),\"\")","v":""}]
[null,null,null,null,{"$f":"IF(C456<>\"\",NETWORKDAYS.INTL(C456,D456,\"0000000\",'自社カレンダー sample'!$A$12:$A$9999),\"\")","v":""}]
[null,null,null,null,{"$f":"IF(C457<>\"\",NETWORKDAYS.INTL(C457,D457,\"0000000\",'自社カレンダー sample'!$A$12:$A$9999),\"\")","v":""}]
[null,null,null,null,{"$f":"IF(C458<>\"\",NETWORKDAYS.INTL(C458,D458,\"0000000\",'自社カレンダー sample'!$A$12:$A$9999),\"\")","v":""}]
[null,null,null,null,{"$f":"IF(C459<>\"\",NETWORKDAYS.INTL(C459,D459,\"0000000\",'自社カレンダー sample'!$A$12:$A$9999),\"\")","v":""}]
[null,null,null,null,{"$f":"IF(C460<>\"\",NETWORKDAYS.INTL(C460,D460,\"0000000\",'自社カレンダー sample'!$A$12:$A$9999),\"\")","v":""}]
[null,null,null,null,{"$f":"IF(C461<>\"\",NETWORKDAYS.INTL(C461,D461,\"0000000\",'自社カレンダー sample'!$A$12:$A$9999),\"\")","v":""}]
[null,null,null,null,{"$f":"IF(C462<>\"\",NETWORKDAYS.INTL(C462,D462,\"0000000\",'自社カレンダー sample'!$A$12:$A$9999),\"\")","v":""}]
[null,null,null,null,{"$f":"IF(C463<>\"\",NETWORKDAYS.INTL(C463,D463,\"0000000\",'自社カレンダー sample'!$A$12:$A$9999),\"\")","v":""}]
[null,null,null,null,{"$f":"IF(C464<>\"\",NETWORKDAYS.INTL(C464,D464,\"0000000\",'自社カレンダー sample'!$A$12:$A$9999),\"\")","v":""}]
[null,null,null,null,{"$f":"IF(C465<>\"\",NETWORKDAYS.INTL(C465,D465,\"0000000\",'自社カレンダー sample'!$A$12:$A$9999),\"\")","v":""}]
[null,null,null,null,{"$f":"IF(C466<>\"\",NETWORKDAYS.INTL(C466,D466,\"0000000\",'自社カレンダー sample'!$A$12:$A$9999),\"\")","v":""}]
[null,null,null,null,{"$f":"IF(C467<>\"\",NETWORKDAYS.INTL(C467,D467,\"0000000\",'自社カレンダー sample'!$A$12:$A$9999),\"\")","v":""}]
[null,null,null,null,{"$f":"IF(C468<>\"\",NETWORKDAYS.INTL(C468,D468,\"0000000\",'自社カレンダー sample'!$A$12:$A$9999),\"\")","v":""}]
[null,null,null,null,{"$f":"IF(C469<>\"\",NETWORKDAYS.INTL(C469,D469,\"0000000\",'自社カレンダー sample'!$A$12:$A$9999),\"\")","v":""}]
[null,null,null,null,{"$f":"IF(C470<>\"\",NETWORKDAYS.INTL(C470,D470,\"0000000\",'自社カレンダー sample'!$A$12:$A$9999),\"\")","v":""}]
[null,null,null,null,{"$f":"IF(C471<>\"\",NETWORKDAYS.INTL(C471,D471,\"0000000\",'自社カレンダー sample'!$A$12:$A$9999),\"\")","v":""}]
[null,null,null,null,{"$f":"IF(C472<>\"\",NETWORKDAYS.INTL(C472,D472,\"0000000\",'自社カレンダー sample'!$A$12:$A$9999),\"\")","v":""}]
[null,null,null,null,{"$f":"IF(C473<>\"\",NETWORKDAYS.INTL(C473,D473,\"0000000\",'自社カレンダー sample'!$A$12:$A$9999),\"\")","v":""}]
[null,null,null,null,{"$f":"IF(C474<>\"\",NETWORKDAYS.INTL(C474,D474,\"0000000\",'自社カレンダー sample'!$A$12:$A$9999),\"\")","v":""}]
[null,null,null,null,{"$f":"IF(C475<>\"\",NETWORKDAYS.INTL(C475,D475,\"0000000\",'自社カレンダー sample'!$A$12:$A$9999),\"\")","v":""}]
[null,null,null,null,{"$f":"IF(C476<>\"\",NETWORKDAYS.INTL(C476,D476,\"0000000\",'自社カレンダー sample'!$A$12:$A$9999),\"\")","v":""}]
[null,null,null,null,{"$f":"IF(C477<>\"\",NETWORKDAYS.INTL(C477,D477,\"0000000\",'自社カレンダー sample'!$A$12:$A$9999),\"\")","v":""}]
[null,null,null,null,{"$f":"IF(C478<>\"\",NETWORKDAYS.INTL(C478,D478,\"0000000\",'自社カレンダー sample'!$A$12:$A$9999),\"\")","v":""}]
[null,null,null,null,{"$f":"IF(C479<>\"\",NETWORKDAYS.INTL(C479,D479,\"0000000\",'自社カレンダー sample'!$A$12:$A$9999),\"\")","v":""}]
[null,null,null,null,{"$f":"IF(C480<>\"\",NETWORKDAYS.INTL(C480,D480,\"0000000\",'自社カレンダー sample'!$A$12:$A$9999),\"\")","v":""}]
[null,null,null,null,{"$f":"IF(C481<>\"\",NETWORKDAYS.INTL(C481,D481,\"0000000\",'自社カレンダー sample'!$A$12:$A$9999),\"\")","v":""}]
[null,null,null,null,{"$f":"IF(C482<>\"\",NETWORKDAYS.INTL(C482,D482,\"0000000\",'自社カレンダー sample'!$A$12:$A$9999),\"\")","v":""}]
[null,null,null,null,{"$f":"IF(C483<>\"\",NETWORKDAYS.INTL(C483,D483,\"0000000\",'自社カレンダー sample'!$A$12:$A$9999),\"\")","v":""}]
[null,null,null,null,{"$f":"IF(C484<>\"\",NETWORKDAYS.INTL(C484,D484,\"0000000\",'自社カレンダー sample'!$A$12:$A$9999),\"\")","v":""}]
[null,null,null,null,{"$f":"IF(C485<>\"\",NETWORKDAYS.INTL(C485,D485,\"0000000\",'自社カレンダー sample'!$A$12:$A$9999),\"\")","v":""}]
[null,null,null,null,{"$f":"IF(C486<>\"\",NETWORKDAYS.INTL(C486,D486,\"0000000\",'自社カレンダー sample'!$A$12:$A$9999),\"\")","v":""}]
[null,null,null,null,{"$f":"IF(C487<>\"\",NETWORKDAYS.INTL(C487,D487,\"0000000\",'自社カレンダー sample'!$A$12:$A$9999),\"\")","v":""}]
[null,null,null,null,{"$f":"IF(C488<>\"\",NETWORKDAYS.INTL(C488,D488,\"0000000\",'自社カレンダー sample'!$A$12:$A$9999),\"\")","v":""}]
[null,null,null,null,{"$f":"IF(C489<>\"\",NETWORKDAYS.INTL(C489,D489,\"0000000\",'自社カレンダー sample'!$A$12:$A$9999),\"\")","v":""}]
[null,null,null,null,{"$f":"IF(C490<>\"\",NETWORKDAYS.INTL(C490,D490,\"0000000\",'自社カレンダー sample'!$A$12:$A$9999),\"\")","v":""}]
[null,null,null,null,{"$f":"IF(C491<>\"\",NETWORKDAYS.INTL(C491,D491,\"0000000\",'自社カレンダー sample'!$A$12:$A$9999),\"\")","v":""}]
[null,null,null,null,{"$f":"IF(C492<>\"\",NETWORKDAYS.INTL(C492,D492,\"0000000\",'自社カレンダー sample'!$A$12:$A$9999),\"\")","v":""}]
[null,null,null,null,{"$f":"IF(C493<>\"\",NETWORKDAYS.INTL(C493,D493,\"0000000\",'自社カレンダー sample'!$A$12:$A$9999),\"\")","v":""}]
[null,null,null,null,{"$f":"IF(C494<>\"\",NETWORKDAYS.INTL(C494,D494,\"0000000\",'自社カレンダー sample'!$A$12:$A$9999),\"\")","v":""}]
[null,null,null,null,{"$f":"IF(C495<>\"\",NETWORKDAYS.INTL(C495,D495,\"0000000\",'自社カレンダー sample'!$A$12:$A$9999),\"\")","v":""}]
[null,null,null,null,{"$f":"IF(C496<>\"\",NETWORKDAYS.INTL(C496,D496,\"0000000\",'自社カレンダー sample'!$A$12:$A$9999),\"\")","v":""}]
[null,null,null,null,{"$f":"IF(C497<>\"\",NETWORKDAYS.INTL(C497,D497,\"0000000\",'自社カレンダー sample'!$A$12:$A$9999),\"\")","v":""}]
[null,null,null,null,{"$f":"IF(C498<>\"\",NETWORKDAYS.INTL(C498,D498,\"0000000\",'自社カレンダー sample'!$A$12:$A$9999),\"\")","v":""}]
[null,null,null,null,{"$f":"IF(C499<>\"\",NETWORKDAYS.INTL(C499,D499,\"0000000\",'自社カレンダー sample'!$A$12:$A$9999),\"\")","v":""}]
[null,null,null,null,{"$f":"IF(C500<>\"\",NETWORKDAYS.INTL(C500,D500,\"0000000\",'自社カレンダー sample'!$A$12:$A$9999),\"\")","v":""}]
[null,null,null,null,{"$f":"IF(C501<>\"\",NETWORKDAYS.INTL(C501,D501,\"0000000\",'自社カレンダー sample'!$A$12:$A$9999),\"\")","v":""}]
[null,null,null,null,{"$f":"IF(C502<>\"\",NETWORKDAYS.INTL(C502,D502,\"0000000\",'自社カレンダー sample'!$A$12:$A$9999),\"\")","v":""}]
[null,null,null,null,{"$f":"IF(C503<>\"\",NETWORKDAYS.INTL(C503,D503,\"0000000\",'自社カレンダー sample'!$A$12:$A$9999),\"\")","v":""}]
[null,null,null,null,{"$f":"IF(C504<>\"\",NETWORKDAYS.INTL(C504,D504,\"0000000\",'自社カレンダー sample'!$A$12:$A$9999),\"\")","v":""}]
[null,null,null,null,{"$f":"IF(C505<>\"\",NETWORKDAYS.INTL(C505,D505,\"0000000\",'自社カレンダー sample'!$A$12:$A$9999),\"\")","v":""}]
[null,null,null,null,{"$f":"IF(C506<>\"\",NETWORKDAYS.INTL(C506,D506,\"0000000\",'自社カレンダー sample'!$A$12:$A$9999),\"\")","v":""}]
[null,null,null,null,{"$f":"IF(C507<>\"\",NETWORKDAYS.INTL(C507,D507,\"0000000\",'自社カレンダー sample'!$A$12:$A$9999),\"\")","v":""}]
[null,null,null,null,{"$f":"IF(C508<>\"\",NETWORKDAYS.INTL(C508,D508,\"0000000\",'自社カレンダー sample'!$A$12:$A$9999),\"\")","v":""}]
[null,null,null,null,{"$f":"IF(C509<>\"\",NETWORKDAYS.INTL(C509,D509,\"0000000\",'自社カレンダー sample'!$A$12:$A$9999),\"\")","v":""}]
[null,null,null,null,{"$f":"IF(C510<>\"\",NETWORKDAYS.INTL(C510,D510,\"0000000\",'自社カレンダー sample'!$A$12:$A$9999),\"\")","v":""}]
[null,null,null,null,{"$f":"IF(C511<>\"\",NETWORKDAYS.INTL(C511,D511,\"0000000\",'自社カレンダー sample'!$A$12:$A$9999),\"\")","v":""}]
[null,null,null,null,{"$f":"IF(C512<>\"\",NETWORKDAYS.INTL(C512,D512,\"0000000\",'自社カレンダー sample'!$A$12:$A$9999),\"\")","v":""}]
[null,null,null,null,{"$f":"IF(C513<>\"\",NETWORKDAYS.INTL(C513,D513,\"0000000\",'自社カレンダー sample'!$A$12:$A$9999),\"\")","v":""}]
[null,null,null,null,{"$f":"IF(C514<>\"\",NETWORKDAYS.INTL(C514,D514,\"0000000\",'自社カレンダー sample'!$A$12:$A$9999),\"\")","v":""}]
[null,null,null,null,{"$f":"IF(C515<>\"\",NETWORKDAYS.INTL(C515,D515,\"0000000\",'自社カレンダー sample'!$A$12:$A$9999),\"\")","v":""}]
[null,null,null,null,{"$f":"IF(C516<>\"\",NETWORKDAYS.INTL(C516,D516,\"0000000\",'自社カレンダー sample'!$A$12:$A$9999),\"\")","v":""}]
[null,null,null,null,{"$f":"IF(C517<>\"\",NETWORKDAYS.INTL(C517,D517,\"0000000\",'自社カレンダー sample'!$A$12:$A$9999),\"\")","v":""}]
[null,null,null,null,{"$f":"IF(C518<>\"\",NETWORKDAYS.INTL(C518,D518,\"0000000\",'自社カレンダー sample'!$A$12:$A$9999),\"\")","v":""}]
[null,null,null,null,{"$f":"IF(C519<>\"\",NETWORKDAYS.INTL(C519,D519,\"0000000\",'自社カレンダー sample'!$A$12:$A$9999),\"\")","v":""}]
[null,null,null,null,{"$f":"IF(C520<>\"\",NETWORKDAYS.INTL(C520,D520,\"0000000\",'自社カレンダー sample'!$A$12:$A$9999),\"\")","v":""}]
[null,null,null,null,{"$f":"IF(C521<>\"\",NETWORKDAYS.INTL(C521,D521,\"0000000\",'自社カレンダー sample'!$A$12:$A$9999),\"\")","v":""}]
[null,null,null,null,{"$f":"IF(C522<>\"\",NETWORKDAYS.INTL(C522,D522,\"0000000\",'自社カレンダー sample'!$A$12:$A$9999),\"\")","v":""}]
[null,null,null,null,{"$f":"IF(C523<>\"\",NETWORKDAYS.INTL(C523,D523,\"0000000\",'自社カレンダー sample'!$A$12:$A$9999),\"\")","v":""}]
[null,null,null,null,{"$f":"IF(C524<>\"\",NETWORKDAYS.INTL(C524,D524,\"0000000\",'自社カレンダー sample'!$A$12:$A$9999),\"\")","v":""}]
[null,null,null,null,{"$f":"IF(C525<>\"\",NETWORKDAYS.INTL(C525,D525,\"0000000\",'自社カレンダー sample'!$A$12:$A$9999),\"\")","v":""}]
[null,null,null,null,{"$f":"IF(C526<>\"\",NETWORKDAYS.INTL(C526,D526,\"0000000\",'自社カレンダー sample'!$A$12:$A$9999),\"\")","v":""}]
[null,null,null,null,{"$f":"IF(C527<>\"\",NETWORKDAYS.INTL(C527,D527,\"0000000\",'自社カレンダー sample'!$A$12:$A$9999),\"\")","v":""}]
[null,null,null,null,{"$f":"IF(C528<>\"\",NETWORKDAYS.INTL(C528,D528,\"0000000\",'自社カレンダー sample'!$A$12:$A$9999),\"\")","v":""}]
[null,null,null,null,{"$f":"IF(C529<>\"\",NETWORKDAYS.INTL(C529,D529,\"0000000\",'自社カレンダー sample'!$A$12:$A$9999),\"\")","v":""}]
[null,null,null,null,{"$f":"IF(C530<>\"\",NETWORKDAYS.INTL(C530,D530,\"0000000\",'自社カレンダー sample'!$A$12:$A$9999),\"\")","v":""}]
[null,null,null,null,{"$f":"IF(C531<>\"\",NETWORKDAYS.INTL(C531,D531,\"0000000\",'自社カレンダー sample'!$A$12:$A$9999),\"\")","v":""}]
[null,null,null,null,{"$f":"IF(C532<>\"\",NETWORKDAYS.INTL(C532,D532,\"0000000\",'自社カレンダー sample'!$A$12:$A$9999),\"\")","v":""}]
[null,null,null,null,{"$f":"IF(C533<>\"\",NETWORKDAYS.INTL(C533,D533,\"0000000\",'自社カレンダー sample'!$A$12:$A$9999),\"\")","v":""}]
[null,null,null,null,{"$f":"IF(C534<>\"\",NETWORKDAYS.INTL(C534,D534,\"0000000\",'自社カレンダー sample'!$A$12:$A$9999),\"\")","v":""}]
[null,null,null,null,{"$f":"IF(C535<>\"\",NETWORKDAYS.INTL(C535,D535,\"0000000\",'自社カレンダー sample'!$A$12:$A$9999),\"\")","v":""}]
[null,null,null,null,{"$f":"IF(C536<>\"\",NETWORKDAYS.INTL(C536,D536,\"0000000\",'自社カレンダー sample'!$A$12:$A$9999),\"\")","v":""}]
[null,null,null,null,{"$f":"IF(C537<>\"\",NETWORKDAYS.INTL(C537,D537,\"0000000\",'自社カレンダー sample'!$A$12:$A$9999),\"\")","v":""}]
[null,null,null,null,{"$f":"IF(C538<>\"\",NETWORKDAYS.INTL(C538,D538,\"0000000\",'自社カレンダー sample'!$A$12:$A$9999),\"\")","v":""}]
[null,null,null,null,{"$f":"IF(C539<>\"\",NETWORKDAYS.INTL(C539,D539,\"0000000\",'自社カレンダー sample'!$A$12:$A$9999),\"\")","v":""}]
[null,null,null,null,{"$f":"IF(C540<>\"\",NETWORKDAYS.INTL(C540,D540,\"0000000\",'自社カレンダー sample'!$A$12:$A$9999),\"\")","v":""}]
[null,null,null,null,{"$f":"IF(C541<>\"\",NETWORKDAYS.INTL(C541,D541,\"0000000\",'自社カレンダー sample'!$A$12:$A$9999),\"\")","v":""}]
[null,null,null,null,{"$f":"IF(C542<>\"\",NETWORKDAYS.INTL(C542,D542,\"0000000\",'自社カレンダー sample'!$A$12:$A$9999),\"\")","v":""}]
[null,null,null,null,{"$f":"IF(C543<>\"\",NETWORKDAYS.INTL(C543,D543,\"0000000\",'自社カレンダー sample'!$A$12:$A$9999),\"\")","v":""}]
[null,null,null,null,{"$f":"IF(C544<>\"\",NETWORKDAYS.INTL(C544,D544,\"0000000\",'自社カレンダー sample'!$A$12:$A$9999),\"\")","v":""}]
[null,null,null,null,{"$f":"IF(C545<>\"\",NETWORKDAYS.INTL(C545,D545,\"0000000\",'自社カレンダー sample'!$A$12:$A$9999),\"\")","v":""}]
[null,null,null,null,{"$f":"IF(C546<>\"\",NETWORKDAYS.INTL(C546,D546,\"0000000\",'自社カレンダー sample'!$A$12:$A$9999),\"\")","v":""}]
[null,null,null,null,{"$f":"IF(C547<>\"\",NETWORKDAYS.INTL(C547,D547,\"0000000\",'自社カレンダー sample'!$A$12:$A$9999),\"\")","v":""}]
[null,null,null,null,{"$f":"IF(C548<>\"\",NETWORKDAYS.INTL(C548,D548,\"0000000\",'自社カレンダー sample'!$A$12:$A$9999),\"\")","v":""}]
[null,null,null,null,{"$f":"IF(C549<>\"\",NETWORKDAYS.INTL(C549,D549,\"0000000\",'自社カレンダー sample'!$A$12:$A$9999),\"\")","v":""}]
[null,null,null,null,{"$f":"IF(C550<>\"\",NETWORKDAYS.INTL(C550,D550,\"0000000\",'自社カレンダー sample'!$A$12:$A$9999),\"\")","v":""}]
[null,null,null,null,{"$f":"IF(C551<>\"\",NETWORKDAYS.INTL(C551,D551,\"0000000\",'自社カレンダー sample'!$A$12:$A$9999),\"\")","v":""}]
[null,null,null,null,{"$f":"IF(C552<>\"\",NETWORKDAYS.INTL(C552,D552,\"0000000\",'自社カレンダー sample'!$A$12:$A$9999),\"\")","v":""}]
[null,null,null,null,{"$f":"IF(C553<>\"\",NETWORKDAYS.INTL(C553,D553,\"0000000\",'自社カレンダー sample'!$A$12:$A$9999),\"\")","v":""}]
[null,null,null,null,{"$f":"IF(C554<>\"\",NETWORKDAYS.INTL(C554,D554,\"0000000\",'自社カレンダー sample'!$A$12:$A$9999),\"\")","v":""}]
[null,null,null,null,{"$f":"IF(C555<>\"\",NETWORKDAYS.INTL(C555,D555,\"0000000\",'自社カレンダー sample'!$A$12:$A$9999),\"\")","v":""}]
[null,null,null,null,{"$f":"IF(C556<>\"\",NETWORKDAYS.INTL(C556,D556,\"0000000\",'自社カレンダー sample'!$A$12:$A$9999),\"\")","v":""}]
[null,null,null,null,{"$f":"IF(C557<>\"\",NETWORKDAYS.INTL(C557,D557,\"0000000\",'自社カレンダー sample'!$A$12:$A$9999),\"\")","v":""}]
[null,null,null,null,{"$f":"IF(C558<>\"\",NETWORKDAYS.INTL(C558,D558,\"0000000\",'自社カレンダー sample'!$A$12:$A$9999),\"\")","v":""}]
[null,null,null,null,{"$f":"IF(C559<>\"\",NETWORKDAYS.INTL(C559,D559,\"0000000\",'自社カレンダー sample'!$A$12:$A$9999),\"\")","v":""}]
[null,null,null,null,{"$f":"IF(C560<>\"\",NETWORKDAYS.INTL(C560,D560,\"0000000\",'自社カレンダー sample'!$A$12:$A$9999),\"\")","v":""}]
[null,null,null,null,{"$f":"IF(C561<>\"\",NETWORKDAYS.INTL(C561,D561,\"0000000\",'自社カレンダー sample'!$A$12:$A$9999),\"\")","v":""}]
[null,null,null,null,{"$f":"IF(C562<>\"\",NETWORKDAYS.INTL(C562,D562,\"0000000\",'自社カレンダー sample'!$A$12:$A$9999),\"\")","v":""}]
[null,null,null,null,{"$f":"IF(C563<>\"\",NETWORKDAYS.INTL(C563,D563,\"0000000\",'自社カレンダー sample'!$A$12:$A$9999),\"\")","v":""}]
[null,null,null,null,{"$f":"IF(C564<>\"\",NETWORKDAYS.INTL(C564,D564,\"0000000\",'自社カレンダー sample'!$A$12:$A$9999),\"\")","v":""}]
[null,null,null,null,{"$f":"IF(C565<>\"\",NETWORKDAYS.INTL(C565,D565,\"0000000\",'自社カレンダー sample'!$A$12:$A$9999),\"\")","v":""}]
[null,null,null,null,{"$f":"IF(C566<>\"\",NETWORKDAYS.INTL(C566,D566,\"0000000\",'自社カレンダー sample'!$A$12:$A$9999),\"\")","v":""}]
[null,null,null,null,{"$f":"IF(C567<>\"\",NETWORKDAYS.INTL(C567,D567,\"0000000\",'自社カレンダー sample'!$A$12:$A$9999),\"\")","v":""}]
[null,null,null,null,{"$f":"IF(C568<>\"\",NETWORKDAYS.INTL(C568,D568,\"0000000\",'自社カレンダー sample'!$A$12:$A$9999),\"\")","v":""}]
[null,null,null,null,{"$f":"IF(C569<>\"\",NETWORKDAYS.INTL(C569,D569,\"0000000\",'自社カレンダー sample'!$A$12:$A$9999),\"\")","v":""}]
[null,null,null,null,{"$f":"IF(C570<>\"\",NETWORKDAYS.INTL(C570,D570,\"0000000\",'自社カレンダー sample'!$A$12:$A$9999),\"\")","v":""}]
[null,null,null,null,{"$f":"IF(C571<>\"\",NETWORKDAYS.INTL(C571,D571,\"0000000\",'自社カレンダー sample'!$A$12:$A$9999),\"\")","v":""}]
[null,null,null,null,{"$f":"IF(C572<>\"\",NETWORKDAYS.INTL(C572,D572,\"0000000\",'自社カレンダー sample'!$A$12:$A$9999),\"\")","v":""}]
[null,null,null,null,{"$f":"IF(C573<>\"\",NETWORKDAYS.INTL(C573,D573,\"0000000\",'自社カレンダー sample'!$A$12:$A$9999),\"\")","v":""}]
[null,null,null,null,{"$f":"IF(C574<>\"\",NETWORKDAYS.INTL(C574,D574,\"0000000\",'自社カレンダー sample'!$A$12:$A$9999),\"\")","v":""}]
[null,null,null,null,{"$f":"IF(C575<>\"\",NETWORKDAYS.INTL(C575,D575,\"0000000\",'自社カレンダー sample'!$A$12:$A$9999),\"\")","v":""}]
[null,null,null,null,{"$f":"IF(C576<>\"\",NETWORKDAYS.INTL(C576,D576,\"0000000\",'自社カレンダー sample'!$A$12:$A$9999),\"\")","v":""}]
[null,null,null,null,{"$f":"IF(C577<>\"\",NETWORKDAYS.INTL(C577,D577,\"0000000\",'自社カレンダー sample'!$A$12:$A$9999),\"\")","v":""}]
[null,null,null,null,{"$f":"IF(C578<>\"\",NETWORKDAYS.INTL(C578,D578,\"0000000\",'自社カレンダー sample'!$A$12:$A$9999),\"\")","v":""}]
[null,null,null,null,{"$f":"IF(C579<>\"\",NETWORKDAYS.INTL(C579,D579,\"0000000\",'自社カレンダー sample'!$A$12:$A$9999),\"\")","v":""}]
[null,null,null,null,{"$f":"IF(C580<>\"\",NETWORKDAYS.INTL(C580,D580,\"0000000\",'自社カレンダー sample'!$A$12:$A$9999),\"\")","v":""}]
[null,null,null,null,{"$f":"IF(C581<>\"\",NETWORKDAYS.INTL(C581,D581,\"0000000\",'自社カレンダー sample'!$A$12:$A$9999),\"\")","v":""}]
[null,null,null,null,{"$f":"IF(C582<>\"\",NETWORKDAYS.INTL(C582,D582,\"0000000\",'自社カレンダー sample'!$A$12:$A$9999),\"\")","v":""}]
[null,null,null,null,{"$f":"IF(C583<>\"\",NETWORKDAYS.INTL(C583,D583,\"0000000\",'自社カレンダー sample'!$A$12:$A$9999),\"\")","v":""}]
[null,null,null,null,{"$f":"IF(C584<>\"\",NETWORKDAYS.INTL(C584,D584,\"0000000\",'自社カレンダー sample'!$A$12:$A$9999),\"\")","v":""}]
[null,null,null,null,{"$f":"IF(C585<>\"\",NETWORKDAYS.INTL(C585,D585,\"0000000\",'自社カレンダー sample'!$A$12:$A$9999),\"\")","v":""}]
[null,null,null,null,{"$f":"IF(C586<>\"\",NETWORKDAYS.INTL(C586,D586,\"0000000\",'自社カレンダー sample'!$A$12:$A$9999),\"\")","v":""}]
[null,null,null,null,{"$f":"IF(C587<>\"\",NETWORKDAYS.INTL(C587,D587,\"0000000\",'自社カレンダー sample'!$A$12:$A$9999),\"\")","v":""}]
[null,null,null,null,{"$f":"IF(C588<>\"\",NETWORKDAYS.INTL(C588,D588,\"0000000\",'自社カレンダー sample'!$A$12:$A$9999),\"\")","v":""}]
[null,null,null,null,{"$f":"IF(C589<>\"\",NETWORKDAYS.INTL(C589,D589,\"0000000\",'自社カレンダー sample'!$A$12:$A$9999),\"\")","v":""}]
[null,null,null,null,{"$f":"IF(C590<>\"\",NETWORKDAYS.INTL(C590,D590,\"0000000\",'自社カレンダー sample'!$A$12:$A$9999),\"\")","v":""}]
[null,null,null,null,{"$f":"IF(C591<>\"\",NETWORKDAYS.INTL(C591,D591,\"0000000\",'自社カレンダー sample'!$A$12:$A$9999),\"\")","v":""}]
[null,null,null,null,{"$f":"IF(C592<>\"\",NETWORKDAYS.INTL(C592,D592,\"0000000\",'自社カレンダー sample'!$A$12:$A$9999),\"\")","v":""}]
[null,null,null,null,{"$f":"IF(C593<>\"\",NETWORKDAYS.INTL(C593,D593,\"0000000\",'自社カレンダー sample'!$A$12:$A$9999),\"\")","v":""}]
[null,null,null,null,{"$f":"IF(C594<>\"\",NETWORKDAYS.INTL(C594,D594,\"0000000\",'自社カレンダー sample'!$A$12:$A$9999),\"\")","v":""}]
[null,null,null,null,{"$f":"IF(C595<>\"\",NETWORKDAYS.INTL(C595,D595,\"0000000\",'自社カレンダー sample'!$A$12:$A$9999),\"\")","v":""}]
[null,null,null,null,{"$f":"IF(C596<>\"\",NETWORKDAYS.INTL(C596,D596,\"0000000\",'自社カレンダー sample'!$A$12:$A$9999),\"\")","v":""}]
[null,null,null,null,{"$f":"IF(C597<>\"\",NETWORKDAYS.INTL(C597,D597,\"0000000\",'自社カレンダー sample'!$A$12:$A$9999),\"\")","v":""}]
[null,null,null,null,{"$f":"IF(C598<>\"\",NETWORKDAYS.INTL(C598,D598,\"0000000\",'自社カレンダー sample'!$A$12:$A$9999),\"\")","v":""}]
[null,null,null,null,{"$f":"IF(C599<>\"\",NETWORKDAYS.INTL(C599,D599,\"0000000\",'自社カレンダー sample'!$A$12:$A$9999),\"\")","v":""}]
[null,null,null,null,{"$f":"IF(C600<>\"\",NETWORKDAYS.INTL(C600,D600,\"0000000\",'自社カレンダー sample'!$A$12:$A$9999),\"\")","v":""}]
[null,null,null,null,{"$f":"IF(C601<>\"\",NETWORKDAYS.INTL(C601,D601,\"0000000\",'自社カレンダー sample'!$A$12:$A$9999),\"\")","v":""}]
[null,null,null,null,{"$f":"IF(C602<>\"\",NETWORKDAYS.INTL(C602,D602,\"0000000\",'自社カレンダー sample'!$A$12:$A$9999),\"\")","v":""}]
[null,null,null,null,{"$f":"IF(C603<>\"\",NETWORKDAYS.INTL(C603,D603,\"0000000\",'自社カレンダー sample'!$A$12:$A$9999),\"\")","v":""}]
[null,null,null,null,{"$f":"IF(C604<>\"\",NETWORKDAYS.INTL(C604,D604,\"0000000\",'自社カレンダー sample'!$A$12:$A$9999),\"\")","v":""}]
[null,null,null,null,{"$f":"IF(C605<>\"\",NETWORKDAYS.INTL(C605,D605,\"0000000\",'自社カレンダー sample'!$A$12:$A$9999),\"\")","v":""}]
[null,null,null,null,{"$f":"IF(C606<>\"\",NETWORKDAYS.INTL(C606,D606,\"0000000\",'自社カレンダー sample'!$A$12:$A$9999),\"\")","v":""}]
[null,null,null,null,{"$f":"IF(C607<>\"\",NETWORKDAYS.INTL(C607,D607,\"0000000\",'自社カレンダー sample'!$A$12:$A$9999),\"\")","v":""}]
[null,null,null,null,{"$f":"IF(C608<>\"\",NETWORKDAYS.INTL(C608,D608,\"0000000\",'自社カレンダー sample'!$A$12:$A$9999),\"\")","v":""}]
[null,null,null,null,{"$f":"IF(C609<>\"\",NETWORKDAYS.INTL(C609,D609,\"0000000\",'自社カレンダー sample'!$A$12:$A$9999),\"\")","v":""}]
[null,null,null,null,{"$f":"IF(C610<>\"\",NETWORKDAYS.INTL(C610,D610,\"0000000\",'自社カレンダー sample'!$A$12:$A$9999),\"\")","v":""}]
[null,null,null,null,{"$f":"IF(C611<>\"\",NETWORKDAYS.INTL(C611,D611,\"0000000\",'自社カレンダー sample'!$A$12:$A$9999),\"\")","v":""}]
[null,null,null,null,{"$f":"IF(C612<>\"\",NETWORKDAYS.INTL(C612,D612,\"0000000\",'自社カレンダー sample'!$A$12:$A$9999),\"\")","v":""}]
[null,null,null,null,{"$f":"IF(C613<>\"\",NETWORKDAYS.INTL(C613,D613,\"0000000\",'自社カレンダー sample'!$A$12:$A$9999),\"\")","v":""}]
[null,null,null,null,{"$f":"IF(C614<>\"\",NETWORKDAYS.INTL(C614,D614,\"0000000\",'自社カレンダー sample'!$A$12:$A$9999),\"\")","v":""}]
[null,null,null,null,{"$f":"IF(C615<>\"\",NETWORKDAYS.INTL(C615,D615,\"0000000\",'自社カレンダー sample'!$A$12:$A$9999),\"\")","v":""}]
[null,null,null,null,{"$f":"IF(C616<>\"\",NETWORKDAYS.INTL(C616,D616,\"0000000\",'自社カレンダー sample'!$A$12:$A$9999),\"\")","v":""}]
[null,null,null,null,{"$f":"IF(C617<>\"\",NETWORKDAYS.INTL(C617,D617,\"0000000\",'自社カレンダー sample'!$A$12:$A$9999),\"\")","v":""}]
[null,null,null,null,{"$f":"IF(C618<>\"\",NETWORKDAYS.INTL(C618,D618,\"0000000\",'自社カレンダー sample'!$A$12:$A$9999),\"\")","v":""}]
[null,null,null,null,{"$f":"IF(C619<>\"\",NETWORKDAYS.INTL(C619,D619,\"0000000\",'自社カレンダー sample'!$A$12:$A$9999),\"\")","v":""}]
[null,null,null,null,{"$f":"IF(C620<>\"\",NETWORKDAYS.INTL(C620,D620,\"0000000\",'自社カレンダー sample'!$A$12:$A$9999),\"\")","v":""}]
[null,null,null,null,{"$f":"IF(C621<>\"\",NETWORKDAYS.INTL(C621,D621,\"0000000\",'自社カレンダー sample'!$A$12:$A$9999),\"\")","v":""}]
[null,null,null,null,{"$f":"IF(C622<>\"\",NETWORKDAYS.INTL(C622,D622,\"0000000\",'自社カレンダー sample'!$A$12:$A$9999),\"\")","v":""}]
[null,null,null,null,{"$f":"IF(C623<>\"\",NETWORKDAYS.INTL(C623,D623,\"0000000\",'自社カレンダー sample'!$A$12:$A$9999),\"\")","v":""}]
[null,null,null,null,{"$f":"IF(C624<>\"\",NETWORKDAYS.INTL(C624,D624,\"0000000\",'自社カレンダー sample'!$A$12:$A$9999),\"\")","v":""}]
[null,null,null,null,{"$f":"IF(C625<>\"\",NETWORKDAYS.INTL(C625,D625,\"0000000\",'自社カレンダー sample'!$A$12:$A$9999),\"\")","v":""}]
[null,null,null,null,{"$f":"IF(C626<>\"\",NETWORKDAYS.INTL(C626,D626,\"0000000\",'自社カレンダー sample'!$A$12:$A$9999),\"\")","v":""}]
[null,null,null,null,{"$f":"IF(C627<>\"\",NETWORKDAYS.INTL(C627,D627,\"0000000\",'自社カレンダー sample'!$A$12:$A$9999),\"\")","v":""}]
[null,null,null,null,{"$f":"IF(C628<>\"\",NETWORKDAYS.INTL(C628,D628,\"0000000\",'自社カレンダー sample'!$A$12:$A$9999),\"\")","v":""}]
[null,null,null,null,{"$f":"IF(C629<>\"\",NETWORKDAYS.INTL(C629,D629,\"0000000\",'自社カレンダー sample'!$A$12:$A$9999),\"\")","v":""}]
[null,null,null,null,{"$f":"IF(C630<>\"\",NETWORKDAYS.INTL(C630,D630,\"0000000\",'自社カレンダー sample'!$A$12:$A$9999),\"\")","v":""}]
[null,null,null,null,{"$f":"IF(C631<>\"\",NETWORKDAYS.INTL(C631,D631,\"0000000\",'自社カレンダー sample'!$A$12:$A$9999),\"\")","v":""}]
[null,null,null,null,{"$f":"IF(C632<>\"\",NETWORKDAYS.INTL(C632,D632,\"0000000\",'自社カレンダー sample'!$A$12:$A$9999),\"\")","v":""}]
[null,null,null,null,{"$f":"IF(C633<>\"\",NETWORKDAYS.INTL(C633,D633,\"0000000\",'自社カレンダー sample'!$A$12:$A$9999),\"\")","v":""}]
[null,null,null,null,{"$f":"IF(C634<>\"\",NETWORKDAYS.INTL(C634,D634,\"0000000\",'自社カレンダー sample'!$A$12:$A$9999),\"\")","v":""}]
[null,null,null,null,{"$f":"IF(C635<>\"\",NETWORKDAYS.INTL(C635,D635,\"0000000\",'自社カレンダー sample'!$A$12:$A$9999),\"\")","v":""}]
[null,null,null,null,{"$f":"IF(C636<>\"\",NETWORKDAYS.INTL(C636,D636,\"0000000\",'自社カレンダー sample'!$A$12:$A$9999),\"\")","v":""}]
[null,null,null,null,{"$f":"IF(C637<>\"\",NETWORKDAYS.INTL(C637,D637,\"0000000\",'自社カレンダー sample'!$A$12:$A$9999),\"\")","v":""}]
[null,null,null,null,{"$f":"IF(C638<>\"\",NETWORKDAYS.INTL(C638,D638,\"0000000\",'自社カレンダー sample'!$A$12:$A$9999),\"\")","v":""}]
[null,null,null,null,{"$f":"IF(C639<>\"\",NETWORKDAYS.INTL(C639,D639,\"0000000\",'自社カレンダー sample'!$A$12:$A$9999),\"\")","v":""}]
[null,null,null,null,{"$f":"IF(C640<>\"\",NETWORKDAYS.INTL(C640,D640,\"0000000\",'自社カレンダー sample'!$A$12:$A$9999),\"\")","v":""}]
[null,null,null,null,{"$f":"IF(C641<>\"\",NETWORKDAYS.INTL(C641,D641,\"0000000\",'自社カレンダー sample'!$A$12:$A$9999),\"\")","v":""}]
[null,null,null,null,{"$f":"IF(C642<>\"\",NETWORKDAYS.INTL(C642,D642,\"0000000\",'自社カレンダー sample'!$A$12:$A$9999),\"\")","v":""}]
[null,null,null,null,{"$f":"IF(C643<>\"\",NETWORKDAYS.INTL(C643,D643,\"0000000\",'自社カレンダー sample'!$A$12:$A$9999),\"\")","v":""}]
[null,null,null,null,{"$f":"IF(C644<>\"\",NETWORKDAYS.INTL(C644,D644,\"0000000\",'自社カレンダー sample'!$A$12:$A$9999),\"\")","v":""}]
[null,null,null,null,{"$f":"IF(C645<>\"\",NETWORKDAYS.INTL(C645,D645,\"0000000\",'自社カレンダー sample'!$A$12:$A$9999),\"\")","v":""}]
[null,null,null,null,{"$f":"IF(C646<>\"\",NETWORKDAYS.INTL(C646,D646,\"0000000\",'自社カレンダー sample'!$A$12:$A$9999),\"\")","v":""}]
[null,null,null,null,{"$f":"IF(C647<>\"\",NETWORKDAYS.INTL(C647,D647,\"0000000\",'自社カレンダー sample'!$A$12:$A$9999),\"\")","v":""}]
[null,null,null,null,{"$f":"IF(C648<>\"\",NETWORKDAYS.INTL(C648,D648,\"0000000\",'自社カレンダー sample'!$A$12:$A$9999),\"\")","v":""}]
[null,null,null,null,{"$f":"IF(C649<>\"\",NETWORKDAYS.INTL(C649,D649,\"0000000\",'自社カレンダー sample'!$A$12:$A$9999),\"\")","v":""}]
[null,null,null,null,{"$f":"IF(C650<>\"\",NETWORKDAYS.INTL(C650,D650,\"0000000\",'自社カレンダー sample'!$A$12:$A$9999),\"\")","v":""}]
[null,null,null,null,{"$f":"IF(C651<>\"\",NETWORKDAYS.INTL(C651,D651,\"0000000\",'自社カレンダー sample'!$A$12:$A$9999),\"\")","v":""}]
[null,null,null,null,{"$f":"IF(C652<>\"\",NETWORKDAYS.INTL(C652,D652,\"0000000\",'自社カレンダー sample'!$A$12:$A$9999),\"\")","v":""}]
[null,null,null,null,{"$f":"IF(C653<>\"\",NETWORKDAYS.INTL(C653,D653,\"0000000\",'自社カレンダー sample'!$A$12:$A$9999),\"\")","v":""}]
[null,null,null,null,{"$f":"IF(C654<>\"\",NETWORKDAYS.INTL(C654,D654,\"0000000\",'自社カレンダー sample'!$A$12:$A$9999),\"\")","v":""}]
[null,null,null,null,{"$f":"IF(C655<>\"\",NETWORKDAYS.INTL(C655,D655,\"0000000\",'自社カレンダー sample'!$A$12:$A$9999),\"\")","v":""}]
[null,null,null,null,{"$f":"IF(C656<>\"\",NETWORKDAYS.INTL(C656,D656,\"0000000\",'自社カレンダー sample'!$A$12:$A$9999),\"\")","v":""}]
[null,null,null,null,{"$f":"IF(C657<>\"\",NETWORKDAYS.INTL(C657,D657,\"0000000\",'自社カレンダー sample'!$A$12:$A$9999),\"\")","v":""}]
[null,null,null,null,{"$f":"IF(C658<>\"\",NETWORKDAYS.INTL(C658,D658,\"0000000\",'自社カレンダー sample'!$A$12:$A$9999),\"\")","v":""}]
[null,null,null,null,{"$f":"IF(C659<>\"\",NETWORKDAYS.INTL(C659,D659,\"0000000\",'自社カレンダー sample'!$A$12:$A$9999),\"\")","v":""}]
[null,null,null,null,{"$f":"IF(C660<>\"\",NETWORKDAYS.INTL(C660,D660,\"0000000\",'自社カレンダー sample'!$A$12:$A$9999),\"\")","v":""}]
[null,null,null,null,{"$f":"IF(C661<>\"\",NETWORKDAYS.INTL(C661,D661,\"0000000\",'自社カレンダー sample'!$A$12:$A$9999),\"\")","v":""}]
[null,null,null,null,{"$f":"IF(C662<>\"\",NETWORKDAYS.INTL(C662,D662,\"0000000\",'自社カレンダー sample'!$A$12:$A$9999),\"\")","v":""}]
[null,null,null,null,{"$f":"IF(C663<>\"\",NETWORKDAYS.INTL(C663,D663,\"0000000\",'自社カレンダー sample'!$A$12:$A$9999),\"\")","v":""}]
[null,null,null,null,{"$f":"IF(C664<>\"\",NETWORKDAYS.INTL(C664,D664,\"0000000\",'自社カレンダー sample'!$A$12:$A$9999),\"\")","v":""}]
[null,null,null,null,{"$f":"IF(C665<>\"\",NETWORKDAYS.INTL(C665,D665,\"0000000\",'自社カレンダー sample'!$A$12:$A$9999),\"\")","v":""}]
[null,null,null,null,{"$f":"IF(C666<>\"\",NETWORKDAYS.INTL(C666,D666,\"0000000\",'自社カレンダー sample'!$A$12:$A$9999),\"\")","v":""}]
[null,null,null,null,{"$f":"IF(C667<>\"\",NETWORKDAYS.INTL(C667,D667,\"0000000\",'自社カレンダー sample'!$A$12:$A$9999),\"\")","v":""}]
[null,null,null,null,{"$f":"IF(C668<>\"\",NETWORKDAYS.INTL(C668,D668,\"0000000\",'自社カレンダー sample'!$A$12:$A$9999),\"\")","v":""}]
[null,null,null,null,{"$f":"IF(C669<>\"\",NETWORKDAYS.INTL(C669,D669,\"0000000\",'自社カレンダー sample'!$A$12:$A$9999),\"\")","v":""}]
[null,null,null,null,{"$f":"IF(C670<>\"\",NETWORKDAYS.INTL(C670,D670,\"0000000\",'自社カレンダー sample'!$A$12:$A$9999),\"\")","v":""}]
[null,null,null,null,{"$f":"IF(C671<>\"\",NETWORKDAYS.INTL(C671,D671,\"0000000\",'自社カレンダー sample'!$A$12:$A$9999),\"\")","v":""}]
[null,null,null,null,{"$f":"IF(C672<>\"\",NETWORKDAYS.INTL(C672,D672,\"0000000\",'自社カレンダー sample'!$A$12:$A$9999),\"\")","v":""}]
[null,null,null,null,{"$f":"IF(C673<>\"\",NETWORKDAYS.INTL(C673,D673,\"0000000\",'自社カレンダー sample'!$A$12:$A$9999),\"\")","v":""}]
[null,null,null,null,{"$f":"IF(C674<>\"\",NETWORKDAYS.INTL(C674,D674,\"0000000\",'自社カレンダー sample'!$A$12:$A$9999),\"\")","v":""}]
[null,null,null,null,{"$f":"IF(C675<>\"\",NETWORKDAYS.INTL(C675,D675,\"0000000\",'自社カレンダー sample'!$A$12:$A$9999),\"\")","v":""}]
[null,null,null,null,{"$f":"IF(C676<>\"\",NETWORKDAYS.INTL(C676,D676,\"0000000\",'自社カレンダー sample'!$A$12:$A$9999),\"\")","v":""}]
[null,null,null,null,{"$f":"IF(C677<>\"\",NETWORKDAYS.INTL(C677,D677,\"0000000\",'自社カレンダー sample'!$A$12:$A$9999),\"\")","v":""}]
[null,null,null,null,{"$f":"IF(C678<>\"\",NETWORKDAYS.INTL(C678,D678,\"0000000\",'自社カレンダー sample'!$A$12:$A$9999),\"\")","v":""}]
[null,null,null,null,{"$f":"IF(C679<>\"\",NETWORKDAYS.INTL(C679,D679,\"0000000\",'自社カレンダー sample'!$A$12:$A$9999),\"\")","v":""}]
[null,null,null,null,{"$f":"IF(C680<>\"\",NETWORKDAYS.INTL(C680,D680,\"0000000\",'自社カレンダー sample'!$A$12:$A$9999),\"\")","v":""}]
[null,null,null,null,{"$f":"IF(C681<>\"\",NETWORKDAYS.INTL(C681,D681,\"0000000\",'自社カレンダー sample'!$A$12:$A$9999),\"\")","v":""}]
[null,null,null,null,{"$f":"IF(C682<>\"\",NETWORKDAYS.INTL(C682,D682,\"0000000\",'自社カレンダー sample'!$A$12:$A$9999),\"\")","v":""}]
[null,null,null,null,{"$f":"IF(C683<>\"\",NETWORKDAYS.INTL(C683,D683,\"0000000\",'自社カレンダー sample'!$A$12:$A$9999),\"\")","v":""}]
[null,null,null,null,{"$f":"IF(C684<>\"\",NETWORKDAYS.INTL(C684,D684,\"0000000\",'自社カレンダー sample'!$A$12:$A$9999),\"\")","v":""}]
[null,null,null,null,{"$f":"IF(C685<>\"\",NETWORKDAYS.INTL(C685,D685,\"0000000\",'自社カレンダー sample'!$A$12:$A$9999),\"\")","v":""}]
[null,null,null,null,{"$f":"IF(C686<>\"\",NETWORKDAYS.INTL(C686,D686,\"0000000\",'自社カレンダー sample'!$A$12:$A$9999),\"\")","v":""}]
[null,null,null,null,{"$f":"IF(C687<>\"\",NETWORKDAYS.INTL(C687,D687,\"0000000\",'自社カレンダー sample'!$A$12:$A$9999),\"\")","v":""}]
[null,null,null,null,{"$f":"IF(C688<>\"\",NETWORKDAYS.INTL(C688,D688,\"0000000\",'自社カレンダー sample'!$A$12:$A$9999),\"\")","v":""}]
[null,null,null,null,{"$f":"IF(C689<>\"\",NETWORKDAYS.INTL(C689,D689,\"0000000\",'自社カレンダー sample'!$A$12:$A$9999),\"\")","v":""}]
[null,null,null,null,{"$f":"IF(C690<>\"\",NETWORKDAYS.INTL(C690,D690,\"0000000\",'自社カレンダー sample'!$A$12:$A$9999),\"\")","v":""}]
[null,null,null,null,{"$f":"IF(C691<>\"\",NETWORKDAYS.INTL(C691,D691,\"0000000\",'自社カレンダー sample'!$A$12:$A$9999),\"\")","v":""}]
[null,null,null,null,{"$f":"IF(C692<>\"\",NETWORKDAYS.INTL(C692,D692,\"0000000\",'自社カレンダー sample'!$A$12:$A$9999),\"\")","v":""}]
[null,null,null,null,{"$f":"IF(C693<>\"\",NETWORKDAYS.INTL(C693,D693,\"0000000\",'自社カレンダー sample'!$A$12:$A$9999),\"\")","v":""}]
[null,null,null,null,{"$f":"IF(C694<>\"\",NETWORKDAYS.INTL(C694,D694,\"0000000\",'自社カレンダー sample'!$A$12:$A$9999),\"\")","v":""}]
[null,null,null,null,{"$f":"IF(C695<>\"\",NETWORKDAYS.INTL(C695,D695,\"0000000\",'自社カレンダー sample'!$A$12:$A$9999),\"\")","v":""}]
[null,null,null,null,{"$f":"IF(C696<>\"\",NETWORKDAYS.INTL(C696,D696,\"0000000\",'自社カレンダー sample'!$A$12:$A$9999),\"\")","v":""}]
[null,null,null,null,{"$f":"IF(C697<>\"\",NETWORKDAYS.INTL(C697,D697,\"0000000\",'自社カレンダー sample'!$A$12:$A$9999),\"\")","v":""}]
[null,null,null,null,{"$f":"IF(C698<>\"\",NETWORKDAYS.INTL(C698,D698,\"0000000\",'自社カレンダー sample'!$A$12:$A$9999),\"\")","v":""}]
[null,null,null,null,{"$f":"IF(C699<>\"\",NETWORKDAYS.INTL(C699,D699,\"0000000\",'自社カレンダー sample'!$A$12:$A$9999),\"\")","v":""}]
[null,null,null,null,{"$f":"IF(C700<>\"\",NETWORKDAYS.INTL(C700,D700,\"0000000\",'自社カレンダー sample'!$A$12:$A$9999),\"\")","v":""}]
[null,null,null,null,{"$f":"IF(C701<>\"\",NETWORKDAYS.INTL(C701,D701,\"0000000\",'自社カレンダー sample'!$A$12:$A$9999),\"\")","v":""}]
[null,null,null,null,{"$f":"IF(C702<>\"\",NETWORKDAYS.INTL(C702,D702,\"0000000\",'自社カレンダー sample'!$A$12:$A$9999),\"\")","v":""}]
[null,null,null,null,{"$f":"IF(C703<>\"\",NETWORKDAYS.INTL(C703,D703,\"0000000\",'自社カレンダー sample'!$A$12:$A$9999),\"\")","v":""}]
[null,null,null,null,{"$f":"IF(C704<>\"\",NETWORKDAYS.INTL(C704,D704,\"0000000\",'自社カレンダー sample'!$A$12:$A$9999),\"\")","v":""}]
[null,null,null,null,{"$f":"IF(C705<>\"\",NETWORKDAYS.INTL(C705,D705,\"0000000\",'自社カレンダー sample'!$A$12:$A$9999),\"\")","v":""}]
[null,null,null,null,{"$f":"IF(C706<>\"\",NETWORKDAYS.INTL(C706,D706,\"0000000\",'自社カレンダー sample'!$A$12:$A$9999),\"\")","v":""}]
[null,null,null,null,{"$f":"IF(C707<>\"\",NETWORKDAYS.INTL(C707,D707,\"0000000\",'自社カレンダー sample'!$A$12:$A$9999),\"\")","v":""}]
[null,null,null,null,{"$f":"IF(C708<>\"\",NETWORKDAYS.INTL(C708,D708,\"0000000\",'自社カレンダー sample'!$A$12:$A$9999),\"\")","v":""}]
[null,null,null,null,{"$f":"IF(C709<>\"\",NETWORKDAYS.INTL(C709,D709,\"0000000\",'自社カレンダー sample'!$A$12:$A$9999),\"\")","v":""}]
[null,null,null,null,{"$f":"IF(C710<>\"\",NETWORKDAYS.INTL(C710,D710,\"0000000\",'自社カレンダー sample'!$A$12:$A$9999),\"\")","v":""}]
[null,null,null,null,{"$f":"IF(C711<>\"\",NETWORKDAYS.INTL(C711,D711,\"0000000\",'自社カレンダー sample'!$A$12:$A$9999),\"\")","v":""}]
[null,null,null,null,{"$f":"IF(C712<>\"\",NETWORKDAYS.INTL(C712,D712,\"0000000\",'自社カレンダー sample'!$A$12:$A$9999),\"\")","v":""}]
[null,null,null,null,{"$f":"IF(C713<>\"\",NETWORKDAYS.INTL(C713,D713,\"0000000\",'自社カレンダー sample'!$A$12:$A$9999),\"\")","v":""}]
[null,null,null,null,{"$f":"IF(C714<>\"\",NETWORKDAYS.INTL(C714,D714,\"0000000\",'自社カレンダー sample'!$A$12:$A$9999),\"\")","v":""}]
[null,null,null,null,{"$f":"IF(C715<>\"\",NETWORKDAYS.INTL(C715,D715,\"0000000\",'自社カレンダー sample'!$A$12:$A$9999),\"\")","v":""}]
[null,null,null,null,{"$f":"IF(C716<>\"\",NETWORKDAYS.INTL(C716,D716,\"0000000\",'自社カレンダー sample'!$A$12:$A$9999),\"\")","v":""}]
[null,null,null,null,{"$f":"IF(C717<>\"\",NETWORKDAYS.INTL(C717,D717,\"0000000\",'自社カレンダー sample'!$A$12:$A$9999),\"\")","v":""}]
[null,null,null,null,{"$f":"IF(C718<>\"\",NETWORKDAYS.INTL(C718,D718,\"0000000\",'自社カレンダー sample'!$A$12:$A$9999),\"\")","v":""}]
[null,null,null,null,{"$f":"IF(C719<>\"\",NETWORKDAYS.INTL(C719,D719,\"0000000\",'自社カレンダー sample'!$A$12:$A$9999),\"\")","v":""}]
[null,null,null,null,{"$f":"IF(C720<>\"\",NETWORKDAYS.INTL(C720,D720,\"0000000\",'自社カレンダー sample'!$A$12:$A$9999),\"\")","v":""}]
[null,null,null,null,{"$f":"IF(C721<>\"\",NETWORKDAYS.INTL(C721,D721,\"0000000\",'自社カレンダー sample'!$A$12:$A$9999),\"\")","v":""}]
[null,null,null,null,{"$f":"IF(C722<>\"\",NETWORKDAYS.INTL(C722,D722,\"0000000\",'自社カレンダー sample'!$A$12:$A$9999),\"\")","v":""}]
[null,null,null,null,{"$f":"IF(C723<>\"\",NETWORKDAYS.INTL(C723,D723,\"0000000\",'自社カレンダー sample'!$A$12:$A$9999),\"\")","v":""}]
[null,null,null,null,{"$f":"IF(C724<>\"\",NETWORKDAYS.INTL(C724,D724,\"0000000\",'自社カレンダー sample'!$A$12:$A$9999),\"\")","v":""}]
[null,null,null,null,{"$f":"IF(C725<>\"\",NETWORKDAYS.INTL(C725,D725,\"0000000\",'自社カレンダー sample'!$A$12:$A$9999),\"\")","v":""}]
[null,null,null,null,{"$f":"IF(C726<>\"\",NETWORKDAYS.INTL(C726,D726,\"0000000\",'自社カレンダー sample'!$A$12:$A$9999),\"\")","v":""}]
[null,null,null,null,{"$f":"IF(C727<>\"\",NETWORKDAYS.INTL(C727,D727,\"0000000\",'自社カレンダー sample'!$A$12:$A$9999),\"\")","v":""}]
[null,null,null,null,{"$f":"IF(C728<>\"\",NETWORKDAYS.INTL(C728,D728,\"0000000\",'自社カレンダー sample'!$A$12:$A$9999),\"\")","v":""}]
[null,null,null,null,{"$f":"IF(C729<>\"\",NETWORKDAYS.INTL(C729,D729,\"0000000\",'自社カレンダー sample'!$A$12:$A$9999),\"\")","v":""}]
[null,null,null,null,{"$f":"IF(C730<>\"\",NETWORKDAYS.INTL(C730,D730,\"0000000\",'自社カレンダー sample'!$A$12:$A$9999),\"\")","v":""}]
[null,null,null,null,{"$f":"IF(C731<>\"\",NETWORKDAYS.INTL(C731,D731,\"0000000\",'自社カレンダー sample'!$A$12:$A$9999),\"\")","v":""}]
[null,null,null,null,{"$f":"IF(C732<>\"\",NETWORKDAYS.INTL(C732,D732,\"0000000\",'自社カレンダー sample'!$A$12:$A$9999),\"\")","v":""}]
[null,null,null,null,{"$f":"IF(C733<>\"\",NETWORKDAYS.INTL(C733,D733,\"0000000\",'自社カレンダー sample'!$A$12:$A$9999),\"\")","v":""}]
[null,null,null,null,{"$f":"IF(C734<>\"\",NETWORKDAYS.INTL(C734,D734,\"0000000\",'自社カレンダー sample'!$A$12:$A$9999),\"\")","v":""}]
[null,null,null,null,{"$f":"IF(C735<>\"\",NETWORKDAYS.INTL(C735,D735,\"0000000\",'自社カレンダー sample'!$A$12:$A$9999),\"\")","v":""}]
[null,null,null,null,{"$f":"IF(C736<>\"\",NETWORKDAYS.INTL(C736,D736,\"0000000\",'自社カレンダー sample'!$A$12:$A$9999),\"\")","v":""}]
[null,null,null,null,{"$f":"IF(C737<>\"\",NETWORKDAYS.INTL(C737,D737,\"0000000\",'自社カレンダー sample'!$A$12:$A$9999),\"\")","v":""}]
[null,null,null,null,{"$f":"IF(C738<>\"\",NETWORKDAYS.INTL(C738,D738,\"0000000\",'自社カレンダー sample'!$A$12:$A$9999),\"\")","v":""}]
[null,null,null,null,{"$f":"IF(C739<>\"\",NETWORKDAYS.INTL(C739,D739,\"0000000\",'自社カレンダー sample'!$A$12:$A$9999),\"\")","v":""}]
[null,null,null,null,{"$f":"IF(C740<>\"\",NETWORKDAYS.INTL(C740,D740,\"0000000\",'自社カレンダー sample'!$A$12:$A$9999),\"\")","v":""}]
[null,null,null,null,{"$f":"IF(C741<>\"\",NETWORKDAYS.INTL(C741,D741,\"0000000\",'自社カレンダー sample'!$A$12:$A$9999),\"\")","v":""}]
[null,null,null,null,{"$f":"IF(C742<>\"\",NETWORKDAYS.INTL(C742,D742,\"0000000\",'自社カレンダー sample'!$A$12:$A$9999),\"\")","v":""}]
[null,null,null,null,{"$f":"IF(C743<>\"\",NETWORKDAYS.INTL(C743,D743,\"0000000\",'自社カレンダー sample'!$A$12:$A$9999),\"\")","v":""}]
[null,null,null,null,{"$f":"IF(C744<>\"\",NETWORKDAYS.INTL(C744,D744,\"0000000\",'自社カレンダー sample'!$A$12:$A$9999),\"\")","v":""}]
[null,null,null,null,{"$f":"IF(C745<>\"\",NETWORKDAYS.INTL(C745,D745,\"0000000\",'自社カレンダー sample'!$A$12:$A$9999),\"\")","v":""}]
[null,null,null,null,{"$f":"IF(C746<>\"\",NETWORKDAYS.INTL(C746,D746,\"0000000\",'自社カレンダー sample'!$A$12:$A$9999),\"\")","v":""}]
[null,null,null,null,{"$f":"IF(C747<>\"\",NETWORKDAYS.INTL(C747,D747,\"0000000\",'自社カレンダー sample'!$A$12:$A$9999),\"\")","v":""}]
[null,null,null,null,{"$f":"IF(C748<>\"\",NETWORKDAYS.INTL(C748,D748,\"0000000\",'自社カレンダー sample'!$A$12:$A$9999),\"\")","v":""}]
[null,null,null,null,{"$f":"IF(C749<>\"\",NETWORKDAYS.INTL(C749,D749,\"0000000\",'自社カレンダー sample'!$A$12:$A$9999),\"\")","v":""}]
[null,null,null,null,{"$f":"IF(C750<>\"\",NETWORKDAYS.INTL(C750,D750,\"0000000\",'自社カレンダー sample'!$A$12:$A$9999),\"\")","v":""}]
[null,null,null,null,{"$f":"IF(C751<>\"\",NETWORKDAYS.INTL(C751,D751,\"0000000\",'自社カレンダー sample'!$A$12:$A$9999),\"\")","v":""}]
[null,null,null,null,{"$f":"IF(C752<>\"\",NETWORKDAYS.INTL(C752,D752,\"0000000\",'自社カレンダー sample'!$A$12:$A$9999),\"\")","v":""}]
[null,null,null,null,{"$f":"IF(C753<>\"\",NETWORKDAYS.INTL(C753,D753,\"0000000\",'自社カレンダー sample'!$A$12:$A$9999),\"\")","v":""}]
[null,null,null,null,{"$f":"IF(C754<>\"\",NETWORKDAYS.INTL(C754,D754,\"0000000\",'自社カレンダー sample'!$A$12:$A$9999),\"\")","v":""}]
[null,null,null,null,{"$f":"IF(C755<>\"\",NETWORKDAYS.INTL(C755,D755,\"0000000\",'自社カレンダー sample'!$A$12:$A$9999),\"\")","v":""}]
[null,null,null,null,{"$f":"IF(C756<>\"\",NETWORKDAYS.INTL(C756,D756,\"0000000\",'自社カレンダー sample'!$A$12:$A$9999),\"\")","v":""}]
[null,null,null,null,{"$f":"IF(C757<>\"\",NETWORKDAYS.INTL(C757,D757,\"0000000\",'自社カレンダー sample'!$A$12:$A$9999),\"\")","v":""}]
[null,null,null,null,{"$f":"IF(C758<>\"\",NETWORKDAYS.INTL(C758,D758,\"0000000\",'自社カレンダー sample'!$A$12:$A$9999),\"\")","v":""}]
[null,null,null,null,{"$f":"IF(C759<>\"\",NETWORKDAYS.INTL(C759,D759,\"0000000\",'自社カレンダー sample'!$A$12:$A$9999),\"\")","v":""}]
[null,null,null,null,{"$f":"IF(C760<>\"\",NETWORKDAYS.INTL(C760,D760,\"0000000\",'自社カレンダー sample'!$A$12:$A$9999),\"\")","v":""}]
[null,null,null,null,{"$f":"IF(C761<>\"\",NETWORKDAYS.INTL(C761,D761,\"0000000\",'自社カレンダー sample'!$A$12:$A$9999),\"\")","v":""}]
[null,null,null,null,{"$f":"IF(C762<>\"\",NETWORKDAYS.INTL(C762,D762,\"0000000\",'自社カレンダー sample'!$A$12:$A$9999),\"\")","v":""}]
[null,null,null,null,{"$f":"IF(C763<>\"\",NETWORKDAYS.INTL(C763,D763,\"0000000\",'自社カレンダー sample'!$A$12:$A$9999),\"\")","v":""}]
[null,null,null,null,{"$f":"IF(C764<>\"\",NETWORKDAYS.INTL(C764,D764,\"0000000\",'自社カレンダー sample'!$A$12:$A$9999),\"\")","v":""}]
[null,null,null,null,{"$f":"IF(C765<>\"\",NETWORKDAYS.INTL(C765,D765,\"0000000\",'自社カレンダー sample'!$A$12:$A$9999),\"\")","v":""}]
[null,null,null,null,{"$f":"IF(C766<>\"\",NETWORKDAYS.INTL(C766,D766,\"0000000\",'自社カレンダー sample'!$A$12:$A$9999),\"\")","v":""}]
[null,null,null,null,{"$f":"IF(C767<>\"\",NETWORKDAYS.INTL(C767,D767,\"0000000\",'自社カレンダー sample'!$A$12:$A$9999),\"\")","v":""}]
[null,null,null,null,{"$f":"IF(C768<>\"\",NETWORKDAYS.INTL(C768,D768,\"0000000\",'自社カレンダー sample'!$A$12:$A$9999),\"\")","v":""}]
[null,null,null,null,{"$f":"IF(C769<>\"\",NETWORKDAYS.INTL(C769,D769,\"0000000\",'自社カレンダー sample'!$A$12:$A$9999),\"\")","v":""}]
[null,null,null,null,{"$f":"IF(C770<>\"\",NETWORKDAYS.INTL(C770,D770,\"0000000\",'自社カレンダー sample'!$A$12:$A$9999),\"\")","v":""}]
[null,null,null,null,{"$f":"IF(C771<>\"\",NETWORKDAYS.INTL(C771,D771,\"0000000\",'自社カレンダー sample'!$A$12:$A$9999),\"\")","v":""}]
[null,null,null,null,{"$f":"IF(C772<>\"\",NETWORKDAYS.INTL(C772,D772,\"0000000\",'自社カレンダー sample'!$A$12:$A$9999),\"\")","v":""}]
[null,null,null,null,{"$f":"IF(C773<>\"\",NETWORKDAYS.INTL(C773,D773,\"0000000\",'自社カレンダー sample'!$A$12:$A$9999),\"\")","v":""}]
[null,null,null,null,{"$f":"IF(C774<>\"\",NETWORKDAYS.INTL(C774,D774,\"0000000\",'自社カレンダー sample'!$A$12:$A$9999),\"\")","v":""}]
[null,null,null,null,{"$f":"IF(C775<>\"\",NETWORKDAYS.INTL(C775,D775,\"0000000\",'自社カレンダー sample'!$A$12:$A$9999),\"\")","v":""}]
[null,null,null,null,{"$f":"IF(C776<>\"\",NETWORKDAYS.INTL(C776,D776,\"0000000\",'自社カレンダー sample'!$A$12:$A$9999),\"\")","v":""}]
[null,null,null,null,{"$f":"IF(C777<>\"\",NETWORKDAYS.INTL(C777,D777,\"0000000\",'自社カレンダー sample'!$A$12:$A$9999),\"\")","v":""}]
[null,null,null,null,{"$f":"IF(C778<>\"\",NETWORKDAYS.INTL(C778,D778,\"0000000\",'自社カレンダー sample'!$A$12:$A$9999),\"\")","v":""}]
[null,null,null,null,{"$f":"IF(C779<>\"\",NETWORKDAYS.INTL(C779,D779,\"0000000\",'自社カレンダー sample'!$A$12:$A$9999),\"\")","v":""}]
[null,null,null,null,{"$f":"IF(C780<>\"\",NETWORKDAYS.INTL(C780,D780,\"0000000\",'自社カレンダー sample'!$A$12:$A$9999),\"\")","v":""}]
[null,null,null,null,{"$f":"IF(C781<>\"\",NETWORKDAYS.INTL(C781,D781,\"0000000\",'自社カレンダー sample'!$A$12:$A$9999),\"\")","v":""}]
[null,null,null,null,{"$f":"IF(C782<>\"\",NETWORKDAYS.INTL(C782,D782,\"0000000\",'自社カレンダー sample'!$A$12:$A$9999),\"\")","v":""}]
[null,null,null,null,{"$f":"IF(C783<>\"\",NETWORKDAYS.INTL(C783,D783,\"0000000\",'自社カレンダー sample'!$A$12:$A$9999),\"\")","v":""}]
[null,null,null,null,{"$f":"IF(C784<>\"\",NETWORKDAYS.INTL(C784,D784,\"0000000\",'自社カレンダー sample'!$A$12:$A$9999),\"\")","v":""}]
[null,null,null,null,{"$f":"IF(C785<>\"\",NETWORKDAYS.INTL(C785,D785,\"0000000\",'自社カレンダー sample'!$A$12:$A$9999),\"\")","v":""}]
[null,null,null,null,{"$f":"IF(C786<>\"\",NETWORKDAYS.INTL(C786,D786,\"0000000\",'自社カレンダー sample'!$A$12:$A$9999),\"\")","v":""}]
[null,null,null,null,{"$f":"IF(C787<>\"\",NETWORKDAYS.INTL(C787,D787,\"0000000\",'自社カレンダー sample'!$A$12:$A$9999),\"\")","v":""}]
[null,null,null,null,{"$f":"IF(C788<>\"\",NETWORKDAYS.INTL(C788,D788,\"0000000\",'自社カレンダー sample'!$A$12:$A$9999),\"\")","v":""}]
[null,null,null,null,{"$f":"IF(C789<>\"\",NETWORKDAYS.INTL(C789,D789,\"0000000\",'自社カレンダー sample'!$A$12:$A$9999),\"\")","v":""}]
[null,null,null,null,{"$f":"IF(C790<>\"\",NETWORKDAYS.INTL(C790,D790,\"0000000\",'自社カレンダー sample'!$A$12:$A$9999),\"\")","v":""}]
[null,null,null,null,{"$f":"IF(C791<>\"\",NETWORKDAYS.INTL(C791,D791,\"0000000\",'自社カレンダー sample'!$A$12:$A$9999),\"\")","v":""}]
[null,null,null,null,{"$f":"IF(C792<>\"\",NETWORKDAYS.INTL(C792,D792,\"0000000\",'自社カレンダー sample'!$A$12:$A$9999),\"\")","v":""}]
[null,null,null,null,{"$f":"IF(C793<>\"\",NETWORKDAYS.INTL(C793,D793,\"0000000\",'自社カレンダー sample'!$A$12:$A$9999),\"\")","v":""}]
[null,null,null,null,{"$f":"IF(C794<>\"\",NETWORKDAYS.INTL(C794,D794,\"0000000\",'自社カレンダー sample'!$A$12:$A$9999),\"\")","v":""}]
[null,null,null,null,{"$f":"IF(C795<>\"\",NETWORKDAYS.INTL(C795,D795,\"0000000\",'自社カレンダー sample'!$A$12:$A$9999),\"\")","v":""}]
[null,null,null,null,{"$f":"IF(C796<>\"\",NETWORKDAYS.INTL(C796,D796,\"0000000\",'自社カレンダー sample'!$A$12:$A$9999),\"\")","v":""}]
[null,null,null,null,{"$f":"IF(C797<>\"\",NETWORKDAYS.INTL(C797,D797,\"0000000\",'自社カレンダー sample'!$A$12:$A$9999),\"\")","v":""}]
[null,null,null,null,{"$f":"IF(C798<>\"\",NETWORKDAYS.INTL(C798,D798,\"0000000\",'自社カレンダー sample'!$A$12:$A$9999),\"\")","v":""}]
[null,null,null,null,{"$f":"IF(C799<>\"\",NETWORKDAYS.INTL(C799,D799,\"0000000\",'自社カレンダー sample'!$A$12:$A$9999),\"\")","v":""}]
[null,null,null,null,{"$f":"IF(C800<>\"\",NETWORKDAYS.INTL(C800,D800,\"0000000\",'自社カレンダー sample'!$A$12:$A$9999),\"\")","v":""}]
[null,null,null,null,{"$f":"IF(C801<>\"\",NETWORKDAYS.INTL(C801,D801,\"0000000\",'自社カレンダー sample'!$A$12:$A$9999),\"\")","v":""}]
[null,null,null,null,{"$f":"IF(C802<>\"\",NETWORKDAYS.INTL(C802,D802,\"0000000\",'自社カレンダー sample'!$A$12:$A$9999),\"\")","v":""}]
[null,null,null,null,{"$f":"IF(C803<>\"\",NETWORKDAYS.INTL(C803,D803,\"0000000\",'自社カレンダー sample'!$A$12:$A$9999),\"\")","v":""}]
[null,null,null,null,{"$f":"IF(C804<>\"\",NETWORKDAYS.INTL(C804,D804,\"0000000\",'自社カレンダー sample'!$A$12:$A$9999),\"\")","v":""}]
[null,null,null,null,{"$f":"IF(C805<>\"\",NETWORKDAYS.INTL(C805,D805,\"0000000\",'自社カレンダー sample'!$A$12:$A$9999),\"\")","v":""}]
[null,null,null,null,{"$f":"IF(C806<>\"\",NETWORKDAYS.INTL(C806,D806,\"0000000\",'自社カレンダー sample'!$A$12:$A$9999),\"\")","v":""}]
[null,null,null,null,{"$f":"IF(C807<>\"\",NETWORKDAYS.INTL(C807,D807,\"0000000\",'自社カレンダー sample'!$A$12:$A$9999),\"\")","v":""}]
[null,null,null,null,{"$f":"IF(C808<>\"\",NETWORKDAYS.INTL(C808,D808,\"0000000\",'自社カレンダー sample'!$A$12:$A$9999),\"\")","v":""}]
[null,null,null,null,{"$f":"IF(C809<>\"\",NETWORKDAYS.INTL(C809,D809,\"0000000\",'自社カレンダー sample'!$A$12:$A$9999),\"\")","v":""}]
[null,null,null,null,{"$f":"IF(C810<>\"\",NETWORKDAYS.INTL(C810,D810,\"0000000\",'自社カレンダー sample'!$A$12:$A$9999),\"\")","v":""}]
[null,null,null,null,{"$f":"IF(C811<>\"\",NETWORKDAYS.INTL(C811,D811,\"0000000\",'自社カレンダー sample'!$A$12:$A$9999),\"\")","v":""}]
[null,null,null,null,{"$f":"IF(C812<>\"\",NETWORKDAYS.INTL(C812,D812,\"0000000\",'自社カレンダー sample'!$A$12:$A$9999),\"\")","v":""}]
[null,null,null,null,{"$f":"IF(C813<>\"\",NETWORKDAYS.INTL(C813,D813,\"0000000\",'自社カレンダー sample'!$A$12:$A$9999),\"\")","v":""}]
[null,null,null,null,{"$f":"IF(C814<>\"\",NETWORKDAYS.INTL(C814,D814,\"0000000\",'自社カレンダー sample'!$A$12:$A$9999),\"\")","v":""}]
[null,null,null,null,{"$f":"IF(C815<>\"\",NETWORKDAYS.INTL(C815,D815,\"0000000\",'自社カレンダー sample'!$A$12:$A$9999),\"\")","v":""}]
[null,null,null,null,{"$f":"IF(C816<>\"\",NETWORKDAYS.INTL(C816,D816,\"0000000\",'自社カレンダー sample'!$A$12:$A$9999),\"\")","v":""}]
[null,null,null,null,{"$f":"IF(C817<>\"\",NETWORKDAYS.INTL(C817,D817,\"0000000\",'自社カレンダー sample'!$A$12:$A$9999),\"\")","v":""}]
[null,null,null,null,{"$f":"IF(C818<>\"\",NETWORKDAYS.INTL(C818,D818,\"0000000\",'自社カレンダー sample'!$A$12:$A$9999),\"\")","v":""}]
[null,null,null,null,{"$f":"IF(C819<>\"\",NETWORKDAYS.INTL(C819,D819,\"0000000\",'自社カレンダー sample'!$A$12:$A$9999),\"\")","v":""}]
[null,null,null,null,{"$f":"IF(C820<>\"\",NETWORKDAYS.INTL(C820,D820,\"0000000\",'自社カレンダー sample'!$A$12:$A$9999),\"\")","v":""}]
[null,null,null,null,{"$f":"IF(C821<>\"\",NETWORKDAYS.INTL(C821,D821,\"0000000\",'自社カレンダー sample'!$A$12:$A$9999),\"\")","v":""}]
[null,null,null,null,{"$f":"IF(C822<>\"\",NETWORKDAYS.INTL(C822,D822,\"0000000\",'自社カレンダー sample'!$A$12:$A$9999),\"\")","v":""}]
[null,null,null,null,{"$f":"IF(C823<>\"\",NETWORKDAYS.INTL(C823,D823,\"0000000\",'自社カレンダー sample'!$A$12:$A$9999),\"\")","v":""}]
[null,null,null,null,{"$f":"IF(C824<>\"\",NETWORKDAYS.INTL(C824,D824,\"0000000\",'自社カレンダー sample'!$A$12:$A$9999),\"\")","v":""}]
[null,null,null,null,{"$f":"IF(C825<>\"\",NETWORKDAYS.INTL(C825,D825,\"0000000\",'自社カレンダー sample'!$A$12:$A$9999),\"\")","v":""}]
[null,null,null,null,{"$f":"IF(C826<>\"\",NETWORKDAYS.INTL(C826,D826,\"0000000\",'自社カレンダー sample'!$A$12:$A$9999),\"\")","v":""}]
[null,null,null,null,{"$f":"IF(C827<>\"\",NETWORKDAYS.INTL(C827,D827,\"0000000\",'自社カレンダー sample'!$A$12:$A$9999),\"\")","v":""}]
[null,null,null,null,{"$f":"IF(C828<>\"\",NETWORKDAYS.INTL(C828,D828,\"0000000\",'自社カレンダー sample'!$A$12:$A$9999),\"\")","v":""}]
[null,null,null,null,{"$f":"IF(C829<>\"\",NETWORKDAYS.INTL(C829,D829,\"0000000\",'自社カレンダー sample'!$A$12:$A$9999),\"\")","v":""}]
[null,null,null,null,{"$f":"IF(C830<>\"\",NETWORKDAYS.INTL(C830,D830,\"0000000\",'自社カレンダー sample'!$A$12:$A$9999),\"\")","v":""}]
[null,null,null,null,{"$f":"IF(C831<>\"\",NETWORKDAYS.INTL(C831,D831,\"0000000\",'自社カレンダー sample'!$A$12:$A$9999),\"\")","v":""}]
[null,null,null,null,{"$f":"IF(C832<>\"\",NETWORKDAYS.INTL(C832,D832,\"0000000\",'自社カレンダー sample'!$A$12:$A$9999),\"\")","v":""}]
[null,null,null,null,{"$f":"IF(C833<>\"\",NETWORKDAYS.INTL(C833,D833,\"0000000\",'自社カレンダー sample'!$A$12:$A$9999),\"\")","v":""}]
[null,null,null,null,{"$f":"IF(C834<>\"\",NETWORKDAYS.INTL(C834,D834,\"0000000\",'自社カレンダー sample'!$A$12:$A$9999),\"\")","v":""}]
[null,null,null,null,{"$f":"IF(C835<>\"\",NETWORKDAYS.INTL(C835,D835,\"0000000\",'自社カレンダー sample'!$A$12:$A$9999),\"\")","v":""}]
[null,null,null,null,{"$f":"IF(C836<>\"\",NETWORKDAYS.INTL(C836,D836,\"0000000\",'自社カレンダー sample'!$A$12:$A$9999),\"\")","v":""}]
[null,null,null,null,{"$f":"IF(C837<>\"\",NETWORKDAYS.INTL(C837,D837,\"0000000\",'自社カレンダー sample'!$A$12:$A$9999),\"\")","v":""}]
[null,null,null,null,{"$f":"IF(C838<>\"\",NETWORKDAYS.INTL(C838,D838,\"0000000\",'自社カレンダー sample'!$A$12:$A$9999),\"\")","v":""}]
[null,null,null,null,{"$f":"IF(C839<>\"\",NETWORKDAYS.INTL(C839,D839,\"0000000\",'自社カレンダー sample'!$A$12:$A$9999),\"\")","v":""}]
[null,null,null,null,{"$f":"IF(C840<>\"\",NETWORKDAYS.INTL(C840,D840,\"0000000\",'自社カレンダー sample'!$A$12:$A$9999),\"\")","v":""}]
[null,null,null,null,{"$f":"IF(C841<>\"\",NETWORKDAYS.INTL(C841,D841,\"0000000\",'自社カレンダー sample'!$A$12:$A$9999),\"\")","v":""}]
[null,null,null,null,{"$f":"IF(C842<>\"\",NETWORKDAYS.INTL(C842,D842,\"0000000\",'自社カレンダー sample'!$A$12:$A$9999),\"\")","v":""}]
[null,null,null,null,{"$f":"IF(C843<>\"\",NETWORKDAYS.INTL(C843,D843,\"0000000\",'自社カレンダー sample'!$A$12:$A$9999),\"\")","v":""}]
[null,null,null,null,{"$f":"IF(C844<>\"\",NETWORKDAYS.INTL(C844,D844,\"0000000\",'自社カレンダー sample'!$A$12:$A$9999),\"\")","v":""}]
[null,null,null,null,{"$f":"IF(C845<>\"\",NETWORKDAYS.INTL(C845,D845,\"0000000\",'自社カレンダー sample'!$A$12:$A$9999),\"\")","v":""}]
[null,null,null,null,{"$f":"IF(C846<>\"\",NETWORKDAYS.INTL(C846,D846,\"0000000\",'自社カレンダー sample'!$A$12:$A$9999),\"\")","v":""}]
[null,null,null,null,{"$f":"IF(C847<>\"\",NETWORKDAYS.INTL(C847,D847,\"0000000\",'自社カレンダー sample'!$A$12:$A$9999),\"\")","v":""}]
[null,null,null,null,{"$f":"IF(C848<>\"\",NETWORKDAYS.INTL(C848,D848,\"0000000\",'自社カレンダー sample'!$A$12:$A$9999),\"\")","v":""}]
[null,null,null,null,{"$f":"IF(C849<>\"\",NETWORKDAYS.INTL(C849,D849,\"0000000\",'自社カレンダー sample'!$A$12:$A$9999),\"\")","v":""}]
[null,null,null,null,{"$f":"IF(C850<>\"\",NETWORKDAYS.INTL(C850,D850,\"0000000\",'自社カレンダー sample'!$A$12:$A$9999),\"\")","v":""}]
[null,null,null,null,{"$f":"IF(C851<>\"\",NETWORKDAYS.INTL(C851,D851,\"0000000\",'自社カレンダー sample'!$A$12:$A$9999),\"\")","v":""}]
[null,null,null,null,{"$f":"IF(C852<>\"\",NETWORKDAYS.INTL(C852,D852,\"0000000\",'自社カレンダー sample'!$A$12:$A$9999),\"\")","v":""}]
[null,null,null,null,{"$f":"IF(C853<>\"\",NETWORKDAYS.INTL(C853,D853,\"0000000\",'自社カレンダー sample'!$A$12:$A$9999),\"\")","v":""}]
[null,null,null,null,{"$f":"IF(C854<>\"\",NETWORKDAYS.INTL(C854,D854,\"0000000\",'自社カレンダー sample'!$A$12:$A$9999),\"\")","v":""}]
[null,null,null,null,{"$f":"IF(C855<>\"\",NETWORKDAYS.INTL(C855,D855,\"0000000\",'自社カレンダー sample'!$A$12:$A$9999),\"\")","v":""}]
[null,null,null,null,{"$f":"IF(C856<>\"\",NETWORKDAYS.INTL(C856,D856,\"0000000\",'自社カレンダー sample'!$A$12:$A$9999),\"\")","v":""}]
[null,null,null,null,{"$f":"IF(C857<>\"\",NETWORKDAYS.INTL(C857,D857,\"0000000\",'自社カレンダー sample'!$A$12:$A$9999),\"\")","v":""}]
[null,null,null,null,{"$f":"IF(C858<>\"\",NETWORKDAYS.INTL(C858,D858,\"0000000\",'自社カレンダー sample'!$A$12:$A$9999),\"\")","v":""}]
[null,null,null,null,{"$f":"IF(C859<>\"\",NETWORKDAYS.INTL(C859,D859,\"0000000\",'自社カレンダー sample'!$A$12:$A$9999),\"\")","v":""}]
[null,null,null,null,{"$f":"IF(C860<>\"\",NETWORKDAYS.INTL(C860,D860,\"0000000\",'自社カレンダー sample'!$A$12:$A$9999),\"\")","v":""}]
[null,null,null,null,{"$f":"IF(C861<>\"\",NETWORKDAYS.INTL(C861,D861,\"0000000\",'自社カレンダー sample'!$A$12:$A$9999),\"\")","v":""}]
[null,null,null,null,{"$f":"IF(C862<>\"\",NETWORKDAYS.INTL(C862,D862,\"0000000\",'自社カレンダー sample'!$A$12:$A$9999),\"\")","v":""}]
[null,null,null,null,{"$f":"IF(C863<>\"\",NETWORKDAYS.INTL(C863,D863,\"0000000\",'自社カレンダー sample'!$A$12:$A$9999),\"\")","v":""}]
[null,null,null,null,{"$f":"IF(C864<>\"\",NETWORKDAYS.INTL(C864,D864,\"0000000\",'自社カレンダー sample'!$A$12:$A$9999),\"\")","v":""}]
[null,null,null,null,{"$f":"IF(C865<>\"\",NETWORKDAYS.INTL(C865,D865,\"0000000\",'自社カレンダー sample'!$A$12:$A$9999),\"\")","v":""}]
[null,null,null,null,{"$f":"IF(C866<>\"\",NETWORKDAYS.INTL(C866,D866,\"0000000\",'自社カレンダー sample'!$A$12:$A$9999),\"\")","v":""}]
[null,null,null,null,{"$f":"IF(C867<>\"\",NETWORKDAYS.INTL(C867,D867,\"0000000\",'自社カレンダー sample'!$A$12:$A$9999),\"\")","v":""}]
[null,null,null,null,{"$f":"IF(C868<>\"\",NETWORKDAYS.INTL(C868,D868,\"0000000\",'自社カレンダー sample'!$A$12:$A$9999),\"\")","v":""}]
[null,null,null,null,{"$f":"IF(C869<>\"\",NETWORKDAYS.INTL(C869,D869,\"0000000\",'自社カレンダー sample'!$A$12:$A$9999),\"\")","v":""}]
[null,null,null,null,{"$f":"IF(C870<>\"\",NETWORKDAYS.INTL(C870,D870,\"0000000\",'自社カレンダー sample'!$A$12:$A$9999),\"\")","v":""}]
[null,null,null,null,{"$f":"IF(C871<>\"\",NETWORKDAYS.INTL(C871,D871,\"0000000\",'自社カレンダー sample'!$A$12:$A$9999),\"\")","v":""}]
[null,null,null,null,{"$f":"IF(C872<>\"\",NETWORKDAYS.INTL(C872,D872,\"0000000\",'自社カレンダー sample'!$A$12:$A$9999),\"\")","v":""}]
[null,null,null,null,{"$f":"IF(C873<>\"\",NETWORKDAYS.INTL(C873,D873,\"0000000\",'自社カレンダー sample'!$A$12:$A$9999),\"\")","v":""}]
[null,null,null,null,{"$f":"IF(C874<>\"\",NETWORKDAYS.INTL(C874,D874,\"0000000\",'自社カレンダー sample'!$A$12:$A$9999),\"\")","v":""}]
[null,null,null,null,{"$f":"IF(C875<>\"\",NETWORKDAYS.INTL(C875,D875,\"0000000\",'自社カレンダー sample'!$A$12:$A$9999),\"\")","v":""}]
[null,null,null,null,{"$f":"IF(C876<>\"\",NETWORKDAYS.INTL(C876,D876,\"0000000\",'自社カレンダー sample'!$A$12:$A$9999),\"\")","v":""}]
[null,null,null,null,{"$f":"IF(C877<>\"\",NETWORKDAYS.INTL(C877,D877,\"0000000\",'自社カレンダー sample'!$A$12:$A$9999),\"\")","v":""}]
[null,null,null,null,{"$f":"IF(C878<>\"\",NETWORKDAYS.INTL(C878,D878,\"0000000\",'自社カレンダー sample'!$A$12:$A$9999),\"\")","v":""}]
[null,null,null,null,{"$f":"IF(C879<>\"\",NETWORKDAYS.INTL(C879,D879,\"0000000\",'自社カレンダー sample'!$A$12:$A$9999),\"\")","v":""}]
[null,null,null,null,{"$f":"IF(C880<>\"\",NETWORKDAYS.INTL(C880,D880,\"0000000\",'自社カレンダー sample'!$A$12:$A$9999),\"\")","v":""}]
[null,null,null,null,{"$f":"IF(C881<>\"\",NETWORKDAYS.INTL(C881,D881,\"0000000\",'自社カレンダー sample'!$A$12:$A$9999),\"\")","v":""}]
[null,null,null,null,{"$f":"IF(C882<>\"\",NETWORKDAYS.INTL(C882,D882,\"0000000\",'自社カレンダー sample'!$A$12:$A$9999),\"\")","v":""}]
[null,null,null,null,{"$f":"IF(C883<>\"\",NETWORKDAYS.INTL(C883,D883,\"0000000\",'自社カレンダー sample'!$A$12:$A$9999),\"\")","v":""}]
[null,null,null,null,{"$f":"IF(C884<>\"\",NETWORKDAYS.INTL(C884,D884,\"0000000\",'自社カレンダー sample'!$A$12:$A$9999),\"\")","v":""}]
[null,null,null,null,{"$f":"IF(C885<>\"\",NETWORKDAYS.INTL(C885,D885,\"0000000\",'自社カレンダー sample'!$A$12:$A$9999),\"\")","v":""}]
[null,null,null,null,{"$f":"IF(C886<>\"\",NETWORKDAYS.INTL(C886,D886,\"0000000\",'自社カレンダー sample'!$A$12:$A$9999),\"\")","v":""}]
[null,null,null,null,{"$f":"IF(C887<>\"\",NETWORKDAYS.INTL(C887,D887,\"0000000\",'自社カレンダー sample'!$A$12:$A$9999),\"\")","v":""}]
[null,null,null,null,{"$f":"IF(C888<>\"\",NETWORKDAYS.INTL(C888,D888,\"0000000\",'自社カレンダー sample'!$A$12:$A$9999),\"\")","v":""}]
[null,null,null,null,{"$f":"IF(C889<>\"\",NETWORKDAYS.INTL(C889,D889,\"0000000\",'自社カレンダー sample'!$A$12:$A$9999),\"\")","v":""}]
[null,null,null,null,{"$f":"IF(C890<>\"\",NETWORKDAYS.INTL(C890,D890,\"0000000\",'自社カレンダー sample'!$A$12:$A$9999),\"\")","v":""}]
[null,null,null,null,{"$f":"IF(C891<>\"\",NETWORKDAYS.INTL(C891,D891,\"0000000\",'自社カレンダー sample'!$A$12:$A$9999),\"\")","v":""}]
[null,null,null,null,{"$f":"IF(C892<>\"\",NETWORKDAYS.INTL(C892,D892,\"0000000\",'自社カレンダー sample'!$A$12:$A$9999),\"\")","v":""}]
[null,null,null,null,{"$f":"IF(C893<>\"\",NETWORKDAYS.INTL(C893,D893,\"0000000\",'自社カレンダー sample'!$A$12:$A$9999),\"\")","v":""}]
[null,null,null,null,{"$f":"IF(C894<>\"\",NETWORKDAYS.INTL(C894,D894,\"0000000\",'自社カレンダー sample'!$A$12:$A$9999),\"\")","v":""}]
[null,null,null,null,{"$f":"IF(C895<>\"\",NETWORKDAYS.INTL(C895,D895,\"0000000\",'自社カレンダー sample'!$A$12:$A$9999),\"\")","v":""}]
[null,null,null,null,{"$f":"IF(C896<>\"\",NETWORKDAYS.INTL(C896,D896,\"0000000\",'自社カレンダー sample'!$A$12:$A$9999),\"\")","v":""}]
[null,null,null,null,{"$f":"IF(C897<>\"\",NETWORKDAYS.INTL(C897,D897,\"0000000\",'自社カレンダー sample'!$A$12:$A$9999),\"\")","v":""}]
[null,null,null,null,{"$f":"IF(C898<>\"\",NETWORKDAYS.INTL(C898,D898,\"0000000\",'自社カレンダー sample'!$A$12:$A$9999),\"\")","v":""}]
[null,null,null,null,{"$f":"IF(C899<>\"\",NETWORKDAYS.INTL(C899,D899,\"0000000\",'自社カレンダー sample'!$A$12:$A$9999),\"\")","v":""}]
[null,null,null,null,{"$f":"IF(C900<>\"\",NETWORKDAYS.INTL(C900,D900,\"0000000\",'自社カレンダー sample'!$A$12:$A$9999),\"\")","v":""}]
[null,null,null,null,{"$f":"IF(C901<>\"\",NETWORKDAYS.INTL(C901,D901,\"0000000\",'自社カレンダー sample'!$A$12:$A$9999),\"\")","v":""}]
[null,null,null,null,{"$f":"IF(C902<>\"\",NETWORKDAYS.INTL(C902,D902,\"0000000\",'自社カレンダー sample'!$A$12:$A$9999),\"\")","v":""}]
[null,null,null,null,{"$f":"IF(C903<>\"\",NETWORKDAYS.INTL(C903,D903,\"0000000\",'自社カレンダー sample'!$A$12:$A$9999),\"\")","v":""}]
[null,null,null,null,{"$f":"IF(C904<>\"\",NETWORKDAYS.INTL(C904,D904,\"0000000\",'自社カレンダー sample'!$A$12:$A$9999),\"\")","v":""}]
[null,null,null,null,{"$f":"IF(C905<>\"\",NETWORKDAYS.INTL(C905,D905,\"0000000\",'自社カレンダー sample'!$A$12:$A$9999),\"\")","v":""}]
[null,null,null,null,{"$f":"IF(C906<>\"\",NETWORKDAYS.INTL(C906,D906,\"0000000\",'自社カレンダー sample'!$A$12:$A$9999),\"\")","v":""}]
[null,null,null,null,{"$f":"IF(C907<>\"\",NETWORKDAYS.INTL(C907,D907,\"0000000\",'自社カレンダー sample'!$A$12:$A$9999),\"\")","v":""}]
[null,null,null,null,{"$f":"IF(C908<>\"\",NETWORKDAYS.INTL(C908,D908,\"0000000\",'自社カレンダー sample'!$A$12:$A$9999),\"\")","v":""}]
[null,null,null,null,{"$f":"IF(C909<>\"\",NETWORKDAYS.INTL(C909,D909,\"0000000\",'自社カレンダー sample'!$A$12:$A$9999),\"\")","v":""}]
[null,null,null,null,{"$f":"IF(C910<>\"\",NETWORKDAYS.INTL(C910,D910,\"0000000\",'自社カレンダー sample'!$A$12:$A$9999),\"\")","v":""}]
[null,null,null,null,{"$f":"IF(C911<>\"\",NETWORKDAYS.INTL(C911,D911,\"0000000\",'自社カレンダー sample'!$A$12:$A$9999),\"\")","v":""}]
[null,null,null,null,{"$f":"IF(C912<>\"\",NETWORKDAYS.INTL(C912,D912,\"0000000\",'自社カレンダー sample'!$A$12:$A$9999),\"\")","v":""}]
[null,null,null,null,{"$f":"IF(C913<>\"\",NETWORKDAYS.INTL(C913,D913,\"0000000\",'自社カレンダー sample'!$A$12:$A$9999),\"\")","v":""}]
[null,null,null,null,{"$f":"IF(C914<>\"\",NETWORKDAYS.INTL(C914,D914,\"0000000\",'自社カレンダー sample'!$A$12:$A$9999),\"\")","v":""}]
[null,null,null,null,{"$f":"IF(C915<>\"\",NETWORKDAYS.INTL(C915,D915,\"0000000\",'自社カレンダー sample'!$A$12:$A$9999),\"\")","v":""}]
[null,null,null,null,{"$f":"IF(C916<>\"\",NETWORKDAYS.INTL(C916,D916,\"0000000\",'自社カレンダー sample'!$A$12:$A$9999),\"\")","v":""}]
[null,null,null,null,{"$f":"IF(C917<>\"\",NETWORKDAYS.INTL(C917,D917,\"0000000\",'自社カレンダー sample'!$A$12:$A$9999),\"\")","v":""}]
[null,null,null,null,{"$f":"IF(C918<>\"\",NETWORKDAYS.INTL(C918,D918,\"0000000\",'自社カレンダー sample'!$A$12:$A$9999),\"\")","v":""}]
[null,null,null,null,{"$f":"IF(C919<>\"\",NETWORKDAYS.INTL(C919,D919,\"0000000\",'自社カレンダー sample'!$A$12:$A$9999),\"\")","v":""}]
[null,null,null,null,{"$f":"IF(C920<>\"\",NETWORKDAYS.INTL(C920,D920,\"0000000\",'自社カレンダー sample'!$A$12:$A$9999),\"\")","v":""}]
[null,null,null,null,{"$f":"IF(C921<>\"\",NETWORKDAYS.INTL(C921,D921,\"0000000\",'自社カレンダー sample'!$A$12:$A$9999),\"\")","v":""}]
[null,null,null,null,{"$f":"IF(C922<>\"\",NETWORKDAYS.INTL(C922,D922,\"0000000\",'自社カレンダー sample'!$A$12:$A$9999),\"\")","v":""}]
[null,null,null,null,{"$f":"IF(C923<>\"\",NETWORKDAYS.INTL(C923,D923,\"0000000\",'自社カレンダー sample'!$A$12:$A$9999),\"\")","v":""}]
[null,null,null,null,{"$f":"IF(C924<>\"\",NETWORKDAYS.INTL(C924,D924,\"0000000\",'自社カレンダー sample'!$A$12:$A$9999),\"\")","v":""}]
[null,null,null,null,{"$f":"IF(C925<>\"\",NETWORKDAYS.INTL(C925,D925,\"0000000\",'自社カレンダー sample'!$A$12:$A$9999),\"\")","v":""}]
[null,null,null,null,{"$f":"IF(C926<>\"\",NETWORKDAYS.INTL(C926,D926,\"0000000\",'自社カレンダー sample'!$A$12:$A$9999),\"\")","v":""}]
[null,null,null,null,{"$f":"IF(C927<>\"\",NETWORKDAYS.INTL(C927,D927,\"0000000\",'自社カレンダー sample'!$A$12:$A$9999),\"\")","v":""}]
[null,null,null,null,{"$f":"IF(C928<>\"\",NETWORKDAYS.INTL(C928,D928,\"0000000\",'自社カレンダー sample'!$A$12:$A$9999),\"\")","v":""}]
[null,null,null,null,{"$f":"IF(C929<>\"\",NETWORKDAYS.INTL(C929,D929,\"0000000\",'自社カレンダー sample'!$A$12:$A$9999),\"\")","v":""}]
[null,null,null,null,{"$f":"IF(C930<>\"\",NETWORKDAYS.INTL(C930,D930,\"0000000\",'自社カレンダー sample'!$A$12:$A$9999),\"\")","v":""}]
[null,null,null,null,{"$f":"IF(C931<>\"\",NETWORKDAYS.INTL(C931,D931,\"0000000\",'自社カレンダー sample'!$A$12:$A$9999),\"\")","v":""}]
[null,null,null,null,{"$f":"IF(C932<>\"\",NETWORKDAYS.INTL(C932,D932,\"0000000\",'自社カレンダー sample'!$A$12:$A$9999),\"\")","v":""}]
[null,null,null,null,{"$f":"IF(C933<>\"\",NETWORKDAYS.INTL(C933,D933,\"0000000\",'自社カレンダー sample'!$A$12:$A$9999),\"\")","v":""}]
[null,null,null,null,{"$f":"IF(C934<>\"\",NETWORKDAYS.INTL(C934,D934,\"0000000\",'自社カレンダー sample'!$A$12:$A$9999),\"\")","v":""}]
[null,null,null,null,{"$f":"IF(C935<>\"\",NETWORKDAYS.INTL(C935,D935,\"0000000\",'自社カレンダー sample'!$A$12:$A$9999),\"\")","v":""}]
[null,null,null,null,{"$f":"IF(C936<>\"\",NETWORKDAYS.INTL(C936,D936,\"0000000\",'自社カレンダー sample'!$A$12:$A$9999),\"\")","v":""}]
[null,null,null,null,{"$f":"IF(C937<>\"\",NETWORKDAYS.INTL(C937,D937,\"0000000\",'自社カレンダー sample'!$A$12:$A$9999),\"\")","v":""}]
[null,null,null,null,{"$f":"IF(C938<>\"\",NETWORKDAYS.INTL(C938,D938,\"0000000\",'自社カレンダー sample'!$A$12:$A$9999),\"\")","v":""}]
[null,null,null,null,{"$f":"IF(C939<>\"\",NETWORKDAYS.INTL(C939,D939,\"0000000\",'自社カレンダー sample'!$A$12:$A$9999),\"\")","v":""}]
[null,null,null,null,{"$f":"IF(C940<>\"\",NETWORKDAYS.INTL(C940,D940,\"0000000\",'自社カレンダー sample'!$A$12:$A$9999),\"\")","v":""}]
[null,null,null,null,{"$f":"IF(C941<>\"\",NETWORKDAYS.INTL(C941,D941,\"0000000\",'自社カレンダー sample'!$A$12:$A$9999),\"\")","v":""}]
[null,null,null,null,{"$f":"IF(C942<>\"\",NETWORKDAYS.INTL(C942,D942,\"0000000\",'自社カレンダー sample'!$A$12:$A$9999),\"\")","v":""}]
[null,null,null,null,{"$f":"IF(C943<>\"\",NETWORKDAYS.INTL(C943,D943,\"0000000\",'自社カレンダー sample'!$A$12:$A$9999),\"\")","v":""}]
[null,null,null,null,{"$f":"IF(C944<>\"\",NETWORKDAYS.INTL(C944,D944,\"0000000\",'自社カレンダー sample'!$A$12:$A$9999),\"\")","v":""}]
[null,null,null,null,{"$f":"IF(C945<>\"\",NETWORKDAYS.INTL(C945,D945,\"0000000\",'自社カレンダー sample'!$A$12:$A$9999),\"\")","v":""}]
[null,null,null,null,{"$f":"IF(C946<>\"\",NETWORKDAYS.INTL(C946,D946,\"0000000\",'自社カレンダー sample'!$A$12:$A$9999),\"\")","v":""}]
[null,null,null,null,{"$f":"IF(C947<>\"\",NETWORKDAYS.INTL(C947,D947,\"0000000\",'自社カレンダー sample'!$A$12:$A$9999),\"\")","v":""}]
[null,null,null,null,{"$f":"IF(C948<>\"\",NETWORKDAYS.INTL(C948,D948,\"0000000\",'自社カレンダー sample'!$A$12:$A$9999),\"\")","v":""}]
[null,null,null,null,{"$f":"IF(C949<>\"\",NETWORKDAYS.INTL(C949,D949,\"0000000\",'自社カレンダー sample'!$A$12:$A$9999),\"\")","v":""}]
[null,null,null,null,{"$f":"IF(C950<>\"\",NETWORKDAYS.INTL(C950,D950,\"0000000\",'自社カレンダー sample'!$A$12:$A$9999),\"\")","v":""}]
[null,null,null,null,{"$f":"IF(C951<>\"\",NETWORKDAYS.INTL(C951,D951,\"0000000\",'自社カレンダー sample'!$A$12:$A$9999),\"\")","v":""}]
[null,null,null,null,{"$f":"IF(C952<>\"\",NETWORKDAYS.INTL(C952,D952,\"0000000\",'自社カレンダー sample'!$A$12:$A$9999),\"\")","v":""}]
[null,null,null,null,{"$f":"IF(C953<>\"\",NETWORKDAYS.INTL(C953,D953,\"0000000\",'自社カレンダー sample'!$A$12:$A$9999),\"\")","v":""}]
[null,null,null,null,{"$f":"IF(C954<>\"\",NETWORKDAYS.INTL(C954,D954,\"0000000\",'自社カレンダー sample'!$A$12:$A$9999),\"\")","v":""}]
[null,null,null,null,{"$f":"IF(C955<>\"\",NETWORKDAYS.INTL(C955,D955,\"0000000\",'自社カレンダー sample'!$A$12:$A$9999),\"\")","v":""}]
[null,null,null,null,{"$f":"IF(C956<>\"\",NETWORKDAYS.INTL(C956,D956,\"0000000\",'自社カレンダー sample'!$A$12:$A$9999),\"\")","v":""}]
[null,null,null,null,{"$f":"IF(C957<>\"\",NETWORKDAYS.INTL(C957,D957,\"0000000\",'自社カレンダー sample'!$A$12:$A$9999),\"\")","v":""}]
[null,null,null,null,{"$f":"IF(C958<>\"\",NETWORKDAYS.INTL(C958,D958,\"0000000\",'自社カレンダー sample'!$A$12:$A$9999),\"\")","v":""}]
[null,null,null,null,{"$f":"IF(C959<>\"\",NETWORKDAYS.INTL(C959,D959,\"0000000\",'自社カレンダー sample'!$A$12:$A$9999),\"\")","v":""}]
[null,null,null,null,{"$f":"IF(C960<>\"\",NETWORKDAYS.INTL(C960,D960,\"0000000\",'自社カレンダー sample'!$A$12:$A$9999),\"\")","v":""}]
[null,null,null,null,{"$f":"IF(C961<>\"\",NETWORKDAYS.INTL(C961,D961,\"0000000\",'自社カレンダー sample'!$A$12:$A$9999),\"\")","v":""}]
[null,null,null,null,{"$f":"IF(C962<>\"\",NETWORKDAYS.INTL(C962,D962,\"0000000\",'自社カレンダー sample'!$A$12:$A$9999),\"\")","v":""}]
[null,null,null,null,{"$f":"IF(C963<>\"\",NETWORKDAYS.INTL(C963,D963,\"0000000\",'自社カレンダー sample'!$A$12:$A$9999),\"\")","v":""}]
[null,null,null,null,{"$f":"IF(C964<>\"\",NETWORKDAYS.INTL(C964,D964,\"0000000\",'自社カレンダー sample'!$A$12:$A$9999),\"\")","v":""}]
[null,null,null,null,{"$f":"IF(C965<>\"\",NETWORKDAYS.INTL(C965,D965,\"0000000\",'自社カレンダー sample'!$A$12:$A$9999),\"\")","v":""}]
[null,null,null,null,{"$f":"IF(C966<>\"\",NETWORKDAYS.INTL(C966,D966,\"0000000\",'自社カレンダー sample'!$A$12:$A$9999),\"\")","v":""}]
[null,null,null,null,{"$f":"IF(C967<>\"\",NETWORKDAYS.INTL(C967,D967,\"0000000\",'自社カレンダー sample'!$A$12:$A$9999),\"\")","v":""}]
[null,null,null,null,{"$f":"IF(C968<>\"\",NETWORKDAYS.INTL(C968,D968,\"0000000\",'自社カレンダー sample'!$A$12:$A$9999),\"\")","v":""}]
[null,null,null,null,{"$f":"IF(C969<>\"\",NETWORKDAYS.INTL(C969,D969,\"0000000\",'自社カレンダー sample'!$A$12:$A$9999),\"\")","v":""}]
[null,null,null,null,{"$f":"IF(C970<>\"\",NETWORKDAYS.INTL(C970,D970,\"0000000\",'自社カレンダー sample'!$A$12:$A$9999),\"\")","v":""}]
[null,null,null,null,{"$f":"IF(C971<>\"\",NETWORKDAYS.INTL(C971,D971,\"0000000\",'自社カレンダー sample'!$A$12:$A$9999),\"\")","v":""}]
[null,null,null,null,{"$f":"IF(C972<>\"\",NETWORKDAYS.INTL(C972,D972,\"0000000\",'自社カレンダー sample'!$A$12:$A$9999),\"\")","v":""}]
[null,null,null,null,{"$f":"IF(C973<>\"\",NETWORKDAYS.INTL(C973,D973,\"0000000\",'自社カレンダー sample'!$A$12:$A$9999),\"\")","v":""}]
[null,null,null,null,{"$f":"IF(C974<>\"\",NETWORKDAYS.INTL(C974,D974,\"0000000\",'自社カレンダー sample'!$A$12:$A$9999),\"\")","v":""}]
[null,null,null,null,{"$f":"IF(C975<>\"\",NETWORKDAYS.INTL(C975,D975,\"0000000\",'自社カレンダー sample'!$A$12:$A$9999),\"\")","v":""}]
[null,null,null,null,{"$f":"IF(C976<>\"\",NETWORKDAYS.INTL(C976,D976,\"0000000\",'自社カレンダー sample'!$A$12:$A$9999),\"\")","v":""}]
[null,null,null,null,{"$f":"IF(C977<>\"\",NETWORKDAYS.INTL(C977,D977,\"0000000\",'自社カレンダー sample'!$A$12:$A$9999),\"\")","v":""}]
[null,null,null,null,{"$f":"IF(C978<>\"\",NETWORKDAYS.INTL(C978,D978,\"0000000\",'自社カレンダー sample'!$A$12:$A$9999),\"\")","v":""}]
[null,null,null,null,{"$f":"IF(C979<>\"\",NETWORKDAYS.INTL(C979,D979,\"0000000\",'自社カレンダー sample'!$A$12:$A$9999),\"\")","v":""}]
[null,null,null,null,{"$f":"IF(C980<>\"\",NETWORKDAYS.INTL(C980,D980,\"0000000\",'自社カレンダー sample'!$A$12:$A$9999),\"\")","v":""}]
[null,null,null,null,{"$f":"IF(C981<>\"\",NETWORKDAYS.INTL(C981,D981,\"0000000\",'自社カレンダー sample'!$A$12:$A$9999),\"\")","v":""}]
[null,null,null,null,{"$f":"IF(C982<>\"\",NETWORKDAYS.INTL(C982,D982,\"0000000\",'自社カレンダー sample'!$A$12:$A$9999),\"\")","v":""}]
[null,null,null,null,{"$f":"IF(C983<>\"\",NETWORKDAYS.INTL(C983,D983,\"0000000\",'自社カレンダー sample'!$A$12:$A$9999),\"\")","v":""}]
[null,null,null,null,{"$f":"IF(C984<>\"\",NETWORKDAYS.INTL(C984,D984,\"0000000\",'自社カレンダー sample'!$A$12:$A$9999),\"\")","v":""}]
[null,null,null,null,{"$f":"IF(C985<>\"\",NETWORKDAYS.INTL(C985,D985,\"0000000\",'自社カレンダー sample'!$A$12:$A$9999),\"\")","v":""}]
[null,null,null,null,{"$f":"IF(C986<>\"\",NETWORKDAYS.INTL(C986,D986,\"0000000\",'自社カレンダー sample'!$A$12:$A$9999),\"\")","v":""}]
[null,null,null,null,{"$f":"IF(C987<>\"\",NETWORKDAYS.INTL(C987,D987,\"0000000\",'自社カレンダー sample'!$A$12:$A$9999),\"\")","v":""}]
[null,null,null,null,{"$f":"IF(C988<>\"\",NETWORKDAYS.INTL(C988,D988,\"0000000\",'自社カレンダー sample'!$A$12:$A$9999),\"\")","v":""}]
[null,null,null,null,{"$f":"IF(C989<>\"\",NETWORKDAYS.INTL(C989,D989,\"0000000\",'自社カレンダー sample'!$A$12:$A$9999),\"\")","v":""}]
[null,null,null,null,{"$f":"IF(C990<>\"\",NETWORKDAYS.INTL(C990,D990,\"0000000\",'自社カレンダー sample'!$A$12:$A$9999),\"\")","v":""}]
[null,null,null,null,{"$f":"IF(C991<>\"\",NETWORKDAYS.INTL(C991,D991,\"0000000\",'自社カレンダー sample'!$A$12:$A$9999),\"\")","v":""}]
[null,null,null,null,{"$f":"IF(C992<>\"\",NETWORKDAYS.INTL(C992,D992,\"0000000\",'自社カレンダー sample'!$A$12:$A$9999),\"\")","v":""}]
[null,null,null,null,{"$f":"IF(C993<>\"\",NETWORKDAYS.INTL(C993,D993,\"0000000\",'自社カレンダー sample'!$A$12:$A$9999),\"\")","v":""}]
[null,null,null,null,{"$f":"IF(C994<>\"\",NETWORKDAYS.INTL(C994,D994,\"0000000\",'自社カレンダー sample'!$A$12:$A$9999),\"\")","v":""}]
[null,null,null,null,{"$f":"IF(C995<>\"\",NETWORKDAYS.INTL(C995,D995,\"0000000\",'自社カレンダー sample'!$A$12:$A$9999),\"\")","v":""}]
[null,null,null,null,{"$f":"IF(C996<>\"\",NETWORKDAYS.INTL(C996,D996,\"0000000\",'自社カレンダー sample'!$A$12:$A$9999),\"\")","v":""}]
[null,null,null,null,{"$f":"IF(C997<>\"\",NETWORKDAYS.INTL(C997,D997,\"0000000\",'自社カレンダー sample'!$A$12:$A$9999),\"\")","v":""}]
[null,null,null,null,{"$f":"IF(C998<>\"\",NETWORKDAYS.INTL(C998,D998,\"0000000\",'自社カレンダー sample'!$A$12:$A$9999),\"\")","v":""}]
[null,null,null,null,{"$f":"IF(C999<>\"\",NETWORKDAYS.INTL(C999,D999,\"0000000\",'自社カレンダー sample'!$A$12:$A$9999),\"\")","v":""}]
[null,null,null,null,{"$f":"IF(C1000<>\"\",NETWORKDAYS.INTL(C1000,D1000,\"0000000\",'自社カレンダー sample'!$A$12:$A$9999),\"\")","v":""}]

{"sheet":"本システム開発元（カスタマイズ依頼先）","index":2,"n_rows":20,"n_cols":4,"rows_kept":20,"cut":false,"hidden":false,"merged":[]}
[]
[null,"システム開発元："]
[]
[]
[]
[]
[null,null,"　　（一社)中部部品加工協会　賛助会員"]
[null,null,"info@tk-agile.co.jp"]
[null,null,"090-8327-4745 (担当： 高柳)"]
[]
[null,null,"・貴社構成に合わせたカスタマイズ承ります。お気軽にお問合せください。"]
[null,null,"・本システムのサポート（問合せ対応等）については別途、個別契約が必要です。"]
[null,null,"・本システムの瑕疵の有無に関わらず、いかなる損害についても賠償責任を負いません。"]
[]
[]
[null,"【！　エクセルマクロ配布元を確認してください】"]
[null,null,"セキュリティ管理上、このマクロは、当社公式サイト(公式ホームページ/公式ブログ/公式Facebook)の他は、下記団体のみに再配布を許諾しています。"]
[null,null,null,"一般社団法人　中部部品加工協会"]
[null,null,"それ以外のサイトから入手したマクロは真正性が保証されませんので、マクロを有効にしないでください。"]
[null,null,"また、本マクロの再配布は禁止とします。 (当社公式サイトへのリンクをご紹介ください。)"]

{"sheet":"参考) 内閣法「国民の祝日について」より","index":3,"n_rows":35,"n_cols":2,"rows_kept":35,"cut":false,"hidden":false,"merged":[]}
["https://www8.cao.go.jp/chosei/shukujitsu/gaiyou.html"]
["国民の祝日・休日月日","国民の祝日・休日名称"]
["2021-01-01","元日"]
["2021-01-11","成人の日"]
["2021-02-11","建国記念の日"]
["2021-02-23","天皇誕生日"]
["2021-03-20","春分の日"]
["2021-04-29","昭和の日"]
["2021-05-03","憲法記念日"]
["2021-05-04","みどりの日"]
["2021-05-05","こどもの日"]
["2021-07-22","海の日"]
["2021-07-23","スポーツの日"]
["2021-08-08","山の日"]
["2021-08-09","休日"]
["2021-09-20","敬老の日"]
["2021-09-23","秋分の日"]
["2021-11-03","文化の日"]
["2021-11-23","勤労感謝の日"]
["2022-01-01","元日"]
["2022-01-10","成人の日"]
["2022-02-11","建国記念の日"]
["2022-02-23","天皇誕生日"]
["2022-03-21","春分の日"]
["2022-04-29","昭和の日"]
["2022-05-03","憲法記念日"]
["2022-05-04","みどりの日"]
["2022-05-05","こどもの日"]
["2022-07-18","海の日"]
["2022-08-11","山の日"]
["2022-09-19","敬老の日"]
["2022-09-23","秋分の日"]
["2022-10-10","スポーツの日"]
["2022-11-03","文化の日"]
["2022-11-23","勤労感謝の日"]

{"sheet":"_colorindex","index":4,"n_rows":24,"n_cols":2,"rows_kept":24,"cut":false,"hidden":true,"merged":[]}
[null,10092441]
[null,16777062]
[null,16764057]
[null,16751103]
[null,10066431]
[null,10092492]
[null,13434777]
[null,16764006]
[null,16764108]
[null,13408767]
[null,10079487]
[null,65280]
[null,16763955]
[null,16751001]
[null,13395711]
[null,6724095]
[null,6750156]
[null,6750054]
[null,16776960]
[null,16750950]
[null,16738047]
[null,8420607]
[null,12566463]
[null,8421504]